{"text_format":"1","workbook":"xlsx","n_sheets":6,"sheets":["FT021","FT022","FT023","ANEXO","TD","LISTA DESPLEGABLE"],"not_rendered":{"charts":0,"images":0,"macros":1,"external_links":1,"defined_names":2,"comments":2,"pivot_tables":1},"unopened":[],"bounds":{"document_bytes":16777216,"sheet_cells":100000,"rows_first":2000,"rows_last":500,"rows_between":2000,"halvings":0,"cell_chars":16384,"cell_head_chars":4096},"cells_cut":0,"cells_raw":0,"read":"whole","date_system":"1900"}

{"sheet":"FT021","index":0,"n_rows":1460,"n_cols":11,"rows_kept":1460,"cut":false,"hidden":false,"merged":[]}
["TipoldAcreedor","idAcreedor","Fechainicio","Fechafinal","Modalidaddeconciliacion","nombredelresponsable","cargodelresponsable","correoElectronico","telefonoresponsable","codigoMunicipio"]
["NI",860006745,"2020-06-16","2020-06-16",2,"CLAUDIA  PAEZ","ANALISTA CONCILIACIONES","CPAEZ@FAMISANAR.COM.CO",3118590443,"11001",{"$f":"VLOOKUP(B2,'[1]Select temp_pre_numero'!D$1:E$1845,2,0)","v":"OTRAS"}]
["NI",899999032,"2020-06-17","2020-06-17",2,"CLAUDIA  PAEZ","ANALISTA CONCILIACIONES","CPAEZ@FAMISANAR.COM.CO",3118590443,"11001",{"$f":"VLOOKUP(B3,'[1]Select temp_pre_numero'!D$1:E$1845,2,0)","v":"OTRAS"}]
["NI",899999123,"2020-06-18","2020-06-18",2,"CLAUDIA  PAEZ","ANALISTA CONCILIACIONES","CPAEZ@FAMISANAR.COM.CO",3118590443,"11001",{"$f":"VLOOKUP(B4,'[1]Select temp_pre_numero'!D$1:E$1845,2,0)","v":"OTRAS"}]
["NI",900702981,"2020-06-19","2020-06-19",2,"CLAUDIA  PAEZ","ANALISTA CONCILIACIONES","CPAEZ@FAMISANAR.COM.CO",3118590443,"11001",{"$f":"VLOOKUP(B5,'[1]Select temp_pre_numero'!D$1:E$1845,2,0)","v":"OTRAS"}]
["NI",830005028,"2020-06-23","2020-06-23",2,"CLAUDIA  PAEZ","ANALISTA CONCILIACIONES","CPAEZ@FAMISANAR.COM.CO",3118590443,"11001",{"$f":"VLOOKUP(B6,'[1]Select temp_pre_numero'!D$1:E$1845,2,0)","v":"OTRAS"}]
["NI",900042103,"2020-06-24","2020-06-24",2,"CLAUDIA  PAEZ","ANALISTA CONCILIACIONES","CPAEZ@FAMISANAR.COM.CO",3118590443,"11001",{"$f":"VLOOKUP(B7,'[1]Select temp_pre_numero'!D$1:E$1845,2,0)","v":"OTRAS"}]
["NI",800185449,"2020-06-25","2020-06-25",2,"CLAUDIA  PAEZ","ANALISTA CONCILIACIONES","CPAEZ@FAMISANAR.COM.CO",3118590443,"11001",{"$f":"VLOOKUP(B8,'[1]Select temp_pre_numero'!D$1:E$1845,2,0)","v":"OTRAS"}]
["NI",800117564,"2020-06-26","2020-06-26",2,"CLAUDIA  PAEZ","ANALISTA CONCILIACIONES","CPAEZ@FAMISANAR.COM.CO",3118590443,"11001",{"$f":"VLOOKUP(B9,'[1]Select temp_pre_numero'!D$1:E$1845,2,0)","v":"OTRAS"}]
["NI",860002541,"2020-06-30","2020-06-30",2,"CLAUDIA  PAEZ","ANALISTA CONCILIACIONES","CPAEZ@FAMISANAR.COM.CO",3118590443,"11001",{"$f":"VLOOKUP(B10,'[1]Select temp_pre_numero'!D$1:E$1845,2,0)","v":"OTRAS"}]
["NI",830066626,"2020-07-01","2020-07-01",2,"CLAUDIA  PAEZ","ANALISTA CONCILIACIONES","CPAEZ@FAMISANAR.COM.CO",3118590443,"11001",{"$f":"VLOOKUP(B11,'[1]Select temp_pre_numero'!D$1:E$1845,2,0)","v":"OTRAS"}]
["NI",900213617,"2020-07-02","2020-07-02",2,"CLAUDIA  PAEZ","ANALISTA CONCILIACIONES","CPAEZ@FAMISANAR.COM.CO",3118590443,"11001",{"$f":"VLOOKUP(B12,'[1]Select temp_pre_numero'!D$1:E$1845,2,0)","v":"OTRAS"}]
["NI",832003167,"2020-07-03","2020-07-03",2,"CLAUDIA  PAEZ","ANALISTA CONCILIACIONES","CPAEZ@FAMISANAR.COM.CO",3118590443,"11001",{"$f":"VLOOKUP(B13,'[1]Select temp_pre_numero'!D$1:E$1845,2,0)","v":"OTRAS"}]
["NI",800254132,"2020-07-06","2020-07-06",2,"CLAUDIA  PAEZ","ANALISTA CONCILIACIONES","CPAEZ@FAMISANAR.COM.CO",3118590443,"11001",{"$f":"VLOOKUP(B14,'[1]Select temp_pre_numero'!D$1:E$1845,2,0)","v":"OTRAS"}]
["NI",860015888,"2020-07-07","2020-07-07",2,"CLAUDIA  PAEZ","ANALISTA CONCILIACIONES","CPAEZ@FAMISANAR.COM.CO",3118590443,"11001",{"$f":"VLOOKUP(B15,'[1]Select temp_pre_numero'!D$1:E$1845,2,0)","v":"OTRAS"}]
["NI",891180268,"2020-07-08","2020-07-08",2,"CLAUDIA  PAEZ","ANALISTA CONCILIACIONES","CPAEZ@FAMISANAR.COM.CO",3118590443,"11001",{"$f":"VLOOKUP(B16,'[1]Select temp_pre_numero'!D$1:E$1845,2,0)","v":"OTRAS"}]
["NI",890400693,"2020-07-09","2020-07-09",2,"CLAUDIA  PAEZ","ANALISTA CONCILIACIONES","CPAEZ@FAMISANAR.COM.CO",3118590443,"11001",{"$f":"VLOOKUP(B17,'[1]Select temp_pre_numero'!D$1:E$1845,2,0)","v":"OTRAS"}]
["NI",800037021,"2020-07-10","2020-07-10",2,"CLAUDIA  PAEZ","ANALISTA CONCILIACIONES","CPAEZ@FAMISANAR.COM.CO",3118590443,"11001",{"$f":"VLOOKUP(B18,'[1]Select temp_pre_numero'!D$1:E$1845,2,0)","v":"OTRAS"}]
["NI",900574594,"2020-07-13","2020-07-13",2,"CLAUDIA  PAEZ","ANALISTA CONCILIACIONES","CPAEZ@FAMISANAR.COM.CO",3118590443,"11001",{"$f":"VLOOKUP(B19,'[1]Select temp_pre_numero'!D$1:E$1845,2,0)","v":{"$error":"#N/A"}}]
["NI",900279660,"2020-07-14","2020-07-14",2,"CLAUDIA  PAEZ","ANALISTA CONCILIACIONES","CPAEZ@FAMISANAR.COM.CO",3118590443,"11001",{"$f":"VLOOKUP(B20,'[1]Select temp_pre_numero'!D$1:E$1845,2,0)","v":"OTRAS"}]
["NI",830511298,"2020-07-15","2020-07-15",2,"CLAUDIA  PAEZ","ANALISTA CONCILIACIONES","CPAEZ@FAMISANAR.COM.CO",3118590443,"11001",{"$f":"VLOOKUP(B21,'[1]Select temp_pre_numero'!D$1:E$1845,2,0)","v":"OTRAS"}]
["NI",900148265,"2020-07-16","2020-07-16",2,"CLAUDIA  PAEZ","ANALISTA CONCILIACIONES","CPAEZ@FAMISANAR.COM.CO",3118590443,"11001",{"$f":"VLOOKUP(B22,'[1]Select temp_pre_numero'!D$1:E$1845,2,0)","v":"OTRAS"}]
["NI",830071938,"2020-07-17","2020-07-17",2,"CLAUDIA  PAEZ","ANALISTA CONCILIACIONES","CPAEZ@FAMISANAR.COM.CO",3118590443,"11001",{"$f":"VLOOKUP(B23,'[1]Select temp_pre_numero'!D$1:E$1845,2,0)","v":"OTRAS"}]
["NI",806013147,"2020-07-21","2020-07-21",2,"CLAUDIA  PAEZ","ANALISTA CONCILIACIONES","CPAEZ@FAMISANAR.COM.CO",3118590443,"11001",{"$f":"VLOOKUP(B24,'[1]Select temp_pre_numero'!D$1:E$1845,2,0)","v":"OTRAS"}]
["NI",860023987,"2020-07-22","2020-07-22",2,"CLAUDIA  PAEZ","ANALISTA CONCILIACIONES","CPAEZ@FAMISANAR.COM.CO",3118590443,"11001",{"$f":"VLOOKUP(B25,'[1]Select temp_pre_numero'!D$1:E$1845,2,0)","v":"OTRAS"}]
["NI",900405505,"2020-07-23","2020-07-23",2,"CLAUDIA  PAEZ","ANALISTA CONCILIACIONES","CPAEZ@FAMISANAR.COM.CO",3118590443,"11001",{"$f":"VLOOKUP(B26,'[1]Select temp_pre_numero'!D$1:E$1845,2,0)","v":"OTRAS"}]
["NI",900215151,"2020-07-24","2020-07-24",2,"CLAUDIA  PAEZ","ANALISTA CONCILIACIONES","CPAEZ@FAMISANAR.COM.CO",3118590443,"11001",{"$f":"VLOOKUP(B27,'[1]Select temp_pre_numero'!D$1:E$1845,2,0)","v":{"$error":"#N/A"}}]
["NI",800234860,"2020-07-27","2020-07-27",2,"CLAUDIA  PAEZ","ANALISTA CONCILIACIONES","CPAEZ@FAMISANAR.COM.CO",3118590443,"11001",{"$f":"VLOOKUP(B28,'[1]Select temp_pre_numero'!D$1:E$1845,2,0)","v":"OTRAS"}]
["NI",830009112,"2020-07-28","2020-07-28",2,"CLAUDIA  PAEZ","ANALISTA CONCILIACIONES","CPAEZ@FAMISANAR.COM.CO",3118590443,"11001",{"$f":"VLOOKUP(B29,'[1]Select temp_pre_numero'!D$1:E$1845,2,0)","v":"OTRAS"}]
["NI",900304958,"2020-07-29","2020-07-29",2,"CLAUDIA  PAEZ","ANALISTA CONCILIACIONES","CPAEZ@FAMISANAR.COM.CO",3118590443,"11001",{"$f":"VLOOKUP(B30,'[1]Select temp_pre_numero'!D$1:E$1845,2,0)","v":"OTRAS"}]
["NI",830008300,"2020-07-30","2020-07-30",2,"CLAUDIA  PAEZ","ANALISTA CONCILIACIONES","CPAEZ@FAMISANAR.COM.CO",3118590443,"11001",{"$f":"VLOOKUP(B31,'[1]Select temp_pre_numero'!D$1:E$1845,2,0)","v":"OTRAS"}]
["NI",900691301,"2020-07-31","2020-07-31",2,"CLAUDIA  PAEZ","ANALISTA CONCILIACIONES","CPAEZ@FAMISANAR.COM.CO",3118590443,"11001",{"$f":"VLOOKUP(B32,'[1]Select temp_pre_numero'!D$1:E$1845,2,0)","v":"OTRAS"}]
["NI",808000252,"2020-08-03","2020-08-03",2,"CLAUDIA  PAEZ","ANALISTA CONCILIACIONES","CPAEZ@FAMISANAR.COM.CO",3118590443,"11001",{"$f":"VLOOKUP(B33,'[1]Select temp_pre_numero'!D$1:E$1845,2,0)","v":{"$error":"#N/A"}}]
["NI",890601210,"2020-08-04","2020-08-04",2,"CLAUDIA  PAEZ","ANALISTA CONCILIACIONES","CPAEZ@FAMISANAR.COM.CO",3118590443,"11001",{"$f":"VLOOKUP(B34,'[1]Select temp_pre_numero'!D$1:E$1845,2,0)","v":"OTRAS"}]
["NI",892000401,"2020-08-05","2020-08-05",2,"CLAUDIA  PAEZ","ANALISTA CONCILIACIONES","CPAEZ@FAMISANAR.COM.CO",3118590443,"11001",{"$f":"VLOOKUP(B35,'[1]Select temp_pre_numero'!D$1:E$1845,2,0)","v":"OTRAS"}]
["NI",890700666,"2020-08-06","2020-08-06",2,"CLAUDIA  PAEZ","ANALISTA CONCILIACIONES","CPAEZ@FAMISANAR.COM.CO",3118590443,"11001",{"$f":"VLOOKUP(B36,'[1]Select temp_pre_numero'!D$1:E$1845,2,0)","v":"OTRAS"}]
["NI",900743605,"2020-08-10","2020-08-10",2,"CLAUDIA  PAEZ","ANALISTA CONCILIACIONES","CPAEZ@FAMISANAR.COM.CO",3118590443,"11001",{"$f":"VLOOKUP(B37,'[1]Select temp_pre_numero'!D$1:E$1845,2,0)","v":"OTRAS"}]
["NI",822007351,"2020-08-11","2020-08-11",2,"CLAUDIA  PAEZ","ANALISTA CONCILIACIONES","CPAEZ@FAMISANAR.COM.CO",3118590443,"11001",{"$f":"VLOOKUP(B38,'[1]Select temp_pre_numero'!D$1:E$1845,2,0)","v":"OTRAS"}]
["NI",806015201,"2020-08-12","2020-08-12",2,"CLAUDIA  PAEZ","ANALISTA CONCILIACIONES","CPAEZ@FAMISANAR.COM.CO",3118590443,"11001",{"$f":"VLOOKUP(B39,'[1]Select temp_pre_numero'!D$1:E$1845,2,0)","v":"OTRAS"}]
["NI",899999017,"2020-08-13","2020-08-13",2,"CLAUDIA  PAEZ","ANALISTA CONCILIACIONES","CPAEZ@FAMISANAR.COM.CO",3118590443,"11001",{"$f":"VLOOKUP(B40,'[1]Select temp_pre_numero'!D$1:E$1845,2,0)","v":"OTRAS"}]
["NI",830027578,"2020-08-14","2020-08-14",2,"CLAUDIA  PAEZ","ANALISTA CONCILIACIONES","CPAEZ@FAMISANAR.COM.CO",3118590443,"11001",{"$f":"VLOOKUP(B41,'[1]Select temp_pre_numero'!D$1:E$1845,2,0)","v":"OTRAS"}]
["NI",806007650,"2020-08-18","2020-08-18",2,"CLAUDIA  PAEZ","ANALISTA CONCILIACIONES","CPAEZ@FAMISANAR.COM.CO",3118590443,"11001",{"$f":"VLOOKUP(B42,'[1]Select temp_pre_numero'!D$1:E$1845,2,0)","v":"OTRAS"}]
["NI",900611961,"2020-08-19","2020-08-19",2,"CLAUDIA  PAEZ","ANALISTA CONCILIACIONES","CPAEZ@FAMISANAR.COM.CO",3118590443,"11001",{"$f":"VLOOKUP(B43,'[1]Select temp_pre_numero'!D$1:E$1845,2,0)","v":{"$error":"#N/A"}}]
["NI",900466867,"2020-08-20","2020-08-20",2,"CLAUDIA  PAEZ","ANALISTA CONCILIACIONES","CPAEZ@FAMISANAR.COM.CO",3118590443,"11001",{"$f":"VLOOKUP(B44,'[1]Select temp_pre_numero'!D$1:E$1845,2,0)","v":"OTRAS"}]
["NI",830113069,"2020-08-21","2020-08-21",2,"CLAUDIA  PAEZ","ANALISTA CONCILIACIONES","CPAEZ@FAMISANAR.COM.CO",3118590443,"11001",{"$f":"VLOOKUP(B45,'[1]Select temp_pre_numero'!D$1:E$1845,2,0)","v":"OTRAS"}]
["NI",812005522,"2020-08-24","2020-08-24",2,"CLAUDIA  PAEZ","ANALISTA CONCILIACIONES","CPAEZ@FAMISANAR.COM.CO",3118590443,"11001",{"$f":"VLOOKUP(B46,'[1]Select temp_pre_numero'!D$1:E$1845,2,0)","v":"OTRAS"}]
["NI",800242197,"2020-08-25","2020-08-25",2,"CLAUDIA  PAEZ","ANALISTA CONCILIACIONES","CPAEZ@FAMISANAR.COM.CO",3118590443,"11001",{"$f":"VLOOKUP(B47,'[1]Select temp_pre_numero'!D$1:E$1845,2,0)","v":{"$error":"#N/A"}}]
["NI",800209488,"2020-08-26","2020-08-26",2,"CLAUDIA  PAEZ","ANALISTA CONCILIACIONES","CPAEZ@FAMISANAR.COM.CO",3118590443,"11001",{"$f":"VLOOKUP(B48,'[1]Select temp_pre_numero'!D$1:E$1845,2,0)","v":"OTRAS"}]
["NI",860039726,"2020-08-27","2020-08-27",2,"CLAUDIA  PAEZ","ANALISTA CONCILIACIONES","CPAEZ@FAMISANAR.COM.CO",3118590443,"11001",{"$f":"VLOOKUP(B49,'[1]Select temp_pre_numero'!D$1:E$1845,2,0)","v":"OTRAS"}]
["NI",830138802,"2020-08-28","2020-08-28",2,"CLAUDIA  PAEZ","ANALISTA CONCILIACIONES","CPAEZ@FAMISANAR.COM.CO",3118590443,"11001",{"$f":"VLOOKUP(B50,'[1]Select temp_pre_numero'!D$1:E$1845,2,0)","v":"OTRAS"}]
["NI",809002913,"2020-08-29","2020-08-29",2,"CLAUDIA  PAEZ","ANALISTA CONCILIACIONES","CPAEZ@FAMISANAR.COM.CO",3118590443,"11001",{"$f":"VLOOKUP(B51,'[1]Select temp_pre_numero'!D$1:E$1845,2,0)","v":"OTRAS"}]
["NI",800048880,"2020-08-30","2020-08-30",2,"CLAUDIA  PAEZ","ANALISTA CONCILIACIONES","CPAEZ@FAMISANAR.COM.CO",3118590443,"11001",{"$f":"VLOOKUP(B52,'[1]Select temp_pre_numero'!D$1:E$1845,2,0)","v":"OTRAS"}]
["NI",900096797,"2020-08-31","2020-08-31",2,"CLAUDIA  PAEZ","ANALISTA CONCILIACIONES","CPAEZ@FAMISANAR.COM.CO",3118590443,"11001",{"$f":"VLOOKUP(B53,'[1]Select temp_pre_numero'!D$1:E$1845,2,0)","v":"OTRAS"}]
["NI",823004710,"2020-08-14","2020-08-14",2,"CLAUDIA  PAEZ","ANALISTA CONCILIACIONES","CPAEZ@FAMISANAR.COM.CO",3118590443,"11001",{"$f":"VLOOKUP(B54,'[1]Select temp_pre_numero'!D$1:E$1845,2,0)","v":"OTRAS"}]
["NI",892000264,"2020-08-18","2020-08-18",2,"CLAUDIA  PAEZ","ANALISTA CONCILIACIONES","CPAEZ@FAMISANAR.COM.CO",3118590443,"11001",{"$f":"VLOOKUP(B55,'[1]Select temp_pre_numero'!D$1:E$1845,2,0)","v":"OTRAS"}]
["NI",800075543,"2020-08-19","2020-08-19",2,"CLAUDIA  PAEZ","ANALISTA CONCILIACIONES","CPAEZ@FAMISANAR.COM.CO",3118590443,"11001",{"$f":"VLOOKUP(B56,'[1]Select temp_pre_numero'!D$1:E$1845,2,0)","v":"OTRAS"}]
["NI",900327339,"2020-08-20","2020-08-20",2,"CLAUDIA  PAEZ","ANALISTA CONCILIACIONES","CPAEZ@FAMISANAR.COM.CO",3118590443,"11001",{"$f":"VLOOKUP(B57,'[1]Select temp_pre_numero'!D$1:E$1845,2,0)","v":{"$error":"#N/A"}}]
["NI",806007255,"2020-08-21","2020-08-21",2,"CLAUDIA  PAEZ","ANALISTA CONCILIACIONES","CPAEZ@FAMISANAR.COM.CO",3118590443,"11001",{"$f":"VLOOKUP(B58,'[1]Select temp_pre_numero'!D$1:E$1845,2,0)","v":{"$error":"#N/A"}}]
["NI",890700163,"2020-08-24","2020-08-24",2,"CLAUDIA  PAEZ","ANALISTA CONCILIACIONES","CPAEZ@FAMISANAR.COM.CO",3118590443,"11001",{"$f":"VLOOKUP(B59,'[1]Select temp_pre_numero'!D$1:E$1845,2,0)","v":"OTRAS"}]
["NI",900274663,"2020-08-25","2020-08-25",2,"CLAUDIA  PAEZ","ANALISTA CONCILIACIONES","CPAEZ@FAMISANAR.COM.CO",3118590443,"11001",{"$f":"VLOOKUP(B60,'[1]Select temp_pre_numero'!D$1:E$1845,2,0)","v":"OTRAS"}]
["NI",891480000,"2020-08-26","2020-08-26",2,"CLAUDIA  PAEZ","ANALISTA CONCILIACIONES","CPAEZ@FAMISANAR.COM.CO",3118590443,"11001",{"$f":"VLOOKUP(B61,'[1]Select temp_pre_numero'!D$1:E$1845,2,0)","v":{"$error":"#N/A"}}]
["NI",830018645,"2020-08-27","2020-08-27",2,"CLAUDIA  PAEZ","ANALISTA CONCILIACIONES","CPAEZ@FAMISANAR.COM.CO",3118590443,"11001",{"$f":"VLOOKUP(B62,'[1]Select temp_pre_numero'!D$1:E$1845,2,0)","v":"OTRAS"}]
["NI",802010614,"2020-08-28","2020-08-28",2,"CLAUDIA  PAEZ","ANALISTA CONCILIACIONES","CPAEZ@FAMISANAR.COM.CO",3118590443,"11001",{"$f":"VLOOKUP(B63,'[1]Select temp_pre_numero'!D$1:E$1845,2,0)","v":"OTRAS"}]
["NI",806008356,"2020-08-29","2020-08-29",2,"CLAUDIA  PAEZ","ANALISTA CONCILIACIONES","CPAEZ@FAMISANAR.COM.CO",3118590443,"11001",{"$f":"VLOOKUP(B64,'[1]Select temp_pre_numero'!D$1:E$1845,2,0)","v":"OTRAS"}]
["NI",900602745,"2020-08-30","2020-08-30",2,"CLAUDIA  PAEZ","ANALISTA CONCILIACIONES","CPAEZ@FAMISANAR.COM.CO",3118590443,"11001",{"$f":"VLOOKUP(B65,'[1]Select temp_pre_numero'!D$1:E$1845,2,0)","v":"OTRAS"}]
["NI",900123159,"2020-08-31","2020-08-31",2,"CLAUDIA  PAEZ","ANALISTA CONCILIACIONES","CPAEZ@FAMISANAR.COM.CO",3118590443,"11001",{"$f":"VLOOKUP(B66,'[1]Select temp_pre_numero'!D$1:E$1845,2,0)","v":{"$error":"#N/A"}}]
["NI",860013570,"2020-07-31","2020-07-31",2,"CRISTIAN RIVERA ","ANALISTA CONCILIACIONES","CRIVERAA@FAMISANAR.COM.CO",3043995070,"11001",{"$f":"VLOOKUP(B67,'[1]Select temp_pre_numero'!D$1:E$1845,2,0)","v":"CAFAM"}]
["NI",800239977,"2020-06-16","2020-06-16",2,"DIANA SANTUARIO","ANALISTA CONCILIACIONES","DSANTUARIO@FAMISANAR.COM.CO",3213013857,"11001",{"$f":"VLOOKUP(B68,'[1]Select temp_pre_numero'!D$1:E$1845,2,0)","v":"OTRAS"}]
["NI",800222844,"2020-06-17","2020-06-17",2,"DIANA SANTUARIO","ANALISTA CONCILIACIONES","DSANTUARIO@FAMISANAR.COM.CO",3213013857,"11001",{"$f":"VLOOKUP(B69,'[1]Select temp_pre_numero'!D$1:E$1845,2,0)","v":"OTRAS"}]
["NI",890301430,"2020-06-18","2020-06-18",2,"DIANA SANTUARIO","ANALISTA CONCILIACIONES","DSANTUARIO@FAMISANAR.COM.CO",3213013857,"11001",{"$f":"VLOOKUP(B70,'[1]Select temp_pre_numero'!D$1:E$1845,2,0)","v":"OTRAS"}]
["NI",824002277,"2020-06-19","2020-06-19",2,"DIANA SANTUARIO","ANALISTA CONCILIACIONES","DSANTUARIO@FAMISANAR.COM.CO",3213013857,"11001",{"$f":"VLOOKUP(B71,'[1]Select temp_pre_numero'!D$1:E$1845,2,0)","v":"OTRAS"}]
["NI",900136752,"2020-06-24","2020-06-24",2,"DIANA SANTUARIO","ANALISTA CONCILIACIONES","DSANTUARIO@FAMISANAR.COM.CO",3213013857,"11001",{"$f":"VLOOKUP(B72,'[1]Select temp_pre_numero'!D$1:E$1845,2,0)","v":"OTRAS"}]
["NI",830002272,"2020-06-25","2020-06-25",2,"DIANA SANTUARIO","ANALISTA CONCILIACIONES","DSANTUARIO@FAMISANAR.COM.CO",3213013857,"11001",{"$f":"VLOOKUP(B73,'[1]Select temp_pre_numero'!D$1:E$1845,2,0)","v":"OTRAS"}]
["NI",900243752,"2020-06-26","2020-06-26",2,"DIANA SANTUARIO","ANALISTA CONCILIACIONES","DSANTUARIO@FAMISANAR.COM.CO",3213013857,"11001",{"$f":"VLOOKUP(B74,'[1]Select temp_pre_numero'!D$1:E$1845,2,0)","v":"OTRAS"}]
["NI",892300358,"2020-06-30","2020-06-30",2,"DIANA SANTUARIO","ANALISTA CONCILIACIONES","DSANTUARIO@FAMISANAR.COM.CO",3213013857,"11001",{"$f":"VLOOKUP(B75,'[1]Select temp_pre_numero'!D$1:E$1845,2,0)","v":"OTRAS"}]
["NI",891180026,"2020-07-01","2020-07-01",2,"DIANA SANTUARIO","ANALISTA CONCILIACIONES","DSANTUARIO@FAMISANAR.COM.CO",3213013857,"11001",{"$f":"VLOOKUP(B76,'[1]Select temp_pre_numero'!D$1:E$1845,2,0)","v":"OTRAS"}]
["NI",819002176,"2020-07-02","2020-07-02",2,"DIANA SANTUARIO","ANALISTA CONCILIACIONES","DSANTUARIO@FAMISANAR.COM.CO",3213013857,"11001",{"$f":"VLOOKUP(B77,'[1]Select temp_pre_numero'!D$1:E$1845,2,0)","v":"OTRAS"}]
["NI",844004197,"2020-07-03","2020-07-03",2,"DIANA SANTUARIO","ANALISTA CONCILIACIONES","DSANTUARIO@FAMISANAR.COM.CO",3213013857,"11001",{"$f":"VLOOKUP(B78,'[1]Select temp_pre_numero'!D$1:E$1845,2,0)","v":"OTRAS"}]
["NI",900361147,"2020-07-06","2020-07-06",2,"DIANA SANTUARIO","ANALISTA CONCILIACIONES","DSANTUARIO@FAMISANAR.COM.CO",3213013857,"11001",{"$f":"VLOOKUP(B79,'[1]Select temp_pre_numero'!D$1:E$1845,2,0)","v":"OTRAS"}]
["NI",830108095,"2020-07-07","2020-07-07",2,"DIANA SANTUARIO","ANALISTA CONCILIACIONES","DSANTUARIO@FAMISANAR.COM.CO",3213013857,"11001",{"$f":"VLOOKUP(B80,'[1]Select temp_pre_numero'!D$1:E$1845,2,0)","v":"OTRAS"}]
["NI",813011577,"2020-07-08","2020-07-08",2,"DIANA SANTUARIO","ANALISTA CONCILIACIONES","DSANTUARIO@FAMISANAR.COM.CO",3213013857,"11001",{"$f":"VLOOKUP(B81,'[1]Select temp_pre_numero'!D$1:E$1845,2,0)","v":"OTRAS"}]
["NI",900283194,"2020-07-09","2020-07-09",2,"DIANA SANTUARIO","ANALISTA CONCILIACIONES","DSANTUARIO@FAMISANAR.COM.CO",3213013857,"11001",{"$f":"VLOOKUP(B82,'[1]Select temp_pre_numero'!D$1:E$1845,2,0)","v":{"$error":"#N/A"}}]
["NI",900066797,"2020-07-10","2020-07-10",2,"DIANA SANTUARIO","ANALISTA CONCILIACIONES","DSANTUARIO@FAMISANAR.COM.CO",3213013857,"11001",{"$f":"VLOOKUP(B83,'[1]Select temp_pre_numero'!D$1:E$1845,2,0)","v":"OTRAS"}]
["NI",900412760,"2020-07-13","2020-07-13",2,"DIANA SANTUARIO","ANALISTA CONCILIACIONES","DSANTUARIO@FAMISANAR.COM.CO",3213013857,"11001",{"$f":"VLOOKUP(B84,'[1]Select temp_pre_numero'!D$1:E$1845,2,0)","v":"OTRAS"}]
["NI",891580002,"2020-07-14","2020-07-14",2,"DIANA SANTUARIO","ANALISTA CONCILIACIONES","DSANTUARIO@FAMISANAR.COM.CO",3213013857,"11001",{"$f":"VLOOKUP(B85,'[1]Select temp_pre_numero'!D$1:E$1845,2,0)","v":"OTRAS"}]
["NI",800209891,"2020-07-15","2020-07-15",2,"DIANA SANTUARIO","ANALISTA CONCILIACIONES","DSANTUARIO@FAMISANAR.COM.CO",3213013857,"11001",{"$f":"VLOOKUP(B86,'[1]Select temp_pre_numero'!D$1:E$1845,2,0)","v":"OTRAS"}]
["NI",900531204,"2020-07-16","2020-07-16",2,"DIANA SANTUARIO","ANALISTA CONCILIACIONES","DSANTUARIO@FAMISANAR.COM.CO",3213013857,"11001",{"$f":"VLOOKUP(B87,'[1]Select temp_pre_numero'!D$1:E$1845,2,0)","v":{"$error":"#N/A"}}]
["NI",804017235,"2020-07-17","2020-07-17",2,"DIANA SANTUARIO","ANALISTA CONCILIACIONES","DSANTUARIO@FAMISANAR.COM.CO",3213013857,"11001",{"$f":"VLOOKUP(B88,'[1]Select temp_pre_numero'!D$1:E$1845,2,0)","v":{"$error":"#N/A"}}]
["NI",890680032,"2020-07-21","2020-07-21",2,"DIANA SANTUARIO","ANALISTA CONCILIACIONES","DSANTUARIO@FAMISANAR.COM.CO",3213013857,"11001",{"$f":"VLOOKUP(B89,'[1]Select temp_pre_numero'!D$1:E$1845,2,0)","v":{"$error":"#N/A"}}]
["NI",890904646,"2020-07-22","2020-07-22",2,"DIANA SANTUARIO","ANALISTA CONCILIACIONES","DSANTUARIO@FAMISANAR.COM.CO",3213013857,"11001",{"$f":"VLOOKUP(B90,'[1]Select temp_pre_numero'!D$1:E$1845,2,0)","v":"OTRAS"}]
["NI",900386591,"2020-07-23","2020-07-23",2,"DIANA SANTUARIO","ANALISTA CONCILIACIONES","DSANTUARIO@FAMISANAR.COM.CO",3213013857,"11001",{"$f":"VLOOKUP(B91,'[1]Select temp_pre_numero'!D$1:E$1845,2,0)","v":"OTRAS"}]
["NI",819000134,"2020-07-24","2020-07-24",2,"DIANA SANTUARIO","ANALISTA CONCILIACIONES","DSANTUARIO@FAMISANAR.COM.CO",3213013857,"11001",{"$f":"VLOOKUP(B92,'[1]Select temp_pre_numero'!D$1:E$1845,2,0)","v":"OTRAS"}]
["NI",891200528,"2020-07-27","2020-07-27",2,"DIANA SANTUARIO","ANALISTA CONCILIACIONES","DSANTUARIO@FAMISANAR.COM.CO",3213013857,"11001",{"$f":"VLOOKUP(B93,'[1]Select temp_pre_numero'!D$1:E$1845,2,0)","v":"OTRAS"}]
["NI",800204497,"2020-07-28","2020-07-28",2,"DIANA SANTUARIO","ANALISTA CONCILIACIONES","DSANTUARIO@FAMISANAR.COM.CO",3213013857,"11001",{"$f":"VLOOKUP(B94,'[1]Select temp_pre_numero'!D$1:E$1845,2,0)","v":{"$error":"#N/A"}}]
["NI",900036553,"2020-07-29","2020-07-29",2,"DIANA SANTUARIO","ANALISTA CONCILIACIONES","DSANTUARIO@FAMISANAR.COM.CO",3213013857,"11001",{"$f":"VLOOKUP(B95,'[1]Select temp_pre_numero'!D$1:E$1845,2,0)","v":{"$error":"#N/A"}}]
["NI",900413988,"2020-07-30","2020-07-30",2,"DIANA SANTUARIO","ANALISTA CONCILIACIONES","DSANTUARIO@FAMISANAR.COM.CO",3213013857,"11001",{"$f":"VLOOKUP(B96,'[1]Select temp_pre_numero'!D$1:E$1845,2,0)","v":{"$error":"#N/A"}}]
["NI",891702882,"2020-07-31","2020-07-31",2,"DIANA SANTUARIO","ANALISTA CONCILIACIONES","DSANTUARIO@FAMISANAR.COM.CO",3213013857,"11001",{"$f":"VLOOKUP(B97,'[1]Select temp_pre_numero'!D$1:E$1845,2,0)","v":"OTRAS"}]
["NI",900900122,"2020-08-03","2020-08-03",2,"DIANA SANTUARIO","ANALISTA CONCILIACIONES","DSANTUARIO@FAMISANAR.COM.CO",3213013857,"11001",{"$f":"VLOOKUP(B98,'[1]Select temp_pre_numero'!D$1:E$1845,2,0)","v":"OTRAS"}]
["NI",900371613,"2020-08-04","2020-08-04",2,"DIANA SANTUARIO","ANALISTA CONCILIACIONES","DSANTUARIO@FAMISANAR.COM.CO",3213013857,"11001",{"$f":"VLOOKUP(B99,'[1]Select temp_pre_numero'!D$1:E$1845,2,0)","v":"OTRAS"}]
["NI",900454409,"2020-08-05","2020-08-05",2,"DIANA SANTUARIO","ANALISTA CONCILIACIONES","DSANTUARIO@FAMISANAR.COM.CO",3213013857,"11001",{"$f":"VLOOKUP(B100,'[1]Select temp_pre_numero'!D$1:E$1845,2,0)","v":"OTRAS"}]
["NI",800204153,"2020-08-06","2020-08-06",2,"DIANA SANTUARIO","ANALISTA CONCILIACIONES","DSANTUARIO@FAMISANAR.COM.CO",3213013857,"11001",{"$f":"VLOOKUP(B101,'[1]Select temp_pre_numero'!D$1:E$1845,2,0)","v":"OTRAS"}]
["NI",899999156,"2020-08-10","2020-08-10",2,"DIANA SANTUARIO","ANALISTA CONCILIACIONES","DSANTUARIO@FAMISANAR.COM.CO",3213013857,"11001",{"$f":"VLOOKUP(B102,'[1]Select temp_pre_numero'!D$1:E$1845,2,0)","v":{"$error":"#N/A"}}]
["NI",890701353,"2020-08-11","2020-08-11",2,"DIANA SANTUARIO","ANALISTA CONCILIACIONES","DSANTUARIO@FAMISANAR.COM.CO",3213013857,"11001",{"$f":"VLOOKUP(B103,'[1]Select temp_pre_numero'!D$1:E$1845,2,0)","v":"OTRAS"}]
["NI",900267064,"2020-08-12","2020-08-12",2,"DIANA SANTUARIO","ANALISTA CONCILIACIONES","DSANTUARIO@FAMISANAR.COM.CO",3213013857,"11001",{"$f":"VLOOKUP(B104,'[1]Select temp_pre_numero'!D$1:E$1845,2,0)","v":"OTRAS"}]
["NI",900231829,"2020-08-13","2020-08-13",2,"DIANA SANTUARIO","ANALISTA CONCILIACIONES","DSANTUARIO@FAMISANAR.COM.CO",3213013857,"11001",{"$f":"VLOOKUP(B105,'[1]Select temp_pre_numero'!D$1:E$1845,2,0)","v":{"$error":"#N/A"}}]
["NI",890701459,"2020-08-14","2020-08-14",2,"DIANA SANTUARIO","ANALISTA CONCILIACIONES","DSANTUARIO@FAMISANAR.COM.CO",3213013857,"11001",{"$f":"VLOOKUP(B106,'[1]Select temp_pre_numero'!D$1:E$1845,2,0)","v":"OTRAS"}]
["NI",901164974,"2020-08-18","2020-08-18",2,"DIANA SANTUARIO","ANALISTA CONCILIACIONES","DSANTUARIO@FAMISANAR.COM.CO",3213013857,"11001",{"$f":"VLOOKUP(B107,'[1]Select temp_pre_numero'!D$1:E$1845,2,0)","v":{"$error":"#N/A"}}]
["NI",811046900,"2020-08-19","2020-08-19",2,"DIANA SANTUARIO","ANALISTA CONCILIACIONES","DSANTUARIO@FAMISANAR.COM.CO",3213013857,"11001",{"$f":"VLOOKUP(B108,'[1]Select temp_pre_numero'!D$1:E$1845,2,0)","v":"OTRAS"}]
["NI",892120115,"2020-08-20","2020-08-20",2,"DIANA SANTUARIO","ANALISTA CONCILIACIONES","DSANTUARIO@FAMISANAR.COM.CO",3213013857,"11001",{"$f":"VLOOKUP(B109,'[1]Select temp_pre_numero'!D$1:E$1845,2,0)","v":"OTRAS"}]
["NI",809001482,"2020-08-21","2020-08-21",2,"DIANA SANTUARIO","ANALISTA CONCILIACIONES","DSANTUARIO@FAMISANAR.COM.CO",3213013857,"11001",{"$f":"VLOOKUP(B110,'[1]Select temp_pre_numero'!D$1:E$1845,2,0)","v":{"$error":"#N/A"}}]
["NI",900552539,"2020-08-24","2020-08-24",2,"DIANA SANTUARIO","ANALISTA CONCILIACIONES","DSANTUARIO@FAMISANAR.COM.CO",3213013857,"11001",{"$f":"VLOOKUP(B111,'[1]Select temp_pre_numero'!D$1:E$1845,2,0)","v":"OTRAS"}]
["NI",824003102,"2020-08-25","2020-08-25",2,"DIANA SANTUARIO","ANALISTA CONCILIACIONES","DSANTUARIO@FAMISANAR.COM.CO",3213013857,"11001",{"$f":"VLOOKUP(B112,'[1]Select temp_pre_numero'!D$1:E$1845,2,0)","v":"OTRAS"}]
["NI",900879006,"2020-08-26","2020-08-26",2,"DIANA SANTUARIO","ANALISTA CONCILIACIONES","DSANTUARIO@FAMISANAR.COM.CO",3213013857,"11001",{"$f":"VLOOKUP(B113,'[1]Select temp_pre_numero'!D$1:E$1845,2,0)","v":"OTRAS"}]
["NI",824005216,"2020-08-27","2020-08-27",2,"DIANA SANTUARIO","ANALISTA CONCILIACIONES","DSANTUARIO@FAMISANAR.COM.CO",3213013857,"11001",{"$f":"VLOOKUP(B114,'[1]Select temp_pre_numero'!D$1:E$1845,2,0)","v":"OTRAS"}]
["NI",890399047,"2020-08-28","2020-08-28",2,"DIANA SANTUARIO","ANALISTA CONCILIACIONES","DSANTUARIO@FAMISANAR.COM.CO",3213013857,"11001",{"$f":"VLOOKUP(B115,'[1]Select temp_pre_numero'!D$1:E$1845,2,0)","v":"OTRAS"}]
["NI",860011298,"2020-08-29","2020-08-29",2,"DIANA SANTUARIO","ANALISTA CONCILIACIONES","DSANTUARIO@FAMISANAR.COM.CO",3213013857,"11001",{"$f":"VLOOKUP(B116,'[1]Select temp_pre_numero'!D$1:E$1845,2,0)","v":"OTRAS"}]
["NI",830118605,"2020-08-30","2020-08-30",2,"DIANA SANTUARIO","ANALISTA CONCILIACIONES","DSANTUARIO@FAMISANAR.COM.CO",3213013857,"11001",{"$f":"VLOOKUP(B117,'[1]Select temp_pre_numero'!D$1:E$1845,2,0)","v":{"$error":"#N/A"}}]
["NI",800000118,"2020-08-31","2020-08-31",2,"DIANA SANTUARIO","ANALISTA CONCILIACIONES","DSANTUARIO@FAMISANAR.COM.CO",3213013857,"11001",{"$f":"VLOOKUP(B118,'[1]Select temp_pre_numero'!D$1:E$1845,2,0)","v":"OTRAS"}]
["NI",900228989,"2020-06-16","2020-06-16",2,"DIANA SANTUARIO","ANALISTA CONCILIACIONES","DSANTUARIO@FAMISANAR.COM.CO",3213013857,"11001",{"$f":"VLOOKUP(B119,'[1]Select temp_pre_numero'!D$1:E$1845,2,0)","v":"OTRAS"}]
["NI",890701715,"2020-06-17","2020-06-17",2,"DIANA SANTUARIO","ANALISTA CONCILIACIONES","DSANTUARIO@FAMISANAR.COM.CO",3213013857,"11001",{"$f":"VLOOKUP(B120,'[1]Select temp_pre_numero'!D$1:E$1845,2,0)","v":"OTRAS"}]
["NI",809003590,"2020-06-18","2020-06-18",2,"DIANA SANTUARIO","ANALISTA CONCILIACIONES","DSANTUARIO@FAMISANAR.COM.CO",3213013857,"11001",{"$f":"VLOOKUP(B121,'[1]Select temp_pre_numero'!D$1:E$1845,2,0)","v":"OTRAS"}]
["NI",891200679,"2020-06-19","2020-06-19",2,"DIANA SANTUARIO","ANALISTA CONCILIACIONES","DSANTUARIO@FAMISANAR.COM.CO",3213013857,"11001",{"$f":"VLOOKUP(B122,'[1]Select temp_pre_numero'!D$1:E$1845,2,0)","v":"OTRAS"}]
["NI",890303841,"2020-06-23","2020-06-23",2,"DIANA SANTUARIO","ANALISTA CONCILIACIONES","DSANTUARIO@FAMISANAR.COM.CO",3213013857,"11001",{"$f":"VLOOKUP(B123,'[1]Select temp_pre_numero'!D$1:E$1845,2,0)","v":"OTRAS"}]
["NI",900202290,"2020-06-24","2020-06-24",2,"DIANA SANTUARIO","ANALISTA CONCILIACIONES","DSANTUARIO@FAMISANAR.COM.CO",3213013857,"11001",{"$f":"VLOOKUP(B124,'[1]Select temp_pre_numero'!D$1:E$1845,2,0)","v":"OTRAS"}]
["NI",891180117,"2020-06-25","2020-06-25",2,"DIANA SANTUARIO","ANALISTA CONCILIACIONES","DSANTUARIO@FAMISANAR.COM.CO",3213013857,"11001",{"$f":"VLOOKUP(B125,'[1]Select temp_pre_numero'!D$1:E$1845,2,0)","v":"OTRAS"}]
["NI",800215908,"2020-06-26","2020-06-26",2,"DIANA SANTUARIO","ANALISTA CONCILIACIONES","DSANTUARIO@FAMISANAR.COM.CO",3213013857,"11001",{"$f":"VLOOKUP(B126,'[1]Select temp_pre_numero'!D$1:E$1845,2,0)","v":{"$error":"#N/A"}}]
["NI",900246313,"2020-06-30","2020-06-30",2,"DIANA SANTUARIO","ANALISTA CONCILIACIONES","DSANTUARIO@FAMISANAR.COM.CO",3213013857,"11001",{"$f":"VLOOKUP(B127,'[1]Select temp_pre_numero'!D$1:E$1845,2,0)","v":"OTRAS"}]
["NI",819001483,"2020-07-01","2020-07-01",2,"DIANA SANTUARIO","ANALISTA CONCILIACIONES","DSANTUARIO@FAMISANAR.COM.CO",3213013857,"11001",{"$f":"VLOOKUP(B128,'[1]Select temp_pre_numero'!D$1:E$1845,2,0)","v":"OTRAS"}]
["NI",900948875,"2020-07-02","2020-07-02",2,"DIANA SANTUARIO","ANALISTA CONCILIACIONES","DSANTUARIO@FAMISANAR.COM.CO",3213013857,"11001",{"$f":"VLOOKUP(B129,'[1]Select temp_pre_numero'!D$1:E$1845,2,0)","v":"OTRAS"}]
["NI",800191643,"2020-07-03","2020-07-03",2,"DIANA SANTUARIO","ANALISTA CONCILIACIONES","DSANTUARIO@FAMISANAR.COM.CO",3213013857,"11001",{"$f":"VLOOKUP(B130,'[1]Select temp_pre_numero'!D$1:E$1845,2,0)","v":"OTRAS"}]
["NI",900012660,"2020-07-06","2020-07-06",2,"DIANA SANTUARIO","ANALISTA CONCILIACIONES","DSANTUARIO@FAMISANAR.COM.CO",3213013857,"11001",{"$f":"VLOOKUP(B131,'[1]Select temp_pre_numero'!D$1:E$1845,2,0)","v":{"$error":"#N/A"}}]
["NI",800182136,"2020-07-07","2020-07-07",2,"DIANA SANTUARIO","ANALISTA CONCILIACIONES","DSANTUARIO@FAMISANAR.COM.CO",3213013857,"11001",{"$f":"VLOOKUP(B132,'[1]Select temp_pre_numero'!D$1:E$1845,2,0)","v":"OTRAS"}]
["NI",890905843,"2020-07-08","2020-07-08",2,"DIANA SANTUARIO","ANALISTA CONCILIACIONES","DSANTUARIO@FAMISANAR.COM.CO",3213013857,"11001",{"$f":"VLOOKUP(B133,'[1]Select temp_pre_numero'!D$1:E$1845,2,0)","v":{"$error":"#N/A"}}]
["NI",900437964,"2020-07-09","2020-07-09",2,"DIANA SANTUARIO","ANALISTA CONCILIACIONES","DSANTUARIO@FAMISANAR.COM.CO",3213013857,"11001",{"$f":"VLOOKUP(B134,'[1]Select temp_pre_numero'!D$1:E$1845,2,0)","v":"OTRAS"}]
["NI",900829069,"2020-07-10","2020-07-10",2,"DIANA SANTUARIO","ANALISTA CONCILIACIONES","DSANTUARIO@FAMISANAR.COM.CO",3213013857,"11001",{"$f":"VLOOKUP(B135,'[1]Select temp_pre_numero'!D$1:E$1845,2,0)","v":"OTRAS"}]
["NI",809005719,"2020-07-13","2020-07-13",2,"DIANA SANTUARIO","ANALISTA CONCILIACIONES","DSANTUARIO@FAMISANAR.COM.CO",3213013857,"11001",{"$f":"VLOOKUP(B136,'[1]Select temp_pre_numero'!D$1:E$1845,2,0)","v":"OTRAS"}]
["NI",890307200,"2020-07-14","2020-07-14",2,"DIANA SANTUARIO","ANALISTA CONCILIACIONES","DSANTUARIO@FAMISANAR.COM.CO",3213013857,"11001",{"$f":"VLOOKUP(B137,'[1]Select temp_pre_numero'!D$1:E$1845,2,0)","v":"OTRAS"}]
["NI",490480113,"2020-07-15","2020-07-15",2,"DIANA SANTUARIO","ANALISTA CONCILIACIONES","DSANTUARIO@FAMISANAR.COM.CO",3213013857,"11001",{"$f":"VLOOKUP(B138,'[1]Select temp_pre_numero'!D$1:E$1845,2,0)","v":{"$error":"#N/A"}}]
["NI",890480113,"2020-07-16","2020-07-16",2,"DIANA SANTUARIO","ANALISTA CONCILIACIONES","DSANTUARIO@FAMISANAR.COM.CO",3213013857,"11001",{"$f":"VLOOKUP(B139,'[1]Select temp_pre_numero'!D$1:E$1845,2,0)","v":"OTRAS"}]
["NI",900142282,"2020-07-17","2020-07-17",2,"DIANA SANTUARIO","ANALISTA CONCILIACIONES","DSANTUARIO@FAMISANAR.COM.CO",3213013857,"11001",{"$f":"VLOOKUP(B140,'[1]Select temp_pre_numero'!D$1:E$1845,2,0)","v":"OTRAS"}]
["NI",890907215,"2020-07-21","2020-07-21",2,"DIANA SANTUARIO","ANALISTA CONCILIACIONES","DSANTUARIO@FAMISANAR.COM.CO",3213013857,"11001",{"$f":"VLOOKUP(B141,'[1]Select temp_pre_numero'!D$1:E$1845,2,0)","v":"OTRAS"}]
["NI",830103660,"2020-07-22","2020-07-22",2,"DIANA SANTUARIO","ANALISTA CONCILIACIONES","DSANTUARIO@FAMISANAR.COM.CO",3213013857,"11001",{"$f":"VLOOKUP(B142,'[1]Select temp_pre_numero'!D$1:E$1845,2,0)","v":"OTRAS"}]
["NI",830510985,"2020-07-23","2020-07-23",2,"DIANA SANTUARIO","ANALISTA CONCILIACIONES","DSANTUARIO@FAMISANAR.COM.CO",3213013857,"11001",{"$f":"VLOOKUP(B143,'[1]Select temp_pre_numero'!D$1:E$1845,2,0)","v":"OTRAS"}]
["NI",891080015,"2020-07-24","2020-07-24",2,"DIANA SANTUARIO","ANALISTA CONCILIACIONES","DSANTUARIO@FAMISANAR.COM.CO",3213013857,"11001",{"$f":"VLOOKUP(B144,'[1]Select temp_pre_numero'!D$1:E$1845,2,0)","v":"OTRAS"}]
["NI",890980757,"2020-07-27","2020-07-27",2,"DIANA SANTUARIO","ANALISTA CONCILIACIONES","DSANTUARIO@FAMISANAR.COM.CO",3213013857,"11001",{"$f":"VLOOKUP(B145,'[1]Select temp_pre_numero'!D$1:E$1845,2,0)","v":"OTRAS"}]
["NI",890985703,"2020-07-28","2020-07-28",2,"DIANA SANTUARIO","ANALISTA CONCILIACIONES","DSANTUARIO@FAMISANAR.COM.CO",3213013857,"11001",{"$f":"VLOOKUP(B146,'[1]Select temp_pre_numero'!D$1:E$1845,2,0)","v":"OTRAS"}]
["NI",800179870,"2020-07-29","2020-07-29",2,"DIANA SANTUARIO","ANALISTA CONCILIACIONES","DSANTUARIO@FAMISANAR.COM.CO",3213013857,"11001",{"$f":"VLOOKUP(B147,'[1]Select temp_pre_numero'!D$1:E$1845,2,0)","v":"OTRAS"}]
["NI",900421895,"2020-07-30","2020-07-30",2,"DIANA SANTUARIO","ANALISTA CONCILIACIONES","DSANTUARIO@FAMISANAR.COM.CO",3213013857,"11001",{"$f":"VLOOKUP(B148,'[1]Select temp_pre_numero'!D$1:E$1845,2,0)","v":"OTRAS"}]
["NI",900718172,"2020-07-31","2020-07-31",2,"DIANA SANTUARIO","ANALISTA CONCILIACIONES","DSANTUARIO@FAMISANAR.COM.CO",3213013857,"11001",{"$f":"VLOOKUP(B149,'[1]Select temp_pre_numero'!D$1:E$1845,2,0)","v":"OTRAS"}]
["NI",900422064,"2020-08-03","2020-08-03",2,"DIANA SANTUARIO","ANALISTA CONCILIACIONES","DSANTUARIO@FAMISANAR.COM.CO",3213013857,"11001",{"$f":"VLOOKUP(B150,'[1]Select temp_pre_numero'!D$1:E$1845,2,0)","v":"OTRAS"}]
["NI",900143844,"2020-08-04","2020-08-04",2,"DIANA SANTUARIO","ANALISTA CONCILIACIONES","DSANTUARIO@FAMISANAR.COM.CO",3213013857,"11001",{"$f":"VLOOKUP(B151,'[1]Select temp_pre_numero'!D$1:E$1845,2,0)","v":"OTRAS"}]
["NI",900394422,"2020-08-05","2020-08-05",2,"DIANA SANTUARIO","ANALISTA CONCILIACIONES","DSANTUARIO@FAMISANAR.COM.CO",3213013857,"11001",{"$f":"VLOOKUP(B152,'[1]Select temp_pre_numero'!D$1:E$1845,2,0)","v":{"$error":"#N/A"}}]
["NI",860028947,"2020-08-06","2020-08-06",2,"DIANA SANTUARIO","ANALISTA CONCILIACIONES","DSANTUARIO@FAMISANAR.COM.CO",3213013857,"11001",{"$f":"VLOOKUP(B153,'[1]Select temp_pre_numero'!D$1:E$1845,2,0)","v":"OTRAS"}]
["NI",890702241,"2020-08-10","2020-08-10",2,"DIANA SANTUARIO","ANALISTA CONCILIACIONES","DSANTUARIO@FAMISANAR.COM.CO",3213013857,"11001",{"$f":"VLOOKUP(B154,'[1]Select temp_pre_numero'!D$1:E$1845,2,0)","v":"OTRAS"}]
["NI",809009066,"2020-08-11","2020-08-11",2,"DIANA SANTUARIO","ANALISTA CONCILIACIONES","DSANTUARIO@FAMISANAR.COM.CO",3213013857,"11001",{"$f":"VLOOKUP(B155,'[1]Select temp_pre_numero'!D$1:E$1845,2,0)","v":"OTRAS"}]
["NI",832007272,"2020-08-12","2020-08-12",2,"DIANA SANTUARIO","ANALISTA CONCILIACIONES","DSANTUARIO@FAMISANAR.COM.CO",3213013857,"11001",{"$f":"VLOOKUP(B156,'[1]Select temp_pre_numero'!D$1:E$1845,2,0)","v":{"$error":"#N/A"}}]
["NI",819000413,"2020-08-13","2020-08-13",2,"DIANA SANTUARIO","ANALISTA CONCILIACIONES","DSANTUARIO@FAMISANAR.COM.CO",3213013857,"11001",{"$f":"VLOOKUP(B157,'[1]Select temp_pre_numero'!D$1:E$1845,2,0)","v":"OTRAS"}]
["NI",824005588,"2020-08-14","2020-08-14",2,"DIANA SANTUARIO","ANALISTA CONCILIACIONES","DSANTUARIO@FAMISANAR.COM.CO",3213013857,"11001",{"$f":"VLOOKUP(B158,'[1]Select temp_pre_numero'!D$1:E$1845,2,0)","v":"OTRAS"}]
["NI",830040256,"2020-08-18","2020-08-18",2,"DIANA SANTUARIO","ANALISTA CONCILIACIONES","DSANTUARIO@FAMISANAR.COM.CO",3213013857,"11001",{"$f":"VLOOKUP(B159,'[1]Select temp_pre_numero'!D$1:E$1845,2,0)","v":"OTRAS"}]
["NI",900147276,"2020-08-19","2020-08-19",2,"DIANA SANTUARIO","ANALISTA CONCILIACIONES","DSANTUARIO@FAMISANAR.COM.CO",3213013857,"11001",{"$f":"VLOOKUP(B160,'[1]Select temp_pre_numero'!D$1:E$1845,2,0)","v":{"$error":"#N/A"}}]
["NI",901045695,"2020-08-20","2020-08-20",2,"DIANA SANTUARIO","ANALISTA CONCILIACIONES","DSANTUARIO@FAMISANAR.COM.CO",3213013857,"11001",{"$f":"VLOOKUP(B161,'[1]Select temp_pre_numero'!D$1:E$1845,2,0)","v":{"$error":"#N/A"}}]
["NI",813005265,"2020-08-21","2020-08-21",2,"DIANA SANTUARIO","ANALISTA CONCILIACIONES","DSANTUARIO@FAMISANAR.COM.CO",3213013857,"11001",{"$f":"VLOOKUP(B162,'[1]Select temp_pre_numero'!D$1:E$1845,2,0)","v":"OTRAS"}]
["NI",900609215,"2020-08-24","2020-08-24",2,"DIANA SANTUARIO","ANALISTA CONCILIACIONES","DSANTUARIO@FAMISANAR.COM.CO",3213013857,"11001",{"$f":"VLOOKUP(B163,'[1]Select temp_pre_numero'!D$1:E$1845,2,0)","v":"OTRAS"}]
["NI",800193989,"2020-08-25","2020-08-25",2,"DIANA SANTUARIO","ANALISTA CONCILIACIONES","DSANTUARIO@FAMISANAR.COM.CO",3213013857,"11001",{"$f":"VLOOKUP(B164,'[1]Select temp_pre_numero'!D$1:E$1845,2,0)","v":"OTRAS"}]
["NI",891501676,"2020-08-26","2020-08-26",2,"DIANA SANTUARIO","ANALISTA CONCILIACIONES","DSANTUARIO@FAMISANAR.COM.CO",3213013857,"11001",{"$f":"VLOOKUP(B165,'[1]Select temp_pre_numero'!D$1:E$1845,2,0)","v":"OTRAS"}]
["NI",891901158,"2020-08-27","2020-08-27",2,"DIANA SANTUARIO","ANALISTA CONCILIACIONES","DSANTUARIO@FAMISANAR.COM.CO",3213013857,"11001",{"$f":"VLOOKUP(B166,'[1]Select temp_pre_numero'!D$1:E$1845,2,0)","v":"OTRAS"}]
["NI",891800982,"2020-08-28","2020-08-28",2,"DIANA SANTUARIO","ANALISTA CONCILIACIONES","DSANTUARIO@FAMISANAR.COM.CO",3213013857,"11001",{"$f":"VLOOKUP(B167,'[1]Select temp_pre_numero'!D$1:E$1845,2,0)","v":"OTRAS"}]
["NI",800130625,"2020-08-29","2020-08-29",2,"DIANA SANTUARIO","ANALISTA CONCILIACIONES","DSANTUARIO@FAMISANAR.COM.CO",3213013857,"11001",{"$f":"VLOOKUP(B168,'[1]Select temp_pre_numero'!D$1:E$1845,2,0)","v":"OTRAS"}]
["NI",824000725,"2020-08-30","2020-08-30",2,"DIANA SANTUARIO","ANALISTA CONCILIACIONES","DSANTUARIO@FAMISANAR.COM.CO",3213013857,"11001",{"$f":"VLOOKUP(B169,'[1]Select temp_pre_numero'!D$1:E$1845,2,0)","v":"OTRAS"}]
["NI",890700967,"2020-08-31","2020-08-31",2,"DIANA SANTUARIO","ANALISTA CONCILIACIONES","DSANTUARIO@FAMISANAR.COM.CO",3213013857,"11001",{"$f":"VLOOKUP(B170,'[1]Select temp_pre_numero'!D$1:E$1845,2,0)","v":"OTRAS"}]
["NI",890680031,"2020-06-16","2020-06-16",2,"DIANA SANTUARIO","ANALISTA CONCILIACIONES","DSANTUARIO@FAMISANAR.COM.CO",3213013857,"11001",{"$f":"VLOOKUP(B171,'[1]Select temp_pre_numero'!D$1:E$1845,2,0)","v":{"$error":"#N/A"}}]
["NI",860352594,"2020-06-17","2020-06-17",2,"DIANA SANTUARIO","ANALISTA CONCILIACIONES","DSANTUARIO@FAMISANAR.COM.CO",3213013857,"11001",{"$f":"VLOOKUP(B172,'[1]Select temp_pre_numero'!D$1:E$1845,2,0)","v":"OTRAS"}]
["NI",891800335,"2020-06-18","2020-06-18",2,"DIANA SANTUARIO","ANALISTA CONCILIACIONES","DSANTUARIO@FAMISANAR.COM.CO",3213013857,"11001",{"$f":"VLOOKUP(B173,'[1]Select temp_pre_numero'!D$1:E$1845,2,0)","v":"OTRAS"}]
["NI",860070301,"2020-06-19","2020-06-19",2,"DIANA SANTUARIO","ANALISTA CONCILIACIONES","DSANTUARIO@FAMISANAR.COM.CO",3213013857,"11001",{"$f":"VLOOKUP(B174,'[1]Select temp_pre_numero'!D$1:E$1845,2,0)","v":"OTRAS"}]
["NI",900448559,"2020-06-23","2020-06-23",2,"DIANA SANTUARIO","ANALISTA CONCILIACIONES","DSANTUARIO@FAMISANAR.COM.CO",3213013857,"11001",{"$f":"VLOOKUP(B175,'[1]Select temp_pre_numero'!D$1:E$1845,2,0)","v":"OTRAS"}]
["NI",891180098,"2020-06-24","2020-06-24",2,"DIANA SANTUARIO","ANALISTA CONCILIACIONES","DSANTUARIO@FAMISANAR.COM.CO",3213013857,"11001",{"$f":"VLOOKUP(B176,'[1]Select temp_pre_numero'!D$1:E$1845,2,0)","v":"OTRAS"}]
["NI",892115010,"2020-06-25","2020-06-25",2,"DIANA SANTUARIO","ANALISTA CONCILIACIONES","DSANTUARIO@FAMISANAR.COM.CO",3213013857,"11001",{"$f":"VLOOKUP(B177,'[1]Select temp_pre_numero'!D$1:E$1845,2,0)","v":"OTRAS"}]
["NI",890304155,"2020-06-26","2020-06-26",2,"DIANA SANTUARIO","ANALISTA CONCILIACIONES","DSANTUARIO@FAMISANAR.COM.CO",3213013857,"11001",{"$f":"VLOOKUP(B178,'[1]Select temp_pre_numero'!D$1:E$1845,2,0)","v":"OTRAS"}]
["NI",900813470,"2020-06-30","2020-06-30",2,"DIANA SANTUARIO","ANALISTA CONCILIACIONES","DSANTUARIO@FAMISANAR.COM.CO",3213013857,"11001",{"$f":"VLOOKUP(B179,'[1]Select temp_pre_numero'!D$1:E$1845,2,0)","v":"OTRAS"}]
["NI",891001122,"2020-07-01","2020-07-01",2,"DIANA SANTUARIO","ANALISTA CONCILIACIONES","DSANTUARIO@FAMISANAR.COM.CO",3213013857,"11001",{"$f":"VLOOKUP(B180,'[1]Select temp_pre_numero'!D$1:E$1845,2,0)","v":"OTRAS"}]
["NI",900435768,"2020-07-02","2020-07-02",2,"DIANA SANTUARIO","ANALISTA CONCILIACIONES","DSANTUARIO@FAMISANAR.COM.CO",3213013857,"11001",{"$f":"VLOOKUP(B181,'[1]Select temp_pre_numero'!D$1:E$1845,2,0)","v":"OTRAS"}]
["NI",800044402,"2020-07-03","2020-07-03",2,"DIANA SANTUARIO","ANALISTA CONCILIACIONES","DSANTUARIO@FAMISANAR.COM.CO",3213013857,"11001",{"$f":"VLOOKUP(B182,'[1]Select temp_pre_numero'!D$1:E$1845,2,0)","v":"OTRAS"}]
["NI",809011517,"2020-07-06","2020-07-06",2,"DIANA SANTUARIO","ANALISTA CONCILIACIONES","DSANTUARIO@FAMISANAR.COM.CO",3213013857,"11001",{"$f":"VLOOKUP(B183,'[1]Select temp_pre_numero'!D$1:E$1845,2,0)","v":"OTRAS"}]
["NI",890704495,"2020-07-07","2020-07-07",2,"DIANA SANTUARIO","ANALISTA CONCILIACIONES","DSANTUARIO@FAMISANAR.COM.CO",3213013857,"11001",{"$f":"VLOOKUP(B184,'[1]Select temp_pre_numero'!D$1:E$1845,2,0)","v":"OTRAS"}]
["NI",845000038,"2020-07-08","2020-07-08",2,"DIANA SANTUARIO","ANALISTA CONCILIACIONES","DSANTUARIO@FAMISANAR.COM.CO",3213013857,"11001",{"$f":"VLOOKUP(B185,'[1]Select temp_pre_numero'!D$1:E$1845,2,0)","v":"OTRAS"}]
["NI",890702190,"2020-07-09","2020-07-09",2,"DIANA SANTUARIO","ANALISTA CONCILIACIONES","DSANTUARIO@FAMISANAR.COM.CO",3213013857,"11001",{"$f":"VLOOKUP(B186,'[1]Select temp_pre_numero'!D$1:E$1845,2,0)","v":"OTRAS"}]
["NI",891079999,"2020-07-10","2020-07-10",2,"DIANA SANTUARIO","ANALISTA CONCILIACIONES","DSANTUARIO@FAMISANAR.COM.CO",3213013857,"11001",{"$f":"VLOOKUP(B187,'[1]Select temp_pre_numero'!D$1:E$1845,2,0)","v":"OTRAS"}]
["NI",800024744,"2020-07-13","2020-07-13",2,"DIANA SANTUARIO","ANALISTA CONCILIACIONES","DSANTUARIO@FAMISANAR.COM.CO",3213013857,"11001",{"$f":"VLOOKUP(B188,'[1]Select temp_pre_numero'!D$1:E$1845,2,0)","v":"OTRAS"}]
["NI",892280033,"2020-07-14","2020-07-14",2,"DIANA SANTUARIO","ANALISTA CONCILIACIONES","DSANTUARIO@FAMISANAR.COM.CO",3213013857,"11001",{"$f":"VLOOKUP(B189,'[1]Select temp_pre_numero'!D$1:E$1845,2,0)","v":"OTRAS"}]
["NI",891200240,"2020-07-15","2020-07-15",2,"DIANA SANTUARIO","ANALISTA CONCILIACIONES","DSANTUARIO@FAMISANAR.COM.CO",3213013857,"11001",{"$f":"VLOOKUP(B190,'[1]Select temp_pre_numero'!D$1:E$1845,2,0)","v":"OTRAS"}]
["NI",800152039,"2020-07-16","2020-07-16",2,"DIANA SANTUARIO","ANALISTA CONCILIACIONES","DSANTUARIO@FAMISANAR.COM.CO",3213013857,"11001",{"$f":"VLOOKUP(B191,'[1]Select temp_pre_numero'!D$1:E$1845,2,0)","v":"OTRAS"}]
["NI",890702408,"2020-07-17","2020-07-17",2,"DIANA SANTUARIO","ANALISTA CONCILIACIONES","DSANTUARIO@FAMISANAR.COM.CO",3213013857,"11001",{"$f":"VLOOKUP(B192,'[1]Select temp_pre_numero'!D$1:E$1845,2,0)","v":"OTRAS"}]
["NI",800231235,"2020-07-21","2020-07-21",2,"DIANA SANTUARIO","ANALISTA CONCILIACIONES","DSANTUARIO@FAMISANAR.COM.CO",3213013857,"11001",{"$f":"VLOOKUP(B193,'[1]Select temp_pre_numero'!D$1:E$1845,2,0)","v":"OTRAS"}]
["NI",820001103,"2020-07-22","2020-07-22",2,"DIANA SANTUARIO","ANALISTA CONCILIACIONES","DSANTUARIO@FAMISANAR.COM.CO",3213013857,"11001",{"$f":"VLOOKUP(B194,'[1]Select temp_pre_numero'!D$1:E$1845,2,0)","v":"OTRAS"}]
["NI",800054299,"2020-07-23","2020-07-23",2,"DIANA SANTUARIO","ANALISTA CONCILIACIONES","DSANTUARIO@FAMISANAR.COM.CO",3213013857,"11001",{"$f":"VLOOKUP(B195,'[1]Select temp_pre_numero'!D$1:E$1845,2,0)","v":"OTRAS"}]
["NI",860060016,"2020-07-24","2020-07-24",2,"DIANA SANTUARIO","ANALISTA CONCILIACIONES","DSANTUARIO@FAMISANAR.COM.CO",3213013857,"11001",{"$f":"VLOOKUP(B196,'[1]Select temp_pre_numero'!D$1:E$1845,2,0)","v":"OTRAS"}]
["NI",825001800,"2020-07-27","2020-07-27",2,"DIANA SANTUARIO","ANALISTA CONCILIACIONES","DSANTUARIO@FAMISANAR.COM.CO",3213013857,"11001",{"$f":"VLOOKUP(B197,'[1]Select temp_pre_numero'!D$1:E$1845,2,0)","v":"OTRAS"}]
["NI",800187260,"2020-07-28","2020-07-28",2,"DIANA SANTUARIO","ANALISTA CONCILIACIONES","DSANTUARIO@FAMISANAR.COM.CO",3213013857,"11001",{"$f":"VLOOKUP(B198,'[1]Select temp_pre_numero'!D$1:E$1845,2,0)","v":"OTRAS"}]
["NI",900179340,"2020-07-29","2020-07-29",2,"DIANA SANTUARIO","ANALISTA CONCILIACIONES","DSANTUARIO@FAMISANAR.COM.CO",3213013857,"11001",{"$f":"VLOOKUP(B199,'[1]Select temp_pre_numero'!D$1:E$1845,2,0)","v":{"$error":"#N/A"}}]
["NI",820003524,"2020-07-30","2020-07-30",2,"DIANA SANTUARIO","ANALISTA CONCILIACIONES","DSANTUARIO@FAMISANAR.COM.CO",3213013857,"11001",{"$f":"VLOOKUP(B200,'[1]Select temp_pre_numero'!D$1:E$1845,2,0)","v":"OTRAS"}]
["NI",800231602,"2020-07-31","2020-07-31",2,"DIANA SANTUARIO","ANALISTA CONCILIACIONES","DSANTUARIO@FAMISANAR.COM.CO",3213013857,"11001",{"$f":"VLOOKUP(B201,'[1]Select temp_pre_numero'!D$1:E$1845,2,0)","v":{"$error":"#N/A"}}]
["NI",824000426,"2020-08-03","2020-08-03",2,"DIANA SANTUARIO","ANALISTA CONCILIACIONES","DSANTUARIO@FAMISANAR.COM.CO",3213013857,"11001",{"$f":"VLOOKUP(B202,'[1]Select temp_pre_numero'!D$1:E$1845,2,0)","v":"OTRAS"}]
["NI",824006352,"2020-08-04","2020-08-04",2,"DIANA SANTUARIO","ANALISTA CONCILIACIONES","DSANTUARIO@FAMISANAR.COM.CO",3213013857,"11001",{"$f":"VLOOKUP(B203,'[1]Select temp_pre_numero'!D$1:E$1845,2,0)","v":"OTRAS"}]
["NI",900175569,"2020-08-05","2020-08-05",2,"DIANA SANTUARIO","ANALISTA CONCILIACIONES","DSANTUARIO@FAMISANAR.COM.CO",3213013857,"11001",{"$f":"VLOOKUP(B204,'[1]Select temp_pre_numero'!D$1:E$1845,2,0)","v":"OTRAS"}]
["NI",820004318,"2020-08-06","2020-08-06",2,"DIANA SANTUARIO","ANALISTA CONCILIACIONES","DSANTUARIO@FAMISANAR.COM.CO",3213013857,"11001",{"$f":"VLOOKUP(B205,'[1]Select temp_pre_numero'!D$1:E$1845,2,0)","v":"OTRAS"}]
["NI",800125697,"2020-08-10","2020-08-10",2,"DIANA SANTUARIO","ANALISTA CONCILIACIONES","DSANTUARIO@FAMISANAR.COM.CO",3213013857,"11001",{"$f":"VLOOKUP(B206,'[1]Select temp_pre_numero'!D$1:E$1845,2,0)","v":"OTRAS"}]
["NI",900085612,"2020-08-11","2020-08-11",2,"DIANA SANTUARIO","ANALISTA CONCILIACIONES","DSANTUARIO@FAMISANAR.COM.CO",3213013857,"11001",{"$f":"VLOOKUP(B207,'[1]Select temp_pre_numero'!D$1:E$1845,2,0)","v":"OTRAS"}]
["NI",900247822,"2020-08-12","2020-08-12",2,"DIANA SANTUARIO","ANALISTA CONCILIACIONES","DSANTUARIO@FAMISANAR.COM.CO",3213013857,"11001",{"$f":"VLOOKUP(B208,'[1]Select temp_pre_numero'!D$1:E$1845,2,0)","v":"OTRAS"}]
["NI",900364822,"2020-08-13","2020-08-13",2,"DIANA SANTUARIO","ANALISTA CONCILIACIONES","DSANTUARIO@FAMISANAR.COM.CO",3213013857,"11001",{"$f":"VLOOKUP(B209,'[1]Select temp_pre_numero'!D$1:E$1845,2,0)","v":"OTRAS"}]
["NI",890911816,"2020-08-14","2020-08-14",2,"DIANA SANTUARIO","ANALISTA CONCILIACIONES","DSANTUARIO@FAMISANAR.COM.CO",3213013857,"11001",{"$f":"VLOOKUP(B210,'[1]Select temp_pre_numero'!D$1:E$1845,2,0)","v":"OTRAS"}]
["NI",824000439,"2020-08-18","2020-08-18",2,"DIANA SANTUARIO","ANALISTA CONCILIACIONES","DSANTUARIO@FAMISANAR.COM.CO",3213013857,"11001",{"$f":"VLOOKUP(B211,'[1]Select temp_pre_numero'!D$1:E$1845,2,0)","v":"OTRAS"}]
["NI",800254850,"2020-08-19","2020-08-19",2,"DIANA SANTUARIO","ANALISTA CONCILIACIONES","DSANTUARIO@FAMISANAR.COM.CO",3213013857,"11001",{"$f":"VLOOKUP(B212,'[1]Select temp_pre_numero'!D$1:E$1845,2,0)","v":"OTRAS"}]
["NI",900601052,"2020-08-20","2020-08-20",2,"DIANA SANTUARIO","ANALISTA CONCILIACIONES","DSANTUARIO@FAMISANAR.COM.CO",3213013857,"11001",{"$f":"VLOOKUP(B213,'[1]Select temp_pre_numero'!D$1:E$1845,2,0)","v":"OTRAS"}]
["NI",901108114,"2020-08-21","2020-08-21",2,"DIANA SANTUARIO","ANALISTA CONCILIACIONES","DSANTUARIO@FAMISANAR.COM.CO",3213013857,"11001",{"$f":"VLOOKUP(B214,'[1]Select temp_pre_numero'!D$1:E$1845,2,0)","v":"OTRAS"}]
["NI",900936058,"2020-08-24","2020-08-24",2,"DIANA SANTUARIO","ANALISTA CONCILIACIONES","DSANTUARIO@FAMISANAR.COM.CO",3213013857,"11001",{"$f":"VLOOKUP(B215,'[1]Select temp_pre_numero'!D$1:E$1845,2,0)","v":"OTRAS"}]
["NI",860055083,"2020-08-25","2020-08-25",2,"DIANA SANTUARIO","ANALISTA CONCILIACIONES","DSANTUARIO@FAMISANAR.COM.CO",3213013857,"11001",{"$f":"VLOOKUP(B216,'[1]Select temp_pre_numero'!D$1:E$1845,2,0)","v":"OTRAS"}]
["NI",890706823,"2020-08-26","2020-08-26",2,"DIANA SANTUARIO","ANALISTA CONCILIACIONES","DSANTUARIO@FAMISANAR.COM.CO",3213013857,"11001",{"$f":"VLOOKUP(B217,'[1]Select temp_pre_numero'!D$1:E$1845,2,0)","v":"OTRAS"}]
["NI",819006193,"2020-08-27","2020-08-27",2,"DIANA SANTUARIO","ANALISTA CONCILIACIONES","DSANTUARIO@FAMISANAR.COM.CO",3213013857,"11001",{"$f":"VLOOKUP(B218,'[1]Select temp_pre_numero'!D$1:E$1845,2,0)","v":"OTRAS"}]
["NI",900009080,"2020-08-28","2020-08-28",2,"DIANA SANTUARIO","ANALISTA CONCILIACIONES","DSANTUARIO@FAMISANAR.COM.CO",3213013857,"11001",{"$f":"VLOOKUP(B219,'[1]Select temp_pre_numero'!D$1:E$1845,2,0)","v":"OTRAS"}]
["NI",830100228,"2020-08-29","2020-08-29",2,"DIANA SANTUARIO","ANALISTA CONCILIACIONES","DSANTUARIO@FAMISANAR.COM.CO",3213013857,"11001",{"$f":"VLOOKUP(B220,'[1]Select temp_pre_numero'!D$1:E$1845,2,0)","v":{"$error":"#N/A"}}]
["NI",900269973,"2020-08-30","2020-08-30",2,"DIANA SANTUARIO","ANALISTA CONCILIACIONES","DSANTUARIO@FAMISANAR.COM.CO",3213013857,"11001",{"$f":"VLOOKUP(B221,'[1]Select temp_pre_numero'!D$1:E$1845,2,0)","v":"OTRAS"}]
["NI",832010048,"2020-08-31","2020-08-31",2,"DIANA SANTUARIO","ANALISTA CONCILIACIONES","DSANTUARIO@FAMISANAR.COM.CO",3213013857,"11001",{"$f":"VLOOKUP(B222,'[1]Select temp_pre_numero'!D$1:E$1845,2,0)","v":{"$error":"#N/A"}}]
["NI",892200273,"2020-06-16","2020-06-16",2,"DIANA SANTUARIO","ANALISTA CONCILIACIONES","DSANTUARIO@FAMISANAR.COM.CO",3213013857,"11001",{"$f":"VLOOKUP(B223,'[1]Select temp_pre_numero'!D$1:E$1845,2,0)","v":{"$error":"#N/A"}}]
["NI",800099652,"2020-06-17","2020-06-17",2,"DIANA SANTUARIO","ANALISTA CONCILIACIONES","DSANTUARIO@FAMISANAR.COM.CO",3213013857,"11001",{"$f":"VLOOKUP(B224,'[1]Select temp_pre_numero'!D$1:E$1845,2,0)","v":"OTRAS"}]
["NI",890701490,"2020-06-18","2020-06-18",2,"DIANA SANTUARIO","ANALISTA CONCILIACIONES","DSANTUARIO@FAMISANAR.COM.CO",3213013857,"11001",{"$f":"VLOOKUP(B225,'[1]Select temp_pre_numero'!D$1:E$1845,2,0)","v":"OTRAS"}]
["NI",811002429,"2020-06-19","2020-06-19",2,"DIANA SANTUARIO","ANALISTA CONCILIACIONES","DSANTUARIO@FAMISANAR.COM.CO",3213013857,"11001",{"$f":"VLOOKUP(B226,'[1]Select temp_pre_numero'!D$1:E$1845,2,0)","v":"OTRAS"}]
["NI",812003851,"2020-06-23","2020-06-23",2,"DIANA SANTUARIO","ANALISTA CONCILIACIONES","DSANTUARIO@FAMISANAR.COM.CO",3213013857,"11001",{"$f":"VLOOKUP(B227,'[1]Select temp_pre_numero'!D$1:E$1845,2,0)","v":"OTRAS"}]
["NI",900653844,"2020-06-24","2020-06-24",2,"DIANA SANTUARIO","ANALISTA CONCILIACIONES","DSANTUARIO@FAMISANAR.COM.CO",3213013857,"11001",{"$f":"VLOOKUP(B228,'[1]Select temp_pre_numero'!D$1:E$1845,2,0)","v":{"$error":"#N/A"}}]
["NI",890906347,"2020-06-25","2020-06-25",2,"DIANA SANTUARIO","ANALISTA CONCILIACIONES","DSANTUARIO@FAMISANAR.COM.CO",3213013857,"11001",{"$f":"VLOOKUP(B229,'[1]Select temp_pre_numero'!D$1:E$1845,2,0)","v":"OTRAS"}]
["NI",860015905,"2020-06-26","2020-06-26",2,"DIANA SANTUARIO","ANALISTA CONCILIACIONES","DSANTUARIO@FAMISANAR.COM.CO",3213013857,"11001",{"$f":"VLOOKUP(B230,'[1]Select temp_pre_numero'!D$1:E$1845,2,0)","v":"OTRAS"}]
["NI",900098476,"2020-06-30","2020-06-30",2,"DIANA SANTUARIO","ANALISTA CONCILIACIONES","DSANTUARIO@FAMISANAR.COM.CO",3213013857,"11001",{"$f":"VLOOKUP(B231,'[1]Select temp_pre_numero'!D$1:E$1845,2,0)","v":"OTRAS"}]
["NI",899999092,"2020-07-01","2020-07-01",2,"DIANA SANTUARIO","ANALISTA CONCILIACIONES","DSANTUARIO@FAMISANAR.COM.CO",3213013857,"11001",{"$f":"VLOOKUP(B232,'[1]Select temp_pre_numero'!D$1:E$1845,2,0)","v":"OTRAS"}]
["NI",800200789,"2020-07-02","2020-07-02",2,"DIANA SANTUARIO","ANALISTA CONCILIACIONES","DSANTUARIO@FAMISANAR.COM.CO",3213013857,"11001",{"$f":"VLOOKUP(B233,'[1]Select temp_pre_numero'!D$1:E$1845,2,0)","v":"OTRAS"}]
["NI",899999151,"2020-07-03","2020-07-03",2,"DIANA SANTUARIO","ANALISTA CONCILIACIONES","DSANTUARIO@FAMISANAR.COM.CO",3213013857,"11001",{"$f":"VLOOKUP(B234,'[1]Select temp_pre_numero'!D$1:E$1845,2,0)","v":"OTRAS"}]
["NI",800094898,"2020-07-06","2020-07-06",2,"DIANA SANTUARIO","ANALISTA CONCILIACIONES","DSANTUARIO@FAMISANAR.COM.CO",3213013857,"11001",{"$f":"VLOOKUP(B235,'[1]Select temp_pre_numero'!D$1:E$1845,2,0)","v":"OTRAS"}]
["NI",890701033,"2020-07-07","2020-07-07",2,"DIANA SANTUARIO","ANALISTA CONCILIACIONES","DSANTUARIO@FAMISANAR.COM.CO",3213013857,"11001",{"$f":"VLOOKUP(B236,'[1]Select temp_pre_numero'!D$1:E$1845,2,0)","v":"OTRAS"}]
["NI",900291018,"2020-07-08","2020-07-08",2,"DIANA SANTUARIO","ANALISTA CONCILIACIONES","DSANTUARIO@FAMISANAR.COM.CO",3213013857,"11001",{"$f":"VLOOKUP(B237,'[1]Select temp_pre_numero'!D$1:E$1845,2,0)","v":"OTRAS"}]
["NI",890680033,"2020-07-09","2020-07-09",2,"DIANA SANTUARIO","ANALISTA CONCILIACIONES","DSANTUARIO@FAMISANAR.COM.CO",3213013857,"11001",{"$f":"VLOOKUP(B238,'[1]Select temp_pre_numero'!D$1:E$1845,2,0)","v":{"$error":"#N/A"}}]
["NI",890102768,"2020-07-10","2020-07-10",2,"DIANA SANTUARIO","ANALISTA CONCILIACIONES","DSANTUARIO@FAMISANAR.COM.CO",3213013857,"11001",{"$f":"VLOOKUP(B239,'[1]Select temp_pre_numero'!D$1:E$1845,2,0)","v":"OTRAS"}]
["NI",800179966,"2020-07-13","2020-07-13",2,"DIANA SANTUARIO","ANALISTA CONCILIACIONES","DSANTUARIO@FAMISANAR.COM.CO",3213013857,"11001",{"$f":"VLOOKUP(B240,'[1]Select temp_pre_numero'!D$1:E$1845,2,0)","v":"OTRAS"}]
["NI",900065988,"2020-07-14","2020-07-14",2,"DIANA SANTUARIO","ANALISTA CONCILIACIONES","DSANTUARIO@FAMISANAR.COM.CO",3213013857,"11001",{"$f":"VLOOKUP(B241,'[1]Select temp_pre_numero'!D$1:E$1845,2,0)","v":"OTRAS"}]
["NI",900305406,"2020-07-15","2020-07-15",2,"DIANA SANTUARIO","ANALISTA CONCILIACIONES","DSANTUARIO@FAMISANAR.COM.CO",3213013857,"11001",{"$f":"VLOOKUP(B242,'[1]Select temp_pre_numero'!D$1:E$1845,2,0)","v":{"$error":"#N/A"}}]
["NI",900110259,"2020-07-16","2020-07-16",2,"DIANA SANTUARIO","ANALISTA CONCILIACIONES","DSANTUARIO@FAMISANAR.COM.CO",3213013857,"11001",{"$f":"VLOOKUP(B243,'[1]Select temp_pre_numero'!D$1:E$1845,2,0)","v":"OTRAS"}]
["NI",830058292,"2020-07-17","2020-07-17",2,"DIANA SANTUARIO","ANALISTA CONCILIACIONES","DSANTUARIO@FAMISANAR.COM.CO",3213013857,"11001",{"$f":"VLOOKUP(B244,'[1]Select temp_pre_numero'!D$1:E$1845,2,0)","v":"OTRAS"}]
["NI",900328323,"2020-07-21","2020-07-21",2,"DIANA SANTUARIO","ANALISTA CONCILIACIONES","DSANTUARIO@FAMISANAR.COM.CO",3213013857,"11001",{"$f":"VLOOKUP(B245,'[1]Select temp_pre_numero'!D$1:E$1845,2,0)","v":"OTRAS"}]
["NI",802020128,"2020-07-22","2020-07-22",2,"DIANA SANTUARIO","ANALISTA CONCILIACIONES","DSANTUARIO@FAMISANAR.COM.CO",3213013857,"11001",{"$f":"VLOOKUP(B246,'[1]Select temp_pre_numero'!D$1:E$1845,2,0)","v":"OTRAS"}]
["NI",900545277,"2020-07-23","2020-07-23",2,"DIANA SANTUARIO","ANALISTA CONCILIACIONES","DSANTUARIO@FAMISANAR.COM.CO",3213013857,"11001",{"$f":"VLOOKUP(B247,'[1]Select temp_pre_numero'!D$1:E$1845,2,0)","v":{"$error":"#N/A"}}]
["NI",860009555,"2020-07-24","2020-07-24",2,"DIANA SANTUARIO","ANALISTA CONCILIACIONES","DSANTUARIO@FAMISANAR.COM.CO",3213013857,"11001",{"$f":"VLOOKUP(B248,'[1]Select temp_pre_numero'!D$1:E$1845,2,0)","v":{"$error":"#N/A"}}]
["NI",900741253,"2020-07-27","2020-07-27",2,"DIANA SANTUARIO","ANALISTA CONCILIACIONES","DSANTUARIO@FAMISANAR.COM.CO",3213013857,"11001",{"$f":"VLOOKUP(B249,'[1]Select temp_pre_numero'!D$1:E$1845,2,0)","v":"OTRAS"}]
["NI",800006850,"2020-07-28","2020-07-28",2,"DIANA SANTUARIO","ANALISTA CONCILIACIONES","DSANTUARIO@FAMISANAR.COM.CO",3213013857,"11001",{"$f":"VLOOKUP(B250,'[1]Select temp_pre_numero'!D$1:E$1845,2,0)","v":{"$error":"#N/A"}}]
["NI",860010783,"2020-07-29","2020-07-29",2,"DIANA SANTUARIO","ANALISTA CONCILIACIONES","DSANTUARIO@FAMISANAR.COM.CO",3213013857,"11001",{"$f":"VLOOKUP(B251,'[1]Select temp_pre_numero'!D$1:E$1845,2,0)","v":"OTRAS"}]
["NI",832001465,"2020-07-30","2020-07-30",2,"DIANA SANTUARIO","ANALISTA CONCILIACIONES","DSANTUARIO@FAMISANAR.COM.CO",3213013857,"11001",{"$f":"VLOOKUP(B252,'[1]Select temp_pre_numero'!D$1:E$1845,2,0)","v":{"$error":"#N/A"}}]
["NI",860400547,"2020-07-31","2020-07-31",2,"DIANA SANTUARIO","ANALISTA CONCILIACIONES","DSANTUARIO@FAMISANAR.COM.CO",3213013857,"11001",{"$f":"VLOOKUP(B253,'[1]Select temp_pre_numero'!D$1:E$1845,2,0)","v":"OTRAS"}]
["NI",900124020,"2020-08-03","2020-08-03",2,"DIANA SANTUARIO","ANALISTA CONCILIACIONES","DSANTUARIO@FAMISANAR.COM.CO",3213013857,"11001",{"$f":"VLOOKUP(B254,'[1]Select temp_pre_numero'!D$1:E$1845,2,0)","v":{"$error":"#N/A"}}]
["NI",900002780,"2020-08-04","2020-08-04",2,"DIANA SANTUARIO","ANALISTA CONCILIACIONES","DSANTUARIO@FAMISANAR.COM.CO",3213013857,"11001",{"$f":"VLOOKUP(B255,'[1]Select temp_pre_numero'!D$1:E$1845,2,0)","v":"OTRAS"}]
["NI",800153488,"2020-08-05","2020-08-05",2,"DIANA SANTUARIO","ANALISTA CONCILIACIONES","DSANTUARIO@FAMISANAR.COM.CO",3213013857,"11001",{"$f":"VLOOKUP(B256,'[1]Select temp_pre_numero'!D$1:E$1845,2,0)","v":"OTRAS"}]
["NI",832002436,"2020-08-06","2020-08-06",2,"DIANA SANTUARIO","ANALISTA CONCILIACIONES","DSANTUARIO@FAMISANAR.COM.CO",3213013857,"11001",{"$f":"VLOOKUP(B257,'[1]Select temp_pre_numero'!D$1:E$1845,2,0)","v":{"$error":"#N/A"}}]
["NI",900434413,"2020-08-10","2020-08-10",2,"DIANA SANTUARIO","ANALISTA CONCILIACIONES","DSANTUARIO@FAMISANAR.COM.CO",3213013857,"11001",{"$f":"VLOOKUP(B258,'[1]Select temp_pre_numero'!D$1:E$1845,2,0)","v":"OTRAS"}]
["NI",808003500,"2020-08-11","2020-08-11",2,"DIANA SANTUARIO","ANALISTA CONCILIACIONES","DSANTUARIO@FAMISANAR.COM.CO",3213013857,"11001",{"$f":"VLOOKUP(B259,'[1]Select temp_pre_numero'!D$1:E$1845,2,0)","v":{"$error":"#N/A"}}]
["NI",900135240,"2020-08-12","2020-08-12",2,"DIANA SANTUARIO","ANALISTA CONCILIACIONES","DSANTUARIO@FAMISANAR.COM.CO",3213013857,"11001",{"$f":"VLOOKUP(B260,'[1]Select temp_pre_numero'!D$1:E$1845,2,0)","v":{"$error":"#N/A"}}]
["NI",900248882,"2020-08-13","2020-08-13",2,"DIANA SANTUARIO","ANALISTA CONCILIACIONES","DSANTUARIO@FAMISANAR.COM.CO",3213013857,"11001",{"$f":"VLOOKUP(B261,'[1]Select temp_pre_numero'!D$1:E$1845,2,0)","v":"OTRAS"}]
["NI",800183943,"2020-08-14","2020-08-14",2,"DIANA SANTUARIO","ANALISTA CONCILIACIONES","DSANTUARIO@FAMISANAR.COM.CO",3213013857,"11001",{"$f":"VLOOKUP(B262,'[1]Select temp_pre_numero'!D$1:E$1845,2,0)","v":"OTRAS"}]
["NI",802009783,"2020-08-18","2020-08-18",2,"DIANA SANTUARIO","ANALISTA CONCILIACIONES","DSANTUARIO@FAMISANAR.COM.CO",3213013857,"11001",{"$f":"VLOOKUP(B263,'[1]Select temp_pre_numero'!D$1:E$1845,2,0)","v":"OTRAS"}]
["NI",860040094,"2020-08-19","2020-08-19",2,"DIANA SANTUARIO","ANALISTA CONCILIACIONES","DSANTUARIO@FAMISANAR.COM.CO",3213013857,"11001",{"$f":"VLOOKUP(B264,'[1]Select temp_pre_numero'!D$1:E$1845,2,0)","v":{"$error":"#N/A"}}]
["NI",802010728,"2020-08-20","2020-08-20",2,"DIANA SANTUARIO","ANALISTA CONCILIACIONES","DSANTUARIO@FAMISANAR.COM.CO",3213013857,"11001",{"$f":"VLOOKUP(B265,'[1]Select temp_pre_numero'!D$1:E$1845,2,0)","v":"OTRAS"}]
["NI",900264050,"2020-08-21","2020-08-21",2,"DIANA SANTUARIO","ANALISTA CONCILIACIONES","DSANTUARIO@FAMISANAR.COM.CO",3213013857,"11001",{"$f":"VLOOKUP(B266,'[1]Select temp_pre_numero'!D$1:E$1845,2,0)","v":"OTRAS"}]
["NI",800196433,"2020-08-24","2020-08-24",2,"DIANA SANTUARIO","ANALISTA CONCILIACIONES","DSANTUARIO@FAMISANAR.COM.CO",3213013857,"11001",{"$f":"VLOOKUP(B267,'[1]Select temp_pre_numero'!D$1:E$1845,2,0)","v":"OTRAS"}]
["NI",800112725,"2020-08-25","2020-08-25",2,"DIANA SANTUARIO","ANALISTA CONCILIACIONES","DSANTUARIO@FAMISANAR.COM.CO",3213013857,"11001",{"$f":"VLOOKUP(B268,'[1]Select temp_pre_numero'!D$1:E$1845,2,0)","v":"OTRAS"}]
["NI",830023136,"2020-08-26","2020-08-26",2,"DIANA SANTUARIO","ANALISTA CONCILIACIONES","DSANTUARIO@FAMISANAR.COM.CO",3213013857,"11001",{"$f":"VLOOKUP(B269,'[1]Select temp_pre_numero'!D$1:E$1845,2,0)","v":"OTRAS"}]
["NI",802016266,"2020-08-27","2020-08-27",2,"DIANA SANTUARIO","ANALISTA CONCILIACIONES","DSANTUARIO@FAMISANAR.COM.CO",3213013857,"11001",{"$f":"VLOOKUP(B270,'[1]Select temp_pre_numero'!D$1:E$1845,2,0)","v":"OTRAS"}]
["NI",900081746,"2020-08-28","2020-08-28",2,"DIANA SANTUARIO","ANALISTA CONCILIACIONES","DSANTUARIO@FAMISANAR.COM.CO",3213013857,"11001",{"$f":"VLOOKUP(B271,'[1]Select temp_pre_numero'!D$1:E$1845,2,0)","v":"OTRAS"}]
["NI",900465827,"2020-08-29","2020-08-29",2,"DIANA SANTUARIO","ANALISTA CONCILIACIONES","DSANTUARIO@FAMISANAR.COM.CO",3213013857,"11001",{"$f":"VLOOKUP(B272,'[1]Select temp_pre_numero'!D$1:E$1845,2,0)","v":"OTRAS"}]
["NI",900103925,"2020-08-30","2020-08-30",2,"DIANA SANTUARIO","ANALISTA CONCILIACIONES","DSANTUARIO@FAMISANAR.COM.CO",3213013857,"11001",{"$f":"VLOOKUP(B273,'[1]Select temp_pre_numero'!D$1:E$1845,2,0)","v":"OTRAS"}]
["NI",890100271,"2020-08-31","2020-08-31",2,"DIANA SANTUARIO","ANALISTA CONCILIACIONES","DSANTUARIO@FAMISANAR.COM.CO",3213013857,"11001",{"$f":"VLOOKUP(B274,'[1]Select temp_pre_numero'!D$1:E$1845,2,0)","v":"OTRAS"}]
["NI",800028332,"2020-08-18","2020-08-18",2,"DIANA SANTUARIO","ANALISTA CONCILIACIONES","DSANTUARIO@FAMISANAR.COM.CO",3213013857,"11001",{"$f":"VLOOKUP(B275,'[1]Select temp_pre_numero'!D$1:E$1845,2,0)","v":"OTRAS"}]
["NI",900263740,"2020-08-19","2020-08-19",2,"DIANA SANTUARIO","ANALISTA CONCILIACIONES","DSANTUARIO@FAMISANAR.COM.CO",3213013857,"11001",{"$f":"VLOOKUP(B276,'[1]Select temp_pre_numero'!D$1:E$1845,2,0)","v":{"$error":"#N/A"}}]
["NI",830077688,"2020-08-20","2020-08-20",2,"DIANA SANTUARIO","ANALISTA CONCILIACIONES","DSANTUARIO@FAMISANAR.COM.CO",3213013857,"11001",{"$f":"VLOOKUP(B277,'[1]Select temp_pre_numero'!D$1:E$1845,2,0)","v":"OTRAS"}]
["NI",800175839,"2020-08-21","2020-08-21",2,"DIANA SANTUARIO","ANALISTA CONCILIACIONES","DSANTUARIO@FAMISANAR.COM.CO",3213013857,"11001",{"$f":"VLOOKUP(B278,'[1]Select temp_pre_numero'!D$1:E$1845,2,0)","v":"OTRAS"}]
["NI",900485519,"2020-08-24","2020-08-24",2,"DIANA SANTUARIO","ANALISTA CONCILIACIONES","DSANTUARIO@FAMISANAR.COM.CO",3213013857,"11001",{"$f":"VLOOKUP(B279,'[1]Select temp_pre_numero'!D$1:E$1845,2,0)","v":"OTRAS"}]
["NI",800223876,"2020-08-25","2020-08-25",2,"DIANA SANTUARIO","ANALISTA CONCILIACIONES","DSANTUARIO@FAMISANAR.COM.CO",3213013857,"11001",{"$f":"VLOOKUP(B280,'[1]Select temp_pre_numero'!D$1:E$1845,2,0)","v":"OTRAS"}]
["NI",800098895,"2020-08-26","2020-08-26",2,"DIANA SANTUARIO","ANALISTA CONCILIACIONES","DSANTUARIO@FAMISANAR.COM.CO",3213013857,"11001",{"$f":"VLOOKUP(B281,'[1]Select temp_pre_numero'!D$1:E$1845,2,0)","v":"OTRAS"}]
["NI",832004115,"2020-08-27","2020-08-27",2,"DIANA SANTUARIO","ANALISTA CONCILIACIONES","DSANTUARIO@FAMISANAR.COM.CO",3213013857,"11001",{"$f":"VLOOKUP(B282,'[1]Select temp_pre_numero'!D$1:E$1845,2,0)","v":{"$error":"#N/A"}}]
["NI",800216883,"2020-08-28","2020-08-28",2,"DIANA SANTUARIO","ANALISTA CONCILIACIONES","DSANTUARIO@FAMISANAR.COM.CO",3213013857,"11001",{"$f":"VLOOKUP(B283,'[1]Select temp_pre_numero'!D$1:E$1845,2,0)","v":"OTRAS"}]
["NI",830064212,"2020-08-29","2020-08-29",2,"DIANA SANTUARIO","ANALISTA CONCILIACIONES","DSANTUARIO@FAMISANAR.COM.CO",3213013857,"11001",{"$f":"VLOOKUP(B284,'[1]Select temp_pre_numero'!D$1:E$1845,2,0)","v":"OTRAS"}]
["NI",900234308,"2020-08-30","2020-08-30",2,"DIANA SANTUARIO","ANALISTA CONCILIACIONES","DSANTUARIO@FAMISANAR.COM.CO",3213013857,"11001",{"$f":"VLOOKUP(B285,'[1]Select temp_pre_numero'!D$1:E$1845,2,0)","v":"OTRAS"}]
["NI",830001237,"2020-08-31","2020-08-31",2,"DIANA SANTUARIO","ANALISTA CONCILIACIONES","DSANTUARIO@FAMISANAR.COM.CO",3213013857,"11001",{"$f":"VLOOKUP(B286,'[1]Select temp_pre_numero'!D$1:E$1845,2,0)","v":"OTRAS"}]
["NI",860024030,"2020-06-16","2020-06-16",2,"JENNYFFER ALEXANDRA SARMIENTO","ANALISTA CONCILIACIONES","JCORONADO@FAMISANAR.COM.CO",3162946361,"11001",{"$f":"VLOOKUP(B287,'[1]Select temp_pre_numero'!D$1:E$1845,2,0)","v":{"$error":"#N/A"}}]
["NI",890905177,"2020-06-17","2020-06-17",2,"JENNYFFER ALEXANDRA SARMIENTO","ANALISTA CONCILIACIONES","JCORONADO@FAMISANAR.COM.CO",3162946361,"11001",{"$f":"VLOOKUP(B288,'[1]Select temp_pre_numero'!D$1:E$1845,2,0)","v":"OTRAS"}]
["NI",890902922,"2020-06-18","2020-06-18",2,"JENNYFFER ALEXANDRA SARMIENTO","ANALISTA CONCILIACIONES","JCORONADO@FAMISANAR.COM.CO",3162946361,"11001",{"$f":"VLOOKUP(B289,'[1]Select temp_pre_numero'!D$1:E$1845,2,0)","v":"OTRAS"}]
["NI",900774590,"2020-06-19","2020-06-19",2,"JENNYFFER ALEXANDRA SARMIENTO","ANALISTA CONCILIACIONES","JCORONADO@FAMISANAR.COM.CO",3162946361,"11001",{"$f":"VLOOKUP(B290,'[1]Select temp_pre_numero'!D$1:E$1845,2,0)","v":"OTRAS"}]
["NI",900103377,"2020-06-23","2020-06-23",2,"JENNYFFER ALEXANDRA SARMIENTO","ANALISTA CONCILIACIONES","JCORONADO@FAMISANAR.COM.CO",3162946361,"11001",{"$f":"VLOOKUP(B291,'[1]Select temp_pre_numero'!D$1:E$1845,2,0)","v":"OTRAS"}]
["NI",800119945,"2020-06-24","2020-06-24",2,"JENNYFFER ALEXANDRA SARMIENTO","ANALISTA CONCILIACIONES","JCORONADO@FAMISANAR.COM.CO",3162946361,"11001",{"$f":"VLOOKUP(B292,'[1]Select temp_pre_numero'!D$1:E$1845,2,0)","v":"OTRAS"}]
["NI",900521908,"2020-06-25","2020-06-25",2,"JENNYFFER ALEXANDRA SARMIENTO","ANALISTA CONCILIACIONES","JCORONADO@FAMISANAR.COM.CO",3162946361,"11001",{"$f":"VLOOKUP(B293,'[1]Select temp_pre_numero'!D$1:E$1845,2,0)","v":{"$error":"#N/A"}}]
["NI",890701718,"2020-06-26","2020-06-26",2,"JENNYFFER ALEXANDRA SARMIENTO","ANALISTA CONCILIACIONES","JCORONADO@FAMISANAR.COM.CO",3162946361,"11001",{"$f":"VLOOKUP(B294,'[1]Select temp_pre_numero'!D$1:E$1845,2,0)","v":"OTRAS"}]
["NI",891200209,"2020-06-30","2020-06-30",2,"JENNYFFER ALEXANDRA SARMIENTO","ANALISTA CONCILIACIONES","JCORONADO@FAMISANAR.COM.CO",3162946361,"11001",{"$f":"VLOOKUP(B295,'[1]Select temp_pre_numero'!D$1:E$1845,2,0)","v":"OTRAS"}]
["NI",892300175,"2020-07-01","2020-07-01",2,"JENNYFFER ALEXANDRA SARMIENTO","ANALISTA CONCILIACIONES","JCORONADO@FAMISANAR.COM.CO",3162946361,"11001",{"$f":"VLOOKUP(B296,'[1]Select temp_pre_numero'!D$1:E$1845,2,0)","v":"OTRAS"}]
["NI",900192459,"2020-07-02","2020-07-02",2,"JENNYFFER ALEXANDRA SARMIENTO","ANALISTA CONCILIACIONES","JCORONADO@FAMISANAR.COM.CO",3162946361,"11001",{"$f":"VLOOKUP(B297,'[1]Select temp_pre_numero'!D$1:E$1845,2,0)","v":"OTRAS"}]
["NI",891856372,"2020-07-03","2020-07-03",2,"JENNYFFER ALEXANDRA SARMIENTO","ANALISTA CONCILIACIONES","JCORONADO@FAMISANAR.COM.CO",3162946361,"11001",{"$f":"VLOOKUP(B298,'[1]Select temp_pre_numero'!D$1:E$1845,2,0)","v":"OTRAS"}]
["NI",900147959,"2020-07-06","2020-07-06",2,"JENNYFFER ALEXANDRA SARMIENTO","ANALISTA CONCILIACIONES","JCORONADO@FAMISANAR.COM.CO",3162946361,"11001",{"$f":"VLOOKUP(B299,'[1]Select temp_pre_numero'!D$1:E$1845,2,0)","v":{"$error":"#N/A"}}]
["NI",815000316,"2020-07-07","2020-07-07",2,"JENNYFFER ALEXANDRA SARMIENTO","ANALISTA CONCILIACIONES","JCORONADO@FAMISANAR.COM.CO",3162946361,"11001",{"$f":"VLOOKUP(B300,'[1]Select temp_pre_numero'!D$1:E$1845,2,0)","v":"OTRAS"}]
["NI",900541416,"2020-07-08","2020-07-08",2,"JENNYFFER ALEXANDRA SARMIENTO","ANALISTA CONCILIACIONES","JCORONADO@FAMISANAR.COM.CO",3162946361,"11001",{"$f":"VLOOKUP(B301,'[1]Select temp_pre_numero'!D$1:E$1845,2,0)","v":"OTRAS"}]
["NI",830023202,"2020-07-09","2020-07-09",2,"JENNYFFER ALEXANDRA SARMIENTO","ANALISTA CONCILIACIONES","JCORONADO@FAMISANAR.COM.CO",3162946361,"11001",{"$f":"VLOOKUP(B302,'[1]Select temp_pre_numero'!D$1:E$1845,2,0)","v":{"$error":"#N/A"}}]
["NI",900348937,"2020-07-10","2020-07-10",2,"JENNYFFER ALEXANDRA SARMIENTO","ANALISTA CONCILIACIONES","JCORONADO@FAMISANAR.COM.CO",3162946361,"11001",{"$f":"VLOOKUP(B303,'[1]Select temp_pre_numero'!D$1:E$1845,2,0)","v":{"$error":"#N/A"}}]
["NI",900807126,"2020-07-13","2020-07-13",2,"JENNYFFER ALEXANDRA SARMIENTO","ANALISTA CONCILIACIONES","JCORONADO@FAMISANAR.COM.CO",3162946361,"11001",{"$f":"VLOOKUP(B304,'[1]Select temp_pre_numero'!D$1:E$1845,2,0)","v":"OTRAS"}]
["NI",900221139,"2020-07-14","2020-07-14",2,"JENNYFFER ALEXANDRA SARMIENTO","ANALISTA CONCILIACIONES","JCORONADO@FAMISANAR.COM.CO",3162946361,"11001",{"$f":"VLOOKUP(B305,'[1]Select temp_pre_numero'!D$1:E$1845,2,0)","v":"OTRAS"}]
["NI",900566814,"2020-07-15","2020-07-15",2,"JENNYFFER ALEXANDRA SARMIENTO","ANALISTA CONCILIACIONES","JCORONADO@FAMISANAR.COM.CO",3162946361,"11001",{"$f":"VLOOKUP(B306,'[1]Select temp_pre_numero'!D$1:E$1845,2,0)","v":"OTRAS"}]
["NI",846000253,"2020-07-16","2020-07-16",2,"JENNYFFER ALEXANDRA SARMIENTO","ANALISTA CONCILIACIONES","JCORONADO@FAMISANAR.COM.CO",3162946361,"11001",{"$f":"VLOOKUP(B307,'[1]Select temp_pre_numero'!D$1:E$1845,2,0)","v":"OTRAS"}]
["NI",900660001,"2020-07-17","2020-07-17",2,"JENNYFFER ALEXANDRA SARMIENTO","ANALISTA CONCILIACIONES","JCORONADO@FAMISANAR.COM.CO",3162946361,"11001",{"$f":"VLOOKUP(B308,'[1]Select temp_pre_numero'!D$1:E$1845,2,0)","v":{"$error":"#N/A"}}]
["NI",891800857,"2020-07-21","2020-07-21",2,"JENNYFFER ALEXANDRA SARMIENTO","ANALISTA CONCILIACIONES","JCORONADO@FAMISANAR.COM.CO",3162946361,"11001",{"$f":"VLOOKUP(B309,'[1]Select temp_pre_numero'!D$1:E$1845,2,0)","v":"OTRAS"}]
["NI",891180238,"2020-07-22","2020-07-22",2,"JENNYFFER ALEXANDRA SARMIENTO","ANALISTA CONCILIACIONES","JCORONADO@FAMISANAR.COM.CO",3162946361,"11001",{"$f":"VLOOKUP(B310,'[1]Select temp_pre_numero'!D$1:E$1845,2,0)","v":"OTRAS"}]
["NI",860529151,"2020-07-23","2020-07-23",2,"JENNYFFER ALEXANDRA SARMIENTO","ANALISTA CONCILIACIONES","JCORONADO@FAMISANAR.COM.CO",3162946361,"11001",{"$f":"VLOOKUP(B311,'[1]Select temp_pre_numero'!D$1:E$1845,2,0)","v":{"$error":"#N/A"}}]
["NI",800067065,"2020-07-24","2020-07-24",2,"JENNYFFER ALEXANDRA SARMIENTO","ANALISTA CONCILIACIONES","JCORONADO@FAMISANAR.COM.CO",3162946361,"11001",{"$f":"VLOOKUP(B312,'[1]Select temp_pre_numero'!D$1:E$1845,2,0)","v":"OTRAS"}]
["NI",892300445,"2020-07-27","2020-07-27",2,"JENNYFFER ALEXANDRA SARMIENTO","ANALISTA CONCILIACIONES","JCORONADO@FAMISANAR.COM.CO",3162946361,"11001",{"$f":"VLOOKUP(B313,'[1]Select temp_pre_numero'!D$1:E$1845,2,0)","v":"OTRAS"}]
["NI",890981137,"2020-07-28","2020-07-28",2,"JENNYFFER ALEXANDRA SARMIENTO","ANALISTA CONCILIACIONES","JCORONADO@FAMISANAR.COM.CO",3162946361,"11001",{"$f":"VLOOKUP(B314,'[1]Select temp_pre_numero'!D$1:E$1845,2,0)","v":"OTRAS"}]
["NI",891500084,"2020-07-29","2020-07-29",2,"JENNYFFER ALEXANDRA SARMIENTO","ANALISTA CONCILIACIONES","JCORONADO@FAMISANAR.COM.CO",3162946361,"11001",{"$f":"VLOOKUP(B315,'[1]Select temp_pre_numero'!D$1:E$1845,2,0)","v":"OTRAS"}]
["NI",826003318,"2020-07-30","2020-07-30",2,"JENNYFFER ALEXANDRA SARMIENTO","ANALISTA CONCILIACIONES","JCORONADO@FAMISANAR.COM.CO",3162946361,"11001",{"$f":"VLOOKUP(B316,'[1]Select temp_pre_numero'!D$1:E$1845,2,0)","v":"OTRAS"}]
["NI",800058016,"2020-07-31","2020-07-31",2,"JENNYFFER ALEXANDRA SARMIENTO","ANALISTA CONCILIACIONES","JCORONADO@FAMISANAR.COM.CO",3162946361,"11001",{"$f":"VLOOKUP(B317,'[1]Select temp_pre_numero'!D$1:E$1845,2,0)","v":"OTRAS"}]
["NI",809004280,"2020-08-03","2020-08-03",2,"JENNYFFER ALEXANDRA SARMIENTO","ANALISTA CONCILIACIONES","JCORONADO@FAMISANAR.COM.CO",3162946361,"11001",{"$f":"VLOOKUP(B318,'[1]Select temp_pre_numero'!D$1:E$1845,2,0)","v":"OTRAS"}]
["NI",809003541,"2020-08-04","2020-08-04",2,"JENNYFFER ALEXANDRA SARMIENTO","ANALISTA CONCILIACIONES","JCORONADO@FAMISANAR.COM.CO",3162946361,"11001",{"$f":"VLOOKUP(B319,'[1]Select temp_pre_numero'!D$1:E$1845,2,0)","v":"OTRAS"}]
["NI",890702080,"2020-08-05","2020-08-05",2,"JENNYFFER ALEXANDRA SARMIENTO","ANALISTA CONCILIACIONES","JCORONADO@FAMISANAR.COM.CO",3162946361,"11001",{"$f":"VLOOKUP(B320,'[1]Select temp_pre_numero'!D$1:E$1845,2,0)","v":"OTRAS"}]
["NI",824000450,"2020-08-06","2020-08-06",2,"JENNYFFER ALEXANDRA SARMIENTO","ANALISTA CONCILIACIONES","JCORONADO@FAMISANAR.COM.CO",3162946361,"11001",{"$f":"VLOOKUP(B321,'[1]Select temp_pre_numero'!D$1:E$1845,2,0)","v":"OTRAS"}]
["NI",819002534,"2020-08-10","2020-08-10",2,"JENNYFFER ALEXANDRA SARMIENTO","ANALISTA CONCILIACIONES","JCORONADO@FAMISANAR.COM.CO",3162946361,"11001",{"$f":"VLOOKUP(B322,'[1]Select temp_pre_numero'!D$1:E$1845,2,0)","v":"OTRAS"}]
["NI",830510991,"2020-08-11","2020-08-11",2,"JENNYFFER ALEXANDRA SARMIENTO","ANALISTA CONCILIACIONES","JCORONADO@FAMISANAR.COM.CO",3162946361,"11001",{"$f":"VLOOKUP(B323,'[1]Select temp_pre_numero'!D$1:E$1845,2,0)","v":"OTRAS"}]
["NI",900571887,"2020-08-12","2020-08-12",2,"JENNYFFER ALEXANDRA SARMIENTO","ANALISTA CONCILIACIONES","JCORONADO@FAMISANAR.COM.CO",3162946361,"11001",{"$f":"VLOOKUP(B324,'[1]Select temp_pre_numero'!D$1:E$1845,2,0)","v":{"$error":"#N/A"}}]
["NI",838000096,"2020-08-13","2020-08-13",2,"JENNYFFER ALEXANDRA SARMIENTO","ANALISTA CONCILIACIONES","JCORONADO@FAMISANAR.COM.CO",3162946361,"11001",{"$f":"VLOOKUP(B325,'[1]Select temp_pre_numero'!D$1:E$1845,2,0)","v":"OTRAS"}]
["NI",891800644,"2020-08-14","2020-08-14",2,"JENNYFFER ALEXANDRA SARMIENTO","ANALISTA CONCILIACIONES","JCORONADO@FAMISANAR.COM.CO",3162946361,"11001",{"$f":"VLOOKUP(B326,'[1]Select temp_pre_numero'!D$1:E$1845,2,0)","v":"OTRAS"}]
["NI",818001019,"2020-08-18","2020-08-18",2,"JENNYFFER ALEXANDRA SARMIENTO","ANALISTA CONCILIACIONES","JCORONADO@FAMISANAR.COM.CO",3162946361,"11001",{"$f":"VLOOKUP(B327,'[1]Select temp_pre_numero'!D$1:E$1845,2,0)","v":"OTRAS"}]
["NI",820003632,"2020-08-19","2020-08-19",2,"JENNYFFER ALEXANDRA SARMIENTO","ANALISTA CONCILIACIONES","JCORONADO@FAMISANAR.COM.CO",3162946361,"11001",{"$f":"VLOOKUP(B328,'[1]Select temp_pre_numero'!D$1:E$1845,2,0)","v":"OTRAS"}]
["NI",900600212,"2020-08-20","2020-08-20",2,"JENNYFFER ALEXANDRA SARMIENTO","ANALISTA CONCILIACIONES","JCORONADO@FAMISANAR.COM.CO",3162946361,"11001",{"$f":"VLOOKUP(B329,'[1]Select temp_pre_numero'!D$1:E$1845,2,0)","v":"OTRAS"}]
["NI",824000440,"2020-08-21","2020-08-21",2,"JENNYFFER ALEXANDRA SARMIENTO","ANALISTA CONCILIACIONES","JCORONADO@FAMISANAR.COM.CO",3162946361,"11001",{"$f":"VLOOKUP(B330,'[1]Select temp_pre_numero'!D$1:E$1845,2,0)","v":"OTRAS"}]
["NI",890701300,"2020-08-24","2020-08-24",2,"JENNYFFER ALEXANDRA SARMIENTO","ANALISTA CONCILIACIONES","JCORONADO@FAMISANAR.COM.CO",3162946361,"11001",{"$f":"VLOOKUP(B331,'[1]Select temp_pre_numero'!D$1:E$1845,2,0)","v":"OTRAS"}]
["NI",820002854,"2020-08-25","2020-08-25",2,"JENNYFFER ALEXANDRA SARMIENTO","ANALISTA CONCILIACIONES","JCORONADO@FAMISANAR.COM.CO",3162946361,"11001",{"$f":"VLOOKUP(B332,'[1]Select temp_pre_numero'!D$1:E$1845,2,0)","v":"OTRAS"}]
["NI",900119417,"2020-08-26","2020-08-26",2,"JENNYFFER ALEXANDRA SARMIENTO","ANALISTA CONCILIACIONES","JCORONADO@FAMISANAR.COM.CO",3162946361,"11001",{"$f":"VLOOKUP(B333,'[1]Select temp_pre_numero'!D$1:E$1845,2,0)","v":"OTRAS"}]
["NI",890701078,"2020-08-27","2020-08-27",2,"JENNYFFER ALEXANDRA SARMIENTO","ANALISTA CONCILIACIONES","JCORONADO@FAMISANAR.COM.CO",3162946361,"11001",{"$f":"VLOOKUP(B334,'[1]Select temp_pre_numero'!D$1:E$1845,2,0)","v":"OTRAS"}]
["NI",890980066,"2020-08-28","2020-08-28",2,"JENNYFFER ALEXANDRA SARMIENTO","ANALISTA CONCILIACIONES","JCORONADO@FAMISANAR.COM.CO",3162946361,"11001",{"$f":"VLOOKUP(B335,'[1]Select temp_pre_numero'!D$1:E$1845,2,0)","v":"OTRAS"}]
["NI",890981726,"2020-08-29","2020-08-29",2,"JENNYFFER ALEXANDRA SARMIENTO","ANALISTA CONCILIACIONES","JCORONADO@FAMISANAR.COM.CO",3162946361,"11001",{"$f":"VLOOKUP(B336,'[1]Select temp_pre_numero'!D$1:E$1845,2,0)","v":"OTRAS"}]
["NI",892170002,"2020-08-30","2020-08-30",2,"JENNYFFER ALEXANDRA SARMIENTO","ANALISTA CONCILIACIONES","JCORONADO@FAMISANAR.COM.CO",3162946361,"11001",{"$f":"VLOOKUP(B337,'[1]Select temp_pre_numero'!D$1:E$1845,2,0)","v":"OTRAS"}]
["NI",891180134,"2020-08-31","2020-08-31",2,"JENNYFFER ALEXANDRA SARMIENTO","ANALISTA CONCILIACIONES","JCORONADO@FAMISANAR.COM.CO",3162946361,"11001",{"$f":"VLOOKUP(B338,'[1]Select temp_pre_numero'!D$1:E$1845,2,0)","v":"OTRAS"}]
["NI",900145767,"2020-06-16","2020-06-16",2,"JENNYFFER ALEXANDRA SARMIENTO","ANALISTA CONCILIACIONES","JCORONADO@FAMISANAR.COM.CO",3162946361,"11001",{"$f":"VLOOKUP(B339,'[1]Select temp_pre_numero'!D$1:E$1845,2,0)","v":"OTRAS"}]
["NI",824000425,"2020-06-17","2020-06-17",2,"JENNYFFER ALEXANDRA SARMIENTO","ANALISTA CONCILIACIONES","JCORONADO@FAMISANAR.COM.CO",3162946361,"11001",{"$f":"VLOOKUP(B340,'[1]Select temp_pre_numero'!D$1:E$1845,2,0)","v":"OTRAS"}]
["NI",890905154,"2020-06-18","2020-06-18",2,"JENNYFFER ALEXANDRA SARMIENTO","ANALISTA CONCILIACIONES","JCORONADO@FAMISANAR.COM.CO",3162946361,"11001",{"$f":"VLOOKUP(B341,'[1]Select temp_pre_numero'!D$1:E$1845,2,0)","v":"OTRAS"}]
["NI",813005431,"2020-06-19","2020-06-19",2,"JENNYFFER ALEXANDRA SARMIENTO","ANALISTA CONCILIACIONES","JCORONADO@FAMISANAR.COM.CO",3162946361,"11001",{"$f":"VLOOKUP(B342,'[1]Select temp_pre_numero'!D$1:E$1845,2,0)","v":"OTRAS"}]
["NI",832008321,"2020-06-23","2020-06-23",2,"JENNYFFER ALEXANDRA SARMIENTO","ANALISTA CONCILIACIONES","JCORONADO@FAMISANAR.COM.CO",3162946361,"11001",{"$f":"VLOOKUP(B343,'[1]Select temp_pre_numero'!D$1:E$1845,2,0)","v":{"$error":"#N/A"}}]
["NI",890985810,"2020-06-24","2020-06-24",2,"JENNYFFER ALEXANDRA SARMIENTO","ANALISTA CONCILIACIONES","JCORONADO@FAMISANAR.COM.CO",3162946361,"11001",{"$f":"VLOOKUP(B344,'[1]Select temp_pre_numero'!D$1:E$1845,2,0)","v":"OTRAS"}]
["NI",890702476,"2020-06-25","2020-06-25",2,"JENNYFFER ALEXANDRA SARMIENTO","ANALISTA CONCILIACIONES","JCORONADO@FAMISANAR.COM.CO",3162946361,"11001",{"$f":"VLOOKUP(B345,'[1]Select temp_pre_numero'!D$1:E$1845,2,0)","v":"OTRAS"}]
["NI",899999150,"2020-06-26","2020-06-26",2,"JENNYFFER ALEXANDRA SARMIENTO","ANALISTA CONCILIACIONES","JCORONADO@FAMISANAR.COM.CO",3162946361,"11001",{"$f":"VLOOKUP(B346,'[1]Select temp_pre_numero'!D$1:E$1845,2,0)","v":{"$error":"#N/A"}}]
["NI",819003473,"2020-06-30","2020-06-30",2,"JENNYFFER ALEXANDRA SARMIENTO","ANALISTA CONCILIACIONES","JCORONADO@FAMISANAR.COM.CO",3162946361,"11001",{"$f":"VLOOKUP(B347,'[1]Select temp_pre_numero'!D$1:E$1845,2,0)","v":"OTRAS"}]
["NI",900355962,"2020-07-01","2020-07-01",2,"JENNYFFER ALEXANDRA SARMIENTO","ANALISTA CONCILIACIONES","JCORONADO@FAMISANAR.COM.CO",3162946361,"11001",{"$f":"VLOOKUP(B348,'[1]Select temp_pre_numero'!D$1:E$1845,2,0)","v":"OTRAS"}]
["NI",800024834,"2020-07-02","2020-07-02",2,"JENNYFFER ALEXANDRA SARMIENTO","ANALISTA CONCILIACIONES","JCORONADO@FAMISANAR.COM.CO",3162946361,"11001",{"$f":"VLOOKUP(B349,'[1]Select temp_pre_numero'!D$1:E$1845,2,0)","v":"OTRAS"}]
["NI",890980003,"2020-07-03","2020-07-03",2,"JENNYFFER ALEXANDRA SARMIENTO","ANALISTA CONCILIACIONES","JCORONADO@FAMISANAR.COM.CO",3162946361,"11001",{"$f":"VLOOKUP(B350,'[1]Select temp_pre_numero'!D$1:E$1845,2,0)","v":{"$error":"#N/A"}}]
["NI",890982264,"2020-07-06","2020-07-06",2,"JENNYFFER ALEXANDRA SARMIENTO","ANALISTA CONCILIACIONES","JCORONADO@FAMISANAR.COM.CO",3162946361,"11001",{"$f":"VLOOKUP(B351,'[1]Select temp_pre_numero'!D$1:E$1845,2,0)","v":"OTRAS"}]
["NI",800154347,"2020-07-07","2020-07-07",2,"JENNYFFER ALEXANDRA SARMIENTO","ANALISTA CONCILIACIONES","JCORONADO@FAMISANAR.COM.CO",3162946361,"11001",{"$f":"VLOOKUP(B352,'[1]Select temp_pre_numero'!D$1:E$1845,2,0)","v":"OTRAS"}]
["NI",860502092,"2020-07-08","2020-07-08",2,"JENNYFFER ALEXANDRA SARMIENTO","ANALISTA CONCILIACIONES","JCORONADO@FAMISANAR.COM.CO",3162946361,"11001",{"$f":"VLOOKUP(B353,'[1]Select temp_pre_numero'!D$1:E$1845,2,0)","v":"OTRAS"}]
["NI",892115009,"2020-07-09","2020-07-09",2,"JENNYFFER ALEXANDRA SARMIENTO","ANALISTA CONCILIACIONES","JCORONADO@FAMISANAR.COM.CO",3162946361,"11001",{"$f":"VLOOKUP(B354,'[1]Select temp_pre_numero'!D$1:E$1845,2,0)","v":"OTRAS"}]
["NI",890704555,"2020-07-10","2020-07-10",2,"JENNYFFER ALEXANDRA SARMIENTO","ANALISTA CONCILIACIONES","JCORONADO@FAMISANAR.COM.CO",3162946361,"11001",{"$f":"VLOOKUP(B355,'[1]Select temp_pre_numero'!D$1:E$1845,2,0)","v":"OTRAS"}]
["NI",891200952,"2020-07-13","2020-07-13",2,"JENNYFFER ALEXANDRA SARMIENTO","ANALISTA CONCILIACIONES","JCORONADO@FAMISANAR.COM.CO",3162946361,"11001",{"$f":"VLOOKUP(B356,'[1]Select temp_pre_numero'!D$1:E$1845,2,0)","v":"OTRAS"}]
["NI",900031644,"2020-07-14","2020-07-14",2,"JENNYFFER ALEXANDRA SARMIENTO","ANALISTA CONCILIACIONES","JCORONADO@FAMISANAR.COM.CO",3162946361,"11001",{"$f":"VLOOKUP(B357,'[1]Select temp_pre_numero'!D$1:E$1845,2,0)","v":"OTRAS"}]
["NI",820002248,"2020-07-15","2020-07-15",2,"JENNYFFER ALEXANDRA SARMIENTO","ANALISTA CONCILIACIONES","JCORONADO@FAMISANAR.COM.CO",3162946361,"11001",{"$f":"VLOOKUP(B358,'[1]Select temp_pre_numero'!D$1:E$1845,2,0)","v":"OTRAS"}]
["NI",839000356,"2020-07-16","2020-07-16",2,"JENNYFFER ALEXANDRA SARMIENTO","ANALISTA CONCILIACIONES","JCORONADO@FAMISANAR.COM.CO",3162946361,"11001",{"$f":"VLOOKUP(B359,'[1]Select temp_pre_numero'!D$1:E$1845,2,0)","v":"OTRAS"}]
["NI",860023999,"2020-07-17","2020-07-17",2,"JENNYFFER ALEXANDRA SARMIENTO","ANALISTA CONCILIACIONES","JCORONADO@FAMISANAR.COM.CO",3162946361,"11001",{"$f":"VLOOKUP(B360,'[1]Select temp_pre_numero'!D$1:E$1845,2,0)","v":{"$error":"#N/A"}}]
["NI",890700694,"2020-07-21","2020-07-21",2,"JENNYFFER ALEXANDRA SARMIENTO","ANALISTA CONCILIACIONES","JCORONADO@FAMISANAR.COM.CO",3162946361,"11001",{"$f":"VLOOKUP(B361,'[1]Select temp_pre_numero'!D$1:E$1845,2,0)","v":"OTRAS"}]
["NI",900471504,"2020-07-22","2020-07-22",2,"JENNYFFER ALEXANDRA SARMIENTO","ANALISTA CONCILIACIONES","JCORONADO@FAMISANAR.COM.CO",3162946361,"11001",{"$f":"VLOOKUP(B362,'[1]Select temp_pre_numero'!D$1:E$1845,2,0)","v":"OTRAS"}]
["NI",900644884,"2020-07-23","2020-07-23",2,"JENNYFFER ALEXANDRA SARMIENTO","ANALISTA CONCILIACIONES","JCORONADO@FAMISANAR.COM.CO",3162946361,"11001",{"$f":"VLOOKUP(B363,'[1]Select temp_pre_numero'!D$1:E$1845,2,0)","v":"OTRAS"}]
["NI",900976082,"2020-07-24","2020-07-24",2,"JENNYFFER ALEXANDRA SARMIENTO","ANALISTA CONCILIACIONES","JCORONADO@FAMISANAR.COM.CO",3162946361,"11001",{"$f":"VLOOKUP(B364,'[1]Select temp_pre_numero'!D$1:E$1845,2,0)","v":"OTRAS"}]
["NI",900145585,"2020-07-27","2020-07-27",2,"JENNYFFER ALEXANDRA SARMIENTO","ANALISTA CONCILIACIONES","JCORONADO@FAMISANAR.COM.CO",3162946361,"11001",{"$f":"VLOOKUP(B365,'[1]Select temp_pre_numero'!D$1:E$1845,2,0)","v":"OTRAS"}]
["NI",890980814,"2020-07-28","2020-07-28",2,"JENNYFFER ALEXANDRA SARMIENTO","ANALISTA CONCILIACIONES","JCORONADO@FAMISANAR.COM.CO",3162946361,"11001",{"$f":"VLOOKUP(B366,'[1]Select temp_pre_numero'!D$1:E$1845,2,0)","v":"OTRAS"}]
["NI",812005644,"2020-07-29","2020-07-29",2,"JENNYFFER ALEXANDRA SARMIENTO","ANALISTA CONCILIACIONES","JCORONADO@FAMISANAR.COM.CO",3162946361,"11001",{"$f":"VLOOKUP(B367,'[1]Select temp_pre_numero'!D$1:E$1845,2,0)","v":"OTRAS"}]
["NI",800026173,"2020-07-30","2020-07-30",2,"JENNYFFER ALEXANDRA SARMIENTO","ANALISTA CONCILIACIONES","JCORONADO@FAMISANAR.COM.CO",3162946361,"11001",{"$f":"VLOOKUP(B368,'[1]Select temp_pre_numero'!D$1:E$1845,2,0)","v":"OTRAS"}]
["NI",900034131,"2020-07-31","2020-07-31",2,"JENNYFFER ALEXANDRA SARMIENTO","ANALISTA CONCILIACIONES","JCORONADO@FAMISANAR.COM.CO",3162946361,"11001",{"$f":"VLOOKUP(B369,'[1]Select temp_pre_numero'!D$1:E$1845,2,0)","v":"OTRAS"}]
["NI",900145579,"2020-08-03","2020-08-03",2,"JENNYFFER ALEXANDRA SARMIENTO","ANALISTA CONCILIACIONES","JCORONADO@FAMISANAR.COM.CO",3162946361,"11001",{"$f":"VLOOKUP(B370,'[1]Select temp_pre_numero'!D$1:E$1845,2,0)","v":"OTRAS"}]
["NI",826002060,"2020-08-04","2020-08-04",2,"JENNYFFER ALEXANDRA SARMIENTO","ANALISTA CONCILIACIONES","JCORONADO@FAMISANAR.COM.CO",3162946361,"11001",{"$f":"VLOOKUP(B371,'[1]Select temp_pre_numero'!D$1:E$1845,2,0)","v":"OTRAS"}]
["NI",900484031,"2020-08-05","2020-08-05",2,"JENNYFFER ALEXANDRA SARMIENTO","ANALISTA CONCILIACIONES","JCORONADO@FAMISANAR.COM.CO",3162946361,"11001",{"$f":"VLOOKUP(B372,'[1]Select temp_pre_numero'!D$1:E$1845,2,0)","v":"OTRAS"}]
["NI",824000543,"2020-08-06","2020-08-06",2,"JENNYFFER ALEXANDRA SARMIENTO","ANALISTA CONCILIACIONES","JCORONADO@FAMISANAR.COM.CO",3162946361,"11001",{"$f":"VLOOKUP(B373,'[1]Select temp_pre_numero'!D$1:E$1845,2,0)","v":"OTRAS"}]
["NI",900855509,"2020-08-10","2020-08-10",2,"JENNYFFER ALEXANDRA SARMIENTO","ANALISTA CONCILIACIONES","JCORONADO@FAMISANAR.COM.CO",3162946361,"11001",{"$f":"VLOOKUP(B374,'[1]Select temp_pre_numero'!D$1:E$1845,2,0)","v":"OTRAS"}]
["NI",809003128,"2020-08-11","2020-08-11",2,"JENNYFFER ALEXANDRA SARMIENTO","ANALISTA CONCILIACIONES","JCORONADO@FAMISANAR.COM.CO",3162946361,"11001",{"$f":"VLOOKUP(B375,'[1]Select temp_pre_numero'!D$1:E$1845,2,0)","v":"OTRAS"}]
["NI",830509406,"2020-08-12","2020-08-12",2,"JENNYFFER ALEXANDRA SARMIENTO","ANALISTA CONCILIACIONES","JCORONADO@FAMISANAR.COM.CO",3162946361,"11001",{"$f":"VLOOKUP(B376,'[1]Select temp_pre_numero'!D$1:E$1845,2,0)","v":{"$error":"#N/A"}}]
["NI",819002551,"2020-08-13","2020-08-13",2,"JENNYFFER ALEXANDRA SARMIENTO","ANALISTA CONCILIACIONES","JCORONADO@FAMISANAR.COM.CO",3162946361,"11001",{"$f":"VLOOKUP(B377,'[1]Select temp_pre_numero'!D$1:E$1845,2,0)","v":"OTRAS"}]
["NI",846000474,"2020-08-14","2020-08-14",2,"JENNYFFER ALEXANDRA SARMIENTO","ANALISTA CONCILIACIONES","JCORONADO@FAMISANAR.COM.CO",3162946361,"11001",{"$f":"VLOOKUP(B378,'[1]Select temp_pre_numero'!D$1:E$1845,2,0)","v":"OTRAS"}]
["NI",892115096,"2020-08-18","2020-08-18",2,"JENNYFFER ALEXANDRA SARMIENTO","ANALISTA CONCILIACIONES","JCORONADO@FAMISANAR.COM.CO",3162946361,"11001",{"$f":"VLOOKUP(B379,'[1]Select temp_pre_numero'!D$1:E$1845,2,0)","v":{"$error":"#N/A"}}]
["NI",900211468,"2020-08-19","2020-08-19",2,"JENNYFFER ALEXANDRA SARMIENTO","ANALISTA CONCILIACIONES","JCORONADO@FAMISANAR.COM.CO",3162946361,"11001",{"$f":"VLOOKUP(B380,'[1]Select temp_pre_numero'!D$1:E$1845,2,0)","v":"OTRAS"}]
["NI",900211460,"2020-08-20","2020-08-20",2,"JENNYFFER ALEXANDRA SARMIENTO","ANALISTA CONCILIACIONES","JCORONADO@FAMISANAR.COM.CO",3162946361,"11001",{"$f":"VLOOKUP(B381,'[1]Select temp_pre_numero'!D$1:E$1845,2,0)","v":"OTRAS"}]
["NI",891190011,"2020-08-21","2020-08-21",2,"JENNYFFER ALEXANDRA SARMIENTO","ANALISTA CONCILIACIONES","JCORONADO@FAMISANAR.COM.CO",3162946361,"11001",{"$f":"VLOOKUP(B382,'[1]Select temp_pre_numero'!D$1:E$1845,2,0)","v":"OTRAS"}]
["NI",808002168,"2020-08-24","2020-08-24",2,"JENNYFFER ALEXANDRA SARMIENTO","ANALISTA CONCILIACIONES","JCORONADO@FAMISANAR.COM.CO",3162946361,"11001",{"$f":"VLOOKUP(B383,'[1]Select temp_pre_numero'!D$1:E$1845,2,0)","v":{"$error":"#N/A"}}]
["NI",800084362,"2020-08-25","2020-08-25",2,"JENNYFFER ALEXANDRA SARMIENTO","ANALISTA CONCILIACIONES","JCORONADO@FAMISANAR.COM.CO",3162946361,"11001",{"$f":"VLOOKUP(B384,'[1]Select temp_pre_numero'!D$1:E$1845,2,0)","v":"OTRAS"}]
["NI",830507245,"2020-08-26","2020-08-26",2,"JENNYFFER ALEXANDRA SARMIENTO","ANALISTA CONCILIACIONES","JCORONADO@FAMISANAR.COM.CO",3162946361,"11001",{"$f":"VLOOKUP(B385,'[1]Select temp_pre_numero'!D$1:E$1845,2,0)","v":"OTRAS"}]
["NI",890701543,"2020-08-27","2020-08-27",2,"JENNYFFER ALEXANDRA SARMIENTO","ANALISTA CONCILIACIONES","JCORONADO@FAMISANAR.COM.CO",3162946361,"11001",{"$f":"VLOOKUP(B386,'[1]Select temp_pre_numero'!D$1:E$1845,2,0)","v":"OTRAS"}]
["NI",809002097,"2020-08-28","2020-08-28",2,"JENNYFFER ALEXANDRA SARMIENTO","ANALISTA CONCILIACIONES","JCORONADO@FAMISANAR.COM.CO",3162946361,"11001",{"$f":"VLOOKUP(B387,'[1]Select temp_pre_numero'!D$1:E$1845,2,0)","v":"OTRAS"}]
["NI",824000204,"2020-08-29","2020-08-29",2,"JENNYFFER ALEXANDRA SARMIENTO","ANALISTA CONCILIACIONES","JCORONADO@FAMISANAR.COM.CO",3162946361,"11001",{"$f":"VLOOKUP(B388,'[1]Select temp_pre_numero'!D$1:E$1845,2,0)","v":"OTRAS"}]
["NI",900759182,"2020-08-30","2020-08-30",2,"JENNYFFER ALEXANDRA SARMIENTO","ANALISTA CONCILIACIONES","JCORONADO@FAMISANAR.COM.CO",3162946361,"11001",{"$f":"VLOOKUP(B389,'[1]Select temp_pre_numero'!D$1:E$1845,2,0)","v":"OTRAS"}]
["NI",901153925,"2020-08-31","2020-08-31",2,"JENNYFFER ALEXANDRA SARMIENTO","ANALISTA CONCILIACIONES","JCORONADO@FAMISANAR.COM.CO",3162946361,"11001",{"$f":"VLOOKUP(B390,'[1]Select temp_pre_numero'!D$1:E$1845,2,0)","v":{"$error":"#N/A"}}]
["NI",800101022,"2020-06-16","2020-06-16",2,"JENNYFFER ALEXANDRA SARMIENTO","ANALISTA CONCILIACIONES","JCORONADO@FAMISANAR.COM.CO",3162946361,"11001",{"$f":"VLOOKUP(B391,'[1]Select temp_pre_numero'!D$1:E$1845,2,0)","v":"OTRAS"}]
["NI",842000004,"2020-06-17","2020-06-17",2,"JENNYFFER ALEXANDRA SARMIENTO","ANALISTA CONCILIACIONES","JCORONADO@FAMISANAR.COM.CO",3162946361,"11001",{"$f":"VLOOKUP(B392,'[1]Select temp_pre_numero'!D$1:E$1845,2,0)","v":"OTRAS"}]
["NI",900625317,"2020-06-18","2020-06-18",2,"JENNYFFER ALEXANDRA SARMIENTO","ANALISTA CONCILIACIONES","JCORONADO@FAMISANAR.COM.CO",3162946361,"11001",{"$f":"VLOOKUP(B393,'[1]Select temp_pre_numero'!D$1:E$1845,2,0)","v":"OTRAS"}]
["NI",821003143,"2020-06-19","2020-06-19",2,"JENNYFFER ALEXANDRA SARMIENTO","ANALISTA CONCILIACIONES","JCORONADO@FAMISANAR.COM.CO",3162946361,"11001",{"$f":"VLOOKUP(B394,'[1]Select temp_pre_numero'!D$1:E$1845,2,0)","v":"OTRAS"}]
["NI",891000736,"2020-06-23","2020-06-23",2,"JENNYFFER ALEXANDRA SARMIENTO","ANALISTA CONCILIACIONES","JCORONADO@FAMISANAR.COM.CO",3162946361,"11001",{"$f":"VLOOKUP(B395,'[1]Select temp_pre_numero'!D$1:E$1845,2,0)","v":"OTRAS"}]
["NI",823004881,"2020-06-24","2020-06-24",2,"JENNYFFER ALEXANDRA SARMIENTO","ANALISTA CONCILIACIONES","JCORONADO@FAMISANAR.COM.CO",3162946361,"11001",{"$f":"VLOOKUP(B396,'[1]Select temp_pre_numero'!D$1:E$1845,2,0)","v":"OTRAS"}]
["NI",825002525,"2020-06-25","2020-06-25",2,"JENNYFFER ALEXANDRA SARMIENTO","ANALISTA CONCILIACIONES","JCORONADO@FAMISANAR.COM.CO",3162946361,"11001",{"$f":"VLOOKUP(B397,'[1]Select temp_pre_numero'!D$1:E$1845,2,0)","v":"OTRAS"}]
["NI",900181419,"2020-06-26","2020-06-26",2,"JENNYFFER ALEXANDRA SARMIENTO","ANALISTA CONCILIACIONES","JCORONADO@FAMISANAR.COM.CO",3162946361,"11001",{"$f":"VLOOKUP(B398,'[1]Select temp_pre_numero'!D$1:E$1845,2,0)","v":"OTRAS"}]
["NI",824000586,"2020-06-30","2020-06-30",2,"JENNYFFER ALEXANDRA SARMIENTO","ANALISTA CONCILIACIONES","JCORONADO@FAMISANAR.COM.CO",3162946361,"11001",{"$f":"VLOOKUP(B399,'[1]Select temp_pre_numero'!D$1:E$1845,2,0)","v":"OTRAS"}]
["NI",892300209,"2020-07-01","2020-07-01",2,"JENNYFFER ALEXANDRA SARMIENTO","ANALISTA CONCILIACIONES","JCORONADO@FAMISANAR.COM.CO",3162946361,"11001",{"$f":"VLOOKUP(B400,'[1]Select temp_pre_numero'!D$1:E$1845,2,0)","v":"OTRAS"}]
["NI",900870878,"2020-07-02","2020-07-02",2,"JENNYFFER ALEXANDRA SARMIENTO","ANALISTA CONCILIACIONES","JCORONADO@FAMISANAR.COM.CO",3162946361,"11001",{"$f":"VLOOKUP(B401,'[1]Select temp_pre_numero'!D$1:E$1845,2,0)","v":"OTRAS"}]
["NI",890303208,"2020-07-03","2020-07-03",2,"JENNYFFER ALEXANDRA SARMIENTO","ANALISTA CONCILIACIONES","JCORONADO@FAMISANAR.COM.CO",3162946361,"11001",{"$f":"VLOOKUP(B402,'[1]Select temp_pre_numero'!D$1:E$1845,2,0)","v":{"$error":"#N/A"}}]
["NI",800014405,"2020-07-06","2020-07-06",2,"JENNYFFER ALEXANDRA SARMIENTO","ANALISTA CONCILIACIONES","JCORONADO@FAMISANAR.COM.CO",3162946361,"11001",{"$f":"VLOOKUP(B403,'[1]Select temp_pre_numero'!D$1:E$1845,2,0)","v":{"$error":"#N/A"}}]
["NI",800193912,"2020-07-07","2020-07-07",2,"JENNYFFER ALEXANDRA SARMIENTO","ANALISTA CONCILIACIONES","JCORONADO@FAMISANAR.COM.CO",3162946361,"11001",{"$f":"VLOOKUP(B404,'[1]Select temp_pre_numero'!D$1:E$1845,2,0)","v":"OTRAS"}]
["NI",900485026,"2020-07-08","2020-07-08",2,"JENNYFFER ALEXANDRA SARMIENTO","ANALISTA CONCILIACIONES","JCORONADO@FAMISANAR.COM.CO",3162946361,"11001",{"$f":"VLOOKUP(B405,'[1]Select temp_pre_numero'!D$1:E$1845,2,0)","v":{"$error":"#N/A"}}]
["NI",900152996,"2020-07-09","2020-07-09",2,"JENNYFFER ALEXANDRA SARMIENTO","ANALISTA CONCILIACIONES","JCORONADO@FAMISANAR.COM.CO",3162946361,"11001",{"$f":"VLOOKUP(B406,'[1]Select temp_pre_numero'!D$1:E$1845,2,0)","v":"OTRAS"}]
["NI",812000527,"2020-07-10","2020-07-10",2,"JENNYFFER ALEXANDRA SARMIENTO","ANALISTA CONCILIACIONES","JCORONADO@FAMISANAR.COM.CO",3162946361,"11001",{"$f":"VLOOKUP(B407,'[1]Select temp_pre_numero'!D$1:E$1845,2,0)","v":"OTRAS"}]
["NI",901043659,"2020-07-13","2020-07-13",2,"JENNYFFER ALEXANDRA SARMIENTO","ANALISTA CONCILIACIONES","JCORONADO@FAMISANAR.COM.CO",3162946361,"11001",{"$f":"VLOOKUP(B408,'[1]Select temp_pre_numero'!D$1:E$1845,2,0)","v":"OTRAS"}]
["NI",812000344,"2020-07-14","2020-07-14",2,"JENNYFFER ALEXANDRA SARMIENTO","ANALISTA CONCILIACIONES","JCORONADO@FAMISANAR.COM.CO",3162946361,"11001",{"$f":"VLOOKUP(B409,'[1]Select temp_pre_numero'!D$1:E$1845,2,0)","v":"OTRAS"}]
["NI",900242742,"2020-07-15","2020-07-15",2,"JENNYFFER ALEXANDRA SARMIENTO","ANALISTA CONCILIACIONES","JCORONADO@FAMISANAR.COM.CO",3162946361,"11001",{"$f":"VLOOKUP(B410,'[1]Select temp_pre_numero'!D$1:E$1845,2,0)","v":"OTRAS"}]
["NI",811042064,"2020-07-16","2020-07-16",2,"JENNYFFER ALEXANDRA SARMIENTO","ANALISTA CONCILIACIONES","JCORONADO@FAMISANAR.COM.CO",3162946361,"11001",{"$f":"VLOOKUP(B411,'[1]Select temp_pre_numero'!D$1:E$1845,2,0)","v":{"$error":"#N/A"}}]
["NI",800107179,"2020-07-17","2020-07-17",2,"JENNYFFER ALEXANDRA SARMIENTO","ANALISTA CONCILIACIONES","JCORONADO@FAMISANAR.COM.CO",3162946361,"11001",{"$f":"VLOOKUP(B412,'[1]Select temp_pre_numero'!D$1:E$1845,2,0)","v":"OTRAS"}]
["NI",800228773,"2020-07-21","2020-07-21",2,"JENNYFFER ALEXANDRA SARMIENTO","ANALISTA CONCILIACIONES","JCORONADO@FAMISANAR.COM.CO",3162946361,"11001",{"$f":"VLOOKUP(B413,'[1]Select temp_pre_numero'!D$1:E$1845,2,0)","v":"OTRAS"}]
["NI",800143438,"2020-07-22","2020-07-22",2,"JENNYFFER ALEXANDRA SARMIENTO","ANALISTA CONCILIACIONES","JCORONADO@FAMISANAR.COM.CO",3162946361,"11001",{"$f":"VLOOKUP(B414,'[1]Select temp_pre_numero'!D$1:E$1845,2,0)","v":{"$error":"#N/A"}}]
["NI",800231215,"2020-07-23","2020-07-23",2,"JENNYFFER ALEXANDRA SARMIENTO","ANALISTA CONCILIACIONES","JCORONADO@FAMISANAR.COM.CO",3162946361,"11001",{"$f":"VLOOKUP(B415,'[1]Select temp_pre_numero'!D$1:E$1845,2,0)","v":"OTRAS"}]
["NI",800199397,"2020-07-24","2020-07-24",2,"JENNYFFER ALEXANDRA SARMIENTO","ANALISTA CONCILIACIONES","JCORONADO@FAMISANAR.COM.CO",3162946361,"11001",{"$f":"VLOOKUP(B416,'[1]Select temp_pre_numero'!D$1:E$1845,2,0)","v":"OTRAS"}]
["NI",900133836,"2020-07-27","2020-07-27",2,"JENNYFFER ALEXANDRA SARMIENTO","ANALISTA CONCILIACIONES","JCORONADO@FAMISANAR.COM.CO",3162946361,"11001",{"$f":"VLOOKUP(B417,'[1]Select temp_pre_numero'!D$1:E$1845,2,0)","v":"OTRAS"}]
["NI",890306950,"2020-07-28","2020-07-28",2,"JENNYFFER ALEXANDRA SARMIENTO","ANALISTA CONCILIACIONES","JCORONADO@FAMISANAR.COM.CO",3162946361,"11001",{"$f":"VLOOKUP(B418,'[1]Select temp_pre_numero'!D$1:E$1845,2,0)","v":"OTRAS"}]
["NI",890701922,"2020-07-29","2020-07-29",2,"JENNYFFER ALEXANDRA SARMIENTO","ANALISTA CONCILIACIONES","JCORONADO@FAMISANAR.COM.CO",3162946361,"11001",{"$f":"VLOOKUP(B419,'[1]Select temp_pre_numero'!D$1:E$1845,2,0)","v":"OTRAS"}]
["NI",890982116,"2020-07-30","2020-07-30",2,"JENNYFFER ALEXANDRA SARMIENTO","ANALISTA CONCILIACIONES","JCORONADO@FAMISANAR.COM.CO",3162946361,"11001",{"$f":"VLOOKUP(B420,'[1]Select temp_pre_numero'!D$1:E$1845,2,0)","v":"OTRAS"}]
["NI",900129296,"2020-07-31","2020-07-31",2,"JENNYFFER ALEXANDRA SARMIENTO","ANALISTA CONCILIACIONES","JCORONADO@FAMISANAR.COM.CO",3162946361,"11001",{"$f":"VLOOKUP(B421,'[1]Select temp_pre_numero'!D$1:E$1845,2,0)","v":{"$error":"#N/A"}}]
["NI",900205788,"2020-08-03","2020-08-03",2,"JENNYFFER ALEXANDRA SARMIENTO","ANALISTA CONCILIACIONES","JCORONADO@FAMISANAR.COM.CO",3162946361,"11001",{"$f":"VLOOKUP(B422,'[1]Select temp_pre_numero'!D$1:E$1845,2,0)","v":"OTRAS"}]
["NI",890984696,"2020-08-04","2020-08-04",2,"JENNYFFER ALEXANDRA SARMIENTO","ANALISTA CONCILIACIONES","JCORONADO@FAMISANAR.COM.CO",3162946361,"11001",{"$f":"VLOOKUP(B423,'[1]Select temp_pre_numero'!D$1:E$1845,2,0)","v":"OTRAS"}]
["NI",900696730,"2020-08-05","2020-08-05",2,"JENNYFFER ALEXANDRA SARMIENTO","ANALISTA CONCILIACIONES","JCORONADO@FAMISANAR.COM.CO",3162946361,"11001",{"$f":"VLOOKUP(B424,'[1]Select temp_pre_numero'!D$1:E$1845,2,0)","v":{"$error":"#N/A"}}]
["NI",891780008,"2020-08-06","2020-08-06",2,"JENNYFFER ALEXANDRA SARMIENTO","ANALISTA CONCILIACIONES","JCORONADO@FAMISANAR.COM.CO",3162946361,"11001",{"$f":"VLOOKUP(B425,'[1]Select temp_pre_numero'!D$1:E$1845,2,0)","v":"OTRAS"}]
["NI",900304417,"2020-08-10","2020-08-10",2,"JENNYFFER ALEXANDRA SARMIENTO","ANALISTA CONCILIACIONES","JCORONADO@FAMISANAR.COM.CO",3162946361,"11001",{"$f":"VLOOKUP(B426,'[1]Select temp_pre_numero'!D$1:E$1845,2,0)","v":{"$error":"#N/A"}}]
["NI",891401643,"2020-08-11","2020-08-11",2,"JENNYFFER ALEXANDRA SARMIENTO","ANALISTA CONCILIACIONES","JCORONADO@FAMISANAR.COM.CO",3162946361,"11001",{"$f":"VLOOKUP(B427,'[1]Select temp_pre_numero'!D$1:E$1845,2,0)","v":"OTRAS"}]
["NI",800197217,"2020-08-12","2020-08-12",2,"JENNYFFER ALEXANDRA SARMIENTO","ANALISTA CONCILIACIONES","JCORONADO@FAMISANAR.COM.CO",3162946361,"11001",{"$f":"VLOOKUP(B428,'[1]Select temp_pre_numero'!D$1:E$1845,2,0)","v":"OTRAS"}]
["NI",890701010,"2020-08-13","2020-08-13",2,"JENNYFFER ALEXANDRA SARMIENTO","ANALISTA CONCILIACIONES","JCORONADO@FAMISANAR.COM.CO",3162946361,"11001",{"$f":"VLOOKUP(B429,'[1]Select temp_pre_numero'!D$1:E$1845,2,0)","v":"OTRAS"}]
["NI",800227877,"2020-08-14","2020-08-14",2,"JENNYFFER ALEXANDRA SARMIENTO","ANALISTA CONCILIACIONES","JCORONADO@FAMISANAR.COM.CO",3162946361,"11001",{"$f":"VLOOKUP(B430,'[1]Select temp_pre_numero'!D$1:E$1845,2,0)","v":"OTRAS"}]
["NI",813006877,"2020-08-18","2020-08-18",2,"JENNYFFER ALEXANDRA SARMIENTO","ANALISTA CONCILIACIONES","JCORONADO@FAMISANAR.COM.CO",3162946361,"11001",{"$f":"VLOOKUP(B431,'[1]Select temp_pre_numero'!D$1:E$1845,2,0)","v":"OTRAS"}]
["NI",890907254,"2020-08-19","2020-08-19",2,"JENNYFFER ALEXANDRA SARMIENTO","ANALISTA CONCILIACIONES","JCORONADO@FAMISANAR.COM.CO",3162946361,"11001",{"$f":"VLOOKUP(B432,'[1]Select temp_pre_numero'!D$1:E$1845,2,0)","v":"OTRAS"}]
["NI",809001086,"2020-08-20","2020-08-20",2,"JENNYFFER ALEXANDRA SARMIENTO","ANALISTA CONCILIACIONES","JCORONADO@FAMISANAR.COM.CO",3162946361,"11001",{"$f":"VLOOKUP(B433,'[1]Select temp_pre_numero'!D$1:E$1845,2,0)","v":"OTRAS"}]
["NI",900696065,"2020-08-21","2020-08-21",2,"JENNYFFER ALEXANDRA SARMIENTO","ANALISTA CONCILIACIONES","JCORONADO@FAMISANAR.COM.CO",3162946361,"11001",{"$f":"VLOOKUP(B434,'[1]Select temp_pre_numero'!D$1:E$1845,2,0)","v":"OTRAS"}]
["NI",890981536,"2020-08-24","2020-08-24",2,"JENNYFFER ALEXANDRA SARMIENTO","ANALISTA CONCILIACIONES","JCORONADO@FAMISANAR.COM.CO",3162946361,"11001",{"$f":"VLOOKUP(B435,'[1]Select temp_pre_numero'!D$1:E$1845,2,0)","v":"OTRAS"}]
["NI",813010966,"2020-08-25","2020-08-25",2,"JENNYFFER ALEXANDRA SARMIENTO","ANALISTA CONCILIACIONES","JCORONADO@FAMISANAR.COM.CO",3162946361,"11001",{"$f":"VLOOKUP(B436,'[1]Select temp_pre_numero'!D$1:E$1845,2,0)","v":"OTRAS"}]
["NI",900319481,"2020-08-26","2020-08-26",2,"JENNYFFER ALEXANDRA SARMIENTO","ANALISTA CONCILIACIONES","JCORONADO@FAMISANAR.COM.CO",3162946361,"11001",{"$f":"VLOOKUP(B437,'[1]Select temp_pre_numero'!D$1:E$1845,2,0)","v":{"$error":"#N/A"}}]
["NI",891200445,"2020-08-27","2020-08-27",2,"JENNYFFER ALEXANDRA SARMIENTO","ANALISTA CONCILIACIONES","JCORONADO@FAMISANAR.COM.CO",3162946361,"11001",{"$f":"VLOOKUP(B438,'[1]Select temp_pre_numero'!D$1:E$1845,2,0)","v":{"$error":"#N/A"}}]
["NI",800075650,"2020-08-28","2020-08-28",2,"JENNYFFER ALEXANDRA SARMIENTO","ANALISTA CONCILIACIONES","JCORONADO@FAMISANAR.COM.CO",3162946361,"11001",{"$f":"VLOOKUP(B439,'[1]Select temp_pre_numero'!D$1:E$1845,2,0)","v":"OTRAS"}]
["NI",891000499,"2020-08-29","2020-08-29",2,"JENNYFFER ALEXANDRA SARMIENTO","ANALISTA CONCILIACIONES","JCORONADO@FAMISANAR.COM.CO",3162946361,"11001",{"$f":"VLOOKUP(B440,'[1]Select temp_pre_numero'!D$1:E$1845,2,0)","v":"OTRAS"}]
["NI",900593974,"2020-08-30","2020-08-30",2,"JENNYFFER ALEXANDRA SARMIENTO","ANALISTA CONCILIACIONES","JCORONADO@FAMISANAR.COM.CO",3162946361,"11001",{"$f":"VLOOKUP(B441,'[1]Select temp_pre_numero'!D$1:E$1845,2,0)","v":"OTRAS"}]
["NI",806010788,"2020-08-31","2020-08-31",2,"JENNYFFER ALEXANDRA SARMIENTO","ANALISTA CONCILIACIONES","JCORONADO@FAMISANAR.COM.CO",3162946361,"11001",{"$f":"VLOOKUP(B442,'[1]Select temp_pre_numero'!D$1:E$1845,2,0)","v":"OTRAS"}]
["NI",900146010,"2020-06-16","2020-06-16",2,"JENNYFFER ALEXANDRA SARMIENTO","ANALISTA CONCILIACIONES","JCORONADO@FAMISANAR.COM.CO",3162946361,"11001",{"$f":"VLOOKUP(B443,'[1]Select temp_pre_numero'!D$1:E$1845,2,0)","v":"OTRAS"}]
["NI",813002940,"2020-06-17","2020-06-17",2,"JENNYFFER ALEXANDRA SARMIENTO","ANALISTA CONCILIACIONES","JCORONADO@FAMISANAR.COM.CO",3162946361,"11001",{"$f":"VLOOKUP(B444,'[1]Select temp_pre_numero'!D$1:E$1845,2,0)","v":"OTRAS"}]
["NI",800217198,"2020-06-18","2020-06-18",2,"JENNYFFER ALEXANDRA SARMIENTO","ANALISTA CONCILIACIONES","JCORONADO@FAMISANAR.COM.CO",3162946361,"11001",{"$f":"VLOOKUP(B445,'[1]Select temp_pre_numero'!D$1:E$1845,2,0)","v":"OTRAS"}]
["NI",800193490,"2020-06-19","2020-06-19",2,"JENNYFFER ALEXANDRA SARMIENTO","ANALISTA CONCILIACIONES","JCORONADO@FAMISANAR.COM.CO",3162946361,"11001",{"$f":"VLOOKUP(B446,'[1]Select temp_pre_numero'!D$1:E$1845,2,0)","v":"OTRAS"}]
["NI",824005609,"2020-06-23","2020-06-23",2,"JENNYFFER ALEXANDRA SARMIENTO","ANALISTA CONCILIACIONES","JCORONADO@FAMISANAR.COM.CO",3162946361,"11001",{"$f":"VLOOKUP(B447,'[1]Select temp_pre_numero'!D$1:E$1845,2,0)","v":{"$error":"#N/A"}}]
["NI",846001620,"2020-06-24","2020-06-24",2,"JENNYFFER ALEXANDRA SARMIENTO","ANALISTA CONCILIACIONES","JCORONADO@FAMISANAR.COM.CO",3162946361,"11001",{"$f":"VLOOKUP(B448,'[1]Select temp_pre_numero'!D$1:E$1845,2,0)","v":"OTRAS"}]
["NI",816005003,"2020-06-25","2020-06-25",2,"JENNYFFER ALEXANDRA SARMIENTO","ANALISTA CONCILIACIONES","JCORONADO@FAMISANAR.COM.CO",3162946361,"11001",{"$f":"VLOOKUP(B449,'[1]Select temp_pre_numero'!D$1:E$1845,2,0)","v":"OTRAS"}]
["NI",901133184,"2020-06-26","2020-06-26",2,"JENNYFFER ALEXANDRA SARMIENTO","ANALISTA CONCILIACIONES","JCORONADO@FAMISANAR.COM.CO",3162946361,"11001",{"$f":"VLOOKUP(B450,'[1]Select temp_pre_numero'!D$1:E$1845,2,0)","v":{"$error":"#N/A"}}]
["NI",900959051,"2020-06-30","2020-06-30",2,"JENNYFFER ALEXANDRA SARMIENTO","ANALISTA CONCILIACIONES","JCORONADO@FAMISANAR.COM.CO",3162946361,"11001",{"$f":"VLOOKUP(B451,'[1]Select temp_pre_numero'!D$1:E$1845,2,0)","v":"OTRAS"}]
["NI",830099212,"2020-07-01","2020-07-01",2,"JENNYFFER ALEXANDRA SARMIENTO","ANALISTA CONCILIACIONES","JCORONADO@FAMISANAR.COM.CO",3162946361,"11001",{"$f":"VLOOKUP(B452,'[1]Select temp_pre_numero'!D$1:E$1845,2,0)","v":"OTRAS"}]
["NI",900958564,"2020-07-02","2020-07-02",2,"JENNYFFER ALEXANDRA SARMIENTO","ANALISTA CONCILIACIONES","JCORONADO@FAMISANAR.COM.CO",3162946361,"11001",{"$f":"VLOOKUP(B453,'[1]Select temp_pre_numero'!D$1:E$1845,2,0)","v":"OTRAS"}]
["NI",900259421,"2020-07-03","2020-07-03",2,"JENNYFFER ALEXANDRA SARMIENTO","ANALISTA CONCILIACIONES","JCORONADO@FAMISANAR.COM.CO",3162946361,"11001",{"$f":"VLOOKUP(B454,'[1]Select temp_pre_numero'!D$1:E$1845,2,0)","v":{"$error":"#N/A"}}]
["NI",805027743,"2020-07-06","2020-07-06",2,"JENNYFFER ALEXANDRA SARMIENTO","ANALISTA CONCILIACIONES","JCORONADO@FAMISANAR.COM.CO",3162946361,"11001",{"$f":"VLOOKUP(B455,'[1]Select temp_pre_numero'!D$1:E$1845,2,0)","v":"OTRAS"}]
["NI",860015536,"2020-07-07","2020-07-07",2,"JENNYFFER ALEXANDRA SARMIENTO","ANALISTA CONCILIACIONES","JCORONADO@FAMISANAR.COM.CO",3162946361,"11001",{"$f":"VLOOKUP(B456,'[1]Select temp_pre_numero'!D$1:E$1845,2,0)","v":"OTRAS"}]
["NI",860509323,"2020-07-08","2020-07-08",2,"JENNYFFER ALEXANDRA SARMIENTO","ANALISTA CONCILIACIONES","JCORONADO@FAMISANAR.COM.CO",3162946361,"11001",{"$f":"VLOOKUP(B457,'[1]Select temp_pre_numero'!D$1:E$1845,2,0)","v":"OTRAS"}]
["NI",800066001,"2020-07-09","2020-07-09",2,"JENNYFFER ALEXANDRA SARMIENTO","ANALISTA CONCILIACIONES","JCORONADO@FAMISANAR.COM.CO",3162946361,"11001",{"$f":"VLOOKUP(B458,'[1]Select temp_pre_numero'!D$1:E$1845,2,0)","v":"OTRAS"}]
["NI",800210375,"2020-07-10","2020-07-10",2,"JENNYFFER ALEXANDRA SARMIENTO","ANALISTA CONCILIACIONES","JCORONADO@FAMISANAR.COM.CO",3162946361,"11001",{"$f":"VLOOKUP(B459,'[1]Select temp_pre_numero'!D$1:E$1845,2,0)","v":"OTRAS"}]
["NI",890101994,"2020-07-13","2020-07-13",2,"JENNYFFER ALEXANDRA SARMIENTO","ANALISTA CONCILIACIONES","JCORONADO@FAMISANAR.COM.CO",3162946361,"11001",{"$f":"VLOOKUP(B460,'[1]Select temp_pre_numero'!D$1:E$1845,2,0)","v":"OTRAS"}]
["NI",890706833,"2020-07-14","2020-07-14",2,"JENNYFFER ALEXANDRA SARMIENTO","ANALISTA CONCILIACIONES","JCORONADO@FAMISANAR.COM.CO",3162946361,"11001",{"$f":"VLOOKUP(B461,'[1]Select temp_pre_numero'!D$1:E$1845,2,0)","v":"OTRAS"}]
["NI",860035447,"2020-07-15","2020-07-15",2,"JENNYFFER ALEXANDRA SARMIENTO","ANALISTA CONCILIACIONES","JCORONADO@FAMISANAR.COM.CO",3162946361,"11001",{"$f":"VLOOKUP(B462,'[1]Select temp_pre_numero'!D$1:E$1845,2,0)","v":"OTRAS"}]
["NI",900603116,"2020-07-16","2020-07-16",2,"JENNYFFER ALEXANDRA SARMIENTO","ANALISTA CONCILIACIONES","JCORONADO@FAMISANAR.COM.CO",3162946361,"11001",{"$f":"VLOOKUP(B463,'[1]Select temp_pre_numero'!D$1:E$1845,2,0)","v":{"$error":"#N/A"}}]
["NI",860007373,"2020-07-17","2020-07-17",2,"JENNYFFER ALEXANDRA SARMIENTO","ANALISTA CONCILIACIONES","JCORONADO@FAMISANAR.COM.CO",3162946361,"11001",{"$f":"VLOOKUP(B464,'[1]Select temp_pre_numero'!D$1:E$1845,2,0)","v":"OTRAS"}]
["NI",860048656,"2020-07-21","2020-07-21",2,"JENNYFFER ALEXANDRA SARMIENTO","ANALISTA CONCILIACIONES","JCORONADO@FAMISANAR.COM.CO",3162946361,"11001",{"$f":"VLOOKUP(B465,'[1]Select temp_pre_numero'!D$1:E$1845,2,0)","v":"OTRAS"}]
["NI",890703630,"2020-07-22","2020-07-22",2,"JENNYFFER ALEXANDRA SARMIENTO","ANALISTA CONCILIACIONES","JCORONADO@FAMISANAR.COM.CO",3162946361,"11001",{"$f":"VLOOKUP(B466,'[1]Select temp_pre_numero'!D$1:E$1845,2,0)","v":"OTRAS"}]
["NI",892000501,"2020-07-23","2020-07-23",2,"JENNYFFER ALEXANDRA SARMIENTO","ANALISTA CONCILIACIONES","JCORONADO@FAMISANAR.COM.CO",3162946361,"11001",{"$f":"VLOOKUP(B467,'[1]Select temp_pre_numero'!D$1:E$1845,2,0)","v":"OTRAS"}]
["NI",900785163,"2020-07-24","2020-07-24",2,"JENNYFFER ALEXANDRA SARMIENTO","ANALISTA CONCILIACIONES","JCORONADO@FAMISANAR.COM.CO",3162946361,"11001",{"$f":"VLOOKUP(B468,'[1]Select temp_pre_numero'!D$1:E$1845,2,0)","v":"OTRAS"}]
["NI",860023878,"2020-07-27","2020-07-27",2,"JENNYFFER ALEXANDRA SARMIENTO","ANALISTA CONCILIACIONES","JCORONADO@FAMISANAR.COM.CO",3162946361,"11001",{"$f":"VLOOKUP(B469,'[1]Select temp_pre_numero'!D$1:E$1845,2,0)","v":"OTRAS"}]
["NI",800174375,"2020-07-28","2020-07-28",2,"JENNYFFER ALEXANDRA SARMIENTO","ANALISTA CONCILIACIONES","JCORONADO@FAMISANAR.COM.CO",3162946361,"11001",{"$f":"VLOOKUP(B470,'[1]Select temp_pre_numero'!D$1:E$1845,2,0)","v":"OTRAS"}]
["NI",900450008,"2020-07-29","2020-07-29",2,"JENNYFFER ALEXANDRA SARMIENTO","ANALISTA CONCILIACIONES","JCORONADO@FAMISANAR.COM.CO",3162946361,"11001",{"$f":"VLOOKUP(B471,'[1]Select temp_pre_numero'!D$1:E$1845,2,0)","v":"OTRAS"}]
["NI",890303461,"2020-07-30","2020-07-30",2,"JENNYFFER ALEXANDRA SARMIENTO","ANALISTA CONCILIACIONES","JCORONADO@FAMISANAR.COM.CO",3162946361,"11001",{"$f":"VLOOKUP(B472,'[1]Select temp_pre_numero'!D$1:E$1845,2,0)","v":"OTRAS"}]
["NI",900138815,"2020-07-31","2020-07-31",2,"JENNYFFER ALEXANDRA SARMIENTO","ANALISTA CONCILIACIONES","JCORONADO@FAMISANAR.COM.CO",3162946361,"11001",{"$f":"VLOOKUP(B473,'[1]Select temp_pre_numero'!D$1:E$1845,2,0)","v":"OTRAS"}]
["NI",860043211,"2020-08-03","2020-08-03",2,"JENNYFFER ALEXANDRA SARMIENTO","ANALISTA CONCILIACIONES","JCORONADO@FAMISANAR.COM.CO",3162946361,"11001",{"$f":"VLOOKUP(B474,'[1]Select temp_pre_numero'!D$1:E$1845,2,0)","v":{"$error":"#N/A"}}]
["NI",900053354,"2020-08-04","2020-08-04",2,"JENNYFFER ALEXANDRA SARMIENTO","ANALISTA CONCILIACIONES","JCORONADO@FAMISANAR.COM.CO",3162946361,"11001",{"$f":"VLOOKUP(B475,'[1]Select temp_pre_numero'!D$1:E$1845,2,0)","v":"OTRAS"}]
["NI",900272582,"2020-08-05","2020-08-05",2,"JENNYFFER ALEXANDRA SARMIENTO","ANALISTA CONCILIACIONES","JCORONADO@FAMISANAR.COM.CO",3162946361,"11001",{"$f":"VLOOKUP(B476,'[1]Select temp_pre_numero'!D$1:E$1845,2,0)","v":"OTRAS"}]
["NI",890324177,"2020-08-06","2020-08-06",2,"JENNYFFER ALEXANDRA SARMIENTO","ANALISTA CONCILIACIONES","JCORONADO@FAMISANAR.COM.CO",3162946361,"11001",{"$f":"VLOOKUP(B477,'[1]Select temp_pre_numero'!D$1:E$1845,2,0)","v":"OTRAS"}]
["NI",900661740,"2020-08-10","2020-08-10",2,"JENNYFFER ALEXANDRA SARMIENTO","ANALISTA CONCILIACIONES","JCORONADO@FAMISANAR.COM.CO",3162946361,"11001",{"$f":"VLOOKUP(B478,'[1]Select temp_pre_numero'!D$1:E$1845,2,0)","v":"OTRAS"}]
["NI",860015929,"2020-08-11","2020-08-11",2,"JENNYFFER ALEXANDRA SARMIENTO","ANALISTA CONCILIACIONES","JCORONADO@FAMISANAR.COM.CO",3162946361,"11001",{"$f":"VLOOKUP(B479,'[1]Select temp_pre_numero'!D$1:E$1845,2,0)","v":"OTRAS"}]
["NI",800255963,"2020-08-12","2020-08-12",2,"JENNYFFER ALEXANDRA SARMIENTO","ANALISTA CONCILIACIONES","JCORONADO@FAMISANAR.COM.CO",3162946361,"11001",{"$f":"VLOOKUP(B480,'[1]Select temp_pre_numero'!D$1:E$1845,2,0)","v":"OTRAS"}]
["NI",900124874,"2020-08-13","2020-08-13",2,"JENNYFFER ALEXANDRA SARMIENTO","ANALISTA CONCILIACIONES","JCORONADO@FAMISANAR.COM.CO",3162946361,"11001",{"$f":"VLOOKUP(B481,'[1]Select temp_pre_numero'!D$1:E$1845,2,0)","v":"OTRAS"}]
["NI",890706067,"2020-08-14","2020-08-14",2,"JENNYFFER ALEXANDRA SARMIENTO","ANALISTA CONCILIACIONES","JCORONADO@FAMISANAR.COM.CO",3162946361,"11001",{"$f":"VLOOKUP(B482,'[1]Select temp_pre_numero'!D$1:E$1845,2,0)","v":"OTRAS"}]
["NI",890702369,"2020-08-18","2020-08-18",2,"JENNYFFER ALEXANDRA SARMIENTO","ANALISTA CONCILIACIONES","JCORONADO@FAMISANAR.COM.CO",3162946361,"11001",{"$f":"VLOOKUP(B483,'[1]Select temp_pre_numero'!D$1:E$1845,2,0)","v":"OTRAS"}]
["NI",900007922,"2020-08-19","2020-08-19",2,"JENNYFFER ALEXANDRA SARMIENTO","ANALISTA CONCILIACIONES","JCORONADO@FAMISANAR.COM.CO",3162946361,"11001",{"$f":"VLOOKUP(B484,'[1]Select temp_pre_numero'!D$1:E$1845,2,0)","v":"OTRAS"}]
["NI",800127648,"2020-08-20","2020-08-20",2,"JENNYFFER ALEXANDRA SARMIENTO","ANALISTA CONCILIACIONES","JCORONADO@FAMISANAR.COM.CO",3162946361,"11001",{"$f":"VLOOKUP(B485,'[1]Select temp_pre_numero'!D$1:E$1845,2,0)","v":"OTRAS"}]
["NI",800014918,"2020-08-21","2020-08-21",2,"JENNYFFER ALEXANDRA SARMIENTO","ANALISTA CONCILIACIONES","JCORONADO@FAMISANAR.COM.CO",3162946361,"11001",{"$f":"VLOOKUP(B486,'[1]Select temp_pre_numero'!D$1:E$1845,2,0)","v":"OTRAS"}]
["NI",860071892,"2020-08-24","2020-08-24",2,"JENNYFFER ALEXANDRA SARMIENTO","ANALISTA CONCILIACIONES","JCORONADO@FAMISANAR.COM.CO",3162946361,"11001",{"$f":"VLOOKUP(B487,'[1]Select temp_pre_numero'!D$1:E$1845,2,0)","v":"OTRAS"}]
["NI",900550197,"2020-08-25","2020-08-25",2,"JENNYFFER ALEXANDRA SARMIENTO","ANALISTA CONCILIACIONES","JCORONADO@FAMISANAR.COM.CO",3162946361,"11001",{"$f":"VLOOKUP(B488,'[1]Select temp_pre_numero'!D$1:E$1845,2,0)","v":"OTRAS"}]
["NI",805023423,"2020-08-26","2020-08-26",2,"JENNYFFER ALEXANDRA SARMIENTO","ANALISTA CONCILIACIONES","JCORONADO@FAMISANAR.COM.CO",3162946361,"11001",{"$f":"VLOOKUP(B489,'[1]Select temp_pre_numero'!D$1:E$1845,2,0)","v":"OTRAS"}]
["NI",890211722,"2020-08-27","2020-08-27",2,"JENNYFFER ALEXANDRA SARMIENTO","ANALISTA CONCILIACIONES","JCORONADO@FAMISANAR.COM.CO",3162946361,"11001",{"$f":"VLOOKUP(B490,'[1]Select temp_pre_numero'!D$1:E$1845,2,0)","v":"OTRAS"}]
["NI",860066191,"2020-08-28","2020-08-28",2,"JENNYFFER ALEXANDRA SARMIENTO","ANALISTA CONCILIACIONES","JCORONADO@FAMISANAR.COM.CO",3162946361,"11001",{"$f":"VLOOKUP(B491,'[1]Select temp_pre_numero'!D$1:E$1845,2,0)","v":"OTRAS"}]
["NI",830027806,"2020-08-29","2020-08-29",2,"JENNYFFER ALEXANDRA SARMIENTO","ANALISTA CONCILIACIONES","JCORONADO@FAMISANAR.COM.CO",3162946361,"11001",{"$f":"VLOOKUP(B492,'[1]Select temp_pre_numero'!D$1:E$1845,2,0)","v":"OTRAS"}]
["NI",900239673,"2020-08-30","2020-08-30",2,"JENNYFFER ALEXANDRA SARMIENTO","ANALISTA CONCILIACIONES","JCORONADO@FAMISANAR.COM.CO",3162946361,"11001",{"$f":"VLOOKUP(B493,'[1]Select temp_pre_numero'!D$1:E$1845,2,0)","v":"OTRAS"}]
["NI",860049972,"2020-08-31","2020-08-31",2,"JENNYFFER ALEXANDRA SARMIENTO","ANALISTA CONCILIACIONES","JCORONADO@FAMISANAR.COM.CO",3162946361,"11001",{"$f":"VLOOKUP(B494,'[1]Select temp_pre_numero'!D$1:E$1845,2,0)","v":"OTRAS"}]
["NI",805006389,"2020-08-14","2020-08-14",2,"JENNYFFER ALEXANDRA SARMIENTO","ANALISTA CONCILIACIONES","JCORONADO@FAMISANAR.COM.CO",3162946361,"11001",{"$f":"VLOOKUP(B495,'[1]Select temp_pre_numero'!D$1:E$1845,2,0)","v":"OTRAS"}]
["NI",860074971,"2020-08-18","2020-08-18",2,"JENNYFFER ALEXANDRA SARMIENTO","ANALISTA CONCILIACIONES","JCORONADO@FAMISANAR.COM.CO",3162946361,"11001",{"$f":"VLOOKUP(B496,'[1]Select temp_pre_numero'!D$1:E$1845,2,0)","v":{"$error":"#N/A"}}]
["NI",832000029,"2020-08-19","2020-08-19",2,"JENNYFFER ALEXANDRA SARMIENTO","ANALISTA CONCILIACIONES","JCORONADO@FAMISANAR.COM.CO",3162946361,"11001",{"$f":"VLOOKUP(B497,'[1]Select temp_pre_numero'!D$1:E$1845,2,0)","v":{"$error":"#N/A"}}]
["NI",800196939,"2020-08-20","2020-08-20",2,"JENNYFFER ALEXANDRA SARMIENTO","ANALISTA CONCILIACIONES","JCORONADO@FAMISANAR.COM.CO",3162946361,"11001",{"$f":"VLOOKUP(B498,'[1]Select temp_pre_numero'!D$1:E$1845,2,0)","v":"OTRAS"}]
["NI",830077650,"2020-08-21","2020-08-21",2,"JENNYFFER ALEXANDRA SARMIENTO","ANALISTA CONCILIACIONES","JCORONADO@FAMISANAR.COM.CO",3162946361,"11001",{"$f":"VLOOKUP(B499,'[1]Select temp_pre_numero'!D$1:E$1845,2,0)","v":"OTRAS"}]
["NI",860516579,"2020-08-24","2020-08-24",2,"JENNYFFER ALEXANDRA SARMIENTO","ANALISTA CONCILIACIONES","JCORONADO@FAMISANAR.COM.CO",3162946361,"11001",{"$f":"VLOOKUP(B500,'[1]Select temp_pre_numero'!D$1:E$1845,2,0)","v":"OTRAS"}]
["NI",805011262,"2020-08-25","2020-08-25",2,"JENNYFFER ALEXANDRA SARMIENTO","ANALISTA CONCILIACIONES","JCORONADO@FAMISANAR.COM.CO",3162946361,"11001",{"$f":"VLOOKUP(B501,'[1]Select temp_pre_numero'!D$1:E$1845,2,0)","v":"OTRAS"}]
["NI",830074717,"2020-08-26","2020-08-26",2,"JENNYFFER ALEXANDRA SARMIENTO","ANALISTA CONCILIACIONES","JCORONADO@FAMISANAR.COM.CO",3162946361,"11001",{"$f":"VLOOKUP(B502,'[1]Select temp_pre_numero'!D$1:E$1845,2,0)","v":"OTRAS"}]
["NI",860039431,"2020-08-27","2020-08-27",2,"ROSEMBERG ANDRES MUÑOZ ","ANALISTA CONCILIACIONES","RMUNOZA@FAMISANAR.COM.CO",3114782491,"11001",{"$f":"VLOOKUP(B503,'[1]Select temp_pre_numero'!D$1:E$1845,2,0)","v":"OTRAS"}]
["NI",860020188,"2020-08-28","2020-08-28",2,"ROSEMBERG ANDRES MUÑOZ ","ANALISTA CONCILIACIONES","RMUNOZA@FAMISANAR.COM.CO",3114782491,"11001",{"$f":"VLOOKUP(B504,'[1]Select temp_pre_numero'!D$1:E$1845,2,0)","v":"OTRAS"}]
["NI",800216303,"2020-08-29","2020-08-29",2,"ROSEMBERG ANDRES MUÑOZ ","ANALISTA CONCILIACIONES","RMUNOZA@FAMISANAR.COM.CO",3114782491,"11001",{"$f":"VLOOKUP(B505,'[1]Select temp_pre_numero'!D$1:E$1845,2,0)","v":{"$error":"#N/A"}}]
["NI",800197177,"2020-08-30","2020-08-30",2,"ROSEMBERG ANDRES MUÑOZ ","ANALISTA CONCILIACIONES","RMUNOZA@FAMISANAR.COM.CO",3114782491,"11001",{"$f":"VLOOKUP(B506,'[1]Select temp_pre_numero'!D$1:E$1845,2,0)","v":"OTRAS"}]
["NI",830037741,"2020-08-31","2020-08-31",2,"ROSEMBERG ANDRES MUÑOZ ","ANALISTA CONCILIACIONES","RMUNOZA@FAMISANAR.COM.CO",3114782491,"11001",{"$f":"VLOOKUP(B507,'[1]Select temp_pre_numero'!D$1:E$1845,2,0)","v":{"$error":"#N/A"}}]
["NI",891380054,"2020-06-16","2020-06-16",2,"JHON VARGAS","ANALISTA CONCILIACIONES","RMUNOZA@FAMISANAR.COM.CO",3114782491,"11001",{"$f":"VLOOKUP(B508,'[1]Select temp_pre_numero'!D$1:E$1845,2,0)","v":"OTRAS"}]
["NI",900412444,"2020-06-17","2020-06-17",2,"JHON VARGAS","ANALISTA CONCILIACIONES","RMUNOZA@FAMISANAR.COM.CO",3114782491,"11001",{"$f":"VLOOKUP(B509,'[1]Select temp_pre_numero'!D$1:E$1845,2,0)","v":{"$error":"#N/A"}}]
["NI",824000462,"2020-06-18","2020-06-18",2,"JHON VARGAS","ANALISTA CONCILIACIONES","RMUNOZA@FAMISANAR.COM.CO",3114782491,"11001",{"$f":"VLOOKUP(B510,'[1]Select temp_pre_numero'!D$1:E$1845,2,0)","v":"OTRAS"}]
["NI",812003455,"2020-06-19","2020-06-19",2,"JHON VARGAS","ANALISTA CONCILIACIONES","RMUNOZA@FAMISANAR.COM.CO",3114782491,"11001",{"$f":"VLOOKUP(B511,'[1]Select temp_pre_numero'!D$1:E$1845,2,0)","v":"OTRAS"}]
["NI",846001669,"2020-06-23","2020-06-23",2,"JHON VARGAS","ANALISTA CONCILIACIONES","RMUNOZA@FAMISANAR.COM.CO",3114782491,"11001",{"$f":"VLOOKUP(B512,'[1]Select temp_pre_numero'!D$1:E$1845,2,0)","v":"OTRAS"}]
["NI",900280908,"2020-06-24","2020-06-24",2,"JHON VARGAS","ANALISTA CONCILIACIONES","RMUNOZA@FAMISANAR.COM.CO",3114782491,"11001",{"$f":"VLOOKUP(B513,'[1]Select temp_pre_numero'!D$1:E$1845,2,0)","v":"OTRAS"}]
["NI",820003850,"2020-06-25","2020-06-25",2,"JHON VARGAS","ANALISTA CONCILIACIONES","RMUNOZA@FAMISANAR.COM.CO",3114782491,"11001",{"$f":"VLOOKUP(B514,'[1]Select temp_pre_numero'!D$1:E$1845,2,0)","v":"OTRAS"}]
["NI",844001287,"2020-06-26","2020-06-26",2,"JHON VARGAS","ANALISTA CONCILIACIONES","RMUNOZA@FAMISANAR.COM.CO",3114782491,"11001",{"$f":"VLOOKUP(B515,'[1]Select temp_pre_numero'!D$1:E$1845,2,0)","v":"OTRAS"}]
["NI",891409981,"2020-06-30","2020-06-30",2,"JHON VARGAS","ANALISTA CONCILIACIONES","RMUNOZA@FAMISANAR.COM.CO",3114782491,"11001",{"$f":"VLOOKUP(B516,'[1]Select temp_pre_numero'!D$1:E$1845,2,0)","v":"OTRAS"}]
["NI",812005726,"2020-07-01","2020-07-01",2,"JHON VARGAS","ANALISTA CONCILIACIONES","RMUNOZA@FAMISANAR.COM.CO",3114782491,"11001",{"$f":"VLOOKUP(B517,'[1]Select temp_pre_numero'!D$1:E$1845,2,0)","v":"OTRAS"}]
["NI",800163519,"2020-07-02","2020-07-02",2,"JHON VARGAS","ANALISTA CONCILIACIONES","RMUNOZA@FAMISANAR.COM.CO",3114782491,"11001",{"$f":"VLOOKUP(B518,'[1]Select temp_pre_numero'!D$1:E$1845,2,0)","v":"OTRAS"}]
["NI",809005249,"2020-07-03","2020-07-03",2,"JHON VARGAS","ANALISTA CONCILIACIONES","RMUNOZA@FAMISANAR.COM.CO",3114782491,"11001",{"$f":"VLOOKUP(B519,'[1]Select temp_pre_numero'!D$1:E$1845,2,0)","v":"OTRAS"}]
["NI",805027337,"2020-07-06","2020-07-06",2,"JHON VARGAS","ANALISTA CONCILIACIONES","RMUNOZA@FAMISANAR.COM.CO",3114782491,"11001",{"$f":"VLOOKUP(B520,'[1]Select temp_pre_numero'!D$1:E$1845,2,0)","v":"OTRAS"}]
["NI",891855847,"2020-07-07","2020-07-07",2,"JHON VARGAS","ANALISTA CONCILIACIONES","RMUNOZA@FAMISANAR.COM.CO",3114782491,"11001",{"$f":"VLOOKUP(B521,'[1]Select temp_pre_numero'!D$1:E$1845,2,0)","v":"OTRAS"}]
["NI",900237812,"2020-07-08","2020-07-08",2,"JHON VARGAS","ANALISTA CONCILIACIONES","RMUNOZA@FAMISANAR.COM.CO",3114782491,"11001",{"$f":"VLOOKUP(B522,'[1]Select temp_pre_numero'!D$1:E$1845,2,0)","v":"OTRAS"}]
["NI",800128191,"2020-07-09","2020-07-09",2,"JHON VARGAS","ANALISTA CONCILIACIONES","RMUNOZA@FAMISANAR.COM.CO",3114782491,"11001",{"$f":"VLOOKUP(B523,'[1]Select temp_pre_numero'!D$1:E$1845,2,0)","v":"OTRAS"}]
["NI",800138311,"2020-07-10","2020-07-10",2,"JHON VARGAS","ANALISTA CONCILIACIONES","RMUNOZA@FAMISANAR.COM.CO",3114782491,"11001",{"$f":"VLOOKUP(B524,'[1]Select temp_pre_numero'!D$1:E$1845,2,0)","v":"OTRAS"}]
["NI",830512886,"2020-07-13","2020-07-13",2,"JHON VARGAS","ANALISTA CONCILIACIONES","RMUNOZA@FAMISANAR.COM.CO",3114782491,"11001",{"$f":"VLOOKUP(B525,'[1]Select temp_pre_numero'!D$1:E$1845,2,0)","v":"OTRAS"}]
["NI",816000810,"2020-07-14","2020-07-14",2,"JHON VARGAS","ANALISTA CONCILIACIONES","RMUNOZA@FAMISANAR.COM.CO",3114782491,"11001",{"$f":"VLOOKUP(B526,'[1]Select temp_pre_numero'!D$1:E$1845,2,0)","v":{"$error":"#N/A"}}]
["NI",824002672,"2020-07-15","2020-07-15",2,"JHON VARGAS","ANALISTA CONCILIACIONES","RMUNOZA@FAMISANAR.COM.CO",3114782491,"11001",{"$f":"VLOOKUP(B527,'[1]Select temp_pre_numero'!D$1:E$1845,2,0)","v":"OTRAS"}]
["NI",890982134,"2020-07-16","2020-07-16",2,"JHON VARGAS","ANALISTA CONCILIACIONES","RMUNOZA@FAMISANAR.COM.CO",3114782491,"11001",{"$f":"VLOOKUP(B528,'[1]Select temp_pre_numero'!D$1:E$1845,2,0)","v":"OTRAS"}]
["NI",900317865,"2020-07-17","2020-07-17",2,"JHON VARGAS","ANALISTA CONCILIACIONES","RMUNOZA@FAMISANAR.COM.CO",3114782491,"11001",{"$f":"VLOOKUP(B529,'[1]Select temp_pre_numero'!D$1:E$1845,2,0)","v":"OTRAS"}]
["NI",806007257,"2020-07-21","2020-07-21",2,"JHON VARGAS","ANALISTA CONCILIACIONES","RMUNOZA@FAMISANAR.COM.CO",3114782491,"11001",{"$f":"VLOOKUP(B530,'[1]Select temp_pre_numero'!D$1:E$1845,2,0)","v":"OTRAS"}]
["NI",812001520,"2020-07-22","2020-07-22",2,"JHON VARGAS","ANALISTA CONCILIACIONES","RMUNOZA@FAMISANAR.COM.CO",3114782491,"11001",{"$f":"VLOOKUP(B531,'[1]Select temp_pre_numero'!D$1:E$1845,2,0)","v":"OTRAS"}]
["NI",800004808,"2020-07-23","2020-07-23",2,"JHON VARGAS","ANALISTA CONCILIACIONES","RMUNOZA@FAMISANAR.COM.CO",3114782491,"11001",{"$f":"VLOOKUP(B532,'[1]Select temp_pre_numero'!D$1:E$1845,2,0)","v":"OTRAS"}]
["NI",890801274,"2020-07-24","2020-07-24",2,"JHON VARGAS","ANALISTA CONCILIACIONES","RMUNOZA@FAMISANAR.COM.CO",3114782491,"11001",{"$f":"VLOOKUP(B533,'[1]Select temp_pre_numero'!D$1:E$1845,2,0)","v":"OTRAS"}]
["NI",891180198,"2020-07-27","2020-07-27",2,"JHON VARGAS","ANALISTA CONCILIACIONES","RMUNOZA@FAMISANAR.COM.CO",3114782491,"11001",{"$f":"VLOOKUP(B534,'[1]Select temp_pre_numero'!D$1:E$1845,2,0)","v":"OTRAS"}]
["NI",900182762,"2020-07-28","2020-07-28",2,"JHON VARGAS","ANALISTA CONCILIACIONES","RMUNOZA@FAMISANAR.COM.CO",3114782491,"11001",{"$f":"VLOOKUP(B535,'[1]Select temp_pre_numero'!D$1:E$1845,2,0)","v":{"$error":"#N/A"}}]
["NI",890801495,"2020-07-29","2020-07-29",2,"JHON VARGAS","ANALISTA CONCILIACIONES","RMUNOZA@FAMISANAR.COM.CO",3114782491,"11001",{"$f":"VLOOKUP(B536,'[1]Select temp_pre_numero'!D$1:E$1845,2,0)","v":"OTRAS"}]
["NI",900005955,"2020-07-30","2020-07-30",2,"JHON VARGAS","ANALISTA CONCILIACIONES","RMUNOZA@FAMISANAR.COM.CO",3114782491,"11001",{"$f":"VLOOKUP(B537,'[1]Select temp_pre_numero'!D$1:E$1845,2,0)","v":{"$error":"#N/A"}}]
["NI",900699315,"2020-07-31","2020-07-31",2,"JHON VARGAS","ANALISTA CONCILIACIONES","RMUNOZA@FAMISANAR.COM.CO",3114782491,"11001",{"$f":"VLOOKUP(B538,'[1]Select temp_pre_numero'!D$1:E$1845,2,0)","v":"OTRAS"}]
["NI",891411663,"2020-08-03","2020-08-03",2,"JHON VARGAS","ANALISTA CONCILIACIONES","RMUNOZA@FAMISANAR.COM.CO",3114782491,"11001",{"$f":"VLOOKUP(B539,'[1]Select temp_pre_numero'!D$1:E$1845,2,0)","v":"OTRAS"}]
["NI",846000471,"2020-08-04","2020-08-04",2,"JHON VARGAS","ANALISTA CONCILIACIONES","RMUNOZA@FAMISANAR.COM.CO",3114782491,"11001",{"$f":"VLOOKUP(B540,'[1]Select temp_pre_numero'!D$1:E$1845,2,0)","v":"OTRAS"}]
["NI",900807053,"2020-08-05","2020-08-05",2,"JHON VARGAS","ANALISTA CONCILIACIONES","RMUNOZA@FAMISANAR.COM.CO",3114782491,"11001",{"$f":"VLOOKUP(B541,'[1]Select temp_pre_numero'!D$1:E$1845,2,0)","v":"OTRAS"}]
["NI",901101871,"2020-08-06","2020-08-06",2,"JHON VARGAS","ANALISTA CONCILIACIONES","RMUNOZA@FAMISANAR.COM.CO",3114782491,"11001",{"$f":"VLOOKUP(B542,'[1]Select temp_pre_numero'!D$1:E$1845,2,0)","v":"OTRAS"}]
["NI",802003081,"2020-08-10","2020-08-10",2,"JHON VARGAS","ANALISTA CONCILIACIONES","RMUNOZA@FAMISANAR.COM.CO",3114782491,"11001",{"$f":"VLOOKUP(B543,'[1]Select temp_pre_numero'!D$1:E$1845,2,0)","v":"OTRAS"}]
["NI",900008882,"2020-08-11","2020-08-11",2,"JHON VARGAS","ANALISTA CONCILIACIONES","RMUNOZA@FAMISANAR.COM.CO",3114782491,"11001",{"$f":"VLOOKUP(B544,'[1]Select temp_pre_numero'!D$1:E$1845,2,0)","v":"OTRAS"}]
["NI",812001423,"2020-08-12","2020-08-12",2,"JHON VARGAS","ANALISTA CONCILIACIONES","RMUNOZA@FAMISANAR.COM.CO",3114782491,"11001",{"$f":"VLOOKUP(B545,'[1]Select temp_pre_numero'!D$1:E$1845,2,0)","v":"OTRAS"}]
["NI",890103025,"2020-08-13","2020-08-13",2,"JHON VARGAS","ANALISTA CONCILIACIONES","RMUNOZA@FAMISANAR.COM.CO",3114782491,"11001",{"$f":"VLOOKUP(B546,'[1]Select temp_pre_numero'!D$1:E$1845,2,0)","v":"OTRAS"}]
["NI",881862576,"2020-08-14","2020-08-14",2,"JHON VARGAS","ANALISTA CONCILIACIONES","RMUNOZA@FAMISANAR.COM.CO",3114782491,"11001",{"$f":"VLOOKUP(B547,'[1]Select temp_pre_numero'!D$1:E$1845,2,0)","v":"OTRAS"}]
["NI",891900356,"2020-08-18","2020-08-18",2,"JHON VARGAS","ANALISTA CONCILIACIONES","RMUNOZA@FAMISANAR.COM.CO",3114782491,"11001",{"$f":"VLOOKUP(B548,'[1]Select temp_pre_numero'!D$1:E$1845,2,0)","v":"OTRAS"}]
["NI",900949608,"2020-08-19","2020-08-19",2,"JHON VARGAS","ANALISTA CONCILIACIONES","RMUNOZA@FAMISANAR.COM.CO",3114782491,"11001",{"$f":"VLOOKUP(B549,'[1]Select temp_pre_numero'!D$1:E$1845,2,0)","v":"OTRAS"}]
["NI",900058218,"2020-08-20","2020-08-20",2,"JHON VARGAS","ANALISTA CONCILIACIONES","RMUNOZA@FAMISANAR.COM.CO",3114782491,"11001",{"$f":"VLOOKUP(B550,'[1]Select temp_pre_numero'!D$1:E$1845,2,0)","v":{"$error":"#N/A"}}]
["NI",890100275,"2020-08-21","2020-08-21",2,"JHON VARGAS","ANALISTA CONCILIACIONES","RMUNOZA@FAMISANAR.COM.CO",3114782491,"11001",{"$f":"VLOOKUP(B551,'[1]Select temp_pre_numero'!D$1:E$1845,2,0)","v":"OTRAS"}]
["NI",820000886,"2020-08-24","2020-08-24",2,"JHON VARGAS","ANALISTA CONCILIACIONES","RMUNOZA@FAMISANAR.COM.CO",3114782491,"11001",{"$f":"VLOOKUP(B552,'[1]Select temp_pre_numero'!D$1:E$1845,2,0)","v":"OTRAS"}]
["NI",890300513,"2020-08-25","2020-08-25",2,"JHON VARGAS","ANALISTA CONCILIACIONES","RMUNOZA@FAMISANAR.COM.CO",3114782491,"11001",{"$f":"VLOOKUP(B553,'[1]Select temp_pre_numero'!D$1:E$1845,2,0)","v":"OTRAS"}]
["NI",900193988,"2020-08-26","2020-08-26",2,"JHON VARGAS","ANALISTA CONCILIACIONES","RMUNOZA@FAMISANAR.COM.CO",3114782491,"11001",{"$f":"VLOOKUP(B554,'[1]Select temp_pre_numero'!D$1:E$1845,2,0)","v":{"$error":"#N/A"}}]
["NI",820002306,"2020-08-27","2020-08-27",2,"JHON VARGAS","ANALISTA CONCILIACIONES","RMUNOZA@FAMISANAR.COM.CO",3114782491,"11001",{"$f":"VLOOKUP(B555,'[1]Select temp_pre_numero'!D$1:E$1845,2,0)","v":"OTRAS"}]
["NI",900277630,"2020-08-28","2020-08-28",2,"JHON VARGAS","ANALISTA CONCILIACIONES","RMUNOZA@FAMISANAR.COM.CO",3114782491,"11001",{"$f":"VLOOKUP(B556,'[1]Select temp_pre_numero'!D$1:E$1845,2,0)","v":"OTRAS"}]
["NI",860078062,"2020-08-29","2020-08-29",2,"JHON VARGAS","ANALISTA CONCILIACIONES","RMUNOZA@FAMISANAR.COM.CO",3114782491,"11001",{"$f":"VLOOKUP(B557,'[1]Select temp_pre_numero'!D$1:E$1845,2,0)","v":"OTRAS"}]
["NI",890000600,"2020-08-30","2020-08-30",2,"JHON VARGAS","ANALISTA CONCILIACIONES","RMUNOZA@FAMISANAR.COM.CO",3114782491,"11001",{"$f":"VLOOKUP(B558,'[1]Select temp_pre_numero'!D$1:E$1845,2,0)","v":"OTRAS"}]
["NI",900268120,"2020-08-31","2020-08-31",2,"JHON VARGAS","ANALISTA CONCILIACIONES","RMUNOZA@FAMISANAR.COM.CO",3114782491,"11001",{"$f":"VLOOKUP(B559,'[1]Select temp_pre_numero'!D$1:E$1845,2,0)","v":{"$error":"#N/A"}}]
["NI",900428503,"2020-06-16","2020-06-16",2,"JHON VARGAS","ANALISTA CONCILIACIONES","RMUNOZA@FAMISANAR.COM.CO",3114782491,"11001",{"$f":"VLOOKUP(B560,'[1]Select temp_pre_numero'!D$1:E$1845,2,0)","v":{"$error":"#N/A"}}]
["NI",890305496,"2020-06-17","2020-06-17",2,"JHON VARGAS","ANALISTA CONCILIACIONES","RMUNOZA@FAMISANAR.COM.CO",3114782491,"11001",{"$f":"VLOOKUP(B561,'[1]Select temp_pre_numero'!D$1:E$1845,2,0)","v":"OTRAS"}]
["NI",804005555,"2020-06-18","2020-06-18",2,"JHON VARGAS","ANALISTA CONCILIACIONES","RMUNOZA@FAMISANAR.COM.CO",3114782491,"11001",{"$f":"VLOOKUP(B562,'[1]Select temp_pre_numero'!D$1:E$1845,2,0)","v":"OTRAS"}]
["NI",825000620,"2020-06-19","2020-06-19",2,"JHON VARGAS","ANALISTA CONCILIACIONES","RMUNOZA@FAMISANAR.COM.CO",3114782491,"11001",{"$f":"VLOOKUP(B563,'[1]Select temp_pre_numero'!D$1:E$1845,2,0)","v":"OTRAS"}]
["NI",900211477,"2020-06-23","2020-06-23",2,"JHON VARGAS","ANALISTA CONCILIACIONES","RMUNOZA@FAMISANAR.COM.CO",3114782491,"11001",{"$f":"VLOOKUP(B564,'[1]Select temp_pre_numero'!D$1:E$1845,2,0)","v":"OTRAS"}]
["NI",802009463,"2020-06-24","2020-06-24",2,"JHON VARGAS","ANALISTA CONCILIACIONES","RMUNOZA@FAMISANAR.COM.CO",3114782491,"11001",{"$f":"VLOOKUP(B565,'[1]Select temp_pre_numero'!D$1:E$1845,2,0)","v":"OTRAS"}]
["NI",900292488,"2020-06-25","2020-06-25",2,"JHON VARGAS","ANALISTA CONCILIACIONES","RMUNOZA@FAMISANAR.COM.CO",3114782491,"11001",{"$f":"VLOOKUP(B566,'[1]Select temp_pre_numero'!D$1:E$1845,2,0)","v":"OTRAS"}]
["NI",890939936,"2020-06-26","2020-06-26",2,"JHON VARGAS","ANALISTA CONCILIACIONES","RMUNOZA@FAMISANAR.COM.CO",3114782491,"11001",{"$f":"VLOOKUP(B567,'[1]Select temp_pre_numero'!D$1:E$1845,2,0)","v":"OTRAS"}]
["NI",800210891,"2020-06-30","2020-06-30",2,"JHON VARGAS","ANALISTA CONCILIACIONES","RMUNOZA@FAMISANAR.COM.CO",3114782491,"11001",{"$f":"VLOOKUP(B568,'[1]Select temp_pre_numero'!D$1:E$1845,2,0)","v":{"$error":"#N/A"}}]
["NI",819005499,"2020-07-01","2020-07-01",2,"JHON VARGAS","ANALISTA CONCILIACIONES","RMUNOZA@FAMISANAR.COM.CO",3114782491,"11001",{"$f":"VLOOKUP(B569,'[1]Select temp_pre_numero'!D$1:E$1845,2,0)","v":"OTRAS"}]
["NI",823000624,"2020-07-02","2020-07-02",2,"JHON VARGAS","ANALISTA CONCILIACIONES","RMUNOZA@FAMISANAR.COM.CO",3114782491,"11001",{"$f":"VLOOKUP(B570,'[1]Select temp_pre_numero'!D$1:E$1845,2,0)","v":"OTRAS"}]
["NI",809005452,"2020-07-03","2020-07-03",2,"JHON VARGAS","ANALISTA CONCILIACIONES","RMUNOZA@FAMISANAR.COM.CO",3114782491,"11001",{"$f":"VLOOKUP(B571,'[1]Select temp_pre_numero'!D$1:E$1845,2,0)","v":{"$error":"#N/A"}}]
["NI",812001219,"2020-07-06","2020-07-06",2,"JHON VARGAS","ANALISTA CONCILIACIONES","RMUNOZA@FAMISANAR.COM.CO",3114782491,"11001",{"$f":"VLOOKUP(B572,'[1]Select temp_pre_numero'!D$1:E$1845,2,0)","v":"OTRAS"}]
["NI",825001119,"2020-07-07","2020-07-07",2,"JHON VARGAS","ANALISTA CONCILIACIONES","RMUNOZA@FAMISANAR.COM.CO",3114782491,"11001",{"$f":"VLOOKUP(B573,'[1]Select temp_pre_numero'!D$1:E$1845,2,0)","v":"OTRAS"}]
["NI",819004070,"2020-07-08","2020-07-08",2,"JHON VARGAS","ANALISTA CONCILIACIONES","RMUNOZA@FAMISANAR.COM.CO",3114782491,"11001",{"$f":"VLOOKUP(B574,'[1]Select temp_pre_numero'!D$1:E$1845,2,0)","v":"OTRAS"}]
["NI",800194328,"2020-07-09","2020-07-09",2,"JHON VARGAS","ANALISTA CONCILIACIONES","RMUNOZA@FAMISANAR.COM.CO",3114782491,"11001",{"$f":"VLOOKUP(B575,'[1]Select temp_pre_numero'!D$1:E$1845,2,0)","v":"OTRAS"}]
["NI",826000107,"2020-07-10","2020-07-10",2,"JHON VARGAS","ANALISTA CONCILIACIONES","RMUNOZA@FAMISANAR.COM.CO",3114782491,"11001",{"$f":"VLOOKUP(B576,'[1]Select temp_pre_numero'!D$1:E$1845,2,0)","v":"OTRAS"}]
["NI",802006728,"2020-07-13","2020-07-13",2,"JHON VARGAS","ANALISTA CONCILIACIONES","RMUNOZA@FAMISANAR.COM.CO",3114782491,"11001",{"$f":"VLOOKUP(B577,'[1]Select temp_pre_numero'!D$1:E$1845,2,0)","v":"OTRAS"}]
["NI",900094475,"2020-07-14","2020-07-14",2,"JHON VARGAS","ANALISTA CONCILIACIONES","RMUNOZA@FAMISANAR.COM.CO",3114782491,"11001",{"$f":"VLOOKUP(B578,'[1]Select temp_pre_numero'!D$1:E$1845,2,0)","v":{"$error":"#N/A"}}]
["NI",800080586,"2020-07-15","2020-07-15",2,"JHON VARGAS","ANALISTA CONCILIACIONES","RMUNOZA@FAMISANAR.COM.CO",3114782491,"11001",{"$f":"VLOOKUP(B579,'[1]Select temp_pre_numero'!D$1:E$1845,2,0)","v":"OTRAS"}]
["NI",900231731,"2020-07-16","2020-07-16",2,"JHON VARGAS","ANALISTA CONCILIACIONES","RMUNOZA@FAMISANAR.COM.CO",3114782491,"11001",{"$f":"VLOOKUP(B580,'[1]Select temp_pre_numero'!D$1:E$1845,2,0)","v":"OTRAS"}]
["NI",819004280,"2020-07-17","2020-07-17",2,"JHON VARGAS","ANALISTA CONCILIACIONES","RMUNOZA@FAMISANAR.COM.CO",3114782491,"11001",{"$f":"VLOOKUP(B581,'[1]Select temp_pre_numero'!D$1:E$1845,2,0)","v":"OTRAS"}]
["NI",802007798,"2020-07-21","2020-07-21",2,"JHON VARGAS","ANALISTA CONCILIACIONES","RMUNOZA@FAMISANAR.COM.CO",3114782491,"11001",{"$f":"VLOOKUP(B582,'[1]Select temp_pre_numero'!D$1:E$1845,2,0)","v":"OTRAS"}]
["NI",804003072,"2020-07-22","2020-07-22",2,"JHON VARGAS","ANALISTA CONCILIACIONES","RMUNOZA@FAMISANAR.COM.CO",3114782491,"11001",{"$f":"VLOOKUP(B583,'[1]Select temp_pre_numero'!D$1:E$1845,2,0)","v":"OTRAS"}]
["NI",890985603,"2020-07-23","2020-07-23",2,"JHON VARGAS","ANALISTA CONCILIACIONES","RMUNOZA@FAMISANAR.COM.CO",3114782491,"11001",{"$f":"VLOOKUP(B584,'[1]Select temp_pre_numero'!D$1:E$1845,2,0)","v":"OTRAS"}]
["NI",890201724,"2020-07-24","2020-07-24",2,"JHON VARGAS","ANALISTA CONCILIACIONES","RMUNOZA@FAMISANAR.COM.CO",3114782491,"11001",{"$f":"VLOOKUP(B585,'[1]Select temp_pre_numero'!D$1:E$1845,2,0)","v":"OTRAS"}]
["NI",890703266,"2020-07-27","2020-07-27",2,"JHON VARGAS","ANALISTA CONCILIACIONES","RMUNOZA@FAMISANAR.COM.CO",3114782491,"11001",{"$f":"VLOOKUP(B586,'[1]Select temp_pre_numero'!D$1:E$1845,2,0)","v":"OTRAS"}]
["NI",812000300,"2020-07-28","2020-07-28",2,"JHON VARGAS","ANALISTA CONCILIACIONES","RMUNOZA@FAMISANAR.COM.CO",3114782491,"11001",{"$f":"VLOOKUP(B587,'[1]Select temp_pre_numero'!D$1:E$1845,2,0)","v":"OTRAS"}]
["NI",830128856,"2020-07-29","2020-07-29",2,"JHON VARGAS","ANALISTA CONCILIACIONES","RMUNOZA@FAMISANAR.COM.CO",3114782491,"11001",{"$f":"VLOOKUP(B588,'[1]Select temp_pre_numero'!D$1:E$1845,2,0)","v":{"$error":"#N/A"}}]
["NI",890000400,"2020-07-30","2020-07-30",2,"JHON VARGAS","ANALISTA CONCILIACIONES","RMUNOZA@FAMISANAR.COM.CO",3114782491,"11001",{"$f":"VLOOKUP(B589,'[1]Select temp_pre_numero'!D$1:E$1845,2,0)","v":"OTRAS"}]
["NI",805003605,"2020-07-31","2020-07-31",2,"JHON VARGAS","ANALISTA CONCILIACIONES","RMUNOZA@FAMISANAR.COM.CO",3114782491,"11001",{"$f":"VLOOKUP(B590,'[1]Select temp_pre_numero'!D$1:E$1845,2,0)","v":{"$error":"#N/A"}}]
["NI",900395846,"2020-08-03","2020-08-03",2,"JHON VARGAS","ANALISTA CONCILIACIONES","RMUNOZA@FAMISANAR.COM.CO",3114782491,"11001",{"$f":"VLOOKUP(B591,'[1]Select temp_pre_numero'!D$1:E$1845,2,0)","v":"OTRAS"}]
["NI",890001006,"2020-08-04","2020-08-04",2,"JHON VARGAS","ANALISTA CONCILIACIONES","RMUNOZA@FAMISANAR.COM.CO",3114782491,"11001",{"$f":"VLOOKUP(B592,'[1]Select temp_pre_numero'!D$1:E$1845,2,0)","v":"OTRAS"}]
["NI",900091143,"2020-08-05","2020-08-05",2,"JHON VARGAS","ANALISTA CONCILIACIONES","RMUNOZA@FAMISANAR.COM.CO",3114782491,"11001",{"$f":"VLOOKUP(B593,'[1]Select temp_pre_numero'!D$1:E$1845,2,0)","v":"OTRAS"}]
["NI",900007860,"2020-08-06","2020-08-06",2,"JHON VARGAS","ANALISTA CONCILIACIONES","RMUNOZA@FAMISANAR.COM.CO",3114782491,"11001",{"$f":"VLOOKUP(B594,'[1]Select temp_pre_numero'!D$1:E$1845,2,0)","v":{"$error":"#N/A"}}]
["NI",890801719,"2020-08-10","2020-08-10",2,"JHON VARGAS","ANALISTA CONCILIACIONES","RMUNOZA@FAMISANAR.COM.CO",3114782491,"11001",{"$f":"VLOOKUP(B595,'[1]Select temp_pre_numero'!D$1:E$1845,2,0)","v":"OTRAS"}]
["NI",900343345,"2020-08-11","2020-08-11",2,"JHON VARGAS","ANALISTA CONCILIACIONES","RMUNOZA@FAMISANAR.COM.CO",3114782491,"11001",{"$f":"VLOOKUP(B596,'[1]Select temp_pre_numero'!D$1:E$1845,2,0)","v":{"$error":"#N/A"}}]
["NI",812002958,"2020-08-12","2020-08-12",2,"JHON VARGAS","ANALISTA CONCILIACIONES","RMUNOZA@FAMISANAR.COM.CO",3114782491,"11001",{"$f":"VLOOKUP(B597,'[1]Select temp_pre_numero'!D$1:E$1845,2,0)","v":"OTRAS"}]
["NI",900577773,"2020-08-13","2020-08-13",2,"JHON VARGAS","ANALISTA CONCILIACIONES","RMUNOZA@FAMISANAR.COM.CO",3114782491,"11001",{"$f":"VLOOKUP(B598,'[1]Select temp_pre_numero'!D$1:E$1845,2,0)","v":{"$error":"#N/A"}}]
["NI",813007875,"2020-08-14","2020-08-14",2,"JHON VARGAS","ANALISTA CONCILIACIONES","RMUNOZA@FAMISANAR.COM.CO",3114782491,"11001",{"$f":"VLOOKUP(B599,'[1]Select temp_pre_numero'!D$1:E$1845,2,0)","v":"OTRAS"}]
["NI",823004895,"2020-08-18","2020-08-18",2,"JHON VARGAS","ANALISTA CONCILIACIONES","RMUNOZA@FAMISANAR.COM.CO",3114782491,"11001",{"$f":"VLOOKUP(B600,'[1]Select temp_pre_numero'!D$1:E$1845,2,0)","v":"OTRAS"}]
["NI",900553185,"2020-08-19","2020-08-19",2,"JHON VARGAS","ANALISTA CONCILIACIONES","RMUNOZA@FAMISANAR.COM.CO",3114782491,"11001",{"$f":"VLOOKUP(B601,'[1]Select temp_pre_numero'!D$1:E$1845,2,0)","v":{"$error":"#N/A"}}]
["NI",800244287,"2020-08-20","2020-08-20",2,"JHON VARGAS","ANALISTA CONCILIACIONES","RMUNOZA@FAMISANAR.COM.CO",3114782491,"11001",{"$f":"VLOOKUP(B602,'[1]Select temp_pre_numero'!D$1:E$1845,2,0)","v":"OTRAS"}]
["NI",890700907,"2020-08-21","2020-08-21",2,"JHON VARGAS","ANALISTA CONCILIACIONES","RMUNOZA@FAMISANAR.COM.CO",3114782491,"11001",{"$f":"VLOOKUP(B603,'[1]Select temp_pre_numero'!D$1:E$1845,2,0)","v":"OTRAS"}]
["NI",823001035,"2020-08-24","2020-08-24",2,"JHON VARGAS","ANALISTA CONCILIACIONES","RMUNOZA@FAMISANAR.COM.CO",3114782491,"11001",{"$f":"VLOOKUP(B604,'[1]Select temp_pre_numero'!D$1:E$1845,2,0)","v":"OTRAS"}]
["NI",891900367,"2020-08-25","2020-08-25",2,"JHON VARGAS","ANALISTA CONCILIACIONES","RMUNOZA@FAMISANAR.COM.CO",3114782491,"11001",{"$f":"VLOOKUP(B605,'[1]Select temp_pre_numero'!D$1:E$1845,2,0)","v":"OTRAS"}]
["NI",890801035,"2020-08-26","2020-08-26",2,"JHON VARGAS","ANALISTA CONCILIACIONES","RMUNOZA@FAMISANAR.COM.CO",3114782491,"11001",{"$f":"VLOOKUP(B606,'[1]Select temp_pre_numero'!D$1:E$1845,2,0)","v":"OTRAS"}]
["NI",802001292,"2020-08-27","2020-08-27",2,"JHON VARGAS","ANALISTA CONCILIACIONES","RMUNOZA@FAMISANAR.COM.CO",3114782491,"11001",{"$f":"VLOOKUP(B607,'[1]Select temp_pre_numero'!D$1:E$1845,2,0)","v":"OTRAS"}]
["NI",860021072,"2020-08-28","2020-08-28",2,"JHON VARGAS","ANALISTA CONCILIACIONES","RMUNOZA@FAMISANAR.COM.CO",3114782491,"11001",{"$f":"VLOOKUP(B608,'[1]Select temp_pre_numero'!D$1:E$1845,2,0)","v":"OTRAS"}]
["NI",901048592,"2020-08-29","2020-08-29",2,"JHON VARGAS","ANALISTA CONCILIACIONES","RMUNOZA@FAMISANAR.COM.CO",3114782491,"11001",{"$f":"VLOOKUP(B609,'[1]Select temp_pre_numero'!D$1:E$1845,2,0)","v":{"$error":"#N/A"}}]
["NI",900907330,"2020-08-30","2020-08-30",2,"JHON VARGAS","ANALISTA CONCILIACIONES","RMUNOZA@FAMISANAR.COM.CO",3114782491,"11001",{"$f":"VLOOKUP(B610,'[1]Select temp_pre_numero'!D$1:E$1845,2,0)","v":{"$error":"#N/A"}}]
["NI",820003550,"2020-08-31","2020-08-31",2,"JHON VARGAS","ANALISTA CONCILIACIONES","RMUNOZA@FAMISANAR.COM.CO",3114782491,"11001",{"$f":"VLOOKUP(B611,'[1]Select temp_pre_numero'!D$1:E$1845,2,0)","v":{"$error":"#N/A"}}]
["NI",892300387,"2020-06-16","2020-06-16",2,"JHON VARGAS","ANALISTA CONCILIACIONES","RMUNOZA@FAMISANAR.COM.CO",3114782491,"11001",{"$f":"VLOOKUP(B612,'[1]Select temp_pre_numero'!D$1:E$1845,2,0)","v":"OTRAS"}]
["NI",890980732,"2020-06-17","2020-06-17",2,"JHON VARGAS","ANALISTA CONCILIACIONES","RMUNOZA@FAMISANAR.COM.CO",3114782491,"11001",{"$f":"VLOOKUP(B613,'[1]Select temp_pre_numero'!D$1:E$1845,2,0)","v":"OTRAS"}]
["NI",809008823,"2020-06-18","2020-06-18",2,"JHON VARGAS","ANALISTA CONCILIACIONES","RMUNOZA@FAMISANAR.COM.CO",3114782491,"11001",{"$f":"VLOOKUP(B614,'[1]Select temp_pre_numero'!D$1:E$1845,2,0)","v":{"$error":"#N/A"}}]
["NI",804009658,"2020-06-19","2020-06-19",2,"JHON VARGAS","ANALISTA CONCILIACIONES","RMUNOZA@FAMISANAR.COM.CO",3114782491,"11001",{"$f":"VLOOKUP(B615,'[1]Select temp_pre_numero'!D$1:E$1845,2,0)","v":"OTRAS"}]
["NI",820003782,"2020-06-23","2020-06-23",2,"JHON VARGAS","ANALISTA CONCILIACIONES","RMUNOZA@FAMISANAR.COM.CO",3114782491,"11001",{"$f":"VLOOKUP(B616,'[1]Select temp_pre_numero'!D$1:E$1845,2,0)","v":"OTRAS"}]
["NI",860043998,"2020-06-24","2020-06-24",2,"JHON VARGAS","ANALISTA CONCILIACIONES","RMUNOZA@FAMISANAR.COM.CO",3114782491,"11001",{"$f":"VLOOKUP(B617,'[1]Select temp_pre_numero'!D$1:E$1845,2,0)","v":"OTRAS"}]
["NI",820002657,"2020-06-25","2020-06-25",2,"JHON VARGAS","ANALISTA CONCILIACIONES","RMUNOZA@FAMISANAR.COM.CO",3114782491,"11001",{"$f":"VLOOKUP(B618,'[1]Select temp_pre_numero'!D$1:E$1845,2,0)","v":"OTRAS"}]
["NI",891180065,"2020-06-26","2020-06-26",2,"JHON VARGAS","ANALISTA CONCILIACIONES","RMUNOZA@FAMISANAR.COM.CO",3114782491,"11001",{"$f":"VLOOKUP(B619,'[1]Select temp_pre_numero'!D$1:E$1845,2,0)","v":"OTRAS"}]
["NI",900390423,"2020-06-30","2020-06-30",2,"JHON VARGAS","ANALISTA CONCILIACIONES","RMUNOZA@FAMISANAR.COM.CO",3114782491,"11001",{"$f":"VLOOKUP(B620,'[1]Select temp_pre_numero'!D$1:E$1845,2,0)","v":"OTRAS"}]
["NI",890907241,"2020-07-01","2020-07-01",2,"JHON VARGAS","ANALISTA CONCILIACIONES","RMUNOZA@FAMISANAR.COM.CO",3114782491,"11001",{"$f":"VLOOKUP(B621,'[1]Select temp_pre_numero'!D$1:E$1845,2,0)","v":"OTRAS"}]
["NI",900186802,"2020-07-02","2020-07-02",2,"JHON VARGAS","ANALISTA CONCILIACIONES","RMUNOZA@FAMISANAR.COM.CO",3114782491,"11001",{"$f":"VLOOKUP(B622,'[1]Select temp_pre_numero'!D$1:E$1845,2,0)","v":"OTRAS"}]
["NI",813010996,"2020-07-03","2020-07-03",2,"JHON VARGAS","ANALISTA CONCILIACIONES","RMUNOZA@FAMISANAR.COM.CO",3114782491,"11001",{"$f":"VLOOKUP(B623,'[1]Select temp_pre_numero'!D$1:E$1845,2,0)","v":"OTRAS"}]
["NI",846002309,"2020-07-06","2020-07-06",2,"JHON VARGAS","ANALISTA CONCILIACIONES","RMUNOZA@FAMISANAR.COM.CO",3114782491,"11001",{"$f":"VLOOKUP(B624,'[1]Select temp_pre_numero'!D$1:E$1845,2,0)","v":"OTRAS"}]
["NI",809010402,"2020-07-07","2020-07-07",2,"JHON VARGAS","ANALISTA CONCILIACIONES","RMUNOZA@FAMISANAR.COM.CO",3114782491,"11001",{"$f":"VLOOKUP(B625,'[1]Select temp_pre_numero'!D$1:E$1845,2,0)","v":"OTRAS"}]
["NI",813004018,"2020-07-08","2020-07-08",2,"JHON VARGAS","ANALISTA CONCILIACIONES","RMUNOZA@FAMISANAR.COM.CO",3114782491,"11001",{"$f":"VLOOKUP(B626,'[1]Select temp_pre_numero'!D$1:E$1845,2,0)","v":"OTRAS"}]
["NI",900202978,"2020-07-09","2020-07-09",2,"JHON VARGAS","ANALISTA CONCILIACIONES","RMUNOZA@FAMISANAR.COM.CO",3114782491,"11001",{"$f":"VLOOKUP(B627,'[1]Select temp_pre_numero'!D$1:E$1845,2,0)","v":"OTRAS"}]
["NI",890982091,"2020-07-10","2020-07-10",2,"JHON VARGAS","ANALISTA CONCILIACIONES","RMUNOZA@FAMISANAR.COM.CO",3114782491,"11001",{"$f":"VLOOKUP(B628,'[1]Select temp_pre_numero'!D$1:E$1845,2,0)","v":"OTRAS"}]
["NI",800190884,"2020-07-13","2020-07-13",2,"JHON VARGAS","ANALISTA CONCILIACIONES","RMUNOZA@FAMISANAR.COM.CO",3114782491,"11001",{"$f":"VLOOKUP(B629,'[1]Select temp_pre_numero'!D$1:E$1845,2,0)","v":"OTRAS"}]
["NI",900367891,"2020-07-14","2020-07-14",2,"JHON VARGAS","ANALISTA CONCILIACIONES","RMUNOZA@FAMISANAR.COM.CO",3114782491,"11001",{"$f":"VLOOKUP(B630,'[1]Select temp_pre_numero'!D$1:E$1845,2,0)","v":"OTRAS"}]
["NI",807004631,"2020-07-15","2020-07-15",2,"JHON VARGAS","ANALISTA CONCILIACIONES","RMUNOZA@FAMISANAR.COM.CO",3114782491,"11001",{"$f":"VLOOKUP(B631,'[1]Select temp_pre_numero'!D$1:E$1845,2,0)","v":"OTRAS"}]
["NI",804008792,"2020-07-16","2020-07-16",2,"JHON VARGAS","ANALISTA CONCILIACIONES","RMUNOZA@FAMISANAR.COM.CO",3114782491,"11001",{"$f":"VLOOKUP(B632,'[1]Select temp_pre_numero'!D$1:E$1845,2,0)","v":{"$error":"#N/A"}}]
["NI",813009143,"2020-07-17","2020-07-17",2,"JHON VARGAS","ANALISTA CONCILIACIONES","RMUNOZA@FAMISANAR.COM.CO",3114782491,"11001",{"$f":"VLOOKUP(B633,'[1]Select temp_pre_numero'!D$1:E$1845,2,0)","v":{"$error":"#N/A"}}]
["NI",813002872,"2020-07-21","2020-07-21",2,"JHON VARGAS","ANALISTA CONCILIACIONES","RMUNOZA@FAMISANAR.COM.CO",3114782491,"11001",{"$f":"VLOOKUP(B634,'[1]Select temp_pre_numero'!D$1:E$1845,2,0)","v":"OTRAS"}]
["NI",890700901,"2020-07-22","2020-07-22",2,"JHON VARGAS","ANALISTA CONCILIACIONES","RMUNOZA@FAMISANAR.COM.CO",3114782491,"11001",{"$f":"VLOOKUP(B635,'[1]Select temp_pre_numero'!D$1:E$1845,2,0)","v":"OTRAS"}]
["NI",900483559,"2020-07-23","2020-07-23",2,"JHON VARGAS","ANALISTA CONCILIACIONES","RMUNOZA@FAMISANAR.COM.CO",3114782491,"11001",{"$f":"VLOOKUP(B636,'[1]Select temp_pre_numero'!D$1:E$1845,2,0)","v":"OTRAS"}]
["NI",812005130,"2020-07-24","2020-07-24",2,"JHON VARGAS","ANALISTA CONCILIACIONES","RMUNOZA@FAMISANAR.COM.CO",3114782491,"11001",{"$f":"VLOOKUP(B637,'[1]Select temp_pre_numero'!D$1:E$1845,2,0)","v":"OTRAS"}]
["NI",900565721,"2020-07-27","2020-07-27",2,"JHON VARGAS","ANALISTA CONCILIACIONES","RMUNOZA@FAMISANAR.COM.CO",3114782491,"11001",{"$f":"VLOOKUP(B638,'[1]Select temp_pre_numero'!D$1:E$1845,2,0)","v":"OTRAS"}]
["NI",891408918,"2020-07-28","2020-07-28",2,"JHON VARGAS","ANALISTA CONCILIACIONES","RMUNOZA@FAMISANAR.COM.CO",3114782491,"11001",{"$f":"VLOOKUP(B639,'[1]Select temp_pre_numero'!D$1:E$1845,2,0)","v":"OTRAS"}]
["NI",829003945,"2020-07-29","2020-07-29",2,"JHON VARGAS","ANALISTA CONCILIACIONES","RMUNOZA@FAMISANAR.COM.CO",3114782491,"11001",{"$f":"VLOOKUP(B640,'[1]Select temp_pre_numero'!D$1:E$1845,2,0)","v":"OTRAS"}]
["NI",900192428,"2020-07-30","2020-07-30",2,"JHON VARGAS","ANALISTA CONCILIACIONES","RMUNOZA@FAMISANAR.COM.CO",3114782491,"11001",{"$f":"VLOOKUP(B641,'[1]Select temp_pre_numero'!D$1:E$1845,2,0)","v":"OTRAS"}]
["NI",819001505,"2020-07-31","2020-07-31",2,"JHON VARGAS","ANALISTA CONCILIACIONES","RMUNOZA@FAMISANAR.COM.CO",3114782491,"11001",{"$f":"VLOOKUP(B642,'[1]Select temp_pre_numero'!D$1:E$1845,2,0)","v":{"$error":"#N/A"}}]
["NI",800051998,"2020-08-03","2020-08-03",2,"JHON VARGAS","ANALISTA CONCILIACIONES","RMUNOZA@FAMISANAR.COM.CO",3114782491,"11001",{"$f":"VLOOKUP(B643,'[1]Select temp_pre_numero'!D$1:E$1845,2,0)","v":{"$error":"#N/A"}}]
["NI",890202002,"2020-08-04","2020-08-04",2,"JHON VARGAS","ANALISTA CONCILIACIONES","RMUNOZA@FAMISANAR.COM.CO",3114782491,"11001",{"$f":"VLOOKUP(B644,'[1]Select temp_pre_numero'!D$1:E$1845,2,0)","v":"OTRAS"}]
["NI",807000280,"2020-08-05","2020-08-05",2,"JHON VARGAS","ANALISTA CONCILIACIONES","RMUNOZA@FAMISANAR.COM.CO",3114782491,"11001",{"$f":"VLOOKUP(B645,'[1]Select temp_pre_numero'!D$1:E$1845,2,0)","v":"OTRAS"}]
["NI",900500653,"2020-08-06","2020-08-06",2,"JHON VARGAS","ANALISTA CONCILIACIONES","RMUNOZA@FAMISANAR.COM.CO",3114782491,"11001",{"$f":"VLOOKUP(B646,'[1]Select temp_pre_numero'!D$1:E$1845,2,0)","v":"OTRAS"}]
["NI",890204672,"2020-08-10","2020-08-10",2,"JHON VARGAS","ANALISTA CONCILIACIONES","RMUNOZA@FAMISANAR.COM.CO",3114782491,"11001",{"$f":"VLOOKUP(B647,'[1]Select temp_pre_numero'!D$1:E$1845,2,0)","v":"OTRAS"}]
["NI",900038926,"2020-08-11","2020-08-11",2,"JHON VARGAS","ANALISTA CONCILIACIONES","RMUNOZA@FAMISANAR.COM.CO",3114782491,"11001",{"$f":"VLOOKUP(B648,'[1]Select temp_pre_numero'!D$1:E$1845,2,0)","v":{"$error":"#N/A"}}]
["NI",800191101,"2020-08-12","2020-08-12",2,"JHON VARGAS","ANALISTA CONCILIACIONES","RMUNOZA@FAMISANAR.COM.CO",3114782491,"11001",{"$f":"VLOOKUP(B649,'[1]Select temp_pre_numero'!D$1:E$1845,2,0)","v":"OTRAS"}]
["NI",900747689,"2020-08-13","2020-08-13",2,"JHON VARGAS","ANALISTA CONCILIACIONES","RMUNOZA@FAMISANAR.COM.CO",3114782491,"11001",{"$f":"VLOOKUP(B650,'[1]Select temp_pre_numero'!D$1:E$1845,2,0)","v":"OTRAS"}]
["NI",891480036,"2020-08-14","2020-08-14",2,"JHON VARGAS","ANALISTA CONCILIACIONES","RMUNOZA@FAMISANAR.COM.CO",3114782491,"11001",{"$f":"VLOOKUP(B651,'[1]Select temp_pre_numero'!D$1:E$1845,2,0)","v":"OTRAS"}]
["NI",832010240,"2020-08-18","2020-08-18",2,"JHON VARGAS","ANALISTA CONCILIACIONES","RMUNOZA@FAMISANAR.COM.CO",3114782491,"11001",{"$f":"VLOOKUP(B652,'[1]Select temp_pre_numero'!D$1:E$1845,2,0)","v":{"$error":"#N/A"}}]
["NI",800150497,"2020-08-19","2020-08-19",2,"JHON VARGAS","ANALISTA CONCILIACIONES","RMUNOZA@FAMISANAR.COM.CO",3114782491,"11001",{"$f":"VLOOKUP(B653,'[1]Select temp_pre_numero'!D$1:E$1845,2,0)","v":"OTRAS"}]
["NI",830094312,"2020-08-20","2020-08-20",2,"JHON VARGAS","ANALISTA CONCILIACIONES","RMUNOZA@FAMISANAR.COM.CO",3114782491,"11001",{"$f":"VLOOKUP(B654,'[1]Select temp_pre_numero'!D$1:E$1845,2,0)","v":{"$error":"#N/A"}}]
["NI",830500908,"2020-08-21","2020-08-21",2,"JHON VARGAS","ANALISTA CONCILIACIONES","RMUNOZA@FAMISANAR.COM.CO",3114782491,"11001",{"$f":"VLOOKUP(B655,'[1]Select temp_pre_numero'!D$1:E$1845,2,0)","v":"OTRAS"}]
["NI",890903777,"2020-08-24","2020-08-24",2,"JHON VARGAS","ANALISTA CONCILIACIONES","RMUNOZA@FAMISANAR.COM.CO",3114782491,"11001",{"$f":"VLOOKUP(B656,'[1]Select temp_pre_numero'!D$1:E$1845,2,0)","v":"OTRAS"}]
["NI",820003435,"2020-08-25","2020-08-25",2,"JHON VARGAS","ANALISTA CONCILIACIONES","RMUNOZA@FAMISANAR.COM.CO",3114782491,"11001",{"$f":"VLOOKUP(B657,'[1]Select temp_pre_numero'!D$1:E$1845,2,0)","v":"OTRAS"}]
["NI",820003401,"2020-08-26","2020-08-26",2,"JHON VARGAS","ANALISTA CONCILIACIONES","RMUNOZA@FAMISANAR.COM.CO",3114782491,"11001",{"$f":"VLOOKUP(B658,'[1]Select temp_pre_numero'!D$1:E$1845,2,0)","v":{"$error":"#N/A"}}]
["NI",830118704,"2020-08-27","2020-08-27",2,"JHON VARGAS","ANALISTA CONCILIACIONES","RMUNOZA@FAMISANAR.COM.CO",3114782491,"11001",{"$f":"VLOOKUP(B659,'[1]Select temp_pre_numero'!D$1:E$1845,2,0)","v":"OTRAS"}]
["NI",800199976,"2020-08-28","2020-08-28",2,"JHON VARGAS","ANALISTA CONCILIACIONES","RMUNOZA@FAMISANAR.COM.CO",3114782491,"11001",{"$f":"VLOOKUP(B660,'[1]Select temp_pre_numero'!D$1:E$1845,2,0)","v":"OTRAS"}]
["NI",900951033,"2020-08-29","2020-08-29",2,"JHON VARGAS","ANALISTA CONCILIACIONES","RMUNOZA@FAMISANAR.COM.CO",3114782491,"11001",{"$f":"VLOOKUP(B661,'[1]Select temp_pre_numero'!D$1:E$1845,2,0)","v":{"$error":"#N/A"}}]
["NI",800213942,"2020-08-30","2020-08-30",2,"JHON VARGAS","ANALISTA CONCILIACIONES","RMUNOZA@FAMISANAR.COM.CO",3114782491,"11001",{"$f":"VLOOKUP(B662,'[1]Select temp_pre_numero'!D$1:E$1845,2,0)","v":"OTRAS"}]
["NI",890981817,"2020-08-31","2020-08-31",2,"JHON VARGAS","ANALISTA CONCILIACIONES","RMUNOZA@FAMISANAR.COM.CO",3114782491,"11001",{"$f":"VLOOKUP(B663,'[1]Select temp_pre_numero'!D$1:E$1845,2,0)","v":"OTRAS"}]
["NI",891380055,"2020-06-16","2020-06-16",2,"JHON VARGAS","ANALISTA CONCILIACIONES","RMUNOZA@FAMISANAR.COM.CO",3114782491,"11001",{"$f":"VLOOKUP(B664,'[1]Select temp_pre_numero'!D$1:E$1845,2,0)","v":"OTRAS"}]
["NI",890981268,"2020-06-17","2020-06-17",2,"JHON VARGAS","ANALISTA CONCILIACIONES","RMUNOZA@FAMISANAR.COM.CO",3114782491,"11001",{"$f":"VLOOKUP(B665,'[1]Select temp_pre_numero'!D$1:E$1845,2,0)","v":"OTRAS"}]
["NI",800044967,"2020-06-18","2020-06-18",2,"JHON VARGAS","ANALISTA CONCILIACIONES","RMUNOZA@FAMISANAR.COM.CO",3114782491,"11001",{"$f":"VLOOKUP(B666,'[1]Select temp_pre_numero'!D$1:E$1845,2,0)","v":"OTRAS"}]
["NI",825000147,"2020-06-19","2020-06-19",2,"JHON VARGAS","ANALISTA CONCILIACIONES","RMUNOZA@FAMISANAR.COM.CO",3114782491,"11001",{"$f":"VLOOKUP(B667,'[1]Select temp_pre_numero'!D$1:E$1845,2,0)","v":"OTRAS"}]
["NI",812002993,"2020-06-23","2020-06-23",2,"JHON VARGAS","ANALISTA CONCILIACIONES","RMUNOZA@FAMISANAR.COM.CO",3114782491,"11001",{"$f":"VLOOKUP(B668,'[1]Select temp_pre_numero'!D$1:E$1845,2,0)","v":"OTRAS"}]
["NI",891380046,"2020-06-24","2020-06-24",2,"JHON VARGAS","ANALISTA CONCILIACIONES","RMUNOZA@FAMISANAR.COM.CO",3114782491,"11001",{"$f":"VLOOKUP(B669,'[1]Select temp_pre_numero'!D$1:E$1845,2,0)","v":"OTRAS"}]
["NI",890208104,"2020-06-25","2020-06-25",2,"JHON VARGAS","ANALISTA CONCILIACIONES","RMUNOZA@FAMISANAR.COM.CO",3114782491,"11001",{"$f":"VLOOKUP(B670,'[1]Select temp_pre_numero'!D$1:E$1845,2,0)","v":"OTRAS"}]
["NI",822000327,"2020-06-26","2020-06-26",2,"JHON VARGAS","ANALISTA CONCILIACIONES","RMUNOZA@FAMISANAR.COM.CO",3114782491,"11001",{"$f":"VLOOKUP(B671,'[1]Select temp_pre_numero'!D$1:E$1845,2,0)","v":{"$error":"#N/A"}}]
["NI",890802036,"2020-06-30","2020-06-30",2,"JHON VARGAS","ANALISTA CONCILIACIONES","RMUNOZA@FAMISANAR.COM.CO",3114782491,"11001",{"$f":"VLOOKUP(B672,'[1]Select temp_pre_numero'!D$1:E$1845,2,0)","v":"OTRAS"}]
["NI",890206257,"2020-07-01","2020-07-01",2,"JHON VARGAS","ANALISTA CONCILIACIONES","RMUNOZA@FAMISANAR.COM.CO",3114782491,"11001",{"$f":"VLOOKUP(B673,'[1]Select temp_pre_numero'!D$1:E$1845,2,0)","v":{"$error":"#N/A"}}]
["NI",800116719,"2020-07-02","2020-07-02",2,"JHON VARGAS","ANALISTA CONCILIACIONES","JCORONADO@FAMISANAR.COM.CO",3162946361,"11001",{"$f":"VLOOKUP(B674,'[1]Select temp_pre_numero'!D$1:E$1845,2,0)","v":"OTRAS"}]
["NI",891900446,"2020-07-03","2020-07-03",2,"JHON VARGAS","ANALISTA CONCILIACIONES","JCORONADO@FAMISANAR.COM.CO",3162946361,"11001",{"$f":"VLOOKUP(B675,'[1]Select temp_pre_numero'!D$1:E$1845,2,0)","v":"OTRAS"}]
["NI",819001107,"2020-07-06","2020-07-06",2,"JHON VARGAS","ANALISTA CONCILIACIONES","JCORONADO@FAMISANAR.COM.CO",3162946361,"11001",{"$f":"VLOOKUP(B676,'[1]Select temp_pre_numero'!D$1:E$1845,2,0)","v":"OTRAS"}]
["NI",891855719,"2020-07-07","2020-07-07",2,"JHON VARGAS","ANALISTA CONCILIACIONES","JCORONADO@FAMISANAR.COM.CO",3162946361,"11001",{"$f":"VLOOKUP(B677,'[1]Select temp_pre_numero'!D$1:E$1845,2,0)","v":"OTRAS"}]
["NI",900231725,"2020-07-08","2020-07-08",2,"JHON VARGAS","ANALISTA CONCILIACIONES","JCORONADO@FAMISANAR.COM.CO",3162946361,"11001",{"$f":"VLOOKUP(B678,'[1]Select temp_pre_numero'!D$1:E$1845,2,0)","v":"OTRAS"}]
["NI",813011465,"2020-07-09","2020-07-09",2,"JHON VARGAS","ANALISTA CONCILIACIONES","JCORONADO@FAMISANAR.COM.CO",3162946361,"11001",{"$f":"VLOOKUP(B679,'[1]Select temp_pre_numero'!D$1:E$1845,2,0)","v":"OTRAS"}]
["NI",820003431,"2020-07-10","2020-07-10",2,"JHON VARGAS","ANALISTA CONCILIACIONES","JCORONADO@FAMISANAR.COM.CO",3162946361,"11001",{"$f":"VLOOKUP(B680,'[1]Select temp_pre_numero'!D$1:E$1845,2,0)","v":{"$error":"#N/A"}}]
["NI",900077667,"2020-07-13","2020-07-13",2,"JHON VARGAS","ANALISTA CONCILIACIONES","JCORONADO@FAMISANAR.COM.CO",3162946361,"11001",{"$f":"VLOOKUP(B681,'[1]Select temp_pre_numero'!D$1:E$1845,2,0)","v":{"$error":"#N/A"}}]
["NI",807008827,"2020-07-14","2020-07-14",2,"JHON VARGAS","ANALISTA CONCILIACIONES","JCORONADO@FAMISANAR.COM.CO",3162946361,"11001",{"$f":"VLOOKUP(B682,'[1]Select temp_pre_numero'!D$1:E$1845,2,0)","v":{"$error":"#N/A"}}]
["NI",890399020,"2020-07-15","2020-07-15",2,"JHON VARGAS","ANALISTA CONCILIACIONES","JCORONADO@FAMISANAR.COM.CO",3162946361,"11001",{"$f":"VLOOKUP(B683,'[1]Select temp_pre_numero'!D$1:E$1845,2,0)","v":"OTRAS"}]
["NI",900646332,"2020-07-16","2020-07-16",2,"JENNYFFER ALEXANDRA SARMIENTO","ANALISTA CONCILIACIONES","JCORONADO@FAMISANAR.COM.CO",3162946361,"11001",{"$f":"VLOOKUP(B684,'[1]Select temp_pre_numero'!D$1:E$1845,2,0)","v":"OTRAS"}]
["NI",819002025,"2020-07-17","2020-07-17",2,"JENNYFFER ALEXANDRA SARMIENTO","ANALISTA CONCILIACIONES","JCORONADO@FAMISANAR.COM.CO",3162946361,"11001",{"$f":"VLOOKUP(B685,'[1]Select temp_pre_numero'!D$1:E$1845,2,0)","v":"OTRAS"}]
["NI",900211804,"2020-07-21","2020-07-21",2,"JENNYFFER ALEXANDRA SARMIENTO","ANALISTA CONCILIACIONES","JCORONADO@FAMISANAR.COM.CO",3162946361,"11001",{"$f":"VLOOKUP(B686,'[1]Select temp_pre_numero'!D$1:E$1845,2,0)","v":{"$error":"#N/A"}}]
["NI",900130671,"2020-07-22","2020-07-22",2,"JENNYFFER ALEXANDRA SARMIENTO","ANALISTA CONCILIACIONES","JCORONADO@FAMISANAR.COM.CO",3162946361,"11001",{"$f":"VLOOKUP(B687,'[1]Select temp_pre_numero'!D$1:E$1845,2,0)","v":{"$error":"#N/A"}}]
["NI",846000678,"2020-07-23","2020-07-23",2,"JENNYFFER ALEXANDRA SARMIENTO","ANALISTA CONCILIACIONES","JCORONADO@FAMISANAR.COM.CO",3162946361,"11001",{"$f":"VLOOKUP(B688,'[1]Select temp_pre_numero'!D$1:E$1845,2,0)","v":"OTRAS"}]
["NI",800194627,"2020-07-24","2020-07-24",2,"JENNYFFER ALEXANDRA SARMIENTO","ANALISTA CONCILIACIONES","JCORONADO@FAMISANAR.COM.CO",3162946361,"11001",{"$f":"VLOOKUP(B689,'[1]Select temp_pre_numero'!D$1:E$1845,2,0)","v":"OTRAS"}]
["NI",817000162,"2020-07-27","2020-07-27",2,"JENNYFFER ALEXANDRA SARMIENTO","ANALISTA CONCILIACIONES","JCORONADO@FAMISANAR.COM.CO",3162946361,"11001",{"$f":"VLOOKUP(B690,'[1]Select temp_pre_numero'!D$1:E$1845,2,0)","v":"OTRAS"}]
["NI",826002694,"2020-07-28","2020-07-28",2,"JENNYFFER ALEXANDRA SARMIENTO","ANALISTA CONCILIACIONES","JCORONADO@FAMISANAR.COM.CO",3162946361,"11001",{"$f":"VLOOKUP(B691,'[1]Select temp_pre_numero'!D$1:E$1845,2,0)","v":"OTRAS"}]
["NI",900000615,"2020-07-29","2020-07-29",2,"JENNYFFER ALEXANDRA SARMIENTO","ANALISTA CONCILIACIONES","JCORONADO@FAMISANAR.COM.CO",3162946361,"11001",{"$f":"VLOOKUP(B692,'[1]Select temp_pre_numero'!D$1:E$1845,2,0)","v":{"$error":"#N/A"}}]
["NI",800048954,"2020-07-30","2020-07-30",2,"JENNYFFER ALEXANDRA SARMIENTO","ANALISTA CONCILIACIONES","JCORONADO@FAMISANAR.COM.CO",3162946361,"11001",{"$f":"VLOOKUP(B693,'[1]Select temp_pre_numero'!D$1:E$1845,2,0)","v":"OTRAS"}]
["NI",829000940,"2020-07-31","2020-07-31",2,"JENNYFFER ALEXANDRA SARMIENTO","ANALISTA CONCILIACIONES","JCORONADO@FAMISANAR.COM.CO",3162946361,"11001",{"$f":"VLOOKUP(B694,'[1]Select temp_pre_numero'!D$1:E$1845,2,0)","v":"OTRAS"}]
["NI",806006753,"2020-08-03","2020-08-03",2,"JENNYFFER ALEXANDRA SARMIENTO","ANALISTA CONCILIACIONES","JCORONADO@FAMISANAR.COM.CO",3162946361,"11001",{"$f":"VLOOKUP(B695,'[1]Select temp_pre_numero'!D$1:E$1845,2,0)","v":"OTRAS"}]
["NI",891900438,"2020-08-04","2020-08-04",2,"JENNYFFER ALEXANDRA SARMIENTO","ANALISTA CONCILIACIONES","JCORONADO@FAMISANAR.COM.CO",3162946361,"11001",{"$f":"VLOOKUP(B696,'[1]Select temp_pre_numero'!D$1:E$1845,2,0)","v":"OTRAS"}]
["NI",900077651,"2020-08-05","2020-08-05",2,"JENNYFFER ALEXANDRA SARMIENTO","ANALISTA CONCILIACIONES","JCORONADO@FAMISANAR.COM.CO",3162946361,"11001",{"$f":"VLOOKUP(B697,'[1]Select temp_pre_numero'!D$1:E$1845,2,0)","v":"OTRAS"}]
["NI",826002718,"2020-08-06","2020-08-06",2,"JENNYFFER ALEXANDRA SARMIENTO","ANALISTA CONCILIACIONES","JCORONADO@FAMISANAR.COM.CO",3162946361,"11001",{"$f":"VLOOKUP(B698,'[1]Select temp_pre_numero'!D$1:E$1845,2,0)","v":{"$error":"#N/A"}}]
["NI",860006656,"2020-06-16","2020-06-16",2,"ROSEMBERG ANDRES MUÑOZ ","ANALISTA CONCILIACIONES","RMUNOZA@FAMISANAR.COM.CO",3114782491,"11001",{"$f":"VLOOKUP(B699,'[1]Select temp_pre_numero'!D$1:E$1845,2,0)","v":"OTRAS"}]
["NI",830090073,"2020-06-17","2020-06-17",2,"ROSEMBERG ANDRES MUÑOZ ","ANALISTA CONCILIACIONES","RMUNOZA@FAMISANAR.COM.CO",3114782491,"11001",{"$f":"VLOOKUP(B700,'[1]Select temp_pre_numero'!D$1:E$1845,2,0)","v":"OTRAS"}]
["NI",890680025,"2020-06-18","2020-06-18",2,"ROSEMBERG ANDRES MUÑOZ ","ANALISTA CONCILIACIONES","RMUNOZA@FAMISANAR.COM.CO",3114782491,"11001",{"$f":"VLOOKUP(B701,'[1]Select temp_pre_numero'!D$1:E$1845,2,0)","v":"OTRAS"}]
["NI",900959048,"2020-06-19","2020-06-19",2,"ROSEMBERG ANDRES MUÑOZ ","ANALISTA CONCILIACIONES","RMUNOZA@FAMISANAR.COM.CO",3114782491,"11001",{"$f":"VLOOKUP(B702,'[1]Select temp_pre_numero'!D$1:E$1845,2,0)","v":"OTRAS"}]
["NI",900529056,"2020-06-23","2020-06-23",2,"ROSEMBERG ANDRES MUÑOZ ","ANALISTA CONCILIACIONES","RMUNOZA@FAMISANAR.COM.CO",3114782491,"11001",{"$f":"VLOOKUP(B703,'[1]Select temp_pre_numero'!D$1:E$1845,2,0)","v":{"$error":"#N/A"}}]
["NI",900301238,"2020-06-24","2020-06-24",2,"ROSEMBERG ANDRES MUÑOZ ","ANALISTA CONCILIACIONES","RMUNOZA@FAMISANAR.COM.CO",3114782491,"11001",{"$f":"VLOOKUP(B704,'[1]Select temp_pre_numero'!D$1:E$1845,2,0)","v":"OTRAS"}]
["NI",832001411,"2020-06-25","2020-06-25",2,"ROSEMBERG ANDRES MUÑOZ ","ANALISTA CONCILIACIONES","RMUNOZA@FAMISANAR.COM.CO",3114782491,"11001",{"$f":"VLOOKUP(B705,'[1]Select temp_pre_numero'!D$1:E$1845,2,0)","v":{"$error":"#N/A"}}]
["NI",820005389,"2020-06-26","2020-06-26",2,"ROSEMBERG ANDRES MUÑOZ ","ANALISTA CONCILIACIONES","RMUNOZA@FAMISANAR.COM.CO",3114782491,"11001",{"$f":"VLOOKUP(B706,'[1]Select temp_pre_numero'!D$1:E$1845,2,0)","v":"OTRAS"}]
["NI",900110940,"2020-06-30","2020-06-30",2,"ROSEMBERG ANDRES MUÑOZ ","ANALISTA CONCILIACIONES","RMUNOZA@FAMISANAR.COM.CO",3114782491,"11001",{"$f":"VLOOKUP(B707,'[1]Select temp_pre_numero'!D$1:E$1845,2,0)","v":{"$error":"#N/A"}}]
["NI",900004894,"2020-07-01","2020-07-01",2,"ROSEMBERG ANDRES MUÑOZ ","ANALISTA CONCILIACIONES","RMUNOZA@FAMISANAR.COM.CO",3114782491,"11001",{"$f":"VLOOKUP(B708,'[1]Select temp_pre_numero'!D$1:E$1845,2,0)","v":"OTRAS"}]
["NI",813001952,"2020-07-02","2020-07-02",2,"ROSEMBERG ANDRES MUÑOZ ","ANALISTA CONCILIACIONES","RMUNOZA@FAMISANAR.COM.CO",3114782491,"11001",{"$f":"VLOOKUP(B709,'[1]Select temp_pre_numero'!D$1:E$1845,2,0)","v":"OTRAS"}]
["NI",900328772,"2020-07-03","2020-07-03",2,"ROSEMBERG ANDRES MUÑOZ ","ANALISTA CONCILIACIONES","RMUNOZA@FAMISANAR.COM.CO",3114782491,"11001",{"$f":"VLOOKUP(B710,'[1]Select temp_pre_numero'!D$1:E$1845,2,0)","v":"OTRAS"}]
["NI",891856507,"2020-07-06","2020-07-06",2,"ROSEMBERG ANDRES MUÑOZ ","ANALISTA CONCILIACIONES","RMUNOZA@FAMISANAR.COM.CO",3114782491,"11001",{"$f":"VLOOKUP(B711,'[1]Select temp_pre_numero'!D$1:E$1845,2,0)","v":"OTRAS"}]
["NI",900013381,"2020-07-07","2020-07-07",2,"ROSEMBERG ANDRES MUÑOZ ","ANALISTA CONCILIACIONES","RMUNOZA@FAMISANAR.COM.CO",3114782491,"11001",{"$f":"VLOOKUP(B712,'[1]Select temp_pre_numero'!D$1:E$1845,2,0)","v":"OTRAS"}]
["NI",830100595,"2020-07-08","2020-07-08",2,"ROSEMBERG ANDRES MUÑOZ ","ANALISTA CONCILIACIONES","RMUNOZA@FAMISANAR.COM.CO",3114782491,"11001",{"$f":"VLOOKUP(B713,'[1]Select temp_pre_numero'!D$1:E$1845,2,0)","v":"OTRAS"}]
["NI",900807482,"2020-07-09","2020-07-09",2,"ROSEMBERG ANDRES MUÑOZ ","ANALISTA CONCILIACIONES","RMUNOZA@FAMISANAR.COM.CO",3114782491,"11001",{"$f":"VLOOKUP(B714,'[1]Select temp_pre_numero'!D$1:E$1845,2,0)","v":{"$error":"#N/A"}}]
["NI",800099860,"2020-07-10","2020-07-10",2,"ROSEMBERG ANDRES MUÑOZ ","ANALISTA CONCILIACIONES","RMUNOZA@FAMISANAR.COM.CO",3114782491,"11001",{"$f":"VLOOKUP(B715,'[1]Select temp_pre_numero'!D$1:E$1845,2,0)","v":"OTRAS"}]
["NI",891855039,"2020-07-13","2020-07-13",2,"ROSEMBERG ANDRES MUÑOZ ","ANALISTA CONCILIACIONES","RMUNOZA@FAMISANAR.COM.CO",3114782491,"11001",{"$f":"VLOOKUP(B716,'[1]Select temp_pre_numero'!D$1:E$1845,2,0)","v":"OTRAS"}]
["NI",900750333,"2020-07-14","2020-07-14",2,"ROSEMBERG ANDRES MUÑOZ ","ANALISTA CONCILIACIONES","RMUNOZA@FAMISANAR.COM.CO",3114782491,"11001",{"$f":"VLOOKUP(B717,'[1]Select temp_pre_numero'!D$1:E$1845,2,0)","v":"OTRAS"}]
["NI",891855438,"2020-07-15","2020-07-15",2,"ROSEMBERG ANDRES MUÑOZ ","ANALISTA CONCILIACIONES","RMUNOZA@FAMISANAR.COM.CO",3114782491,"11001",{"$f":"VLOOKUP(B718,'[1]Select temp_pre_numero'!D$1:E$1845,2,0)","v":"OTRAS"}]
["NI",900218628,"2020-07-16","2020-07-16",2,"ROSEMBERG ANDRES MUÑOZ ","ANALISTA CONCILIACIONES","RMUNOZA@FAMISANAR.COM.CO",3114782491,"11001",{"$f":"VLOOKUP(B719,'[1]Select temp_pre_numero'!D$1:E$1845,2,0)","v":{"$error":"#N/A"}}]
["NI",900355491,"2020-07-17","2020-07-17",2,"ROSEMBERG ANDRES MUÑOZ ","ANALISTA CONCILIACIONES","RMUNOZA@FAMISANAR.COM.CO",3114782491,"11001",{"$f":"VLOOKUP(B720,'[1]Select temp_pre_numero'!D$1:E$1845,2,0)","v":"OTRAS"}]
["NI",860020094,"2020-07-21","2020-07-21",2,"ROSEMBERG ANDRES MUÑOZ ","ANALISTA CONCILIACIONES","RMUNOZA@FAMISANAR.COM.CO",3114782491,"11001",{"$f":"VLOOKUP(B721,'[1]Select temp_pre_numero'!D$1:E$1845,2,0)","v":{"$error":"#N/A"}}]
["NI",810000913,"2020-07-22","2020-07-22",2,"ROSEMBERG ANDRES MUÑOZ ","ANALISTA CONCILIACIONES","RMUNOZA@FAMISANAR.COM.CO",3114782491,"11001",{"$f":"VLOOKUP(B722,'[1]Select temp_pre_numero'!D$1:E$1845,2,0)","v":"OTRAS"}]
["NI",800174851,"2020-07-23","2020-07-23",2,"ROSEMBERG ANDRES MUÑOZ ","ANALISTA CONCILIACIONES","RMUNOZA@FAMISANAR.COM.CO",3114782491,"11001",{"$f":"VLOOKUP(B723,'[1]Select temp_pre_numero'!D$1:E$1845,2,0)","v":"OTRAS"}]
["NI",891800231,"2020-07-24","2020-07-24",2,"ROSEMBERG ANDRES MUÑOZ ","ANALISTA CONCILIACIONES","RMUNOZA@FAMISANAR.COM.CO",3114782491,"11001",{"$f":"VLOOKUP(B724,'[1]Select temp_pre_numero'!D$1:E$1845,2,0)","v":"OTRAS"}]
["NI",891800570,"2020-07-27","2020-07-27",2,"ROSEMBERG ANDRES MUÑOZ ","ANALISTA CONCILIACIONES","RMUNOZA@FAMISANAR.COM.CO",3114782491,"11001",{"$f":"VLOOKUP(B725,'[1]Select temp_pre_numero'!D$1:E$1845,2,0)","v":"OTRAS"}]
["NI",830124110,"2020-07-28","2020-07-28",2,"ROSEMBERG ANDRES MUÑOZ ","ANALISTA CONCILIACIONES","RMUNOZA@FAMISANAR.COM.CO",3114782491,"11001",{"$f":"VLOOKUP(B726,'[1]Select temp_pre_numero'!D$1:E$1845,2,0)","v":"OTRAS"}]
["NI",860020283,"2020-07-29","2020-07-29",2,"JHON VARGAS","ANALISTA CONCILIACIONES","RMUNOZA@FAMISANAR.COM.CO",3114782491,"11001",{"$f":"VLOOKUP(B727,'[1]Select temp_pre_numero'!D$1:E$1845,2,0)","v":{"$error":"#N/A"}}]
["NI",891856161,"2020-07-30","2020-07-30",2,"JHON VARGAS","ANALISTA CONCILIACIONES","RMUNOZA@FAMISANAR.COM.CO",3114782491,"11001",{"$f":"VLOOKUP(B728,'[1]Select temp_pre_numero'!D$1:E$1845,2,0)","v":"OTRAS"}]
["NI",891855209,"2020-07-31","2020-07-31",2,"JHON VARGAS","ANALISTA CONCILIACIONES","RMUNOZA@FAMISANAR.COM.CO",3114782491,"11001",{"$f":"VLOOKUP(B729,'[1]Select temp_pre_numero'!D$1:E$1845,2,0)","v":"OTRAS"}]
["NI",826000261,"2020-08-03","2020-08-03",2,"JHON VARGAS","ANALISTA CONCILIACIONES","RMUNOZA@FAMISANAR.COM.CO",3114782491,"11001",{"$f":"VLOOKUP(B730,'[1]Select temp_pre_numero'!D$1:E$1845,2,0)","v":"OTRAS"}]
["NI",860005114,"2020-08-04","2020-08-04",2,"JHON VARGAS","ANALISTA CONCILIACIONES","RMUNOZA@FAMISANAR.COM.CO",3114782491,"11001",{"$f":"VLOOKUP(B731,'[1]Select temp_pre_numero'!D$1:E$1845,2,0)","v":"OTRAS"}]
["NI",900010842,"2020-08-05","2020-08-05",2,"JHON VARGAS","ANALISTA CONCILIACIONES","RMUNOZA@FAMISANAR.COM.CO",3114782491,"11001",{"$f":"VLOOKUP(B732,'[1]Select temp_pre_numero'!D$1:E$1845,2,0)","v":{"$error":"#N/A"}}]
["NI",832000290,"2020-08-06","2020-08-06",2,"JHON VARGAS","ANALISTA CONCILIACIONES","RMUNOZA@FAMISANAR.COM.CO",3114782491,"11001",{"$f":"VLOOKUP(B733,'[1]Select temp_pre_numero'!D$1:E$1845,2,0)","v":{"$error":"#N/A"}}]
["NI",891800906,"2020-08-10","2020-08-10",2,"JHON VARGAS","ANALISTA CONCILIACIONES","RMUNOZA@FAMISANAR.COM.CO",3114782491,"11001",{"$f":"VLOOKUP(B734,'[1]Select temp_pre_numero'!D$1:E$1845,2,0)","v":"OTRAS"}]
["NI",820001277,"2020-08-11","2020-08-11",2,"JHON VARGAS","ANALISTA CONCILIACIONES","RMUNOZA@FAMISANAR.COM.CO",3114782491,"11001",{"$f":"VLOOKUP(B735,'[1]Select temp_pre_numero'!D$1:E$1845,2,0)","v":"OTRAS"}]
["NI",900606427,"2020-08-12","2020-08-12",2,"JHON VARGAS","ANALISTA CONCILIACIONES","RMUNOZA@FAMISANAR.COM.CO",3114782491,"11001",{"$f":"VLOOKUP(B736,'[1]Select temp_pre_numero'!D$1:E$1845,2,0)","v":{"$error":"#N/A"}}]
["NI",820001181,"2020-08-13","2020-08-13",2,"JHON VARGAS","ANALISTA CONCILIACIONES","RMUNOZA@FAMISANAR.COM.CO",3114782491,"11001",{"$f":"VLOOKUP(B737,'[1]Select temp_pre_numero'!D$1:E$1845,2,0)","v":"OTRAS"}]
["NI",891800611,"2020-08-14","2020-08-14",2,"JHON VARGAS","ANALISTA CONCILIACIONES","RMUNOZA@FAMISANAR.COM.CO",3114782491,"11001",{"$f":"VLOOKUP(B738,'[1]Select temp_pre_numero'!D$1:E$1845,2,0)","v":"OTRAS"}]
["NI",800214230,"2020-08-18","2020-08-18",2,"JHON VARGAS","ANALISTA CONCILIACIONES","RMUNOZA@FAMISANAR.COM.CO",3114782491,"11001",{"$f":"VLOOKUP(B739,'[1]Select temp_pre_numero'!D$1:E$1845,2,0)","v":{"$error":"#N/A"}}]
["NI",900109866,"2020-08-19","2020-08-19",2,"JHON VARGAS","ANALISTA CONCILIACIONES","RMUNOZA@FAMISANAR.COM.CO",3114782491,"11001",{"$f":"VLOOKUP(B740,'[1]Select temp_pre_numero'!D$1:E$1845,2,0)","v":"OTRAS"}]
["NI",891800395,"2020-08-20","2020-08-20",2,"JHON VARGAS","ANALISTA CONCILIACIONES","RMUNOZA@FAMISANAR.COM.CO",3114782491,"11001",{"$f":"VLOOKUP(B741,'[1]Select temp_pre_numero'!D$1:E$1845,2,0)","v":"OTRAS"}]
["NI",814003448,"2020-08-21","2020-08-21",2,"JHON VARGAS","ANALISTA CONCILIACIONES","RMUNOZA@FAMISANAR.COM.CO",3114782491,"11001",{"$f":"VLOOKUP(B742,'[1]Select temp_pre_numero'!D$1:E$1845,2,0)","v":"OTRAS"}]
["NI",804013017,"2020-08-24","2020-08-24",2,"JHON VARGAS","ANALISTA CONCILIACIONES","RMUNOZA@FAMISANAR.COM.CO",3114782491,"11001",{"$f":"VLOOKUP(B743,'[1]Select temp_pre_numero'!D$1:E$1845,2,0)","v":"OTRAS"}]
["NI",899999161,"2020-08-25","2020-08-25",2,"JHON VARGAS","ANALISTA CONCILIACIONES","RMUNOZA@FAMISANAR.COM.CO",3114782491,"11001",{"$f":"VLOOKUP(B744,'[1]Select temp_pre_numero'!D$1:E$1845,2,0)","v":{"$error":"#N/A"}}]
["NI",900308007,"2020-08-26","2020-08-26",2,"JHON VARGAS","ANALISTA CONCILIACIONES","RMUNOZA@FAMISANAR.COM.CO",3114782491,"11001",{"$f":"VLOOKUP(B745,'[1]Select temp_pre_numero'!D$1:E$1845,2,0)","v":"OTRAS"}]
["NI",900180348,"2020-08-27","2020-08-27",2,"JHON VARGAS","ANALISTA CONCILIACIONES","RMUNOZA@FAMISANAR.COM.CO",3114782491,"11001",{"$f":"VLOOKUP(B746,'[1]Select temp_pre_numero'!D$1:E$1845,2,0)","v":"OTRAS"}]
["NI",900374337,"2020-08-28","2020-08-28",2,"JHON VARGAS","ANALISTA CONCILIACIONES","RMUNOZA@FAMISANAR.COM.CO",3114782491,"11001",{"$f":"VLOOKUP(B747,'[1]Select temp_pre_numero'!D$1:E$1845,2,0)","v":"OTRAS"}]
["NI",800085486,"2020-08-29","2020-08-29",2,"JHON VARGAS","ANALISTA CONCILIACIONES","RMUNOZA@FAMISANAR.COM.CO",3114782491,"11001",{"$f":"VLOOKUP(B748,'[1]Select temp_pre_numero'!D$1:E$1845,2,0)","v":"OTRAS"}]
["NI",830025643,"2020-08-30","2020-08-30",2,"JHON VARGAS","ANALISTA CONCILIACIONES","RMUNOZA@FAMISANAR.COM.CO",3114782491,"11001",{"$f":"VLOOKUP(B749,'[1]Select temp_pre_numero'!D$1:E$1845,2,0)","v":"OTRAS"}]
["NI",860013704,"2020-08-31","2020-08-31",2,"JHON VARGAS","ANALISTA CONCILIACIONES","RMUNOZA@FAMISANAR.COM.CO",3114782491,"11001",{"$f":"VLOOKUP(B750,'[1]Select temp_pre_numero'!D$1:E$1845,2,0)","v":"OTRAS"}]
["NI",891800023,"2020-08-27","2020-08-27",2,"JHON VARGAS","ANALISTA CONCILIACIONES","RMUNOZA@FAMISANAR.COM.CO",3114782491,"11001",{"$f":"VLOOKUP(B751,'[1]Select temp_pre_numero'!D$1:E$1845,2,0)","v":"OTRAS"}]
["NI",900410792,"2020-08-28","2020-08-28",2,"JHON VARGAS","ANALISTA CONCILIACIONES","RMUNOZA@FAMISANAR.COM.CO",3114782491,"11001",{"$f":"VLOOKUP(B752,'[1]Select temp_pre_numero'!D$1:E$1845,2,0)","v":{"$error":"#N/A"}}]
["NI",900809723,"2020-08-29","2020-08-29",2,"JHON VARGAS","ANALISTA CONCILIACIONES","RMUNOZA@FAMISANAR.COM.CO",3114782491,"11001",{"$f":"VLOOKUP(B753,'[1]Select temp_pre_numero'!D$1:E$1845,2,0)","v":{"$error":"#N/A"}}]
["NI",832003868,"2020-08-30","2020-08-30",2,"JHON VARGAS","ANALISTA CONCILIACIONES","RMUNOZA@FAMISANAR.COM.CO",3114782491,"11001",{"$f":"VLOOKUP(B754,'[1]Select temp_pre_numero'!D$1:E$1845,2,0)","v":{"$error":"#N/A"}}]
["NI",820002033,"2020-08-31","2020-08-31",2,"JHON VARGAS","ANALISTA CONCILIACIONES","RMUNOZA@FAMISANAR.COM.CO",3114782491,"11001",{"$f":"VLOOKUP(B755,'[1]Select temp_pre_numero'!D$1:E$1845,2,0)","v":{"$error":"#N/A"}}]
["NI",804010244,"2020-06-16","2020-06-16",2,"JUAN CARLOS","ANALISTA CONCILIACIONES","JCRAMIREZ@FAMISANAR.COM.CO",3125547250,"11001",{"$f":"VLOOKUP(B756,'[1]Select temp_pre_numero'!D$1:E$1845,2,0)","v":"OTRAS"}]
["NI",901145394,"2020-06-17","2020-06-17",2,"JUAN CARLOS","ANALISTA CONCILIACIONES","JCRAMIREZ@FAMISANAR.COM.CO",3125547250,"11001",{"$f":"VLOOKUP(B757,'[1]Select temp_pre_numero'!D$1:E$1845,2,0)","v":{"$error":"#N/A"}}]
["NI",806013568,"2020-06-18","2020-06-18",2,"JUAN CARLOS","ANALISTA CONCILIACIONES","JCRAMIREZ@FAMISANAR.COM.CO",3125547250,"11001",{"$f":"VLOOKUP(B758,'[1]Select temp_pre_numero'!D$1:E$1845,2,0)","v":"OTRAS"}]
["NI",890480135,"2020-06-19","2020-06-19",2,"JUAN CARLOS","ANALISTA CONCILIACIONES","JCRAMIREZ@FAMISANAR.COM.CO",3125547250,"11001",{"$f":"VLOOKUP(B759,'[1]Select temp_pre_numero'!D$1:E$1845,2,0)","v":"OTRAS"}]
["NI",802016761,"2020-06-23","2020-06-23",2,"JUAN CARLOS","ANALISTA CONCILIACIONES","JCRAMIREZ@FAMISANAR.COM.CO",3125547250,"11001",{"$f":"VLOOKUP(B760,'[1]Select temp_pre_numero'!D$1:E$1845,2,0)","v":"OTRAS"}]
["NI",900345005,"2020-06-24","2020-06-24",2,"JUAN CARLOS","ANALISTA CONCILIACIONES","JCRAMIREZ@FAMISANAR.COM.CO",3125547250,"11001",{"$f":"VLOOKUP(B761,'[1]Select temp_pre_numero'!D$1:E$1845,2,0)","v":"OTRAS"}]
["NI",802012998,"2020-06-25","2020-06-25",2,"JUAN CARLOS","ANALISTA CONCILIACIONES","JCRAMIREZ@FAMISANAR.COM.CO",3125547250,"11001",{"$f":"VLOOKUP(B762,'[1]Select temp_pre_numero'!D$1:E$1845,2,0)","v":"OTRAS"}]
["NI",802021182,"2020-06-26","2020-06-26",2,"JUAN CARLOS","ANALISTA CONCILIACIONES","JCRAMIREZ@FAMISANAR.COM.CO",3125547250,"11001",{"$f":"VLOOKUP(B763,'[1]Select temp_pre_numero'!D$1:E$1845,2,0)","v":"OTRAS"}]
["NI",901139193,"2020-06-30","2020-06-30",2,"JUAN CARLOS","ANALISTA CONCILIACIONES","JCRAMIREZ@FAMISANAR.COM.CO",3125547250,"11001",{"$f":"VLOOKUP(B764,'[1]Select temp_pre_numero'!D$1:E$1845,2,0)","v":"OTRAS"}]
["NI",890205283,"2020-07-01","2020-07-01",2,"JUAN CARLOS","ANALISTA CONCILIACIONES","JCRAMIREZ@FAMISANAR.COM.CO",3125547250,"11001",{"$f":"VLOOKUP(B765,'[1]Select temp_pre_numero'!D$1:E$1845,2,0)","v":"OTRAS"}]
["NI",900477943,"2020-07-02","2020-07-02",2,"JUAN CARLOS","ANALISTA CONCILIACIONES","JCRAMIREZ@FAMISANAR.COM.CO",3125547250,"11001",{"$f":"VLOOKUP(B766,'[1]Select temp_pre_numero'!D$1:E$1845,2,0)","v":"OTRAS"}]
["NI",900291392,"2020-07-03","2020-07-03",2,"JUAN CARLOS","ANALISTA CONCILIACIONES","JCRAMIREZ@FAMISANAR.COM.CO",3125547250,"11001",{"$f":"VLOOKUP(B767,'[1]Select temp_pre_numero'!D$1:E$1845,2,0)","v":"OTRAS"}]
["NI",800156469,"2020-07-06","2020-07-06",2,"JUAN CARLOS","ANALISTA CONCILIACIONES","JCRAMIREZ@FAMISANAR.COM.CO",3125547250,"11001",{"$f":"VLOOKUP(B768,'[1]Select temp_pre_numero'!D$1:E$1845,2,0)","v":"OTRAS"}]
["NI",900533903,"2020-07-07","2020-07-07",2,"JUAN CARLOS","ANALISTA CONCILIACIONES","JCRAMIREZ@FAMISANAR.COM.CO",3125547250,"11001",{"$f":"VLOOKUP(B769,'[1]Select temp_pre_numero'!D$1:E$1845,2,0)","v":{"$error":"#N/A"}}]
["NI",890108597,"2020-07-08","2020-07-08",2,"JUAN CARLOS","ANALISTA CONCILIACIONES","JCRAMIREZ@FAMISANAR.COM.CO",3125547250,"11001",{"$f":"VLOOKUP(B770,'[1]Select temp_pre_numero'!D$1:E$1845,2,0)","v":"OTRAS"}]
["NI",800037979,"2020-07-09","2020-07-09",2,"JUAN CARLOS","ANALISTA CONCILIACIONES","JCRAMIREZ@FAMISANAR.COM.CO",3125547250,"11001",{"$f":"VLOOKUP(B771,'[1]Select temp_pre_numero'!D$1:E$1845,2,0)","v":"OTRAS"}]
["NI",900600550,"2020-07-10","2020-07-10",2,"JUAN CARLOS","ANALISTA CONCILIACIONES","JCRAMIREZ@FAMISANAR.COM.CO",3125547250,"11001",{"$f":"VLOOKUP(B772,'[1]Select temp_pre_numero'!D$1:E$1845,2,0)","v":"OTRAS"}]
["NI",900266533,"2020-07-13","2020-07-13",2,"JUAN CARLOS","ANALISTA CONCILIACIONES","JCRAMIREZ@FAMISANAR.COM.CO",3125547250,"11001",{"$f":"VLOOKUP(B773,'[1]Select temp_pre_numero'!D$1:E$1845,2,0)","v":{"$error":"#N/A"}}]
["NI",800094439,"2020-07-14","2020-07-14",2,"JUAN CARLOS","ANALISTA CONCILIACIONES","JCRAMIREZ@FAMISANAR.COM.CO",3125547250,"11001",{"$f":"VLOOKUP(B774,'[1]Select temp_pre_numero'!D$1:E$1845,2,0)","v":"OTRAS"}]
["NI",830509497,"2020-07-15","2020-07-15",2,"JUAN CARLOS","ANALISTA CONCILIACIONES","JCRAMIREZ@FAMISANAR.COM.CO",3125547250,"11001",{"$f":"VLOOKUP(B775,'[1]Select temp_pre_numero'!D$1:E$1845,2,0)","v":"OTRAS"}]
["NI",900269029,"2020-07-16","2020-07-16",2,"JUAN CARLOS","ANALISTA CONCILIACIONES","JCRAMIREZ@FAMISANAR.COM.CO",3125547250,"11001",{"$f":"VLOOKUP(B776,'[1]Select temp_pre_numero'!D$1:E$1845,2,0)","v":"OTRAS"}]
["NI",890112801,"2020-07-17","2020-07-17",2,"JUAN CARLOS","ANALISTA CONCILIACIONES","JCRAMIREZ@FAMISANAR.COM.CO",3125547250,"11001",{"$f":"VLOOKUP(B777,'[1]Select temp_pre_numero'!D$1:E$1845,2,0)","v":"OTRAS"}]
["NI",900184815,"2020-07-21","2020-07-21",2,"JUAN CARLOS","ANALISTA CONCILIACIONES","JCRAMIREZ@FAMISANAR.COM.CO",3125547250,"11001",{"$f":"VLOOKUP(B778,'[1]Select temp_pre_numero'!D$1:E$1845,2,0)","v":"OTRAS"}]
["NI",900196347,"2020-07-22","2020-07-22",2,"JUAN CARLOS","ANALISTA CONCILIACIONES","JCRAMIREZ@FAMISANAR.COM.CO",3125547250,"11001",{"$f":"VLOOKUP(B779,'[1]Select temp_pre_numero'!D$1:E$1845,2,0)","v":"OTRAS"}]
["NI",822007837,"2020-07-23","2020-07-23",2,"JUAN CARLOS","ANALISTA CONCILIACIONES","JCRAMIREZ@FAMISANAR.COM.CO",3125547250,"11001",{"$f":"VLOOKUP(B780,'[1]Select temp_pre_numero'!D$1:E$1845,2,0)","v":"OTRAS"}]
["NI",800018233,"2020-07-24","2020-07-24",2,"JUAN CARLOS","ANALISTA CONCILIACIONES","JCRAMIREZ@FAMISANAR.COM.CO",3125547250,"11001",{"$f":"VLOOKUP(B781,'[1]Select temp_pre_numero'!D$1:E$1845,2,0)","v":"OTRAS"}]
["NI",900581702,"2020-07-27","2020-07-27",2,"JUAN CARLOS","ANALISTA CONCILIACIONES","JCRAMIREZ@FAMISANAR.COM.CO",3125547250,"11001",{"$f":"VLOOKUP(B782,'[1]Select temp_pre_numero'!D$1:E$1845,2,0)","v":"OTRAS"}]
["NI",800253167,"2020-07-28","2020-07-28",2,"JUAN CARLOS","ANALISTA CONCILIACIONES","JCRAMIREZ@FAMISANAR.COM.CO",3125547250,"11001",{"$f":"VLOOKUP(B783,'[1]Select temp_pre_numero'!D$1:E$1845,2,0)","v":"OTRAS"}]
["NI",900136865,"2020-07-29","2020-07-29",2,"JUAN CARLOS","ANALISTA CONCILIACIONES","JCRAMIREZ@FAMISANAR.COM.CO",3125547250,"11001",{"$f":"VLOOKUP(B784,'[1]Select temp_pre_numero'!D$1:E$1845,2,0)","v":"OTRAS"}]
["NI",900192085,"2020-07-30","2020-07-30",2,"JUAN CARLOS","ANALISTA CONCILIACIONES","JCRAMIREZ@FAMISANAR.COM.CO",3125547250,"11001",{"$f":"VLOOKUP(B785,'[1]Select temp_pre_numero'!D$1:E$1845,2,0)","v":"OTRAS"}]
["NI",900190045,"2020-07-31","2020-07-31",2,"JUAN CARLOS","ANALISTA CONCILIACIONES","JCRAMIREZ@FAMISANAR.COM.CO",3125547250,"11001",{"$f":"VLOOKUP(B786,'[1]Select temp_pre_numero'!D$1:E$1845,2,0)","v":"OTRAS"}]
["NI",802022775,"2020-08-03","2020-08-03",2,"JUAN CARLOS","ANALISTA CONCILIACIONES","JCRAMIREZ@FAMISANAR.COM.CO",3125547250,"11001",{"$f":"VLOOKUP(B787,'[1]Select temp_pre_numero'!D$1:E$1845,2,0)","v":"OTRAS"}]
["NI",806008439,"2020-08-04","2020-08-04",2,"JUAN CARLOS","ANALISTA CONCILIACIONES","JCRAMIREZ@FAMISANAR.COM.CO",3125547250,"11001",{"$f":"VLOOKUP(B788,'[1]Select temp_pre_numero'!D$1:E$1845,2,0)","v":"OTRAS"}]
["NI",829001846,"2020-08-05","2020-08-05",2,"JUAN CARLOS","ANALISTA CONCILIACIONES","JCRAMIREZ@FAMISANAR.COM.CO",3125547250,"11001",{"$f":"VLOOKUP(B789,'[1]Select temp_pre_numero'!D$1:E$1845,2,0)","v":"OTRAS"}]
["NI",800131518,"2020-08-06","2020-08-06",2,"JUAN CARLOS","ANALISTA CONCILIACIONES","JCRAMIREZ@FAMISANAR.COM.CO",3125547250,"11001",{"$f":"VLOOKUP(B790,'[1]Select temp_pre_numero'!D$1:E$1845,2,0)","v":"OTRAS"}]
["NI",892001990,"2020-08-10","2020-08-10",2,"JUAN CARLOS","ANALISTA CONCILIACIONES","JCRAMIREZ@FAMISANAR.COM.CO",3125547250,"11001",{"$f":"VLOOKUP(B791,'[1]Select temp_pre_numero'!D$1:E$1845,2,0)","v":{"$error":"#N/A"}}]
["NI",900054442,"2020-08-11","2020-08-11",2,"JUAN CARLOS","ANALISTA CONCILIACIONES","JCRAMIREZ@FAMISANAR.COM.CO",3125547250,"11001",{"$f":"VLOOKUP(B792,'[1]Select temp_pre_numero'!D$1:E$1845,2,0)","v":{"$error":"#N/A"}}]
["NI",900110631,"2020-08-12","2020-08-12",2,"JUAN CARLOS","ANALISTA CONCILIACIONES","JCRAMIREZ@FAMISANAR.COM.CO",3125547250,"11001",{"$f":"VLOOKUP(B793,'[1]Select temp_pre_numero'!D$1:E$1845,2,0)","v":"OTRAS"}]
["NI",900355554,"2020-08-13","2020-08-13",2,"JUAN CARLOS","ANALISTA CONCILIACIONES","JCRAMIREZ@FAMISANAR.COM.CO",3125547250,"11001",{"$f":"VLOOKUP(B794,'[1]Select temp_pre_numero'!D$1:E$1845,2,0)","v":"OTRAS"}]
["NI",900041169,"2020-08-14","2020-08-14",2,"JUAN CARLOS","ANALISTA CONCILIACIONES","JCRAMIREZ@FAMISANAR.COM.CO",3125547250,"11001",{"$f":"VLOOKUP(B795,'[1]Select temp_pre_numero'!D$1:E$1845,2,0)","v":"OTRAS"}]
["NI",901201887,"2020-08-18","2020-08-18",2,"JUAN CARLOS","ANALISTA CONCILIACIONES","JCRAMIREZ@FAMISANAR.COM.CO",3125547250,"11001",{"$f":"VLOOKUP(B796,'[1]Select temp_pre_numero'!D$1:E$1845,2,0)","v":{"$error":"#N/A"}}]
["NI",900073081,"2020-08-19","2020-08-19",2,"JUAN CARLOS","ANALISTA CONCILIACIONES","JCRAMIREZ@FAMISANAR.COM.CO",3125547250,"11001",{"$f":"VLOOKUP(B797,'[1]Select temp_pre_numero'!D$1:E$1845,2,0)","v":"OTRAS"}]
["NI",900004059,"2020-08-20","2020-08-20",2,"JUAN CARLOS","ANALISTA CONCILIACIONES","JCRAMIREZ@FAMISANAR.COM.CO",3125547250,"11001",{"$f":"VLOOKUP(B798,'[1]Select temp_pre_numero'!D$1:E$1845,2,0)","v":"OTRAS"}]
["NI",800057325,"2020-08-21","2020-08-21",2,"JUAN CARLOS","ANALISTA CONCILIACIONES","JCRAMIREZ@FAMISANAR.COM.CO",3125547250,"11001",{"$f":"VLOOKUP(B799,'[1]Select temp_pre_numero'!D$1:E$1845,2,0)","v":"OTRAS"}]
["NI",806016870,"2020-08-24","2020-08-24",2,"JUAN CARLOS","ANALISTA CONCILIACIONES","JCRAMIREZ@FAMISANAR.COM.CO",3125547250,"11001",{"$f":"VLOOKUP(B800,'[1]Select temp_pre_numero'!D$1:E$1845,2,0)","v":"OTRAS"}]
["NI",900368327,"2020-08-25","2020-08-25",2,"JUAN CARLOS","ANALISTA CONCILIACIONES","JCRAMIREZ@FAMISANAR.COM.CO",3125547250,"11001",{"$f":"VLOOKUP(B801,'[1]Select temp_pre_numero'!D$1:E$1845,2,0)","v":{"$error":"#N/A"}}]
["NI",900036695,"2020-08-26","2020-08-26",2,"JUAN CARLOS","ANALISTA CONCILIACIONES","JCRAMIREZ@FAMISANAR.COM.CO",3125547250,"11001",{"$f":"VLOOKUP(B802,'[1]Select temp_pre_numero'!D$1:E$1845,2,0)","v":"OTRAS"}]
["NI",890103127,"2020-08-27","2020-08-27",2,"JUAN CARLOS","ANALISTA CONCILIACIONES","JCRAMIREZ@FAMISANAR.COM.CO",3125547250,"11001",{"$f":"VLOOKUP(B803,'[1]Select temp_pre_numero'!D$1:E$1845,2,0)","v":"OTRAS"}]
["NI",800099778,"2020-08-28","2020-08-28",2,"JUAN CARLOS","ANALISTA CONCILIACIONES","JCRAMIREZ@FAMISANAR.COM.CO",3125547250,"11001",{"$f":"VLOOKUP(B804,'[1]Select temp_pre_numero'!D$1:E$1845,2,0)","v":"OTRAS"}]
["NI",901179268,"2020-08-29","2020-08-29",2,"JUAN CARLOS","ANALISTA CONCILIACIONES","JCRAMIREZ@FAMISANAR.COM.CO",3125547250,"11001",{"$f":"VLOOKUP(B805,'[1]Select temp_pre_numero'!D$1:E$1845,2,0)","v":{"$error":"#N/A"}}]
["NI",800139444,"2020-08-30","2020-08-30",2,"JUAN CARLOS","ANALISTA CONCILIACIONES","JCRAMIREZ@FAMISANAR.COM.CO",3125547250,"11001",{"$f":"VLOOKUP(B806,'[1]Select temp_pre_numero'!D$1:E$1845,2,0)","v":"OTRAS"}]
["NI",900589178,"2020-08-31","2020-08-31",2,"JUAN CARLOS","ANALISTA CONCILIACIONES","JCRAMIREZ@FAMISANAR.COM.CO",3125547250,"11001",{"$f":"VLOOKUP(B807,'[1]Select temp_pre_numero'!D$1:E$1845,2,0)","v":"OTRAS"}]
["NI",802021171,"2020-06-16","2020-06-16",2,"JUAN CARLOS","ANALISTA CONCILIACIONES","JCRAMIREZ@FAMISANAR.COM.CO",3125547250,"11001",{"$f":"VLOOKUP(B808,'[1]Select temp_pre_numero'!D$1:E$1845,2,0)","v":"OTRAS"}]
["NI",900066347,"2020-06-17","2020-06-17",2,"JUAN CARLOS","ANALISTA CONCILIACIONES","JCRAMIREZ@FAMISANAR.COM.CO",3125547250,"11001",{"$f":"VLOOKUP(B809,'[1]Select temp_pre_numero'!D$1:E$1845,2,0)","v":"OTRAS"}]
["NI",802003414,"2020-06-18","2020-06-18",2,"JUAN CARLOS","ANALISTA CONCILIACIONES","JCRAMIREZ@FAMISANAR.COM.CO",3125547250,"11001",{"$f":"VLOOKUP(B810,'[1]Select temp_pre_numero'!D$1:E$1845,2,0)","v":"OTRAS"}]
["NI",900221747,"2020-06-19","2020-06-19",2,"JUAN CARLOS","ANALISTA CONCILIACIONES","JCRAMIREZ@FAMISANAR.COM.CO",3125547250,"11001",{"$f":"VLOOKUP(B811,'[1]Select temp_pre_numero'!D$1:E$1845,2,0)","v":"OTRAS"}]
["NI",800197424,"2020-06-23","2020-06-23",2,"JUAN CARLOS","ANALISTA CONCILIACIONES","JCRAMIREZ@FAMISANAR.COM.CO",3125547250,"11001",{"$f":"VLOOKUP(B812,'[1]Select temp_pre_numero'!D$1:E$1845,2,0)","v":"OTRAS"}]
["NI",800194798,"2020-06-24","2020-06-24",2,"JUAN CARLOS","ANALISTA CONCILIACIONES","JCRAMIREZ@FAMISANAR.COM.CO",3125547250,"11001",{"$f":"VLOOKUP(B813,'[1]Select temp_pre_numero'!D$1:E$1845,2,0)","v":"OTRAS"}]
["NI",800175901,"2020-06-25","2020-06-25",2,"JUAN CARLOS","ANALISTA CONCILIACIONES","JCRAMIREZ@FAMISANAR.COM.CO",3125547250,"11001",{"$f":"VLOOKUP(B814,'[1]Select temp_pre_numero'!D$1:E$1845,2,0)","v":"OTRAS"}]
["NI",900400605,"2020-06-26","2020-06-26",2,"JUAN CARLOS","ANALISTA CONCILIACIONES","JCRAMIREZ@FAMISANAR.COM.CO",3125547250,"11001",{"$f":"VLOOKUP(B815,'[1]Select temp_pre_numero'!D$1:E$1845,2,0)","v":"OTRAS"}]
["NI",810003245,"2020-06-30","2020-06-30",2,"JUAN CARLOS","ANALISTA CONCILIACIONES","JCRAMIREZ@FAMISANAR.COM.CO",3125547250,"11001",{"$f":"VLOOKUP(B816,'[1]Select temp_pre_numero'!D$1:E$1845,2,0)","v":"OTRAS"}]
["NI",802004326,"2020-07-01","2020-07-01",2,"JUAN CARLOS","ANALISTA CONCILIACIONES","JCRAMIREZ@FAMISANAR.COM.CO",3125547250,"11001",{"$f":"VLOOKUP(B817,'[1]Select temp_pre_numero'!D$1:E$1845,2,0)","v":"OTRAS"}]
["NI",804008642,"2020-07-02","2020-07-02",2,"JUAN CARLOS","ANALISTA CONCILIACIONES","JCRAMIREZ@FAMISANAR.COM.CO",3125547250,"11001",{"$f":"VLOOKUP(B818,'[1]Select temp_pre_numero'!D$1:E$1845,2,0)","v":"OTRAS"}]
["NI",810004747,"2020-07-03","2020-07-03",2,"JUAN CARLOS","ANALISTA CONCILIACIONES","JCRAMIREZ@FAMISANAR.COM.CO",3125547250,"11001",{"$f":"VLOOKUP(B819,'[1]Select temp_pre_numero'!D$1:E$1845,2,0)","v":"OTRAS"}]
["NI",900161062,"2020-07-06","2020-07-06",2,"JUAN CARLOS","ANALISTA CONCILIACIONES","JCRAMIREZ@FAMISANAR.COM.CO",3125547250,"11001",{"$f":"VLOOKUP(B820,'[1]Select temp_pre_numero'!D$1:E$1845,2,0)","v":"OTRAS"}]
["NI",900381084,"2020-07-07","2020-07-07",2,"JUAN CARLOS","ANALISTA CONCILIACIONES","JCRAMIREZ@FAMISANAR.COM.CO",3125547250,"11001",{"$f":"VLOOKUP(B821,'[1]Select temp_pre_numero'!D$1:E$1845,2,0)","v":"OTRAS"}]
["NI",804006167,"2020-07-08","2020-07-08",2,"JUAN CARLOS","ANALISTA CONCILIACIONES","JCRAMIREZ@FAMISANAR.COM.CO",3125547250,"11001",{"$f":"VLOOKUP(B822,'[1]Select temp_pre_numero'!D$1:E$1845,2,0)","v":"OTRAS"}]
["NI",900030814,"2020-07-09","2020-07-09",2,"JUAN CARLOS","ANALISTA CONCILIACIONES","JCRAMIREZ@FAMISANAR.COM.CO",3125547250,"11001",{"$f":"VLOOKUP(B823,'[1]Select temp_pre_numero'!D$1:E$1845,2,0)","v":{"$error":"#N/A"}}]
["NI",800008240,"2020-07-10","2020-07-10",2,"JUAN CARLOS","ANALISTA CONCILIACIONES","JCRAMIREZ@FAMISANAR.COM.CO",3125547250,"11001",{"$f":"VLOOKUP(B824,'[1]Select temp_pre_numero'!D$1:E$1845,2,0)","v":"OTRAS"}]
["NI",802000909,"2020-07-13","2020-07-13",2,"JUAN CARLOS","ANALISTA CONCILIACIONES","JCRAMIREZ@FAMISANAR.COM.CO",3125547250,"11001",{"$f":"VLOOKUP(B825,'[1]Select temp_pre_numero'!D$1:E$1845,2,0)","v":"OTRAS"}]
["NI",804013775,"2020-07-14","2020-07-14",2,"JUAN CARLOS","ANALISTA CONCILIACIONES","JCRAMIREZ@FAMISANAR.COM.CO",3125547250,"11001",{"$f":"VLOOKUP(B826,'[1]Select temp_pre_numero'!D$1:E$1845,2,0)","v":"OTRAS"}]
["NI",900264327,"2020-07-15","2020-07-15",2,"JUAN CARLOS","ANALISTA CONCILIACIONES","JCRAMIREZ@FAMISANAR.COM.CO",3125547250,"11001",{"$f":"VLOOKUP(B827,'[1]Select temp_pre_numero'!D$1:E$1845,2,0)","v":"OTRAS"}]
["NI",800037202,"2020-07-16","2020-07-16",2,"JUAN CARLOS","ANALISTA CONCILIACIONES","JCRAMIREZ@FAMISANAR.COM.CO",3125547250,"11001",{"$f":"VLOOKUP(B828,'[1]Select temp_pre_numero'!D$1:E$1845,2,0)","v":"OTRAS"}]
["NI",806012426,"2020-07-17","2020-07-17",2,"JUAN CARLOS","ANALISTA CONCILIACIONES","JCRAMIREZ@FAMISANAR.COM.CO",3125547250,"11001",{"$f":"VLOOKUP(B829,'[1]Select temp_pre_numero'!D$1:E$1845,2,0)","v":{"$error":"#N/A"}}]
["NI",900067169,"2020-07-21","2020-07-21",2,"JUAN CARLOS","ANALISTA CONCILIACIONES","JCRAMIREZ@FAMISANAR.COM.CO",3125547250,"11001",{"$f":"VLOOKUP(B830,'[1]Select temp_pre_numero'!D$1:E$1845,2,0)","v":"OTRAS"}]
["NI",800248276,"2020-07-22","2020-07-22",2,"JUAN CARLOS","ANALISTA CONCILIACIONES","JCRAMIREZ@FAMISANAR.COM.CO",3125547250,"11001",{"$f":"VLOOKUP(B831,'[1]Select temp_pre_numero'!D$1:E$1845,2,0)","v":{"$error":"#N/A"}}]
["NI",900249014,"2020-07-23","2020-07-23",2,"JUAN CARLOS","ANALISTA CONCILIACIONES","JCRAMIREZ@FAMISANAR.COM.CO",3125547250,"11001",{"$f":"VLOOKUP(B832,'[1]Select temp_pre_numero'!D$1:E$1845,2,0)","v":"OTRAS"}]
["NI",890501438,"2020-07-24","2020-07-24",2,"JUAN CARLOS","ANALISTA CONCILIACIONES","JCRAMIREZ@FAMISANAR.COM.CO",3125547250,"11001",{"$f":"VLOOKUP(B833,'[1]Select temp_pre_numero'!D$1:E$1845,2,0)","v":"OTRAS"}]
["NI",900067136,"2020-07-27","2020-07-27",2,"JUAN CARLOS","ANALISTA CONCILIACIONES","JCRAMIREZ@FAMISANAR.COM.CO",3125547250,"11001",{"$f":"VLOOKUP(B834,'[1]Select temp_pre_numero'!D$1:E$1845,2,0)","v":"OTRAS"}]
["NI",822002459,"2020-07-28","2020-07-28",2,"JUAN CARLOS","ANALISTA CONCILIACIONES","JCRAMIREZ@FAMISANAR.COM.CO",3125547250,"11001",{"$f":"VLOOKUP(B835,'[1]Select temp_pre_numero'!D$1:E$1845,2,0)","v":"OTRAS"}]
["NI",900465319,"2020-07-29","2020-07-29",2,"JUAN CARLOS","ANALISTA CONCILIACIONES","JCRAMIREZ@FAMISANAR.COM.CO",3125547250,"11001",{"$f":"VLOOKUP(B836,'[1]Select temp_pre_numero'!D$1:E$1845,2,0)","v":"OTRAS"}]
["NI",892000458,"2020-07-30","2020-07-30",2,"JUAN CARLOS","ANALISTA CONCILIACIONES","JCRAMIREZ@FAMISANAR.COM.CO",3125547250,"11001",{"$f":"VLOOKUP(B837,'[1]Select temp_pre_numero'!D$1:E$1845,2,0)","v":"OTRAS"}]
["NI",860076321,"2020-07-31","2020-07-31",2,"JUAN CARLOS","ANALISTA CONCILIACIONES","JCRAMIREZ@FAMISANAR.COM.CO",3125547250,"11001",{"$f":"VLOOKUP(B838,'[1]Select temp_pre_numero'!D$1:E$1845,2,0)","v":"OTRAS"}]
["NI",900634864,"2020-08-03","2020-08-03",2,"JUAN CARLOS","ANALISTA CONCILIACIONES","JCRAMIREZ@FAMISANAR.COM.CO",3125547250,"11001",{"$f":"VLOOKUP(B839,'[1]Select temp_pre_numero'!D$1:E$1845,2,0)","v":"OTRAS"}]
["NI",800249139,"2020-08-04","2020-08-04",2,"JUAN CARLOS","ANALISTA CONCILIACIONES","JCRAMIREZ@FAMISANAR.COM.CO",3125547250,"11001",{"$f":"VLOOKUP(B840,'[1]Select temp_pre_numero'!D$1:E$1845,2,0)","v":"OTRAS"}]
["NI",900513306,"2020-08-05","2020-08-05",2,"JUAN CARLOS","ANALISTA CONCILIACIONES","JCRAMIREZ@FAMISANAR.COM.CO",3125547250,"11001",{"$f":"VLOOKUP(B841,'[1]Select temp_pre_numero'!D$1:E$1845,2,0)","v":"OTRAS"}]
["NI",806007923,"2020-08-06","2020-08-06",2,"JUAN CARLOS","ANALISTA CONCILIACIONES","JCRAMIREZ@FAMISANAR.COM.CO",3125547250,"11001",{"$f":"VLOOKUP(B842,'[1]Select temp_pre_numero'!D$1:E$1845,2,0)","v":"OTRAS"}]
["NI",900602320,"2020-08-10","2020-08-10",2,"JUAN CARLOS","ANALISTA CONCILIACIONES","JCRAMIREZ@FAMISANAR.COM.CO",3125547250,"11001",{"$f":"VLOOKUP(B843,'[1]Select temp_pre_numero'!D$1:E$1845,2,0)","v":"OTRAS"}]
["NI",802009766,"2020-08-11","2020-08-11",2,"JUAN CARLOS","ANALISTA CONCILIACIONES","JCRAMIREZ@FAMISANAR.COM.CO",3125547250,"11001",{"$f":"VLOOKUP(B844,'[1]Select temp_pre_numero'!D$1:E$1845,2,0)","v":"OTRAS"}]
["NI",890111897,"2020-08-12","2020-08-12",2,"JUAN CARLOS","ANALISTA CONCILIACIONES","JCRAMIREZ@FAMISANAR.COM.CO",3125547250,"11001",{"$f":"VLOOKUP(B845,'[1]Select temp_pre_numero'!D$1:E$1845,2,0)","v":"OTRAS"}]
["NI",802004504,"2020-08-13","2020-08-13",2,"JUAN CARLOS","ANALISTA CONCILIACIONES","JCRAMIREZ@FAMISANAR.COM.CO",3125547250,"11001",{"$f":"VLOOKUP(B846,'[1]Select temp_pre_numero'!D$1:E$1845,2,0)","v":"OTRAS"}]
["NI",890807591,"2020-08-14","2020-08-14",2,"JUAN CARLOS","ANALISTA CONCILIACIONES","JCRAMIREZ@FAMISANAR.COM.CO",3125547250,"11001",{"$f":"VLOOKUP(B847,'[1]Select temp_pre_numero'!D$1:E$1845,2,0)","v":"OTRAS"}]
["NI",890000381,"2020-08-18","2020-08-18",2,"JUAN CARLOS","ANALISTA CONCILIACIONES","JCRAMIREZ@FAMISANAR.COM.CO",3125547250,"11001",{"$f":"VLOOKUP(B848,'[1]Select temp_pre_numero'!D$1:E$1845,2,0)","v":{"$error":"#N/A"}}]
["NI",900255583,"2020-08-19","2020-08-19",2,"JUAN CARLOS","ANALISTA CONCILIACIONES","JCRAMIREZ@FAMISANAR.COM.CO",3125547250,"11001",{"$f":"VLOOKUP(B849,'[1]Select temp_pre_numero'!D$1:E$1845,2,0)","v":"OTRAS"}]
["NI",900670943,"2020-08-20","2020-08-20",2,"JUAN CARLOS","ANALISTA CONCILIACIONES","JCRAMIREZ@FAMISANAR.COM.CO",3125547250,"11001",{"$f":"VLOOKUP(B850,'[1]Select temp_pre_numero'!D$1:E$1845,2,0)","v":"OTRAS"}]
["NI",900643615,"2020-08-21","2020-08-21",2,"JUAN CARLOS","ANALISTA CONCILIACIONES","JCRAMIREZ@FAMISANAR.COM.CO",3125547250,"11001",{"$f":"VLOOKUP(B851,'[1]Select temp_pre_numero'!D$1:E$1845,2,0)","v":"OTRAS"}]
["NI",802001084,"2020-08-24","2020-08-24",2,"JUAN CARLOS","ANALISTA CONCILIACIONES","JCRAMIREZ@FAMISANAR.COM.CO",3125547250,"11001",{"$f":"VLOOKUP(B852,'[1]Select temp_pre_numero'!D$1:E$1845,2,0)","v":"OTRAS"}]
["NI",890203242,"2020-08-25","2020-08-25",2,"JUAN CARLOS","ANALISTA CONCILIACIONES","JCRAMIREZ@FAMISANAR.COM.CO",3125547250,"11001",{"$f":"VLOOKUP(B853,'[1]Select temp_pre_numero'!D$1:E$1845,2,0)","v":"OTRAS"}]
["NI",802000774,"2020-08-26","2020-08-26",2,"JUAN CARLOS","ANALISTA CONCILIACIONES","JCRAMIREZ@FAMISANAR.COM.CO",3125547250,"11001",{"$f":"VLOOKUP(B854,'[1]Select temp_pre_numero'!D$1:E$1845,2,0)","v":"OTRAS"}]
["NI",800033723,"2020-08-27","2020-08-27",2,"JUAN CARLOS","ANALISTA CONCILIACIONES","JCRAMIREZ@FAMISANAR.COM.CO",3125547250,"11001",{"$f":"VLOOKUP(B855,'[1]Select temp_pre_numero'!D$1:E$1845,2,0)","v":"OTRAS"}]
["NI",800084206,"2020-08-28","2020-08-28",2,"JUAN CARLOS","ANALISTA CONCILIACIONES","JCRAMIREZ@FAMISANAR.COM.CO",3125547250,"11001",{"$f":"VLOOKUP(B856,'[1]Select temp_pre_numero'!D$1:E$1845,2,0)","v":"OTRAS"}]
["NI",822006595,"2020-08-29","2020-08-29",2,"JUAN CARLOS","ANALISTA CONCILIACIONES","JCRAMIREZ@FAMISANAR.COM.CO",3125547250,"11001",{"$f":"VLOOKUP(B857,'[1]Select temp_pre_numero'!D$1:E$1845,2,0)","v":"OTRAS"}]
["NI",900322565,"2020-08-30","2020-08-30",2,"JUAN CARLOS","ANALISTA CONCILIACIONES","JCRAMIREZ@FAMISANAR.COM.CO",3125547250,"11001",{"$f":"VLOOKUP(B858,'[1]Select temp_pre_numero'!D$1:E$1845,2,0)","v":{"$error":"#N/A"}}]
["NI",900373690,"2020-08-31","2020-08-31",2,"JUAN CARLOS","ANALISTA CONCILIACIONES","JCRAMIREZ@FAMISANAR.COM.CO",3125547250,"11001",{"$f":"VLOOKUP(B859,'[1]Select temp_pre_numero'!D$1:E$1845,2,0)","v":"OTRAS"}]
["NI",900798173,"2020-06-16","2020-06-16",2,"JUAN CARLOS","ANALISTA CONCILIACIONES","JCRAMIREZ@FAMISANAR.COM.CO",3125547250,"11001",{"$f":"VLOOKUP(B860,'[1]Select temp_pre_numero'!D$1:E$1845,2,0)","v":"OTRAS"}]
["NI",806001061,"2020-06-17","2020-06-17",2,"JUAN CARLOS","ANALISTA CONCILIACIONES","JCRAMIREZ@FAMISANAR.COM.CO",3125547250,"11001",{"$f":"VLOOKUP(B861,'[1]Select temp_pre_numero'!D$1:E$1845,2,0)","v":"OTRAS"}]
["NI",800089364,"2020-06-18","2020-06-18",2,"JUAN CARLOS","ANALISTA CONCILIACIONES","JCRAMIREZ@FAMISANAR.COM.CO",3125547250,"11001",{"$f":"VLOOKUP(B862,'[1]Select temp_pre_numero'!D$1:E$1845,2,0)","v":"OTRAS"}]
["NI",806000540,"2020-06-19","2020-06-19",2,"JUAN CARLOS","ANALISTA CONCILIACIONES","JCRAMIREZ@FAMISANAR.COM.CO",3125547250,"11001",{"$f":"VLOOKUP(B863,'[1]Select temp_pre_numero'!D$1:E$1845,2,0)","v":{"$error":"#N/A"}}]
["NI",806013287,"2020-06-23","2020-06-23",2,"JUAN CARLOS","ANALISTA CONCILIACIONES","JCRAMIREZ@FAMISANAR.COM.CO",3125547250,"11001",{"$f":"VLOOKUP(B864,'[1]Select temp_pre_numero'!D$1:E$1845,2,0)","v":"OTRAS"}]
["NI",900624158,"2020-06-24","2020-06-24",2,"JUAN CARLOS","ANALISTA CONCILIACIONES","JCRAMIREZ@FAMISANAR.COM.CO",3125547250,"11001",{"$f":"VLOOKUP(B865,'[1]Select temp_pre_numero'!D$1:E$1845,2,0)","v":"OTRAS"}]
["NI",830003807,"2020-06-25","2020-06-25",2,"JUAN CARLOS","ANALISTA CONCILIACIONES","JCRAMIREZ@FAMISANAR.COM.CO",3125547250,"11001",{"$f":"VLOOKUP(B866,'[1]Select temp_pre_numero'!D$1:E$1845,2,0)","v":"OTRAS"}]
["NI",901183879,"2020-06-26","2020-06-26",2,"JUAN CARLOS","ANALISTA CONCILIACIONES","JCRAMIREZ@FAMISANAR.COM.CO",3125547250,"11001",{"$f":"VLOOKUP(B867,'[1]Select temp_pre_numero'!D$1:E$1845,2,0)","v":"OTRAS"}]
["NI",890100279,"2020-06-30","2020-06-30",2,"JUAN CARLOS","ANALISTA CONCILIACIONES","JCRAMIREZ@FAMISANAR.COM.CO",3125547250,"11001",{"$f":"VLOOKUP(B868,'[1]Select temp_pre_numero'!D$1:E$1845,2,0)","v":{"$error":"#N/A"}}]
["NI",800098325,"2020-07-01","2020-07-01",2,"JUAN CARLOS","ANALISTA CONCILIACIONES","JCRAMIREZ@FAMISANAR.COM.CO",3125547250,"11001",{"$f":"VLOOKUP(B869,'[1]Select temp_pre_numero'!D$1:E$1845,2,0)","v":"OTRAS"}]
["NI",900669601,"2020-07-02","2020-07-02",2,"JUAN CARLOS","ANALISTA CONCILIACIONES","JCRAMIREZ@FAMISANAR.COM.CO",3125547250,"11001",{"$f":"VLOOKUP(B870,'[1]Select temp_pre_numero'!D$1:E$1845,2,0)","v":{"$error":"#N/A"}}]
["NI",900306367,"2020-07-03","2020-07-03",2,"JUAN CARLOS","ANALISTA CONCILIACIONES","JCRAMIREZ@FAMISANAR.COM.CO",3125547250,"11001",{"$f":"VLOOKUP(B871,'[1]Select temp_pre_numero'!D$1:E$1845,2,0)","v":{"$error":"#N/A"}}]
["NI",890111339,"2020-07-06","2020-07-06",2,"JUAN CARLOS","ANALISTA CONCILIACIONES","JCRAMIREZ@FAMISANAR.COM.CO",3125547250,"11001",{"$f":"VLOOKUP(B872,'[1]Select temp_pre_numero'!D$1:E$1845,2,0)","v":"OTRAS"}]
["NI",900103906,"2020-07-07","2020-07-07",2,"JUAN CARLOS","ANALISTA CONCILIACIONES","JCRAMIREZ@FAMISANAR.COM.CO",3125547250,"11001",{"$f":"VLOOKUP(B873,'[1]Select temp_pre_numero'!D$1:E$1845,2,0)","v":{"$error":"#N/A"}}]
["NI",900502421,"2020-07-08","2020-07-08",2,"JUAN CARLOS","ANALISTA CONCILIACIONES","JCRAMIREZ@FAMISANAR.COM.CO",3125547250,"11001",{"$f":"VLOOKUP(B874,'[1]Select temp_pre_numero'!D$1:E$1845,2,0)","v":"OTRAS"}]
["NI",900848340,"2020-07-09","2020-07-09",2,"JUAN CARLOS","ANALISTA CONCILIACIONES","JCRAMIREZ@FAMISANAR.COM.CO",3125547250,"11001",{"$f":"VLOOKUP(B875,'[1]Select temp_pre_numero'!D$1:E$1845,2,0)","v":"OTRAS"}]
["NI",830053297,"2020-07-10","2020-07-10",2,"JUAN CARLOS","ANALISTA CONCILIACIONES","JCRAMIREZ@FAMISANAR.COM.CO",3125547250,"11001",{"$f":"VLOOKUP(B876,'[1]Select temp_pre_numero'!D$1:E$1845,2,0)","v":{"$error":"#N/A"}}]
["NI",899999026,"2020-07-13","2020-07-13",2,"JUAN CARLOS","ANALISTA CONCILIACIONES","JCRAMIREZ@FAMISANAR.COM.CO",3125547250,"11001",{"$f":"VLOOKUP(B877,'[1]Select temp_pre_numero'!D$1:E$1845,2,0)","v":"OTRAS"}]
["NI",900133528,"2020-07-14","2020-07-14",2,"JUAN CARLOS","ANALISTA CONCILIACIONES","JCRAMIREZ@FAMISANAR.COM.CO",3125547250,"11001",{"$f":"VLOOKUP(B878,'[1]Select temp_pre_numero'!D$1:E$1845,2,0)","v":{"$error":"#N/A"}}]
["NI",900196346,"2020-07-15","2020-07-15",2,"JUAN CARLOS","ANALISTA CONCILIACIONES","JCRAMIREZ@FAMISANAR.COM.CO",3125547250,"11001",{"$f":"VLOOKUP(B879,'[1]Select temp_pre_numero'!D$1:E$1845,2,0)","v":"OTRAS"}]
["NI",900817788,"2020-07-16","2020-07-16",2,"JUAN CARLOS","ANALISTA CONCILIACIONES","JCRAMIREZ@FAMISANAR.COM.CO",3125547250,"11001",{"$f":"VLOOKUP(B880,'[1]Select temp_pre_numero'!D$1:E$1845,2,0)","v":{"$error":"#N/A"}}]
["NI",802019573,"2020-07-17","2020-07-17",2,"JUAN CARLOS","ANALISTA CONCILIACIONES","JCRAMIREZ@FAMISANAR.COM.CO",3125547250,"11001",{"$f":"VLOOKUP(B881,'[1]Select temp_pre_numero'!D$1:E$1845,2,0)","v":"OTRAS"}]
["NI",830502473,"2020-07-21","2020-07-21",2,"JUAN CARLOS","ANALISTA CONCILIACIONES","JCRAMIREZ@FAMISANAR.COM.CO",3125547250,"11001",{"$f":"VLOOKUP(B882,'[1]Select temp_pre_numero'!D$1:E$1845,2,0)","v":"OTRAS"}]
["NI",890200500,"2020-07-22","2020-07-22",2,"JUAN CARLOS","ANALISTA CONCILIACIONES","JCRAMIREZ@FAMISANAR.COM.CO",3125547250,"11001",{"$f":"VLOOKUP(B883,'[1]Select temp_pre_numero'!D$1:E$1845,2,0)","v":"OTRAS"}]
["NI",890103002,"2020-07-23","2020-07-23",2,"JUAN CARLOS","ANALISTA CONCILIACIONES","JCRAMIREZ@FAMISANAR.COM.CO",3125547250,"11001",{"$f":"VLOOKUP(B884,'[1]Select temp_pre_numero'!D$1:E$1845,2,0)","v":"OTRAS"}]
["NI",900485843,"2020-07-24","2020-07-24",2,"JUAN CARLOS","ANALISTA CONCILIACIONES","JCRAMIREZ@FAMISANAR.COM.CO",3125547250,"11001",{"$f":"VLOOKUP(B885,'[1]Select temp_pre_numero'!D$1:E$1845,2,0)","v":{"$error":"#N/A"}}]
["NI",890205456,"2020-07-27","2020-07-27",2,"JUAN CARLOS","ANALISTA CONCILIACIONES","JCRAMIREZ@FAMISANAR.COM.CO",3125547250,"11001",{"$f":"VLOOKUP(B886,'[1]Select temp_pre_numero'!D$1:E$1845,2,0)","v":"OTRAS"}]
["NI",822001338,"2020-07-28","2020-07-28",2,"JUAN CARLOS","ANALISTA CONCILIACIONES","JCRAMIREZ@FAMISANAR.COM.CO",3125547250,"11001",{"$f":"VLOOKUP(B887,'[1]Select temp_pre_numero'!D$1:E$1845,2,0)","v":"OTRAS"}]
["NI",900373155,"2020-07-29","2020-07-29",2,"JUAN CARLOS","ANALISTA CONCILIACIONES","JCRAMIREZ@FAMISANAR.COM.CO",3125547250,"11001",{"$f":"VLOOKUP(B888,'[1]Select temp_pre_numero'!D$1:E$1845,2,0)","v":"OTRAS"}]
["NI",900735729,"2020-07-30","2020-07-30",2,"JUAN CARLOS","ANALISTA CONCILIACIONES","JCRAMIREZ@FAMISANAR.COM.CO",3125547250,"11001",{"$f":"VLOOKUP(B889,'[1]Select temp_pre_numero'!D$1:E$1845,2,0)","v":"OTRAS"}]
["NI",806004756,"2020-07-31","2020-07-31",2,"JUAN CARLOS","ANALISTA CONCILIACIONES","JCRAMIREZ@FAMISANAR.COM.CO",3125547250,"11001",{"$f":"VLOOKUP(B890,'[1]Select temp_pre_numero'!D$1:E$1845,2,0)","v":"OTRAS"}]
["NI",900048040,"2020-08-03","2020-08-03",2,"JUAN CARLOS","ANALISTA CONCILIACIONES","JCRAMIREZ@FAMISANAR.COM.CO",3125547250,"11001",{"$f":"VLOOKUP(B891,'[1]Select temp_pre_numero'!D$1:E$1845,2,0)","v":"OTRAS"}]
["NI",890205516,"2020-08-04","2020-08-04",2,"JUAN CARLOS","ANALISTA CONCILIACIONES","JCRAMIREZ@FAMISANAR.COM.CO",3125547250,"11001",{"$f":"VLOOKUP(B892,'[1]Select temp_pre_numero'!D$1:E$1845,2,0)","v":"OTRAS"}]
["NI",800012189,"2020-08-05","2020-08-05",2,"JUAN CARLOS","ANALISTA CONCILIACIONES","JCRAMIREZ@FAMISANAR.COM.CO",3125547250,"11001",{"$f":"VLOOKUP(B893,'[1]Select temp_pre_numero'!D$1:E$1845,2,0)","v":{"$error":"#N/A"}}]
["NI",806010305,"2020-08-06","2020-08-06",2,"JUAN CARLOS","ANALISTA CONCILIACIONES","JCRAMIREZ@FAMISANAR.COM.CO",3125547250,"11001",{"$f":"VLOOKUP(B894,'[1]Select temp_pre_numero'!D$1:E$1845,2,0)","v":"OTRAS"}]
["NI",802016357,"2020-08-10","2020-08-10",2,"JUAN CARLOS","ANALISTA CONCILIACIONES","JCRAMIREZ@FAMISANAR.COM.CO",3125547250,"11001",{"$f":"VLOOKUP(B895,'[1]Select temp_pre_numero'!D$1:E$1845,2,0)","v":"OTRAS"}]
["NI",900307987,"2020-08-11","2020-08-11",2,"JUAN CARLOS","ANALISTA CONCILIACIONES","JCRAMIREZ@FAMISANAR.COM.CO",3125547250,"11001",{"$f":"VLOOKUP(B896,'[1]Select temp_pre_numero'!D$1:E$1845,2,0)","v":"OTRAS"}]
["NI",804015920,"2020-08-12","2020-08-12",2,"JUAN CARLOS","ANALISTA CONCILIACIONES","JCRAMIREZ@FAMISANAR.COM.CO",3125547250,"11001",{"$f":"VLOOKUP(B897,'[1]Select temp_pre_numero'!D$1:E$1845,2,0)","v":"OTRAS"}]
["NI",801001440,"2020-08-13","2020-08-13",2,"JUAN CARLOS","ANALISTA CONCILIACIONES","JCRAMIREZ@FAMISANAR.COM.CO",3125547250,"11001",{"$f":"VLOOKUP(B898,'[1]Select temp_pre_numero'!D$1:E$1845,2,0)","v":"OTRAS"}]
["NI",900041832,"2020-08-14","2020-08-14",2,"JUAN CARLOS","ANALISTA CONCILIACIONES","JCRAMIREZ@FAMISANAR.COM.CO",3125547250,"11001",{"$f":"VLOOKUP(B899,'[1]Select temp_pre_numero'!D$1:E$1845,2,0)","v":{"$error":"#N/A"}}]
["NI",802013023,"2020-08-18","2020-08-18",2,"JUAN CARLOS","ANALISTA CONCILIACIONES","JCRAMIREZ@FAMISANAR.COM.CO",3125547250,"11001",{"$f":"VLOOKUP(B900,'[1]Select temp_pre_numero'!D$1:E$1845,2,0)","v":"OTRAS"}]
["NI",890202024,"2020-08-19","2020-08-19",2,"JUAN CARLOS","ANALISTA CONCILIACIONES","JCRAMIREZ@FAMISANAR.COM.CO",3125547250,"11001",{"$f":"VLOOKUP(B901,'[1]Select temp_pre_numero'!D$1:E$1845,2,0)","v":"OTRAS"}]
["NI",890501019,"2020-08-20","2020-08-20",2,"JUAN CARLOS","ANALISTA CONCILIACIONES","JCRAMIREZ@FAMISANAR.COM.CO",3125547250,"11001",{"$f":"VLOOKUP(B902,'[1]Select temp_pre_numero'!D$1:E$1845,2,0)","v":"OTRAS"}]
["NI",900871571,"2020-08-21","2020-08-21",2,"JUAN CARLOS","ANALISTA CONCILIACIONES","JCRAMIREZ@FAMISANAR.COM.CO",3125547250,"11001",{"$f":"VLOOKUP(B903,'[1]Select temp_pre_numero'!D$1:E$1845,2,0)","v":"OTRAS"}]
["NI",901104576,"2020-08-24","2020-08-24",2,"JUAN CARLOS","ANALISTA CONCILIACIONES","JCRAMIREZ@FAMISANAR.COM.CO",3125547250,"11001",{"$f":"VLOOKUP(B904,'[1]Select temp_pre_numero'!D$1:E$1845,2,0)","v":"OTRAS"}]
["NI",890801699,"2020-08-25","2020-08-25",2,"JUAN CARLOS","ANALISTA CONCILIACIONES","JCRAMIREZ@FAMISANAR.COM.CO",3125547250,"11001",{"$f":"VLOOKUP(B905,'[1]Select temp_pre_numero'!D$1:E$1845,2,0)","v":"OTRAS"}]
["NI",890500309,"2020-08-26","2020-08-26",2,"JUAN CARLOS","ANALISTA CONCILIACIONES","JCRAMIREZ@FAMISANAR.COM.CO",3125547250,"11001",{"$f":"VLOOKUP(B906,'[1]Select temp_pre_numero'!D$1:E$1845,2,0)","v":{"$error":"#N/A"}}]
["NI",900254487,"2020-08-27","2020-08-27",2,"JUAN CARLOS","ANALISTA CONCILIACIONES","JCRAMIREZ@FAMISANAR.COM.CO",3125547250,"11001",{"$f":"VLOOKUP(B907,'[1]Select temp_pre_numero'!D$1:E$1845,2,0)","v":"OTRAS"}]
["NI",892001588,"2020-08-28","2020-08-28",2,"JUAN CARLOS","ANALISTA CONCILIACIONES","JCRAMIREZ@FAMISANAR.COM.CO",3125547250,"11001",{"$f":"VLOOKUP(B908,'[1]Select temp_pre_numero'!D$1:E$1845,2,0)","v":"OTRAS"}]
["NI",900378914,"2020-08-29","2020-08-29",2,"JUAN CARLOS","ANALISTA CONCILIACIONES","JCRAMIREZ@FAMISANAR.COM.CO",3125547250,"11001",{"$f":"VLOOKUP(B909,'[1]Select temp_pre_numero'!D$1:E$1845,2,0)","v":"OTRAS"}]
["NI",900204617,"2020-08-30","2020-08-30",2,"JUAN CARLOS","ANALISTA CONCILIACIONES","JCRAMIREZ@FAMISANAR.COM.CO",3125547250,"11001",{"$f":"VLOOKUP(B910,'[1]Select temp_pre_numero'!D$1:E$1845,2,0)","v":{"$error":"#N/A"}}]
["NI",900294046,"2020-08-31","2020-08-31",2,"JUAN CARLOS","ANALISTA CONCILIACIONES","JCRAMIREZ@FAMISANAR.COM.CO",3125547250,"11001",{"$f":"VLOOKUP(B911,'[1]Select temp_pre_numero'!D$1:E$1845,2,0)","v":"OTRAS"}]
["NI",900600962,"2020-06-16","2020-06-16",2,"JUAN CARLOS","ANALISTA CONCILIACIONES","JCRAMIREZ@FAMISANAR.COM.CO",3125547250,"11001",{"$f":"VLOOKUP(B912,'[1]Select temp_pre_numero'!D$1:E$1845,2,0)","v":{"$error":"#N/A"}}]
["NI",890204789,"2020-06-17","2020-06-17",2,"JUAN CARLOS","ANALISTA CONCILIACIONES","JCRAMIREZ@FAMISANAR.COM.CO",3125547250,"11001",{"$f":"VLOOKUP(B913,'[1]Select temp_pre_numero'!D$1:E$1845,2,0)","v":"OTRAS"}]
["NI",890110705,"2020-06-18","2020-06-18",2,"JUAN CARLOS","ANALISTA CONCILIACIONES","JCRAMIREZ@FAMISANAR.COM.CO",3125547250,"11001",{"$f":"VLOOKUP(B914,'[1]Select temp_pre_numero'!D$1:E$1845,2,0)","v":"OTRAS"}]
["NI",800162035,"2020-06-19","2020-06-19",2,"JUAN CARLOS","ANALISTA CONCILIACIONES","JCRAMIREZ@FAMISANAR.COM.CO",3125547250,"11001",{"$f":"VLOOKUP(B915,'[1]Select temp_pre_numero'!D$1:E$1845,2,0)","v":"OTRAS"}]
["NI",822000946,"2020-06-23","2020-06-23",2,"JUAN CARLOS","ANALISTA CONCILIACIONES","JCRAMIREZ@FAMISANAR.COM.CO",3125547250,"11001",{"$f":"VLOOKUP(B916,'[1]Select temp_pre_numero'!D$1:E$1845,2,0)","v":"OTRAS"}]
["NI",900016636,"2020-06-24","2020-06-24",2,"JUAN CARLOS","ANALISTA CONCILIACIONES","JCRAMIREZ@FAMISANAR.COM.CO",3125547250,"11001",{"$f":"VLOOKUP(B917,'[1]Select temp_pre_numero'!D$1:E$1845,2,0)","v":"OTRAS"}]
["NI",890801099,"2020-06-25","2020-06-25",2,"JUAN CARLOS","ANALISTA CONCILIACIONES","JCRAMIREZ@FAMISANAR.COM.CO",3125547250,"11001",{"$f":"VLOOKUP(B918,'[1]Select temp_pre_numero'!D$1:E$1845,2,0)","v":"OTRAS"}]
["NI",810000901,"2020-06-26","2020-06-26",2,"JUAN CARLOS","ANALISTA CONCILIACIONES","JCRAMIREZ@FAMISANAR.COM.CO",3125547250,"11001",{"$f":"VLOOKUP(B919,'[1]Select temp_pre_numero'!D$1:E$1845,2,0)","v":{"$error":"#N/A"}}]
["NI",900807287,"2020-06-30","2020-06-30",2,"JUAN CARLOS","ANALISTA CONCILIACIONES","JCRAMIREZ@FAMISANAR.COM.CO",3125547250,"11001",{"$f":"VLOOKUP(B920,'[1]Select temp_pre_numero'!D$1:E$1845,2,0)","v":"OTRAS"}]
["NI",800025467,"2020-07-01","2020-07-01",2,"JUAN CARLOS","ANALISTA CONCILIACIONES","JCRAMIREZ@FAMISANAR.COM.CO",3125547250,"11001",{"$f":"VLOOKUP(B921,'[1]Select temp_pre_numero'!D$1:E$1845,2,0)","v":"OTRAS"}]
["NI",860007400,"2020-07-02","2020-07-02",2,"JUAN CARLOS","ANALISTA CONCILIACIONES","JCRAMIREZ@FAMISANAR.COM.CO",3125547250,"11001",{"$f":"VLOOKUP(B922,'[1]Select temp_pre_numero'!D$1:E$1845,2,0)","v":"OTRAS"}]
["NI",900211668,"2020-07-03","2020-07-03",2,"JUAN CARLOS","ANALISTA CONCILIACIONES","JCRAMIREZ@FAMISANAR.COM.CO",3125547250,"11001",{"$f":"VLOOKUP(B923,'[1]Select temp_pre_numero'!D$1:E$1845,2,0)","v":"OTRAS"}]
["NI",890203436,"2020-07-06","2020-07-06",2,"JUAN CARLOS","ANALISTA CONCILIACIONES","JCRAMIREZ@FAMISANAR.COM.CO",3125547250,"11001",{"$f":"VLOOKUP(B924,'[1]Select temp_pre_numero'!D$1:E$1845,2,0)","v":"OTRAS"}]
["NI",830031646,"2020-07-07","2020-07-07",2,"JUAN CARLOS","ANALISTA CONCILIACIONES","JCRAMIREZ@FAMISANAR.COM.CO",3125547250,"11001",{"$f":"VLOOKUP(B925,'[1]Select temp_pre_numero'!D$1:E$1845,2,0)","v":"OTRAS"}]
["NI",822001570,"2020-07-08","2020-07-08",2,"JUAN CARLOS","ANALISTA CONCILIACIONES","JCRAMIREZ@FAMISANAR.COM.CO",3125547250,"11001",{"$f":"VLOOKUP(B926,'[1]Select temp_pre_numero'!D$1:E$1845,2,0)","v":"OTRAS"}]
["NI",800006690,"2020-07-09","2020-07-09",2,"JUAN CARLOS","ANALISTA CONCILIACIONES","JCRAMIREZ@FAMISANAR.COM.CO",3125547250,"11001",{"$f":"VLOOKUP(B927,'[1]Select temp_pre_numero'!D$1:E$1845,2,0)","v":"OTRAS"}]
["NI",802006267,"2020-07-10","2020-07-10",2,"JUAN CARLOS","ANALISTA CONCILIACIONES","JCRAMIREZ@FAMISANAR.COM.CO",3125547250,"11001",{"$f":"VLOOKUP(B928,'[1]Select temp_pre_numero'!D$1:E$1845,2,0)","v":"OTRAS"}]
["NI",800206551,"2020-07-13","2020-07-13",2,"JUAN CARLOS","ANALISTA CONCILIACIONES","JCRAMIREZ@FAMISANAR.COM.CO",3125547250,"11001",{"$f":"VLOOKUP(B929,'[1]Select temp_pre_numero'!D$1:E$1845,2,0)","v":"OTRAS"}]
["NI",890802628,"2020-07-14","2020-07-14",2,"JUAN CARLOS","ANALISTA CONCILIACIONES","JCRAMIREZ@FAMISANAR.COM.CO",3125547250,"11001",{"$f":"VLOOKUP(B930,'[1]Select temp_pre_numero'!D$1:E$1845,2,0)","v":"OTRAS"}]
["NI",800174123,"2020-07-15","2020-07-15",2,"JUAN CARLOS","ANALISTA CONCILIACIONES","JCRAMIREZ@FAMISANAR.COM.CO",3125547250,"11001",{"$f":"VLOOKUP(B931,'[1]Select temp_pre_numero'!D$1:E$1845,2,0)","v":"OTRAS"}]
["NI",832001966,"2020-07-16","2020-07-16",2,"JUAN CARLOS","ANALISTA CONCILIACIONES","JCRAMIREZ@FAMISANAR.COM.CO",3125547250,"11001",{"$f":"VLOOKUP(B932,'[1]Select temp_pre_numero'!D$1:E$1845,2,0)","v":"OTRAS"}]
["NI",890204360,"2020-07-17","2020-07-17",2,"JUAN CARLOS","ANALISTA CONCILIACIONES","JCRAMIREZ@FAMISANAR.COM.CO",3125547250,"11001",{"$f":"VLOOKUP(B933,'[1]Select temp_pre_numero'!D$1:E$1845,2,0)","v":"OTRAS"}]
["NI",890117677,"2020-07-21","2020-07-21",2,"JUAN CARLOS","ANALISTA CONCILIACIONES","JCRAMIREZ@FAMISANAR.COM.CO",3125547250,"11001",{"$f":"VLOOKUP(B934,'[1]Select temp_pre_numero'!D$1:E$1845,2,0)","v":"OTRAS"}]
["NI",806006414,"2020-07-22","2020-07-22",2,"JUAN CARLOS","ANALISTA CONCILIACIONES","JCRAMIREZ@FAMISANAR.COM.CO",3125547250,"11001",{"$f":"VLOOKUP(B935,'[1]Select temp_pre_numero'!D$1:E$1845,2,0)","v":"OTRAS"}]
["NI",800167228,"2020-07-23","2020-07-23",2,"JUAN CARLOS","ANALISTA CONCILIACIONES","JCRAMIREZ@FAMISANAR.COM.CO",3125547250,"11001",{"$f":"VLOOKUP(B936,'[1]Select temp_pre_numero'!D$1:E$1845,2,0)","v":"OTRAS"}]
["NI",900420618,"2020-07-24","2020-07-24",2,"JUAN CARLOS","ANALISTA CONCILIACIONES","JCRAMIREZ@FAMISANAR.COM.CO",3125547250,"11001",{"$f":"VLOOKUP(B937,'[1]Select temp_pre_numero'!D$1:E$1845,2,0)","v":"OTRAS"}]
["NI",900066345,"2020-07-27","2020-07-27",2,"JUAN CARLOS","ANALISTA CONCILIACIONES","JCRAMIREZ@FAMISANAR.COM.CO",3125547250,"11001",{"$f":"VLOOKUP(B938,'[1]Select temp_pre_numero'!D$1:E$1845,2,0)","v":"OTRAS"}]
["NI",900869605,"2020-07-28","2020-07-28",2,"JUAN CARLOS","ANALISTA CONCILIACIONES","JCRAMIREZ@FAMISANAR.COM.CO",3125547250,"11001",{"$f":"VLOOKUP(B939,'[1]Select temp_pre_numero'!D$1:E$1845,2,0)","v":"OTRAS"}]
["NI",900318701,"2020-07-29","2020-07-29",2,"JUAN CARLOS","ANALISTA CONCILIACIONES","JCRAMIREZ@FAMISANAR.COM.CO",3125547250,"11001",{"$f":"VLOOKUP(B940,'[1]Select temp_pre_numero'!D$1:E$1845,2,0)","v":"OTRAS"}]
["NI",829001256,"2020-07-30","2020-07-30",2,"JUAN CARLOS","ANALISTA CONCILIACIONES","JCRAMIREZ@FAMISANAR.COM.CO",3125547250,"11001",{"$f":"VLOOKUP(B941,'[1]Select temp_pre_numero'!D$1:E$1845,2,0)","v":"OTRAS"}]
["NI",800064543,"2020-07-31","2020-07-31",2,"JUAN CARLOS","ANALISTA CONCILIACIONES","JCRAMIREZ@FAMISANAR.COM.CO",3125547250,"11001",{"$f":"VLOOKUP(B942,'[1]Select temp_pre_numero'!D$1:E$1845,2,0)","v":"OTRAS"}]
["NI",900558595,"2020-08-03","2020-08-03",2,"JUAN CARLOS","ANALISTA CONCILIACIONES","JCRAMIREZ@FAMISANAR.COM.CO",3125547250,"11001",{"$f":"VLOOKUP(B943,'[1]Select temp_pre_numero'!D$1:E$1845,2,0)","v":"OTRAS"}]
["NI",900510844,"2020-08-04","2020-08-04",2,"JUAN CARLOS","ANALISTA CONCILIACIONES","JCRAMIREZ@FAMISANAR.COM.CO",3125547250,"11001",{"$f":"VLOOKUP(B944,'[1]Select temp_pre_numero'!D$1:E$1845,2,0)","v":{"$error":"#N/A"}}]
["NI",900045673,"2020-08-05","2020-08-05",2,"JUAN CARLOS","ANALISTA CONCILIACIONES","JCRAMIREZ@FAMISANAR.COM.CO",3125547250,"11001",{"$f":"VLOOKUP(B945,'[1]Select temp_pre_numero'!D$1:E$1845,2,0)","v":{"$error":"#N/A"}}]
["NI",900196366,"2020-08-06","2020-08-06",2,"JUAN CARLOS","ANALISTA CONCILIACIONES","JCRAMIREZ@FAMISANAR.COM.CO",3125547250,"11001",{"$f":"VLOOKUP(B946,'[1]Select temp_pre_numero'!D$1:E$1845,2,0)","v":"OTRAS"}]
["NI",890203563,"2020-08-10","2020-08-10",2,"JUAN CARLOS","ANALISTA CONCILIACIONES","JCRAMIREZ@FAMISANAR.COM.CO",3125547250,"11001",{"$f":"VLOOKUP(B947,'[1]Select temp_pre_numero'!D$1:E$1845,2,0)","v":"OTRAS"}]
["NI",900227720,"2020-08-11","2020-08-11",2,"JUAN CARLOS","ANALISTA CONCILIACIONES","JCRAMIREZ@FAMISANAR.COM.CO",3125547250,"11001",{"$f":"VLOOKUP(B948,'[1]Select temp_pre_numero'!D$1:E$1845,2,0)","v":{"$error":"#N/A"}}]
["NI",804016365,"2020-08-12","2020-08-12",2,"JUAN CARLOS","ANALISTA CONCILIACIONES","JCRAMIREZ@FAMISANAR.COM.CO",3125547250,"11001",{"$f":"VLOOKUP(B949,'[1]Select temp_pre_numero'!D$1:E$1845,2,0)","v":"OTRAS"}]
["NI",802020291,"2020-08-13","2020-08-13",2,"JUAN CARLOS","ANALISTA CONCILIACIONES","JCRAMIREZ@FAMISANAR.COM.CO",3125547250,"11001",{"$f":"VLOOKUP(B950,'[1]Select temp_pre_numero'!D$1:E$1845,2,0)","v":{"$error":"#N/A"}}]
["NI",900174813,"2020-08-14","2020-08-14",2,"JUAN CARLOS","ANALISTA CONCILIACIONES","JCRAMIREZ@FAMISANAR.COM.CO",3125547250,"11001",{"$f":"VLOOKUP(B951,'[1]Select temp_pre_numero'!D$1:E$1845,2,0)","v":"OTRAS"}]
["NI",844003225,"2020-08-18","2020-08-18",2,"JUAN CARLOS","ANALISTA CONCILIACIONES","JCRAMIREZ@FAMISANAR.COM.CO",3125547250,"11001",{"$f":"VLOOKUP(B952,'[1]Select temp_pre_numero'!D$1:E$1845,2,0)","v":"OTRAS"}]
["NI",901238038,"2020-08-19","2020-08-19",2,"JUAN CARLOS","ANALISTA CONCILIACIONES","JCRAMIREZ@FAMISANAR.COM.CO",3125547250,"11001",{"$f":"VLOOKUP(B953,'[1]Select temp_pre_numero'!D$1:E$1845,2,0)","v":"OTRAS"}]
["NI",900233294,"2020-08-20","2020-08-20",2,"JUAN CARLOS","ANALISTA CONCILIACIONES","JCRAMIREZ@FAMISANAR.COM.CO",3125547250,"11001",{"$f":"VLOOKUP(B954,'[1]Select temp_pre_numero'!D$1:E$1845,2,0)","v":"OTRAS"}]
["NI",900583004,"2020-08-21","2020-08-21",2,"JUAN CARLOS","ANALISTA CONCILIACIONES","JCRAMIREZ@FAMISANAR.COM.CO",3125547250,"11001",{"$f":"VLOOKUP(B955,'[1]Select temp_pre_numero'!D$1:E$1845,2,0)","v":"OTRAS"}]
["NI",807008857,"2020-08-24","2020-08-24",2,"JUAN CARLOS","ANALISTA CONCILIACIONES","JCRAMIREZ@FAMISANAR.COM.CO",3125547250,"11001",{"$f":"VLOOKUP(B956,'[1]Select temp_pre_numero'!D$1:E$1845,2,0)","v":"OTRAS"}]
["NI",890102140,"2020-08-25","2020-08-25",2,"JUAN CARLOS","ANALISTA CONCILIACIONES","JCRAMIREZ@FAMISANAR.COM.CO",3125547250,"11001",{"$f":"VLOOKUP(B957,'[1]Select temp_pre_numero'!D$1:E$1845,2,0)","v":"OTRAS"}]
["NI",890802961,"2020-08-26","2020-08-26",2,"JUAN CARLOS","ANALISTA CONCILIACIONES","JCRAMIREZ@FAMISANAR.COM.CO",3125547250,"11001",{"$f":"VLOOKUP(B958,'[1]Select temp_pre_numero'!D$1:E$1845,2,0)","v":"OTRAS"}]
["NI",900081643,"2020-08-27","2020-08-27",2,"JUAN CARLOS","ANALISTA CONCILIACIONES","JCRAMIREZ@FAMISANAR.COM.CO",3125547250,"11001",{"$f":"VLOOKUP(B959,'[1]Select temp_pre_numero'!D$1:E$1845,2,0)","v":"OTRAS"}]
["NI",900000427,"2020-08-28","2020-08-28",2,"JUAN CARLOS","ANALISTA CONCILIACIONES","JCRAMIREZ@FAMISANAR.COM.CO",3125547250,"11001",{"$f":"VLOOKUP(B960,'[1]Select temp_pre_numero'!D$1:E$1845,2,0)","v":{"$error":"#N/A"}}]
["NI",890204895,"2020-08-29","2020-08-29",2,"JUAN CARLOS","ANALISTA CONCILIACIONES","JCRAMIREZ@FAMISANAR.COM.CO",3125547250,"11001",{"$f":"VLOOKUP(B961,'[1]Select temp_pre_numero'!D$1:E$1845,2,0)","v":"OTRAS"}]
["NI",890201397,"2020-08-30","2020-08-30",2,"JUAN CARLOS","ANALISTA CONCILIACIONES","JCRAMIREZ@FAMISANAR.COM.CO",3125547250,"11001",{"$f":"VLOOKUP(B962,'[1]Select temp_pre_numero'!D$1:E$1845,2,0)","v":"OTRAS"}]
["NI",900541158,"2020-08-31","2020-08-31",2,"JUAN CARLOS","ANALISTA CONCILIACIONES","JCRAMIREZ@FAMISANAR.COM.CO",3125547250,"11001",{"$f":"VLOOKUP(B963,'[1]Select temp_pre_numero'!D$1:E$1845,2,0)","v":"OTRAS"}]
["NI",806008270,"2020-08-18","2020-08-18",2,"JUAN CARLOS","ANALISTA CONCILIACIONES","JCRAMIREZ@FAMISANAR.COM.CO",3125547250,"11001",{"$f":"VLOOKUP(B964,'[1]Select temp_pre_numero'!D$1:E$1845,2,0)","v":"OTRAS"}]
["NI",802009806,"2020-08-19","2020-08-19",2,"JUAN CARLOS","ANALISTA CONCILIACIONES","JCRAMIREZ@FAMISANAR.COM.CO",3125547250,"11001",{"$f":"VLOOKUP(B965,'[1]Select temp_pre_numero'!D$1:E$1845,2,0)","v":"OTRAS"}]
["NI",810000912,"2020-08-20","2020-08-20",2,"JUAN CARLOS","ANALISTA CONCILIACIONES","JCRAMIREZ@FAMISANAR.COM.CO",3125547250,"11001",{"$f":"VLOOKUP(B966,'[1]Select temp_pre_numero'!D$1:E$1845,2,0)","v":"OTRAS"}]
["NI",890801517,"2020-08-21","2020-08-21",2,"JUAN CARLOS","ANALISTA CONCILIACIONES","JCRAMIREZ@FAMISANAR.COM.CO",3125547250,"11001",{"$f":"VLOOKUP(B967,'[1]Select temp_pre_numero'!D$1:E$1845,2,0)","v":"OTRAS"}]
["NI",804008770,"2020-08-24","2020-08-24",2,"JUAN CARLOS","ANALISTA CONCILIACIONES","JCRAMIREZ@FAMISANAR.COM.CO",3125547250,"11001",{"$f":"VLOOKUP(B968,'[1]Select temp_pre_numero'!D$1:E$1845,2,0)","v":"OTRAS"}]
["NI",802025301,"2020-08-25","2020-08-25",2,"JUAN CARLOS","ANALISTA CONCILIACIONES","JCRAMIREZ@FAMISANAR.COM.CO",3125547250,"11001",{"$f":"VLOOKUP(B969,'[1]Select temp_pre_numero'!D$1:E$1845,2,0)","v":{"$error":"#N/A"}}]
["NI",900622320,"2020-08-26","2020-08-26",2,"JUAN CARLOS","ANALISTA CONCILIACIONES","JCRAMIREZ@FAMISANAR.COM.CO",3125547250,"11001",{"$f":"VLOOKUP(B970,'[1]Select temp_pre_numero'!D$1:E$1845,2,0)","v":"OTRAS"}]
["NI",804004037,"2020-08-27","2020-08-27",2,"JUAN CARLOS","ANALISTA CONCILIACIONES","JCRAMIREZ@FAMISANAR.COM.CO",3125547250,"11001",{"$f":"VLOOKUP(B971,'[1]Select temp_pre_numero'!D$1:E$1845,2,0)","v":"OTRAS"}]
["NI",900077520,"2020-08-28","2020-08-28",2,"JUAN CARLOS","ANALISTA CONCILIACIONES","JCRAMIREZ@FAMISANAR.COM.CO",3125547250,"11001",{"$f":"VLOOKUP(B972,'[1]Select temp_pre_numero'!D$1:E$1845,2,0)","v":"OTRAS"}]
["NI",890801758,"2020-08-29","2020-08-29",2,"JUAN CARLOS","ANALISTA CONCILIACIONES","JCRAMIREZ@FAMISANAR.COM.CO",3125547250,"11001",{"$f":"VLOOKUP(B973,'[1]Select temp_pre_numero'!D$1:E$1845,2,0)","v":"OTRAS"}]
["NI",900520772,"2020-08-30","2020-08-30",2,"JUAN CARLOS","ANALISTA CONCILIACIONES","JCRAMIREZ@FAMISANAR.COM.CO",3125547250,"11001",{"$f":"VLOOKUP(B974,'[1]Select temp_pre_numero'!D$1:E$1845,2,0)","v":"OTRAS"}]
["NI",900223749,"2020-08-31","2020-08-31",2,"JUAN CARLOS","ANALISTA CONCILIACIONES","JCRAMIREZ@FAMISANAR.COM.CO",3125547250,"11001",{"$f":"VLOOKUP(B975,'[1]Select temp_pre_numero'!D$1:E$1845,2,0)","v":"OTRAS"}]
["NI",900205591,"2020-06-16","2020-06-16",2,"JULIO BOLIVAR ","ANALISTA CONCILIACIONES","JBOLIVAR@FAMISANAR.COM.CO",3214435321,"11001",{"$f":"VLOOKUP(B976,'[1]Select temp_pre_numero'!D$1:E$1845,2,0)","v":{"$error":"#N/A"}}]
["NI",901133091,"2020-06-17","2020-06-17",2,"JULIO BOLIVAR ","ANALISTA CONCILIACIONES","JBOLIVAR@FAMISANAR.COM.CO",3214435321,"11001",{"$f":"VLOOKUP(B977,'[1]Select temp_pre_numero'!D$1:E$1845,2,0)","v":{"$error":"#N/A"}}]
["NI",824005343,"2020-06-18","2020-06-18",2,"JULIO BOLIVAR ","ANALISTA CONCILIACIONES","JBOLIVAR@FAMISANAR.COM.CO",3214435321,"11001",{"$f":"VLOOKUP(B978,'[1]Select temp_pre_numero'!D$1:E$1845,2,0)","v":{"$error":"#N/A"}}]
["NI",891180113,"2020-06-19","2020-06-19",2,"JULIO BOLIVAR ","ANALISTA CONCILIACIONES","JBOLIVAR@FAMISANAR.COM.CO",3214435321,"11001",{"$f":"VLOOKUP(B979,'[1]Select temp_pre_numero'!D$1:E$1845,2,0)","v":"OTRAS"}]
["NI",805027338,"2020-06-23","2020-06-23",2,"JULIO BOLIVAR ","ANALISTA CONCILIACIONES","JBOLIVAR@FAMISANAR.COM.CO",3214435321,"11001",{"$f":"VLOOKUP(B980,'[1]Select temp_pre_numero'!D$1:E$1845,2,0)","v":"OTRAS"}]
["NI",890801989,"2020-06-24","2020-06-24",2,"JULIO BOLIVAR ","ANALISTA CONCILIACIONES","JBOLIVAR@FAMISANAR.COM.CO",3214435321,"11001",{"$f":"VLOOKUP(B981,'[1]Select temp_pre_numero'!D$1:E$1845,2,0)","v":"OTRAS"}]
["NI",826002687,"2020-06-25","2020-06-25",2,"JULIO BOLIVAR ","ANALISTA CONCILIACIONES","JBOLIVAR@FAMISANAR.COM.CO",3214435321,"11001",{"$f":"VLOOKUP(B982,'[1]Select temp_pre_numero'!D$1:E$1845,2,0)","v":{"$error":"#N/A"}}]
["NI",890113431,"2020-06-26","2020-06-26",2,"JULIO BOLIVAR ","ANALISTA CONCILIACIONES","JBOLIVAR@FAMISANAR.COM.CO",3214435321,"11001",{"$f":"VLOOKUP(B983,'[1]Select temp_pre_numero'!D$1:E$1845,2,0)","v":"OTRAS"}]
["NI",900121152,"2020-06-30","2020-06-30",2,"JULIO BOLIVAR ","ANALISTA CONCILIACIONES","JBOLIVAR@FAMISANAR.COM.CO",3214435321,"11001",{"$f":"VLOOKUP(B984,'[1]Select temp_pre_numero'!D$1:E$1845,2,0)","v":"OTRAS"}]
["NI",891901296,"2020-07-01","2020-07-01",2,"JULIO BOLIVAR ","ANALISTA CONCILIACIONES","JBOLIVAR@FAMISANAR.COM.CO",3214435321,"11001",{"$f":"VLOOKUP(B985,'[1]Select temp_pre_numero'!D$1:E$1845,2,0)","v":"OTRAS"}]
["NI",900736567,"2020-07-02","2020-07-02",2,"JULIO BOLIVAR ","ANALISTA CONCILIACIONES","JBOLIVAR@FAMISANAR.COM.CO",3214435321,"11001",{"$f":"VLOOKUP(B986,'[1]Select temp_pre_numero'!D$1:E$1845,2,0)","v":{"$error":"#N/A"}}]
["NI",892300179,"2020-07-03","2020-07-03",2,"JULIO BOLIVAR ","ANALISTA CONCILIACIONES","JBOLIVAR@FAMISANAR.COM.CO",3214435321,"11001",{"$f":"VLOOKUP(B987,'[1]Select temp_pre_numero'!D$1:E$1845,2,0)","v":{"$error":"#N/A"}}]
["NI",807008842,"2020-07-06","2020-07-06",2,"JULIO BOLIVAR ","ANALISTA CONCILIACIONES","JBOLIVAR@FAMISANAR.COM.CO",3214435321,"11001",{"$f":"VLOOKUP(B988,'[1]Select temp_pre_numero'!D$1:E$1845,2,0)","v":"OTRAS"}]
["NI",844002258,"2020-07-07","2020-07-07",2,"JULIO BOLIVAR ","ANALISTA CONCILIACIONES","JBOLIVAR@FAMISANAR.COM.CO",3214435321,"11001",{"$f":"VLOOKUP(B989,'[1]Select temp_pre_numero'!D$1:E$1845,2,0)","v":{"$error":"#N/A"}}]
["NI",822006051,"2020-07-08","2020-07-08",2,"JULIO BOLIVAR ","ANALISTA CONCILIACIONES","JBOLIVAR@FAMISANAR.COM.CO",3214435321,"11001",{"$f":"VLOOKUP(B990,'[1]Select temp_pre_numero'!D$1:E$1845,2,0)","v":"OTRAS"}]
["NI",890205335,"2020-07-09","2020-07-09",2,"JULIO BOLIVAR ","ANALISTA CONCILIACIONES","JBOLIVAR@FAMISANAR.COM.CO",3214435321,"11001",{"$f":"VLOOKUP(B991,'[1]Select temp_pre_numero'!D$1:E$1845,2,0)","v":"OTRAS"}]
["NI",800215758,"2020-07-10","2020-07-10",2,"JULIO BOLIVAR ","ANALISTA CONCILIACIONES","JBOLIVAR@FAMISANAR.COM.CO",3214435321,"11001",{"$f":"VLOOKUP(B992,'[1]Select temp_pre_numero'!D$1:E$1845,2,0)","v":"OTRAS"}]
["NI",891103889,"2020-07-13","2020-07-13",2,"JULIO BOLIVAR ","ANALISTA CONCILIACIONES","JBOLIVAR@FAMISANAR.COM.CO",3214435321,"11001",{"$f":"VLOOKUP(B993,'[1]Select temp_pre_numero'!D$1:E$1845,2,0)","v":"OTRAS"}]
["NI",804005182,"2020-07-14","2020-07-14",2,"JULIO BOLIVAR ","ANALISTA CONCILIACIONES","JBOLIVAR@FAMISANAR.COM.CO",3214435321,"11001",{"$f":"VLOOKUP(B994,'[1]Select temp_pre_numero'!D$1:E$1845,2,0)","v":"OTRAS"}]
["NI",825003080,"2020-07-15","2020-07-15",2,"JULIO BOLIVAR ","ANALISTA CONCILIACIONES","JBOLIVAR@FAMISANAR.COM.CO",3214435321,"11001",{"$f":"VLOOKUP(B995,'[1]Select temp_pre_numero'!D$1:E$1845,2,0)","v":"OTRAS"}]
["NI",891300047,"2020-07-16","2020-07-16",2,"JULIO BOLIVAR ","ANALISTA CONCILIACIONES","JBOLIVAR@FAMISANAR.COM.CO",3214435321,"11001",{"$f":"VLOOKUP(B996,'[1]Select temp_pre_numero'!D$1:E$1845,2,0)","v":"OTRAS"}]
["NI",810001159,"2020-07-17","2020-07-17",2,"JULIO BOLIVAR ","ANALISTA CONCILIACIONES","JBOLIVAR@FAMISANAR.COM.CO",3214435321,"11001",{"$f":"VLOOKUP(B997,'[1]Select temp_pre_numero'!D$1:E$1845,2,0)","v":"OTRAS"}]
["NI",820003360,"2020-07-21","2020-07-21",2,"JULIO BOLIVAR ","ANALISTA CONCILIACIONES","JBOLIVAR@FAMISANAR.COM.CO",3214435321,"11001",{"$f":"VLOOKUP(B998,'[1]Select temp_pre_numero'!D$1:E$1845,2,0)","v":"OTRAS"}]
["NI",826002660,"2020-07-22","2020-07-22",2,"JULIO BOLIVAR ","ANALISTA CONCILIACIONES","JBOLIVAR@FAMISANAR.COM.CO",3214435321,"11001",{"$f":"VLOOKUP(B999,'[1]Select temp_pre_numero'!D$1:E$1845,2,0)","v":"OTRAS"}]
["NI",837000286,"2020-07-23","2020-07-23",2,"JULIO BOLIVAR ","ANALISTA CONCILIACIONES","JBOLIVAR@FAMISANAR.COM.CO",3214435321,"11001",{"$f":"VLOOKUP(B1000,'[1]Select temp_pre_numero'!D$1:E$1845,2,0)","v":"OTRAS"}]
["NI",890981848,"2020-07-24","2020-07-24",2,"JULIO BOLIVAR ","ANALISTA CONCILIACIONES","JBOLIVAR@FAMISANAR.COM.CO",3214435321,"11001",{"$f":"VLOOKUP(B1001,'[1]Select temp_pre_numero'!D$1:E$1845,2,0)","v":"OTRAS"}]
["NI",890700568,"2020-07-27","2020-07-27",2,"JULIO BOLIVAR ","ANALISTA CONCILIACIONES","JBOLIVAR@FAMISANAR.COM.CO",3214435321,"11001",{"$f":"VLOOKUP(B1002,'[1]Select temp_pre_numero'!D$1:E$1845,2,0)","v":"OTRAS"}]
["NI",832009187,"2020-07-28","2020-07-28",2,"JULIO BOLIVAR ","ANALISTA CONCILIACIONES","JBOLIVAR@FAMISANAR.COM.CO",3214435321,"11001",{"$f":"VLOOKUP(B1003,'[1]Select temp_pre_numero'!D$1:E$1845,2,0)","v":{"$error":"#N/A"}}]
["NI",891900414,"2020-07-29","2020-07-29",2,"JULIO BOLIVAR ","ANALISTA CONCILIACIONES","JBOLIVAR@FAMISANAR.COM.CO",3214435321,"11001",{"$f":"VLOOKUP(B1004,'[1]Select temp_pre_numero'!D$1:E$1845,2,0)","v":"OTRAS"}]
["NI",800160400,"2020-07-30","2020-07-30",2,"JULIO BOLIVAR ","ANALISTA CONCILIACIONES","JBOLIVAR@FAMISANAR.COM.CO",3214435321,"11001",{"$f":"VLOOKUP(B1005,'[1]Select temp_pre_numero'!D$1:E$1845,2,0)","v":{"$error":"#N/A"}}]
["NI",814003370,"2020-07-31","2020-07-31",2,"JULIO BOLIVAR ","ANALISTA CONCILIACIONES","JBOLIVAR@FAMISANAR.COM.CO",3214435321,"11001",{"$f":"VLOOKUP(B1006,'[1]Select temp_pre_numero'!D$1:E$1845,2,0)","v":"OTRAS"}]
["NI",891900441,"2020-08-03","2020-08-03",2,"JULIO BOLIVAR ","ANALISTA CONCILIACIONES","JBOLIVAR@FAMISANAR.COM.CO",3214435321,"11001",{"$f":"VLOOKUP(B1007,'[1]Select temp_pre_numero'!D$1:E$1845,2,0)","v":"OTRAS"}]
["NI",891900343,"2020-08-04","2020-08-04",2,"JULIO BOLIVAR ","ANALISTA CONCILIACIONES","JBOLIVAR@FAMISANAR.COM.CO",3214435321,"11001",{"$f":"VLOOKUP(B1008,'[1]Select temp_pre_numero'!D$1:E$1845,2,0)","v":"OTRAS"}]
["NI",890907297,"2020-08-05","2020-08-05",2,"JULIO BOLIVAR ","ANALISTA CONCILIACIONES","JBOLIVAR@FAMISANAR.COM.CO",3214435321,"11001",{"$f":"VLOOKUP(B1009,'[1]Select temp_pre_numero'!D$1:E$1845,2,0)","v":"OTRAS"}]
["NI",800130480,"2020-08-06","2020-08-06",2,"JULIO BOLIVAR ","ANALISTA CONCILIACIONES","JBOLIVAR@FAMISANAR.COM.CO",3214435321,"11001",{"$f":"VLOOKUP(B1010,'[1]Select temp_pre_numero'!D$1:E$1845,2,0)","v":{"$error":"#N/A"}}]
["NI",860352078,"2020-08-10","2020-08-10",2,"JULIO BOLIVAR ","ANALISTA CONCILIACIONES","JBOLIVAR@FAMISANAR.COM.CO",3214435321,"11001",{"$f":"VLOOKUP(B1011,'[1]Select temp_pre_numero'!D$1:E$1845,2,0)","v":{"$error":"#N/A"}}]
["NI",890204659,"2020-08-11","2020-08-11",2,"JULIO BOLIVAR ","ANALISTA CONCILIACIONES","JBOLIVAR@FAMISANAR.COM.CO",3214435321,"11001",{"$f":"VLOOKUP(B1012,'[1]Select temp_pre_numero'!D$1:E$1845,2,0)","v":"OTRAS"}]
["NI",891409017,"2020-08-12","2020-08-12",2,"JULIO BOLIVAR ","ANALISTA CONCILIACIONES","JBOLIVAR@FAMISANAR.COM.CO",3214435321,"11001",{"$f":"VLOOKUP(B1013,'[1]Select temp_pre_numero'!D$1:E$1845,2,0)","v":{"$error":"#N/A"}}]
["NI",809001159,"2020-08-13","2020-08-13",2,"JULIO BOLIVAR ","ANALISTA CONCILIACIONES","JBOLIVAR@FAMISANAR.COM.CO",3214435321,"11001",{"$f":"VLOOKUP(B1014,'[1]Select temp_pre_numero'!D$1:E$1845,2,0)","v":"OTRAS"}]
["NI",900142446,"2020-08-14","2020-08-14",2,"JULIO BOLIVAR ","ANALISTA CONCILIACIONES","JBOLIVAR@FAMISANAR.COM.CO",3214435321,"11001",{"$f":"VLOOKUP(B1015,'[1]Select temp_pre_numero'!D$1:E$1845,2,0)","v":"OTRAS"}]
["NI",830027158,"2020-08-18","2020-08-18",2,"JULIO BOLIVAR ","ANALISTA CONCILIACIONES","JBOLIVAR@FAMISANAR.COM.CO",3214435321,"11001",{"$f":"VLOOKUP(B1016,'[1]Select temp_pre_numero'!D$1:E$1845,2,0)","v":"OTRAS"}]
["NI",900594442,"2020-08-19","2020-08-19",2,"JULIO BOLIVAR ","ANALISTA CONCILIACIONES","JBOLIVAR@FAMISANAR.COM.CO",3214435321,"11001",{"$f":"VLOOKUP(B1017,'[1]Select temp_pre_numero'!D$1:E$1845,2,0)","v":"OTRAS"}]
["NI",807004393,"2020-08-20","2020-08-20",2,"JULIO BOLIVAR ","ANALISTA CONCILIACIONES","JBOLIVAR@FAMISANAR.COM.CO",3214435321,"11001",{"$f":"VLOOKUP(B1018,'[1]Select temp_pre_numero'!D$1:E$1845,2,0)","v":"OTRAS"}]
["NI",800133887,"2020-08-21","2020-08-21",2,"JULIO BOLIVAR ","ANALISTA CONCILIACIONES","JBOLIVAR@FAMISANAR.COM.CO",3214435321,"11001",{"$f":"VLOOKUP(B1019,'[1]Select temp_pre_numero'!D$1:E$1845,2,0)","v":"OTRAS"}]
["NI",890801026,"2020-08-24","2020-08-24",2,"JULIO BOLIVAR ","ANALISTA CONCILIACIONES","JBOLIVAR@FAMISANAR.COM.CO",3214435321,"11001",{"$f":"VLOOKUP(B1020,'[1]Select temp_pre_numero'!D$1:E$1845,2,0)","v":"OTRAS"}]
["NI",804015127,"2020-08-25","2020-08-25",2,"JULIO BOLIVAR ","ANALISTA CONCILIACIONES","JBOLIVAR@FAMISANAR.COM.CO",3214435321,"11001",{"$f":"VLOOKUP(B1021,'[1]Select temp_pre_numero'!D$1:E$1845,2,0)","v":"OTRAS"}]
["NI",813005295,"2020-08-26","2020-08-26",2,"JULIO BOLIVAR ","ANALISTA CONCILIACIONES","JBOLIVAR@FAMISANAR.COM.CO",3214435321,"11001",{"$f":"VLOOKUP(B1022,'[1]Select temp_pre_numero'!D$1:E$1845,2,0)","v":"OTRAS"}]
["NI",900335691,"2020-08-27","2020-08-27",2,"JULIO BOLIVAR ","ANALISTA CONCILIACIONES","JBOLIVAR@FAMISANAR.COM.CO",3214435321,"11001",{"$f":"VLOOKUP(B1023,'[1]Select temp_pre_numero'!D$1:E$1845,2,0)","v":{"$error":"#N/A"}}]
["NI",837000974,"2020-08-28","2020-08-28",2,"JULIO BOLIVAR ","ANALISTA CONCILIACIONES","JBOLIVAR@FAMISANAR.COM.CO",3214435321,"11001",{"$f":"VLOOKUP(B1024,'[1]Select temp_pre_numero'!D$1:E$1845,2,0)","v":"OTRAS"}]
["NI",900025999,"2020-08-29","2020-08-29",2,"JULIO BOLIVAR ","ANALISTA CONCILIACIONES","JBOLIVAR@FAMISANAR.COM.CO",3214435321,"11001",{"$f":"VLOOKUP(B1025,'[1]Select temp_pre_numero'!D$1:E$1845,2,0)","v":{"$error":"#N/A"}}]
["NI",824000469,"2020-08-30","2020-08-30",2,"JULIO BOLIVAR ","ANALISTA CONCILIACIONES","JBOLIVAR@FAMISANAR.COM.CO",3214435321,"11001",{"$f":"VLOOKUP(B1026,'[1]Select temp_pre_numero'!D$1:E$1845,2,0)","v":"OTRAS"}]
["NI",891500182,"2020-08-31","2020-08-31",2,"JULIO BOLIVAR ","ANALISTA CONCILIACIONES","JBOLIVAR@FAMISANAR.COM.CO",3214435321,"11001",{"$f":"VLOOKUP(B1027,'[1]Select temp_pre_numero'!D$1:E$1845,2,0)","v":{"$error":"#N/A"}}]
["NI",800134339,"2020-06-16","2020-06-16",2,"JULIO BOLIVAR ","ANALISTA CONCILIACIONES","JBOLIVAR@FAMISANAR.COM.CO",3214435321,"11001",{"$f":"VLOOKUP(B1028,'[1]Select temp_pre_numero'!D$1:E$1845,2,0)","v":{"$error":"#N/A"}}]
["NI",900007679,"2020-06-17","2020-06-17",2,"JULIO BOLIVAR ","ANALISTA CONCILIACIONES","JBOLIVAR@FAMISANAR.COM.CO",3214435321,"11001",{"$f":"VLOOKUP(B1029,'[1]Select temp_pre_numero'!D$1:E$1845,2,0)","v":"OTRAS"}]
["NI",835000972,"2020-06-18","2020-06-18",2,"JULIO BOLIVAR ","ANALISTA CONCILIACIONES","JBOLIVAR@FAMISANAR.COM.CO",3214435321,"11001",{"$f":"VLOOKUP(B1030,'[1]Select temp_pre_numero'!D$1:E$1845,2,0)","v":"OTRAS"}]
["NI",891401308,"2020-06-19","2020-06-19",2,"JULIO BOLIVAR ","ANALISTA CONCILIACIONES","JBOLIVAR@FAMISANAR.COM.CO",3214435321,"11001",{"$f":"VLOOKUP(B1031,'[1]Select temp_pre_numero'!D$1:E$1845,2,0)","v":"OTRAS"}]
["NI",824004729,"2020-06-23","2020-06-23",2,"JULIO BOLIVAR ","ANALISTA CONCILIACIONES","JBOLIVAR@FAMISANAR.COM.CO",3214435321,"11001",{"$f":"VLOOKUP(B1032,'[1]Select temp_pre_numero'!D$1:E$1845,2,0)","v":"OTRAS"}]
["NI",900460322,"2020-06-24","2020-06-24",2,"JULIO BOLIVAR ","ANALISTA CONCILIACIONES","JBOLIVAR@FAMISANAR.COM.CO",3214435321,"11001",{"$f":"VLOOKUP(B1033,'[1]Select temp_pre_numero'!D$1:E$1845,2,0)","v":{"$error":"#N/A"}}]
["NI",800228215,"2020-06-25","2020-06-25",2,"JULIO BOLIVAR ","ANALISTA CONCILIACIONES","JBOLIVAR@FAMISANAR.COM.CO",3214435321,"11001",{"$f":"VLOOKUP(B1034,'[1]Select temp_pre_numero'!D$1:E$1845,2,0)","v":{"$error":"#N/A"}}]
["NI",839000145,"2020-06-26","2020-06-26",2,"JULIO BOLIVAR ","ANALISTA CONCILIACIONES","JBOLIVAR@FAMISANAR.COM.CO",3214435321,"11001",{"$f":"VLOOKUP(B1035,'[1]Select temp_pre_numero'!D$1:E$1845,2,0)","v":"OTRAS"}]
["NI",821000831,"2020-06-30","2020-06-30",2,"JULIO BOLIVAR ","ANALISTA CONCILIACIONES","JBOLIVAR@FAMISANAR.COM.CO",3214435321,"11001",{"$f":"VLOOKUP(B1036,'[1]Select temp_pre_numero'!D$1:E$1845,2,0)","v":"OTRAS"}]
["NI",800218979,"2020-07-01","2020-07-01",2,"JULIO BOLIVAR ","ANALISTA CONCILIACIONES","JBOLIVAR@FAMISANAR.COM.CO",3214435321,"11001",{"$f":"VLOOKUP(B1037,'[1]Select temp_pre_numero'!D$1:E$1845,2,0)","v":"OTRAS"}]
["NI",891380103,"2020-07-02","2020-07-02",2,"JULIO BOLIVAR ","ANALISTA CONCILIACIONES","JBOLIVAR@FAMISANAR.COM.CO",3214435321,"11001",{"$f":"VLOOKUP(B1038,'[1]Select temp_pre_numero'!D$1:E$1845,2,0)","v":"OTRAS"}]
["NI",900128655,"2020-07-03","2020-07-03",2,"JULIO BOLIVAR ","ANALISTA CONCILIACIONES","JBOLIVAR@FAMISANAR.COM.CO",3214435321,"11001",{"$f":"VLOOKUP(B1039,'[1]Select temp_pre_numero'!D$1:E$1845,2,0)","v":"OTRAS"}]
["NI",900056175,"2020-07-06","2020-07-06",2,"JULIO BOLIVAR ","ANALISTA CONCILIACIONES","JBOLIVAR@FAMISANAR.COM.CO",3214435321,"11001",{"$f":"VLOOKUP(B1040,'[1]Select temp_pre_numero'!D$1:E$1845,2,0)","v":"OTRAS"}]
["NI",891301447,"2020-07-07","2020-07-07",2,"JULIO BOLIVAR ","ANALISTA CONCILIACIONES","JBOLIVAR@FAMISANAR.COM.CO",3214435321,"11001",{"$f":"VLOOKUP(B1041,'[1]Select temp_pre_numero'!D$1:E$1845,2,0)","v":"OTRAS"}]
["NI",813003431,"2020-07-08","2020-07-08",2,"JULIO BOLIVAR ","ANALISTA CONCILIACIONES","JBOLIVAR@FAMISANAR.COM.CO",3214435321,"11001",{"$f":"VLOOKUP(B1042,'[1]Select temp_pre_numero'!D$1:E$1845,2,0)","v":"OTRAS"}]
["NI",900071201,"2020-07-09","2020-07-09",2,"JULIO BOLIVAR ","ANALISTA CONCILIACIONES","JBOLIVAR@FAMISANAR.COM.CO",3214435321,"11001",{"$f":"VLOOKUP(B1043,'[1]Select temp_pre_numero'!D$1:E$1845,2,0)","v":{"$error":"#N/A"}}]
["NI",890985092,"2020-07-10","2020-07-10",2,"JULIO BOLIVAR ","ANALISTA CONCILIACIONES","JBOLIVAR@FAMISANAR.COM.CO",3214435321,"11001",{"$f":"VLOOKUP(B1044,'[1]Select temp_pre_numero'!D$1:E$1845,2,0)","v":"OTRAS"}]
["NI",891408747,"2020-07-13","2020-07-13",2,"JULIO BOLIVAR ","ANALISTA CONCILIACIONES","JBOLIVAR@FAMISANAR.COM.CO",3214435321,"11001",{"$f":"VLOOKUP(B1045,'[1]Select temp_pre_numero'!D$1:E$1845,2,0)","v":"OTRAS"}]
["NI",804013228,"2020-07-14","2020-07-14",2,"JULIO BOLIVAR ","ANALISTA CONCILIACIONES","JBOLIVAR@FAMISANAR.COM.CO",3214435321,"11001",{"$f":"VLOOKUP(B1046,'[1]Select temp_pre_numero'!D$1:E$1845,2,0)","v":{"$error":"#N/A"}}]
["NI",891901041,"2020-07-15","2020-07-15",2,"JULIO BOLIVAR ","ANALISTA CONCILIACIONES","JBOLIVAR@FAMISANAR.COM.CO",3214435321,"11001",{"$f":"VLOOKUP(B1047,'[1]Select temp_pre_numero'!D$1:E$1845,2,0)","v":"OTRAS"}]
["NI",802013835,"2020-07-16","2020-07-16",2,"JULIO BOLIVAR ","ANALISTA CONCILIACIONES","JBOLIVAR@FAMISANAR.COM.CO",3214435321,"11001",{"$f":"VLOOKUP(B1048,'[1]Select temp_pre_numero'!D$1:E$1845,2,0)","v":{"$error":"#N/A"}}]
["NI",800225057,"2020-07-17","2020-07-17",2,"JULIO BOLIVAR ","ANALISTA CONCILIACIONES","JBOLIVAR@FAMISANAR.COM.CO",3214435321,"11001",{"$f":"VLOOKUP(B1049,'[1]Select temp_pre_numero'!D$1:E$1845,2,0)","v":"OTRAS"}]
["NI",890981374,"2020-07-21","2020-07-21",2,"JULIO BOLIVAR ","ANALISTA CONCILIACIONES","JBOLIVAR@FAMISANAR.COM.CO",3214435321,"11001",{"$f":"VLOOKUP(B1050,'[1]Select temp_pre_numero'!D$1:E$1845,2,0)","v":{"$error":"#N/A"}}]
["NI",900665930,"2020-07-22","2020-07-22",2,"JULIO BOLIVAR ","ANALISTA CONCILIACIONES","JBOLIVAR@FAMISANAR.COM.CO",3214435321,"11001",{"$f":"VLOOKUP(B1051,'[1]Select temp_pre_numero'!D$1:E$1845,2,0)","v":{"$error":"#N/A"}}]
["NI",900769127,"2020-07-23","2020-07-23",2,"JULIO BOLIVAR ","ANALISTA CONCILIACIONES","JBOLIVAR@FAMISANAR.COM.CO",3214435321,"11001",{"$f":"VLOOKUP(B1052,'[1]Select temp_pre_numero'!D$1:E$1845,2,0)","v":{"$error":"#N/A"}}]
["NI",800025221,"2020-07-24","2020-07-24",2,"JULIO BOLIVAR ","ANALISTA CONCILIACIONES","JBOLIVAR@FAMISANAR.COM.CO",3214435321,"11001",{"$f":"VLOOKUP(B1053,'[1]Select temp_pre_numero'!D$1:E$1845,2,0)","v":"OTRAS"}]
["NI",814002021,"2020-07-27","2020-07-27",2,"JULIO BOLIVAR ","ANALISTA CONCILIACIONES","JBOLIVAR@FAMISANAR.COM.CO",3214435321,"11001",{"$f":"VLOOKUP(B1054,'[1]Select temp_pre_numero'!D$1:E$1845,2,0)","v":"OTRAS"}]
["NI",891103968,"2020-07-28","2020-07-28",2,"JULIO BOLIVAR ","ANALISTA CONCILIACIONES","JBOLIVAR@FAMISANAR.COM.CO",3214435321,"11001",{"$f":"VLOOKUP(B1055,'[1]Select temp_pre_numero'!D$1:E$1845,2,0)","v":"OTRAS"}]
["NI",890907279,"2020-07-29","2020-07-29",2,"JULIO BOLIVAR ","ANALISTA CONCILIACIONES","JBOLIVAR@FAMISANAR.COM.CO",3214435321,"11001",{"$f":"VLOOKUP(B1056,'[1]Select temp_pre_numero'!D$1:E$1845,2,0)","v":"OTRAS"}]
["NI",900470642,"2020-07-30","2020-07-30",2,"JULIO BOLIVAR ","ANALISTA CONCILIACIONES","JBOLIVAR@FAMISANAR.COM.CO",3214435321,"11001",{"$f":"VLOOKUP(B1057,'[1]Select temp_pre_numero'!D$1:E$1845,2,0)","v":"OTRAS"}]
["NI",891200543,"2020-07-31","2020-07-31",2,"JULIO BOLIVAR ","ANALISTA CONCILIACIONES","JBOLIVAR@FAMISANAR.COM.CO",3214435321,"11001",{"$f":"VLOOKUP(B1058,'[1]Select temp_pre_numero'!D$1:E$1845,2,0)","v":"OTRAS"}]
["NI",824000785,"2020-08-03","2020-08-03",2,"JULIO BOLIVAR ","ANALISTA CONCILIACIONES","JBOLIVAR@FAMISANAR.COM.CO",3214435321,"11001",{"$f":"VLOOKUP(B1059,'[1]Select temp_pre_numero'!D$1:E$1845,2,0)","v":"OTRAS"}]
["NI",891680047,"2020-08-04","2020-08-04",2,"JULIO BOLIVAR ","ANALISTA CONCILIACIONES","JBOLIVAR@FAMISANAR.COM.CO",3214435321,"11001",{"$f":"VLOOKUP(B1060,'[1]Select temp_pre_numero'!D$1:E$1845,2,0)","v":{"$error":"#N/A"}}]
["NI",900135550,"2020-08-05","2020-08-05",2,"JULIO BOLIVAR ","ANALISTA CONCILIACIONES","JBOLIVAR@FAMISANAR.COM.CO",3214435321,"11001",{"$f":"VLOOKUP(B1061,'[1]Select temp_pre_numero'!D$1:E$1845,2,0)","v":{"$error":"#N/A"}}]
["NI",891180159,"2020-08-06","2020-08-06",2,"JULIO BOLIVAR ","ANALISTA CONCILIACIONES","JBOLIVAR@FAMISANAR.COM.CO",3214435321,"11001",{"$f":"VLOOKUP(B1062,'[1]Select temp_pre_numero'!D$1:E$1845,2,0)","v":"OTRAS"}]
["NI",824000441,"2020-08-10","2020-08-10",2,"JULIO BOLIVAR ","ANALISTA CONCILIACIONES","JBOLIVAR@FAMISANAR.COM.CO",3214435321,"11001",{"$f":"VLOOKUP(B1063,'[1]Select temp_pre_numero'!D$1:E$1845,2,0)","v":"OTRAS"}]
["NI",890980765,"2020-08-11","2020-08-11",2,"JULIO BOLIVAR ","ANALISTA CONCILIACIONES","JBOLIVAR@FAMISANAR.COM.CO",3214435321,"11001",{"$f":"VLOOKUP(B1064,'[1]Select temp_pre_numero'!D$1:E$1845,2,0)","v":"OTRAS"}]
["NI",813011566,"2020-08-12","2020-08-12",2,"JULIO BOLIVAR ","ANALISTA CONCILIACIONES","JBOLIVAR@FAMISANAR.COM.CO",3214435321,"11001",{"$f":"VLOOKUP(B1065,'[1]Select temp_pre_numero'!D$1:E$1845,2,0)","v":"OTRAS"}]
["NI",890500516,"2020-08-13","2020-08-13",2,"JULIO BOLIVAR ","ANALISTA CONCILIACIONES","JBOLIVAR@FAMISANAR.COM.CO",3214435321,"11001",{"$f":"VLOOKUP(B1066,'[1]Select temp_pre_numero'!D$1:E$1845,2,0)","v":{"$error":"#N/A"}}]
["NI",890984779,"2020-08-14","2020-08-14",2,"JULIO BOLIVAR ","ANALISTA CONCILIACIONES","JBOLIVAR@FAMISANAR.COM.CO",3214435321,"11001",{"$f":"VLOOKUP(B1067,'[1]Select temp_pre_numero'!D$1:E$1845,2,0)","v":{"$error":"#N/A"}}]
["NI",812007194,"2020-08-18","2020-08-18",2,"JULIO BOLIVAR ","ANALISTA CONCILIACIONES","JBOLIVAR@FAMISANAR.COM.CO",3214435321,"11001",{"$f":"VLOOKUP(B1068,'[1]Select temp_pre_numero'!D$1:E$1845,2,0)","v":{"$error":"#N/A"}}]
["NI",890312380,"2020-08-19","2020-08-19",2,"JULIO BOLIVAR ","ANALISTA CONCILIACIONES","JBOLIVAR@FAMISANAR.COM.CO",3214435321,"11001",{"$f":"VLOOKUP(B1069,'[1]Select temp_pre_numero'!D$1:E$1845,2,0)","v":"OTRAS"}]
["NI",900614113,"2020-08-20","2020-08-20",2,"JULIO BOLIVAR ","ANALISTA CONCILIACIONES","JBOLIVAR@FAMISANAR.COM.CO",3214435321,"11001",{"$f":"VLOOKUP(B1070,'[1]Select temp_pre_numero'!D$1:E$1845,2,0)","v":{"$error":"#N/A"}}]
["NI",800074996,"2020-08-21","2020-08-21",2,"JULIO BOLIVAR ","ANALISTA CONCILIACIONES","JBOLIVAR@FAMISANAR.COM.CO",3214435321,"11001",{"$f":"VLOOKUP(B1071,'[1]Select temp_pre_numero'!D$1:E$1845,2,0)","v":{"$error":"#N/A"}}]
["NI",900319016,"2020-08-24","2020-08-24",2,"JULIO BOLIVAR ","ANALISTA CONCILIACIONES","JBOLIVAR@FAMISANAR.COM.CO",3214435321,"11001",{"$f":"VLOOKUP(B1072,'[1]Select temp_pre_numero'!D$1:E$1845,2,0)","v":{"$error":"#N/A"}}]
["NI",813002933,"2020-08-25","2020-08-25",2,"JULIO BOLIVAR ","ANALISTA CONCILIACIONES","JBOLIVAR@FAMISANAR.COM.CO",3214435321,"11001",{"$f":"VLOOKUP(B1073,'[1]Select temp_pre_numero'!D$1:E$1845,2,0)","v":"OTRAS"}]
["NI",900699086,"2020-08-26","2020-08-26",2,"JULIO BOLIVAR ","ANALISTA CONCILIACIONES","JBOLIVAR@FAMISANAR.COM.CO",3214435321,"11001",{"$f":"VLOOKUP(B1074,'[1]Select temp_pre_numero'!D$1:E$1845,2,0)","v":"OTRAS"}]
["NI",900146012,"2020-08-27","2020-08-27",2,"JULIO BOLIVAR ","ANALISTA CONCILIACIONES","JBOLIVAR@FAMISANAR.COM.CO",3214435321,"11001",{"$f":"VLOOKUP(B1075,'[1]Select temp_pre_numero'!D$1:E$1845,2,0)","v":"OTRAS"}]
["NI",812001792,"2020-08-28","2020-08-28",2,"JULIO BOLIVAR ","ANALISTA CONCILIACIONES","JBOLIVAR@FAMISANAR.COM.CO",3214435321,"11001",{"$f":"VLOOKUP(B1076,'[1]Select temp_pre_numero'!D$1:E$1845,2,0)","v":"OTRAS"}]
["NI",811017810,"2020-08-29","2020-08-29",2,"JULIO BOLIVAR ","ANALISTA CONCILIACIONES","JBOLIVAR@FAMISANAR.COM.CO",3214435321,"11001",{"$f":"VLOOKUP(B1077,'[1]Select temp_pre_numero'!D$1:E$1845,2,0)","v":"OTRAS"}]
["NI",891900650,"2020-08-30","2020-08-30",2,"JULIO BOLIVAR ","ANALISTA CONCILIACIONES","JBOLIVAR@FAMISANAR.COM.CO",3214435321,"11001",{"$f":"VLOOKUP(B1078,'[1]Select temp_pre_numero'!D$1:E$1845,2,0)","v":"OTRAS"}]
["NI",891900481,"2020-08-31","2020-08-31",2,"JULIO BOLIVAR ","ANALISTA CONCILIACIONES","JBOLIVAR@FAMISANAR.COM.CO",3214435321,"11001",{"$f":"VLOOKUP(B1079,'[1]Select temp_pre_numero'!D$1:E$1845,2,0)","v":"OTRAS"}]
["NI",805017681,"2020-06-16","2020-06-16",2,"JULIO BOLIVAR ","ANALISTA CONCILIACIONES","JBOLIVAR@FAMISANAR.COM.CO",3214435321,"11001",{"$f":"VLOOKUP(B1080,'[1]Select temp_pre_numero'!D$1:E$1845,2,0)","v":{"$error":"#N/A"}}]
["NI",891410661,"2020-06-17","2020-06-17",2,"JULIO BOLIVAR ","ANALISTA CONCILIACIONES","JBOLIVAR@FAMISANAR.COM.CO",3214435321,"11001",{"$f":"VLOOKUP(B1081,'[1]Select temp_pre_numero'!D$1:E$1845,2,0)","v":"OTRAS"}]
["NI",900322910,"2020-06-18","2020-06-18",2,"JULIO BOLIVAR ","ANALISTA CONCILIACIONES","JBOLIVAR@FAMISANAR.COM.CO",3214435321,"11001",{"$f":"VLOOKUP(B1082,'[1]Select temp_pre_numero'!D$1:E$1845,2,0)","v":"OTRAS"}]
["NI",890202066,"2020-06-19","2020-06-19",2,"JULIO BOLIVAR ","ANALISTA CONCILIACIONES","JBOLIVAR@FAMISANAR.COM.CO",3214435321,"11001",{"$f":"VLOOKUP(B1083,'[1]Select temp_pre_numero'!D$1:E$1845,2,0)","v":"OTRAS"}]
["NI",890985660,"2020-06-23","2020-06-23",2,"JULIO BOLIVAR ","ANALISTA CONCILIACIONES","JBOLIVAR@FAMISANAR.COM.CO",3214435321,"11001",{"$f":"VLOOKUP(B1084,'[1]Select temp_pre_numero'!D$1:E$1845,2,0)","v":{"$error":"#N/A"}}]
["NI",800230659,"2020-06-24","2020-06-24",2,"JULIO BOLIVAR ","ANALISTA CONCILIACIONES","JBOLIVAR@FAMISANAR.COM.CO",3214435321,"11001",{"$f":"VLOOKUP(B1085,'[1]Select temp_pre_numero'!D$1:E$1845,2,0)","v":"OTRAS"}]
["NI",836000386,"2020-06-25","2020-06-25",2,"JULIO BOLIVAR ","ANALISTA CONCILIACIONES","JBOLIVAR@FAMISANAR.COM.CO",3214435321,"11001",{"$f":"VLOOKUP(B1086,'[1]Select temp_pre_numero'!D$1:E$1845,2,0)","v":"OTRAS"}]
["NI",820003638,"2020-06-26","2020-06-26",2,"JULIO BOLIVAR ","ANALISTA CONCILIACIONES","JBOLIVAR@FAMISANAR.COM.CO",3214435321,"11001",{"$f":"VLOOKUP(B1087,'[1]Select temp_pre_numero'!D$1:E$1845,2,0)","v":"OTRAS"}]
["NI",890480363,"2020-06-30","2020-06-30",2,"JULIO BOLIVAR ","ANALISTA CONCILIACIONES","JBOLIVAR@FAMISANAR.COM.CO",3214435321,"11001",{"$f":"VLOOKUP(B1088,'[1]Select temp_pre_numero'!D$1:E$1845,2,0)","v":"OTRAS"}]
["NI",900229664,"2020-07-01","2020-07-01",2,"JULIO BOLIVAR ","ANALISTA CONCILIACIONES","JBOLIVAR@FAMISANAR.COM.CO",3214435321,"11001",{"$f":"VLOOKUP(B1089,'[1]Select temp_pre_numero'!D$1:E$1845,2,0)","v":"OTRAS"}]
["NI",892300343,"2020-07-02","2020-07-02",2,"JULIO BOLIVAR ","ANALISTA CONCILIACIONES","JBOLIVAR@FAMISANAR.COM.CO",3214435321,"11001",{"$f":"VLOOKUP(B1090,'[1]Select temp_pre_numero'!D$1:E$1845,2,0)","v":"OTRAS"}]
["NI",890307040,"2020-07-03","2020-07-03",2,"JULIO BOLIVAR ","ANALISTA CONCILIACIONES","JBOLIVAR@FAMISANAR.COM.CO",3214435321,"11001",{"$f":"VLOOKUP(B1091,'[1]Select temp_pre_numero'!D$1:E$1845,2,0)","v":{"$error":"#N/A"}}]
["NI",802021332,"2020-07-06","2020-07-06",2,"JULIO BOLIVAR ","ANALISTA CONCILIACIONES","JBOLIVAR@FAMISANAR.COM.CO",3214435321,"11001",{"$f":"VLOOKUP(B1092,'[1]Select temp_pre_numero'!D$1:E$1845,2,0)","v":"OTRAS"}]
["NI",806007809,"2020-07-07","2020-07-07",2,"JULIO BOLIVAR ","ANALISTA CONCILIACIONES","JBOLIVAR@FAMISANAR.COM.CO",3214435321,"11001",{"$f":"VLOOKUP(B1093,'[1]Select temp_pre_numero'!D$1:E$1845,2,0)","v":"OTRAS"}]
["NI",820002916,"2020-07-08","2020-07-08",2,"JULIO BOLIVAR ","ANALISTA CONCILIACIONES","JBOLIVAR@FAMISANAR.COM.CO",3214435321,"11001",{"$f":"VLOOKUP(B1094,'[1]Select temp_pre_numero'!D$1:E$1845,2,0)","v":{"$error":"#N/A"}}]
["NI",810001392,"2020-07-09","2020-07-09",2,"JULIO BOLIVAR ","ANALISTA CONCILIACIONES","JBOLIVAR@FAMISANAR.COM.CO",3214435321,"11001",{"$f":"VLOOKUP(B1095,'[1]Select temp_pre_numero'!D$1:E$1845,2,0)","v":{"$error":"#N/A"}}]
["NI",900000410,"2020-07-10","2020-07-10",2,"JULIO BOLIVAR ","ANALISTA CONCILIACIONES","JBOLIVAR@FAMISANAR.COM.CO",3214435321,"11001",{"$f":"VLOOKUP(B1096,'[1]Select temp_pre_numero'!D$1:E$1845,2,0)","v":{"$error":"#N/A"}}]
["NI",891982129,"2020-07-13","2020-07-13",2,"JULIO BOLIVAR ","ANALISTA CONCILIACIONES","JBOLIVAR@FAMISANAR.COM.CO",3214435321,"11001",{"$f":"VLOOKUP(B1097,'[1]Select temp_pre_numero'!D$1:E$1845,2,0)","v":"OTRAS"}]
["NI",890309115,"2020-07-14","2020-07-14",2,"JULIO BOLIVAR ","ANALISTA CONCILIACIONES","JBOLIVAR@FAMISANAR.COM.CO",3214435321,"11001",{"$f":"VLOOKUP(B1098,'[1]Select temp_pre_numero'!D$1:E$1845,2,0)","v":{"$error":"#N/A"}}]
["NI",900190632,"2020-07-15","2020-07-15",2,"JULIO BOLIVAR ","ANALISTA CONCILIACIONES","JBOLIVAR@FAMISANAR.COM.CO",3214435321,"11001",{"$f":"VLOOKUP(B1099,'[1]Select temp_pre_numero'!D$1:E$1845,2,0)","v":{"$error":"#N/A"}}]
["NI",890980486,"2020-07-16","2020-07-16",2,"JULIO BOLIVAR ","ANALISTA CONCILIACIONES","JBOLIVAR@FAMISANAR.COM.CO",3214435321,"11001",{"$f":"VLOOKUP(B1100,'[1]Select temp_pre_numero'!D$1:E$1845,2,0)","v":"OTRAS"}]
["NI",900135676,"2020-07-17","2020-07-17",2,"JULIO BOLIVAR ","ANALISTA CONCILIACIONES","JBOLIVAR@FAMISANAR.COM.CO",3214435321,"11001",{"$f":"VLOOKUP(B1101,'[1]Select temp_pre_numero'!D$1:E$1845,2,0)","v":{"$error":"#N/A"}}]
["NI",901143752,"2020-07-21","2020-07-21",2,"JULIO BOLIVAR ","ANALISTA CONCILIACIONES","JBOLIVAR@FAMISANAR.COM.CO",3214435321,"11001",{"$f":"VLOOKUP(B1102,'[1]Select temp_pre_numero'!D$1:E$1845,2,0)","v":{"$error":"#N/A"}}]
["NI",900559314,"2020-07-22","2020-07-22",2,"JULIO BOLIVAR ","ANALISTA CONCILIACIONES","JBOLIVAR@FAMISANAR.COM.CO",3214435321,"11001",{"$f":"VLOOKUP(B1103,'[1]Select temp_pre_numero'!D$1:E$1845,2,0)","v":"OTRAS"}]
["NI",820000857,"2020-07-23","2020-07-23",2,"JULIO BOLIVAR ","ANALISTA CONCILIACIONES","JBOLIVAR@FAMISANAR.COM.CO",3214435321,"11001",{"$f":"VLOOKUP(B1104,'[1]Select temp_pre_numero'!D$1:E$1845,2,0)","v":"OTRAS"}]
["NI",828002586,"2020-07-24","2020-07-24",2,"JULIO BOLIVAR ","ANALISTA CONCILIACIONES","JBOLIVAR@FAMISANAR.COM.CO",3214435321,"11001",{"$f":"VLOOKUP(B1105,'[1]Select temp_pre_numero'!D$1:E$1845,2,0)","v":{"$error":"#N/A"}}]
["NI",900214926,"2020-07-27","2020-07-27",2,"JULIO BOLIVAR ","ANALISTA CONCILIACIONES","JBOLIVAR@FAMISANAR.COM.CO",3214435321,"11001",{"$f":"VLOOKUP(B1106,'[1]Select temp_pre_numero'!D$1:E$1845,2,0)","v":"OTRAS"}]
["NI",813010024,"2020-07-28","2020-07-28",2,"JULIO BOLIVAR ","ANALISTA CONCILIACIONES","JBOLIVAR@FAMISANAR.COM.CO",3214435321,"11001",{"$f":"VLOOKUP(B1107,'[1]Select temp_pre_numero'!D$1:E$1845,2,0)","v":"OTRAS"}]
["NI",891200248,"2020-07-29","2020-07-29",2,"JULIO BOLIVAR ","ANALISTA CONCILIACIONES","JBOLIVAR@FAMISANAR.COM.CO",3214435321,"11001",{"$f":"VLOOKUP(B1108,'[1]Select temp_pre_numero'!D$1:E$1845,2,0)","v":{"$error":"#N/A"}}]
["NI",890980346,"2020-07-30","2020-07-30",2,"JULIO BOLIVAR ","ANALISTA CONCILIACIONES","JBOLIVAR@FAMISANAR.COM.CO",3214435321,"11001",{"$f":"VLOOKUP(B1109,'[1]Select temp_pre_numero'!D$1:E$1845,2,0)","v":"OTRAS"}]
["NI",890981851,"2020-07-31","2020-07-31",2,"JULIO BOLIVAR ","ANALISTA CONCILIACIONES","JBOLIVAR@FAMISANAR.COM.CO",3214435321,"11001",{"$f":"VLOOKUP(B1110,'[1]Select temp_pre_numero'!D$1:E$1845,2,0)","v":"OTRAS"}]
["NI",800247350,"2020-08-03","2020-08-03",2,"JULIO BOLIVAR ","ANALISTA CONCILIACIONES","JBOLIVAR@FAMISANAR.COM.CO",3214435321,"11001",{"$f":"VLOOKUP(B1111,'[1]Select temp_pre_numero'!D$1:E$1845,2,0)","v":"OTRAS"}]
["NI",820003619,"2020-08-04","2020-08-04",2,"JULIO BOLIVAR ","ANALISTA CONCILIACIONES","JBOLIVAR@FAMISANAR.COM.CO",3214435321,"11001",{"$f":"VLOOKUP(B1112,'[1]Select temp_pre_numero'!D$1:E$1845,2,0)","v":"OTRAS"}]
["NI",800161687,"2020-08-05","2020-08-05",2,"JULIO BOLIVAR ","ANALISTA CONCILIACIONES","JBOLIVAR@FAMISANAR.COM.CO",3214435321,"11001",{"$f":"VLOOKUP(B1113,'[1]Select temp_pre_numero'!D$1:E$1845,2,0)","v":"OTRAS"}]
["NI",900849720,"2020-08-06","2020-08-06",2,"JULIO BOLIVAR ","ANALISTA CONCILIACIONES","JBOLIVAR@FAMISANAR.COM.CO",3214435321,"11001",{"$f":"VLOOKUP(B1114,'[1]Select temp_pre_numero'!D$1:E$1845,2,0)","v":{"$error":"#N/A"}}]
["NI",891680065,"2020-08-10","2020-08-10",2,"JULIO BOLIVAR ","ANALISTA CONCILIACIONES","JBOLIVAR@FAMISANAR.COM.CO",3214435321,"11001",{"$f":"VLOOKUP(B1115,'[1]Select temp_pre_numero'!D$1:E$1845,2,0)","v":"OTRAS"}]
["NI",891501104,"2020-08-11","2020-08-11",2,"JULIO BOLIVAR ","ANALISTA CONCILIACIONES","JBOLIVAR@FAMISANAR.COM.CO",3214435321,"11001",{"$f":"VLOOKUP(B1116,'[1]Select temp_pre_numero'!D$1:E$1845,2,0)","v":"OTRAS"}]
["NI",804014810,"2020-08-12","2020-08-12",2,"JULIO BOLIVAR ","ANALISTA CONCILIACIONES","JBOLIVAR@FAMISANAR.COM.CO",3214435321,"11001",{"$f":"VLOOKUP(B1117,'[1]Select temp_pre_numero'!D$1:E$1845,2,0)","v":{"$error":"#N/A"}}]
["NI",891900361,"2020-08-13","2020-08-13",2,"JULIO BOLIVAR ","ANALISTA CONCILIACIONES","JBOLIVAR@FAMISANAR.COM.CO",3214435321,"11001",{"$f":"VLOOKUP(B1118,'[1]Select temp_pre_numero'!D$1:E$1845,2,0)","v":"OTRAS"}]
["NI",900703272,"2020-08-14","2020-08-14",2,"JULIO BOLIVAR ","ANALISTA CONCILIACIONES","JBOLIVAR@FAMISANAR.COM.CO",3214435321,"11001",{"$f":"VLOOKUP(B1119,'[1]Select temp_pre_numero'!D$1:E$1845,2,0)","v":"OTRAS"}]
["NI",890001824,"2020-08-18","2020-08-18",2,"JULIO BOLIVAR ","ANALISTA CONCILIACIONES","JBOLIVAR@FAMISANAR.COM.CO",3214435321,"11001",{"$f":"VLOOKUP(B1120,'[1]Select temp_pre_numero'!D$1:E$1845,2,0)","v":"OTRAS"}]
["NI",813011706,"2020-08-19","2020-08-19",2,"JULIO BOLIVAR ","ANALISTA CONCILIACIONES","JBOLIVAR@FAMISANAR.COM.CO",3214435321,"11001",{"$f":"VLOOKUP(B1121,'[1]Select temp_pre_numero'!D$1:E$1845,2,0)","v":"OTRAS"}]
["NI",823000779,"2020-08-20","2020-08-20",2,"JULIO BOLIVAR ","ANALISTA CONCILIACIONES","JBOLIVAR@FAMISANAR.COM.CO",3214435321,"11001",{"$f":"VLOOKUP(B1122,'[1]Select temp_pre_numero'!D$1:E$1845,2,0)","v":"OTRAS"}]
["NI",890905198,"2020-08-21","2020-08-21",2,"JULIO BOLIVAR ","ANALISTA CONCILIACIONES","JBOLIVAR@FAMISANAR.COM.CO",3214435321,"11001",{"$f":"VLOOKUP(B1123,'[1]Select temp_pre_numero'!D$1:E$1845,2,0)","v":{"$error":"#N/A"}}]
["NI",890981182,"2020-08-24","2020-08-24",2,"JULIO BOLIVAR ","ANALISTA CONCILIACIONES","JBOLIVAR@FAMISANAR.COM.CO",3214435321,"11001",{"$f":"VLOOKUP(B1124,'[1]Select temp_pre_numero'!D$1:E$1845,2,0)","v":{"$error":"#N/A"}}]
["NI",891855439,"2020-08-25","2020-08-25",2,"JULIO BOLIVAR ","ANALISTA CONCILIACIONES","JBOLIVAR@FAMISANAR.COM.CO",3214435321,"11001",{"$f":"VLOOKUP(B1125,'[1]Select temp_pre_numero'!D$1:E$1845,2,0)","v":"OTRAS"}]
["NI",890980784,"2020-08-26","2020-08-26",2,"JULIO BOLIVAR ","ANALISTA CONCILIACIONES","JBOLIVAR@FAMISANAR.COM.CO",3214435321,"11001",{"$f":"VLOOKUP(B1126,'[1]Select temp_pre_numero'!D$1:E$1845,2,0)","v":{"$error":"#N/A"}}]
["NI",891901745,"2020-08-27","2020-08-27",2,"JULIO BOLIVAR ","ANALISTA CONCILIACIONES","JBOLIVAR@FAMISANAR.COM.CO",3214435321,"11001",{"$f":"VLOOKUP(B1127,'[1]Select temp_pre_numero'!D$1:E$1845,2,0)","v":"OTRAS"}]
["NI",890980367,"2020-08-28","2020-08-28",2,"JULIO BOLIVAR ","ANALISTA CONCILIACIONES","JBOLIVAR@FAMISANAR.COM.CO",3214435321,"11001",{"$f":"VLOOKUP(B1128,'[1]Select temp_pre_numero'!D$1:E$1845,2,0)","v":{"$error":"#N/A"}}]
["NI",890980840,"2020-08-29","2020-08-29",2,"JULIO BOLIVAR ","ANALISTA CONCILIACIONES","JBOLIVAR@FAMISANAR.COM.CO",3214435321,"11001",{"$f":"VLOOKUP(B1129,'[1]Select temp_pre_numero'!D$1:E$1845,2,0)","v":"OTRAS"}]
["NI",800219192,"2020-08-30","2020-08-30",2,"JULIO BOLIVAR ","ANALISTA CONCILIACIONES","JBOLIVAR@FAMISANAR.COM.CO",3214435321,"11001",{"$f":"VLOOKUP(B1130,'[1]Select temp_pre_numero'!D$1:E$1845,2,0)","v":{"$error":"#N/A"}}]
["NI",900360201,"2020-08-31","2020-08-31",2,"JULIO BOLIVAR ","ANALISTA CONCILIACIONES","JBOLIVAR@FAMISANAR.COM.CO",3214435321,"11001",{"$f":"VLOOKUP(B1131,'[1]Select temp_pre_numero'!D$1:E$1845,2,0)","v":{"$error":"#N/A"}}]
["NI",900971006,"2020-06-16","2020-06-16",2,"JULIO BOLIVAR ","ANALISTA CONCILIACIONES","JBOLIVAR@FAMISANAR.COM.CO",3214435321,"11001",{"$f":"VLOOKUP(B1132,'[1]Select temp_pre_numero'!D$1:E$1845,2,0)","v":"OTRAS"}]
["NI",860037950,"2020-06-17","2020-06-17",2,"JULIO BOLIVAR ","ANALISTA CONCILIACIONES","JBOLIVAR@FAMISANAR.COM.CO",3214435321,"11001",{"$f":"VLOOKUP(B1133,'[1]Select temp_pre_numero'!D$1:E$1845,2,0)","v":"OTRAS"}]
["NI",900971406,"2020-06-18","2020-06-18",2,"JULIO BOLIVAR ","ANALISTA CONCILIACIONES","JBOLIVAR@FAMISANAR.COM.CO",3214435321,"11001",{"$f":"VLOOKUP(B1134,'[1]Select temp_pre_numero'!D$1:E$1845,2,0)","v":{"$error":"#N/A"}}]
["NI",804014839,"2020-06-19","2020-06-19",2,"JULIO BOLIVAR ","ANALISTA CONCILIACIONES","JBOLIVAR@FAMISANAR.COM.CO",3214435321,"11001",{"$f":"VLOOKUP(B1135,'[1]Select temp_pre_numero'!D$1:E$1845,2,0)","v":"OTRAS"}]
["NI",900582598,"2020-06-23","2020-06-23",2,"JULIO BOLIVAR ","ANALISTA CONCILIACIONES","JBOLIVAR@FAMISANAR.COM.CO",3214435321,"11001",{"$f":"VLOOKUP(B1136,'[1]Select temp_pre_numero'!D$1:E$1845,2,0)","v":"OTRAS"}]
["NI",890209698,"2020-06-24","2020-06-24",2,"JULIO BOLIVAR ","ANALISTA CONCILIACIONES","JBOLIVAR@FAMISANAR.COM.CO",3214435321,"11001",{"$f":"VLOOKUP(B1137,'[1]Select temp_pre_numero'!D$1:E$1845,2,0)","v":"OTRAS"}]
["NI",800247537,"2020-06-25","2020-06-25",2,"JULIO BOLIVAR ","ANALISTA CONCILIACIONES","JBOLIVAR@FAMISANAR.COM.CO",3214435321,"11001",{"$f":"VLOOKUP(B1138,'[1]Select temp_pre_numero'!D$1:E$1845,2,0)","v":"OTRAS"}]
["NI",900006037,"2020-06-26","2020-06-26",2,"JULIO BOLIVAR ","ANALISTA CONCILIACIONES","JBOLIVAR@FAMISANAR.COM.CO",3214435321,"11001",{"$f":"VLOOKUP(B1139,'[1]Select temp_pre_numero'!D$1:E$1845,2,0)","v":"OTRAS"}]
["NI",900341526,"2020-06-30","2020-06-30",2,"JULIO BOLIVAR ","ANALISTA CONCILIACIONES","JBOLIVAR@FAMISANAR.COM.CO",3214435321,"11001",{"$f":"VLOOKUP(B1140,'[1]Select temp_pre_numero'!D$1:E$1845,2,0)","v":"OTRAS"}]
["NI",900169609,"2020-07-01","2020-07-01",2,"JULIO BOLIVAR ","ANALISTA CONCILIACIONES","JBOLIVAR@FAMISANAR.COM.CO",3214435321,"11001",{"$f":"VLOOKUP(B1141,'[1]Select temp_pre_numero'!D$1:E$1845,2,0)","v":"OTRAS"}]
["NI",890205361,"2020-07-02","2020-07-02",2,"JULIO BOLIVAR ","ANALISTA CONCILIACIONES","JBOLIVAR@FAMISANAR.COM.CO",3214435321,"11001",{"$f":"VLOOKUP(B1142,'[1]Select temp_pre_numero'!D$1:E$1845,2,0)","v":"OTRAS"}]
["NI",899999163,"2020-07-03","2020-07-03",2,"JULIO BOLIVAR ","ANALISTA CONCILIACIONES","JBOLIVAR@FAMISANAR.COM.CO",3214435321,"11001",{"$f":"VLOOKUP(B1143,'[1]Select temp_pre_numero'!D$1:E$1845,2,0)","v":"OTRAS"}]
["NI",800233471,"2020-07-06","2020-07-06",2,"JULIO BOLIVAR ","ANALISTA CONCILIACIONES","JBOLIVAR@FAMISANAR.COM.CO",3214435321,"11001",{"$f":"VLOOKUP(B1144,'[1]Select temp_pre_numero'!D$1:E$1845,2,0)","v":"OTRAS"}]
["NI",899999165,"2020-07-07","2020-07-07",2,"JULIO BOLIVAR ","ANALISTA CONCILIACIONES","JBOLIVAR@FAMISANAR.COM.CO",3214435321,"11001",{"$f":"VLOOKUP(B1145,'[1]Select temp_pre_numero'!D$1:E$1845,2,0)","v":{"$error":"#N/A"}}]
["NI",900162712,"2020-07-08","2020-07-08",2,"JULIO BOLIVAR ","ANALISTA CONCILIACIONES","JBOLIVAR@FAMISANAR.COM.CO",3214435321,"11001",{"$f":"VLOOKUP(B1146,'[1]Select temp_pre_numero'!D$1:E$1845,2,0)","v":"OTRAS"}]
["NI",830092718,"2020-07-09","2020-07-09",2,"JULIO BOLIVAR ","ANALISTA CONCILIACIONES","JBOLIVAR@FAMISANAR.COM.CO",3214435321,"11001",{"$f":"VLOOKUP(B1147,'[1]Select temp_pre_numero'!D$1:E$1845,2,0)","v":"OTRAS"}]
["NI",891408851,"2020-07-10","2020-07-10",2,"JULIO BOLIVAR ","ANALISTA CONCILIACIONES","JBOLIVAR@FAMISANAR.COM.CO",3214435321,"11001",{"$f":"VLOOKUP(B1148,'[1]Select temp_pre_numero'!D$1:E$1845,2,0)","v":"OTRAS"}]
["NI",900064250,"2020-07-13","2020-07-13",2,"JULIO BOLIVAR ","ANALISTA CONCILIACIONES","JBOLIVAR@FAMISANAR.COM.CO",3214435321,"11001",{"$f":"VLOOKUP(B1149,'[1]Select temp_pre_numero'!D$1:E$1845,2,0)","v":"OTRAS"}]
["NI",800249700,"2020-07-14","2020-07-14",2,"JULIO BOLIVAR ","ANALISTA CONCILIACIONES","JBOLIVAR@FAMISANAR.COM.CO",3214435321,"11001",{"$f":"VLOOKUP(B1150,'[1]Select temp_pre_numero'!D$1:E$1845,2,0)","v":"OTRAS"}]
["NI",900496641,"2020-07-15","2020-07-15",2,"JULIO BOLIVAR ","ANALISTA CONCILIACIONES","JBOLIVAR@FAMISANAR.COM.CO",3214435321,"11001",{"$f":"VLOOKUP(B1151,'[1]Select temp_pre_numero'!D$1:E$1845,2,0)","v":"OTRAS"}]
["NI",800180553,"2020-07-16","2020-07-16",2,"JULIO BOLIVAR ","ANALISTA CONCILIACIONES","JBOLIVAR@FAMISANAR.COM.CO",3214435321,"11001",{"$f":"VLOOKUP(B1152,'[1]Select temp_pre_numero'!D$1:E$1845,2,0)","v":"OTRAS"}]
["NI",900532504,"2020-07-17","2020-07-17",2,"JULIO BOLIVAR ","ANALISTA CONCILIACIONES","JBOLIVAR@FAMISANAR.COM.CO",3214435321,"11001",{"$f":"VLOOKUP(B1153,'[1]Select temp_pre_numero'!D$1:E$1845,2,0)","v":"OTRAS"}]
["NI",800038024,"2020-07-21","2020-07-21",2,"JULIO BOLIVAR ","ANALISTA CONCILIACIONES","JBOLIVAR@FAMISANAR.COM.CO",3214435321,"11001",{"$f":"VLOOKUP(B1154,'[1]Select temp_pre_numero'!D$1:E$1845,2,0)","v":"OTRAS"}]
["NI",800122186,"2020-07-22","2020-07-22",2,"JULIO BOLIVAR ","ANALISTA CONCILIACIONES","JBOLIVAR@FAMISANAR.COM.CO",3214435321,"11001",{"$f":"VLOOKUP(B1155,'[1]Select temp_pre_numero'!D$1:E$1845,2,0)","v":"OTRAS"}]
["NI",830039460,"2020-07-23","2020-07-23",2,"JULIO BOLIVAR ","ANALISTA CONCILIACIONES","JBOLIVAR@FAMISANAR.COM.CO",3214435321,"11001",{"$f":"VLOOKUP(B1156,'[1]Select temp_pre_numero'!D$1:E$1845,2,0)","v":"OTRAS"}]
["NI",811004956,"2020-07-24","2020-07-24",2,"JULIO BOLIVAR ","ANALISTA CONCILIACIONES","JBOLIVAR@FAMISANAR.COM.CO",3214435321,"11001",{"$f":"VLOOKUP(B1157,'[1]Select temp_pre_numero'!D$1:E$1845,2,0)","v":"OTRAS"}]
["NI",890212568,"2020-07-27","2020-07-27",2,"JULIO BOLIVAR ","ANALISTA CONCILIACIONES","JBOLIVAR@FAMISANAR.COM.CO",3214435321,"11001",{"$f":"VLOOKUP(B1158,'[1]Select temp_pre_numero'!D$1:E$1845,2,0)","v":"OTRAS"}]
["NI",900188353,"2020-07-28","2020-07-28",2,"JULIO BOLIVAR ","ANALISTA CONCILIACIONES","JBOLIVAR@FAMISANAR.COM.CO",3214435321,"11001",{"$f":"VLOOKUP(B1159,'[1]Select temp_pre_numero'!D$1:E$1845,2,0)","v":"OTRAS"}]
["NI",800160827,"2020-07-29","2020-07-29",2,"JULIO BOLIVAR ","ANALISTA CONCILIACIONES","JBOLIVAR@FAMISANAR.COM.CO",3214435321,"11001",{"$f":"VLOOKUP(B1160,'[1]Select temp_pre_numero'!D$1:E$1845,2,0)","v":"OTRAS"}]
["NI",899999158,"2020-07-30","2020-07-30",2,"JULIO BOLIVAR ","ANALISTA CONCILIACIONES","JBOLIVAR@FAMISANAR.COM.CO",3214435321,"11001",{"$f":"VLOOKUP(B1161,'[1]Select temp_pre_numero'!D$1:E$1845,2,0)","v":"OTRAS"}]
["NI",900007635,"2020-07-31","2020-07-31",2,"JULIO BOLIVAR ","ANALISTA CONCILIACIONES","JBOLIVAR@FAMISANAR.COM.CO",3214435321,"11001",{"$f":"VLOOKUP(B1162,'[1]Select temp_pre_numero'!D$1:E$1845,2,0)","v":"OTRAS"}]
["NI",900038024,"2020-08-03","2020-08-03",2,"JULIO BOLIVAR ","ANALISTA CONCILIACIONES","JBOLIVAR@FAMISANAR.COM.CO",3214435321,"11001",{"$f":"VLOOKUP(B1163,'[1]Select temp_pre_numero'!D$1:E$1845,2,0)","v":"OTRAS"}]
["NI",900294380,"2020-08-04","2020-08-04",2,"JULIO BOLIVAR ","ANALISTA CONCILIACIONES","JBOLIVAR@FAMISANAR.COM.CO",3214435321,"11001",{"$f":"VLOOKUP(B1164,'[1]Select temp_pre_numero'!D$1:E$1845,2,0)","v":"OTRAS"}]
["NI",900075669,"2020-08-05","2020-08-05",2,"JULIO BOLIVAR ","ANALISTA CONCILIACIONES","JBOLIVAR@FAMISANAR.COM.CO",3214435321,"11001",{"$f":"VLOOKUP(B1165,'[1]Select temp_pre_numero'!D$1:E$1845,2,0)","v":"OTRAS"}]
["NI",890201578,"2020-08-06","2020-08-06",2,"JULIO BOLIVAR ","ANALISTA CONCILIACIONES","JBOLIVAR@FAMISANAR.COM.CO",3214435321,"11001",{"$f":"VLOOKUP(B1166,'[1]Select temp_pre_numero'!D$1:E$1845,2,0)","v":"OTRAS"}]
["NI",832010436,"2020-08-10","2020-08-10",2,"JULIO BOLIVAR ","ANALISTA CONCILIACIONES","JBOLIVAR@FAMISANAR.COM.CO",3214435321,"11001",{"$f":"VLOOKUP(B1167,'[1]Select temp_pre_numero'!D$1:E$1845,2,0)","v":{"$error":"#N/A"}}]
["NI",800090749,"2020-08-11","2020-08-11",2,"JULIO BOLIVAR ","ANALISTA CONCILIACIONES","JBOLIVAR@FAMISANAR.COM.CO",3214435321,"11001",{"$f":"VLOOKUP(B1168,'[1]Select temp_pre_numero'!D$1:E$1845,2,0)","v":"OTRAS"}]
["NI",900657491,"2020-08-12","2020-08-12",2,"JULIO BOLIVAR ","ANALISTA CONCILIACIONES","JBOLIVAR@FAMISANAR.COM.CO",3214435321,"11001",{"$f":"VLOOKUP(B1169,'[1]Select temp_pre_numero'!D$1:E$1845,2,0)","v":"OTRAS"}]
["NI",804006248,"2020-08-13","2020-08-13",2,"JULIO BOLIVAR ","ANALISTA CONCILIACIONES","JBOLIVAR@FAMISANAR.COM.CO",3214435321,"11001",{"$f":"VLOOKUP(B1170,'[1]Select temp_pre_numero'!D$1:E$1845,2,0)","v":"OTRAS"}]
["NI",900095253,"2020-08-14","2020-08-14",2,"JULIO BOLIVAR ","ANALISTA CONCILIACIONES","JBOLIVAR@FAMISANAR.COM.CO",3214435321,"11001",{"$f":"VLOOKUP(B1171,'[1]Select temp_pre_numero'!D$1:E$1845,2,0)","v":{"$error":"#N/A"}}]
["NI",890208758,"2020-08-18","2020-08-18",2,"JULIO BOLIVAR ","ANALISTA CONCILIACIONES","JBOLIVAR@FAMISANAR.COM.CO",3214435321,"11001",{"$f":"VLOOKUP(B1172,'[1]Select temp_pre_numero'!D$1:E$1845,2,0)","v":"OTRAS"}]
["NI",900240018,"2020-08-19","2020-08-19",2,"JULIO BOLIVAR ","ANALISTA CONCILIACIONES","JBOLIVAR@FAMISANAR.COM.CO",3214435321,"11001",{"$f":"VLOOKUP(B1173,'[1]Select temp_pre_numero'!D$1:E$1845,2,0)","v":"OTRAS"}]
["NI",800065396,"2020-08-20","2020-08-20",2,"JULIO BOLIVAR ","ANALISTA CONCILIACIONES","JBOLIVAR@FAMISANAR.COM.CO",3214435321,"11001",{"$f":"VLOOKUP(B1174,'[1]Select temp_pre_numero'!D$1:E$1845,2,0)","v":"OTRAS"}]
["NI",830099027,"2020-08-21","2020-08-21",2,"JULIO BOLIVAR ","ANALISTA CONCILIACIONES","JBOLIVAR@FAMISANAR.COM.CO",3214435321,"11001",{"$f":"VLOOKUP(B1175,'[1]Select temp_pre_numero'!D$1:E$1845,2,0)","v":"OTRAS"}]
["NI",900352592,"2020-08-24","2020-08-24",2,"JULIO BOLIVAR ","ANALISTA CONCILIACIONES","JBOLIVAR@FAMISANAR.COM.CO",3214435321,"11001",{"$f":"VLOOKUP(B1176,'[1]Select temp_pre_numero'!D$1:E$1845,2,0)","v":"OTRAS"}]
["NI",900282039,"2020-08-25","2020-08-25",2,"JULIO BOLIVAR ","ANALISTA CONCILIACIONES","JBOLIVAR@FAMISANAR.COM.CO",3214435321,"11001",{"$f":"VLOOKUP(B1177,'[1]Select temp_pre_numero'!D$1:E$1845,2,0)","v":"OTRAS"}]
["NI",900193493,"2020-08-26","2020-08-26",2,"JULIO BOLIVAR ","ANALISTA CONCILIACIONES","JBOLIVAR@FAMISANAR.COM.CO",3214435321,"11001",{"$f":"VLOOKUP(B1178,'[1]Select temp_pre_numero'!D$1:E$1845,2,0)","v":"OTRAS"}]
["NI",900536325,"2020-08-27","2020-08-27",2,"JULIO BOLIVAR ","ANALISTA CONCILIACIONES","JBOLIVAR@FAMISANAR.COM.CO",3214435321,"11001",{"$f":"VLOOKUP(B1179,'[1]Select temp_pre_numero'!D$1:E$1845,2,0)","v":"OTRAS"}]
["NI",900011191,"2020-08-28","2020-08-28",2,"JULIO BOLIVAR ","ANALISTA CONCILIACIONES","JBOLIVAR@FAMISANAR.COM.CO",3214435321,"11001",{"$f":"VLOOKUP(B1180,'[1]Select temp_pre_numero'!D$1:E$1845,2,0)","v":{"$error":"#N/A"}}]
["NI",804002599,"2020-08-29","2020-08-29",2,"JULIO BOLIVAR ","ANALISTA CONCILIACIONES","JBOLIVAR@FAMISANAR.COM.CO",3214435321,"11001",{"$f":"VLOOKUP(B1181,'[1]Select temp_pre_numero'!D$1:E$1845,2,0)","v":"OTRAS"}]
["NI",900098550,"2020-08-30","2020-08-30",2,"JULIO BOLIVAR ","ANALISTA CONCILIACIONES","JBOLIVAR@FAMISANAR.COM.CO",3214435321,"11001",{"$f":"VLOOKUP(B1182,'[1]Select temp_pre_numero'!D$1:E$1845,2,0)","v":"OTRAS"}]
["NI",830507291,"2020-08-31","2020-08-31",2,"JULIO BOLIVAR ","ANALISTA CONCILIACIONES","JBOLIVAR@FAMISANAR.COM.CO",3214435321,"11001",{"$f":"VLOOKUP(B1183,'[1]Select temp_pre_numero'!D$1:E$1845,2,0)","v":"OTRAS"}]
["NI",800149453,"2020-08-14","2020-08-14",2,"JULIO BOLIVAR ","ANALISTA CONCILIACIONES","JBOLIVAR@FAMISANAR.COM.CO",3214435321,"11001",{"$f":"VLOOKUP(B1184,'[1]Select temp_pre_numero'!D$1:E$1845,2,0)","v":"OTRAS"}]
["NI",830508610,"2020-08-18","2020-08-18",2,"JULIO BOLIVAR ","ANALISTA CONCILIACIONES","JBOLIVAR@FAMISANAR.COM.CO",3214435321,"11001",{"$f":"VLOOKUP(B1185,'[1]Select temp_pre_numero'!D$1:E$1845,2,0)","v":{"$error":"#N/A"}}]
["NI",860041333,"2020-08-19","2020-08-19",2,"JULIO BOLIVAR ","ANALISTA CONCILIACIONES","JBOLIVAR@FAMISANAR.COM.CO",3214435321,"11001",{"$f":"VLOOKUP(B1186,'[1]Select temp_pre_numero'!D$1:E$1845,2,0)","v":"OTRAS"}]
["NI",900101736,"2020-08-20","2020-08-20",2,"JULIO BOLIVAR ","ANALISTA CONCILIACIONES","JBOLIVAR@FAMISANAR.COM.CO",3214435321,"11001",{"$f":"VLOOKUP(B1187,'[1]Select temp_pre_numero'!D$1:E$1845,2,0)","v":"OTRAS"}]
["NI",830110098,"2020-08-21","2020-08-21",2,"JULIO BOLIVAR ","ANALISTA CONCILIACIONES","JBOLIVAR@FAMISANAR.COM.CO",3214435321,"11001",{"$f":"VLOOKUP(B1188,'[1]Select temp_pre_numero'!D$1:E$1845,2,0)","v":"OTRAS"}]
["NI",800067908,"2020-08-24","2020-08-24",2,"JULIO BOLIVAR ","ANALISTA CONCILIACIONES","JBOLIVAR@FAMISANAR.COM.CO",3214435321,"11001",{"$f":"VLOOKUP(B1189,'[1]Select temp_pre_numero'!D$1:E$1845,2,0)","v":"OTRAS"}]
["NI",830063394,"2020-08-25","2020-08-25",2,"JULIO BOLIVAR ","ANALISTA CONCILIACIONES","JBOLIVAR@FAMISANAR.COM.CO",3214435321,"11001",{"$f":"VLOOKUP(B1190,'[1]Select temp_pre_numero'!D$1:E$1845,2,0)","v":"OTRAS"}]
["NI",860066767,"2020-08-26","2020-08-26",2,"JULIO BOLIVAR ","ANALISTA CONCILIACIONES","JBOLIVAR@FAMISANAR.COM.CO",3214435321,"11001",{"$f":"VLOOKUP(B1191,'[1]Select temp_pre_numero'!D$1:E$1845,2,0)","v":"OTRAS"}]
["NI",830007355,"2020-08-27","2020-08-27",2,"JULIO BOLIVAR ","ANALISTA CONCILIACIONES","JBOLIVAR@FAMISANAR.COM.CO",3214435321,"11001",{"$f":"VLOOKUP(B1192,'[1]Select temp_pre_numero'!D$1:E$1845,2,0)","v":"OTRAS"}]
["NI",900328271,"2020-08-28","2020-08-28",2,"JULIO BOLIVAR ","ANALISTA CONCILIACIONES","JBOLIVAR@FAMISANAR.COM.CO",3214435321,"11001",{"$f":"VLOOKUP(B1193,'[1]Select temp_pre_numero'!D$1:E$1845,2,0)","v":"OTRAS"}]
["NI",900231793,"2020-08-29","2020-08-29",2,"JULIO BOLIVAR ","ANALISTA CONCILIACIONES","JBOLIVAR@FAMISANAR.COM.CO",3214435321,"11001",{"$f":"VLOOKUP(B1194,'[1]Select temp_pre_numero'!D$1:E$1845,2,0)","v":"OTRAS"}]
["NI",900341157,"2020-08-30","2020-08-30",2,"JULIO BOLIVAR ","ANALISTA CONCILIACIONES","JBOLIVAR@FAMISANAR.COM.CO",3214435321,"11001",{"$f":"VLOOKUP(B1195,'[1]Select temp_pre_numero'!D$1:E$1845,2,0)","v":"OTRAS"}]
["NI",900753563,"2020-08-31","2020-08-31",2,"JULIO BOLIVAR ","ANALISTA CONCILIACIONES","JBOLIVAR@FAMISANAR.COM.CO",3214435321,"11001",{"$f":"VLOOKUP(B1196,'[1]Select temp_pre_numero'!D$1:E$1845,2,0)","v":"OTRAS"}]
["NI",860007336,"2020-07-31","2020-07-31",2,"MAURICIO MALAGON","ANALISTA CONCILIACIONES","MMALAGONM@FAMISANAR.COM.CO",3004396129,"11001",{"$f":"VLOOKUP(B1197,'[1]Select temp_pre_numero'!D$1:E$1845,2,0)","v":"COLSUBSIDIO"}]
["NI",901034213,"2020-06-15","2020-06-15",2,"MAYRA MORA","ANALISTA CONCILIACIONES","MMORAB@FAMISANAR.COM.CO",3016770300,"11001",{"$f":"VLOOKUP(B1198,'[1]Select temp_pre_numero'!D$1:E$1845,2,0)","v":{"$error":"#N/A"}}]
["NI",900584084,"2020-06-16","2020-06-16",2,"MAYRA MORA","ANALISTA CONCILIACIONES","MMORAB@FAMISANAR.COM.CO",3016770300,"11001",{"$f":"VLOOKUP(B1199,'[1]Select temp_pre_numero'!D$1:E$1845,2,0)","v":"OTRAS"}]
["NI",802000333,"2020-06-16","2020-06-16",2,"MAYRA MORA","ANALISTA CONCILIACIONES","MMORAB@FAMISANAR.COM.CO",3016770300,"11001",{"$f":"VLOOKUP(B1200,'[1]Select temp_pre_numero'!D$1:E$1845,2,0)","v":"OTRAS"}]
["NI",860035992,"2020-06-16","2020-06-16",2,"PATRICIA  OLIVEROS ","ANALISTA CONCILIACIONES","POLIVEROS@FAMISANAR.COM.CO",3156013576,"11001",{"$f":"VLOOKUP(B1201,'[1]Select temp_pre_numero'!D$1:E$1845,2,0)","v":"OTRAS"}]
["NI",860090566,"2020-06-17","2020-06-17",2,"PATRICIA  OLIVEROS ","ANALISTA CONCILIACIONES","POLIVEROS@FAMISANAR.COM.CO",3156013576,"11001",{"$f":"VLOOKUP(B1202,'[1]Select temp_pre_numero'!D$1:E$1845,2,0)","v":"OTRAS"}]
["NI",830113849,"2020-06-18","2020-06-18",2,"PATRICIA  OLIVEROS ","ANALISTA CONCILIACIONES","POLIVEROS@FAMISANAR.COM.CO",3156013576,"11001",{"$f":"VLOOKUP(B1203,'[1]Select temp_pre_numero'!D$1:E$1845,2,0)","v":"OTRAS"}]
["NI",892300979,"2020-06-19","2020-06-19",2,"PATRICIA  OLIVEROS ","ANALISTA CONCILIACIONES","POLIVEROS@FAMISANAR.COM.CO",3156013576,"11001",{"$f":"VLOOKUP(B1204,'[1]Select temp_pre_numero'!D$1:E$1845,2,0)","v":"OTRAS"}]
["NI",900016598,"2020-06-23","2020-06-23",2,"PATRICIA  OLIVEROS ","ANALISTA CONCILIACIONES","POLIVEROS@FAMISANAR.COM.CO",3156013576,"11001",{"$f":"VLOOKUP(B1205,'[1]Select temp_pre_numero'!D$1:E$1845,2,0)","v":"OTRAS"}]
["NI",800227072,"2020-06-24","2020-06-24",2,"PATRICIA  OLIVEROS ","ANALISTA CONCILIACIONES","POLIVEROS@FAMISANAR.COM.CO",3156013576,"11001",{"$f":"VLOOKUP(B1206,'[1]Select temp_pre_numero'!D$1:E$1845,2,0)","v":"OTRAS"}]
["NI",830507718,"2020-06-25","2020-06-25",2,"PATRICIA  OLIVEROS ","ANALISTA CONCILIACIONES","POLIVEROS@FAMISANAR.COM.CO",3156013576,"11001",{"$f":"VLOOKUP(B1207,'[1]Select temp_pre_numero'!D$1:E$1845,2,0)","v":"OTRAS"}]
["NI",900345765,"2020-06-26","2020-06-26",2,"PATRICIA  OLIVEROS ","ANALISTA CONCILIACIONES","POLIVEROS@FAMISANAR.COM.CO",3156013576,"11001",{"$f":"VLOOKUP(B1208,'[1]Select temp_pre_numero'!D$1:E$1845,2,0)","v":"OTRAS"}]
["NI",824001041,"2020-06-30","2020-06-30",2,"PATRICIA  OLIVEROS ","ANALISTA CONCILIACIONES","POLIVEROS@FAMISANAR.COM.CO",3156013576,"11001",{"$f":"VLOOKUP(B1209,'[1]Select temp_pre_numero'!D$1:E$1845,2,0)","v":"OTRAS"}]
["NI",900613550,"2020-07-01","2020-07-01",2,"PATRICIA  OLIVEROS ","ANALISTA CONCILIACIONES","POLIVEROS@FAMISANAR.COM.CO",3156013576,"11001",{"$f":"VLOOKUP(B1210,'[1]Select temp_pre_numero'!D$1:E$1845,2,0)","v":"OTRAS"}]
["NI",800067515,"2020-07-02","2020-07-02",2,"PATRICIA  OLIVEROS ","ANALISTA CONCILIACIONES","POLIVEROS@FAMISANAR.COM.CO",3156013576,"11001",{"$f":"VLOOKUP(B1211,'[1]Select temp_pre_numero'!D$1:E$1845,2,0)","v":"OTRAS"}]
["NI",892300708,"2020-07-03","2020-07-03",2,"PATRICIA  OLIVEROS ","ANALISTA CONCILIACIONES","POLIVEROS@FAMISANAR.COM.CO",3156013576,"11001",{"$f":"VLOOKUP(B1212,'[1]Select temp_pre_numero'!D$1:E$1845,2,0)","v":"OTRAS"}]
["NI",899999147,"2020-07-06","2020-07-06",2,"PATRICIA  OLIVEROS ","ANALISTA CONCILIACIONES","POLIVEROS@FAMISANAR.COM.CO",3156013576,"11001",{"$f":"VLOOKUP(B1213,'[1]Select temp_pre_numero'!D$1:E$1845,2,0)","v":{"$error":"#N/A"}}]
["NI",860024766,"2020-07-07","2020-07-07",2,"PATRICIA  OLIVEROS ","ANALISTA CONCILIACIONES","POLIVEROS@FAMISANAR.COM.CO",3156013576,"11001",{"$f":"VLOOKUP(B1214,'[1]Select temp_pre_numero'!D$1:E$1845,2,0)","v":{"$error":"#N/A"}}]
["NI",800231038,"2020-07-08","2020-07-08",2,"PATRICIA  OLIVEROS ","ANALISTA CONCILIACIONES","POLIVEROS@FAMISANAR.COM.CO",3156013576,"11001",{"$f":"VLOOKUP(B1215,'[1]Select temp_pre_numero'!D$1:E$1845,2,0)","v":"OTRAS"}]
["NI",800119574,"2020-07-09","2020-07-09",2,"PATRICIA  OLIVEROS ","ANALISTA CONCILIACIONES","POLIVEROS@FAMISANAR.COM.CO",3156013576,"11001",{"$f":"VLOOKUP(B1216,'[1]Select temp_pre_numero'!D$1:E$1845,2,0)","v":"OTRAS"}]
["NI",824001252,"2020-07-10","2020-07-10",2,"PATRICIA  OLIVEROS ","ANALISTA CONCILIACIONES","POLIVEROS@FAMISANAR.COM.CO",3156013576,"11001",{"$f":"VLOOKUP(B1217,'[1]Select temp_pre_numero'!D$1:E$1845,2,0)","v":"OTRAS"}]
["NI",860024026,"2020-07-13","2020-07-13",2,"PATRICIA  OLIVEROS ","ANALISTA CONCILIACIONES","POLIVEROS@FAMISANAR.COM.CO",3156013576,"11001",{"$f":"VLOOKUP(B1218,'[1]Select temp_pre_numero'!D$1:E$1845,2,0)","v":"OTRAS"}]
["NI",900267940,"2020-07-14","2020-07-14",2,"PATRICIA  OLIVEROS ","ANALISTA CONCILIACIONES","POLIVEROS@FAMISANAR.COM.CO",3156013576,"11001",{"$f":"VLOOKUP(B1219,'[1]Select temp_pre_numero'!D$1:E$1845,2,0)","v":"OTRAS"}]
["NI",899999164,"2020-07-15","2020-07-15",2,"PATRICIA  OLIVEROS ","ANALISTA CONCILIACIONES","POLIVEROS@FAMISANAR.COM.CO",3156013576,"11001",{"$f":"VLOOKUP(B1220,'[1]Select temp_pre_numero'!D$1:E$1845,2,0)","v":"OTRAS"}]
["NI",900171211,"2020-07-16","2020-07-16",2,"PATRICIA  OLIVEROS ","ANALISTA CONCILIACIONES","POLIVEROS@FAMISANAR.COM.CO",3156013576,"11001",{"$f":"VLOOKUP(B1221,'[1]Select temp_pre_numero'!D$1:E$1845,2,0)","v":"OTRAS"}]
["NI",824000687,"2020-07-17","2020-07-17",2,"PATRICIA  OLIVEROS ","ANALISTA CONCILIACIONES","POLIVEROS@FAMISANAR.COM.CO",3156013576,"11001",{"$f":"VLOOKUP(B1222,'[1]Select temp_pre_numero'!D$1:E$1845,2,0)","v":"OTRAS"}]
["NI",891701664,"2020-07-21","2020-07-21",2,"PATRICIA  OLIVEROS ","ANALISTA CONCILIACIONES","POLIVEROS@FAMISANAR.COM.CO",3156013576,"11001",{"$f":"VLOOKUP(B1223,'[1]Select temp_pre_numero'!D$1:E$1845,2,0)","v":"OTRAS"}]
["NI",890680014,"2020-07-22","2020-07-22",2,"PATRICIA  OLIVEROS ","ANALISTA CONCILIACIONES","POLIVEROS@FAMISANAR.COM.CO",3156013576,"11001",{"$f":"VLOOKUP(B1224,'[1]Select temp_pre_numero'!D$1:E$1845,2,0)","v":"OTRAS"}]
["NI",860013874,"2020-07-23","2020-07-23",2,"PATRICIA  OLIVEROS ","ANALISTA CONCILIACIONES","POLIVEROS@FAMISANAR.COM.CO",3156013576,"11001",{"$f":"VLOOKUP(B1225,'[1]Select temp_pre_numero'!D$1:E$1845,2,0)","v":"OTRAS"}]
["NI",890680027,"2020-07-24","2020-07-24",2,"PATRICIA  OLIVEROS ","ANALISTA CONCILIACIONES","POLIVEROS@FAMISANAR.COM.CO",3156013576,"11001",{"$f":"VLOOKUP(B1226,'[1]Select temp_pre_numero'!D$1:E$1845,2,0)","v":{"$error":"#N/A"}}]
["NI",900025621,"2020-07-27","2020-07-27",2,"PATRICIA  OLIVEROS ","ANALISTA CONCILIACIONES","POLIVEROS@FAMISANAR.COM.CO",3156013576,"11001",{"$f":"VLOOKUP(B1227,'[1]Select temp_pre_numero'!D$1:E$1845,2,0)","v":"OTRAS"}]
["NI",900210981,"2020-07-28","2020-07-28",2,"PATRICIA  OLIVEROS ","ANALISTA CONCILIACIONES","POLIVEROS@FAMISANAR.COM.CO",3156013576,"11001",{"$f":"VLOOKUP(B1228,'[1]Select temp_pre_numero'!D$1:E$1845,2,0)","v":"OTRAS"}]
["NI",900033752,"2020-07-29","2020-07-29",2,"PATRICIA  OLIVEROS ","ANALISTA CONCILIACIONES","POLIVEROS@FAMISANAR.COM.CO",3156013576,"11001",{"$f":"VLOOKUP(B1229,'[1]Select temp_pre_numero'!D$1:E$1845,2,0)","v":"OTRAS"}]
["NI",900244203,"2020-07-30","2020-07-30",2,"PATRICIA  OLIVEROS ","ANALISTA CONCILIACIONES","POLIVEROS@FAMISANAR.COM.CO",3156013576,"11001",{"$f":"VLOOKUP(B1230,'[1]Select temp_pre_numero'!D$1:E$1845,2,0)","v":"OTRAS"}]
["NI",800149384,"2020-07-31","2020-07-31",2,"PATRICIA  OLIVEROS ","ANALISTA CONCILIACIONES","POLIVEROS@FAMISANAR.COM.CO",3156013576,"11001",{"$f":"VLOOKUP(B1231,'[1]Select temp_pre_numero'!D$1:E$1845,2,0)","v":"OTRAS"}]
["NI",832011441,"2020-08-03","2020-08-03",2,"PATRICIA  OLIVEROS ","ANALISTA CONCILIACIONES","POLIVEROS@FAMISANAR.COM.CO",3156013576,"11001",{"$f":"VLOOKUP(B1232,'[1]Select temp_pre_numero'!D$1:E$1845,2,0)","v":{"$error":"#N/A"}}]
["NI",890900518,"2020-08-04","2020-08-04",2,"PATRICIA  OLIVEROS ","ANALISTA CONCILIACIONES","POLIVEROS@FAMISANAR.COM.CO",3156013576,"11001",{"$f":"VLOOKUP(B1233,'[1]Select temp_pre_numero'!D$1:E$1845,2,0)","v":"OTRAS"}]
["NI",891855029,"2020-08-05","2020-08-05",2,"PATRICIA  OLIVEROS ","ANALISTA CONCILIACIONES","POLIVEROS@FAMISANAR.COM.CO",3156013576,"11001",{"$f":"VLOOKUP(B1234,'[1]Select temp_pre_numero'!D$1:E$1845,2,0)","v":"OTRAS"}]
["NI",816001182,"2020-08-06","2020-08-06",2,"PATRICIA  OLIVEROS ","ANALISTA CONCILIACIONES","POLIVEROS@FAMISANAR.COM.CO",3156013576,"11001",{"$f":"VLOOKUP(B1235,'[1]Select temp_pre_numero'!D$1:E$1845,2,0)","v":{"$error":"#N/A"}}]
["NI",860037592,"2020-08-10","2020-08-10",2,"PATRICIA  OLIVEROS ","ANALISTA CONCILIACIONES","POLIVEROS@FAMISANAR.COM.CO",3156013576,"11001",{"$f":"VLOOKUP(B1236,'[1]Select temp_pre_numero'!D$1:E$1845,2,0)","v":{"$error":"#N/A"}}]
["NI",860007760,"2020-08-11","2020-08-11",2,"PATRICIA  OLIVEROS ","ANALISTA CONCILIACIONES","POLIVEROS@FAMISANAR.COM.CO",3156013576,"11001",{"$f":"VLOOKUP(B1237,'[1]Select temp_pre_numero'!D$1:E$1845,2,0)","v":"OTRAS"}]
["NI",900359092,"2020-08-12","2020-08-12",2,"PATRICIA  OLIVEROS ","ANALISTA CONCILIACIONES","POLIVEROS@FAMISANAR.COM.CO",3156013576,"11001",{"$f":"VLOOKUP(B1238,'[1]Select temp_pre_numero'!D$1:E$1845,2,0)","v":"OTRAS"}]
["NI",800201726,"2020-08-13","2020-08-13",2,"PATRICIA  OLIVEROS ","ANALISTA CONCILIACIONES","POLIVEROS@FAMISANAR.COM.CO",3156013576,"11001",{"$f":"VLOOKUP(B1239,'[1]Select temp_pre_numero'!D$1:E$1845,2,0)","v":"OTRAS"}]
["NI",860001475,"2020-08-14","2020-08-14",2,"PATRICIA  OLIVEROS ","ANALISTA CONCILIACIONES","POLIVEROS@FAMISANAR.COM.CO",3156013576,"11001",{"$f":"VLOOKUP(B1240,'[1]Select temp_pre_numero'!D$1:E$1845,2,0)","v":"OTRAS"}]
["NI",830013594,"2020-08-18","2020-08-18",2,"PATRICIA  OLIVEROS ","ANALISTA CONCILIACIONES","POLIVEROS@FAMISANAR.COM.CO",3156013576,"11001",{"$f":"VLOOKUP(B1241,'[1]Select temp_pre_numero'!D$1:E$1845,2,0)","v":"OTRAS"}]
["NI",819000364,"2020-08-19","2020-08-19",2,"PATRICIA  OLIVEROS ","ANALISTA CONCILIACIONES","POLIVEROS@FAMISANAR.COM.CO",3156013576,"11001",{"$f":"VLOOKUP(B1242,'[1]Select temp_pre_numero'!D$1:E$1845,2,0)","v":"OTRAS"}]
["NI",900425336,"2020-08-20","2020-08-20",2,"PATRICIA  OLIVEROS ","ANALISTA CONCILIACIONES","POLIVEROS@FAMISANAR.COM.CO",3156013576,"11001",{"$f":"VLOOKUP(B1243,'[1]Select temp_pre_numero'!D$1:E$1845,2,0)","v":"OTRAS"}]
["NI",800017308,"2020-08-21","2020-08-21",2,"PATRICIA  OLIVEROS ","ANALISTA CONCILIACIONES","POLIVEROS@FAMISANAR.COM.CO",3156013576,"11001",{"$f":"VLOOKUP(B1244,'[1]Select temp_pre_numero'!D$1:E$1845,2,0)","v":"OTRAS"}]
["NI",830007382,"2020-08-24","2020-08-24",2,"PATRICIA  OLIVEROS ","ANALISTA CONCILIACIONES","POLIVEROS@FAMISANAR.COM.CO",3156013576,"11001",{"$f":"VLOOKUP(B1245,'[1]Select temp_pre_numero'!D$1:E$1845,2,0)","v":"OTRAS"}]
["NI",800037619,"2020-08-25","2020-08-25",2,"PATRICIA  OLIVEROS ","ANALISTA CONCILIACIONES","POLIVEROS@FAMISANAR.COM.CO",3156013576,"11001",{"$f":"VLOOKUP(B1246,'[1]Select temp_pre_numero'!D$1:E$1845,2,0)","v":{"$error":"#N/A"}}]
["NI",892399994,"2020-08-26","2020-08-26",2,"PATRICIA  OLIVEROS ","ANALISTA CONCILIACIONES","POLIVEROS@FAMISANAR.COM.CO",3156013576,"11001",{"$f":"VLOOKUP(B1247,'[1]Select temp_pre_numero'!D$1:E$1845,2,0)","v":"OTRAS"}]
["NI",800189531,"2020-08-27","2020-08-27",2,"PATRICIA  OLIVEROS ","ANALISTA CONCILIACIONES","POLIVEROS@FAMISANAR.COM.CO",3156013576,"11001",{"$f":"VLOOKUP(B1248,'[1]Select temp_pre_numero'!D$1:E$1845,2,0)","v":"OTRAS"}]
["NI",830143946,"2020-08-28","2020-08-28",2,"PATRICIA  OLIVEROS ","ANALISTA CONCILIACIONES","POLIVEROS@FAMISANAR.COM.CO",3156013576,"11001",{"$f":"VLOOKUP(B1249,'[1]Select temp_pre_numero'!D$1:E$1845,2,0)","v":"OTRAS"}]
["NI",800236964,"2020-08-29","2020-08-29",2,"PATRICIA  OLIVEROS ","ANALISTA CONCILIACIONES","POLIVEROS@FAMISANAR.COM.CO",3156013576,"11001",{"$f":"VLOOKUP(B1250,'[1]Select temp_pre_numero'!D$1:E$1845,2,0)","v":"OTRAS"}]
["NI",900008328,"2020-08-30","2020-08-30",2,"PATRICIA  OLIVEROS ","ANALISTA CONCILIACIONES","POLIVEROS@FAMISANAR.COM.CO",3156013576,"11001",{"$f":"VLOOKUP(B1251,'[1]Select temp_pre_numero'!D$1:E$1845,2,0)","v":"OTRAS"}]
["NI",900242221,"2020-08-31","2020-08-31",2,"PATRICIA  OLIVEROS ","ANALISTA CONCILIACIONES","POLIVEROS@FAMISANAR.COM.CO",3156013576,"11001",{"$f":"VLOOKUP(B1252,'[1]Select temp_pre_numero'!D$1:E$1845,2,0)","v":"OTRAS"}]
["NI",860013779,"2020-08-14","2020-08-14",2,"PATRICIA  OLIVEROS ","ANALISTA CONCILIACIONES","POLIVEROS@FAMISANAR.COM.CO",3156013576,"11001",{"$f":"VLOOKUP(B1253,'[1]Select temp_pre_numero'!D$1:E$1845,2,0)","v":"OTRAS"}]
["NI",800222660,"2020-08-18","2020-08-18",2,"PATRICIA  OLIVEROS ","ANALISTA CONCILIACIONES","POLIVEROS@FAMISANAR.COM.CO",3156013576,"11001",{"$f":"VLOOKUP(B1254,'[1]Select temp_pre_numero'!D$1:E$1845,2,0)","v":"OTRAS"}]
["NI",900159763,"2020-08-19","2020-08-19",2,"PATRICIA  OLIVEROS ","ANALISTA CONCILIACIONES","POLIVEROS@FAMISANAR.COM.CO",3156013576,"11001",{"$f":"VLOOKUP(B1255,'[1]Select temp_pre_numero'!D$1:E$1845,2,0)","v":"OTRAS"}]
["NI",832002471,"2020-08-20","2020-08-20",2,"PATRICIA  OLIVEROS ","ANALISTA CONCILIACIONES","POLIVEROS@FAMISANAR.COM.CO",3156013576,"11001",{"$f":"VLOOKUP(B1256,'[1]Select temp_pre_numero'!D$1:E$1845,2,0)","v":{"$error":"#N/A"}}]
["NI",800050068,"2020-08-21","2020-08-21",2,"PATRICIA  OLIVEROS ","ANALISTA CONCILIACIONES","POLIVEROS@FAMISANAR.COM.CO",3156013576,"11001",{"$f":"VLOOKUP(B1257,'[1]Select temp_pre_numero'!D$1:E$1845,2,0)","v":{"$error":"#N/A"}}]
["NI",860006560,"2020-08-24","2020-08-24",2,"PATRICIA  OLIVEROS ","ANALISTA CONCILIACIONES","POLIVEROS@FAMISANAR.COM.CO",3156013576,"11001",{"$f":"VLOOKUP(B1258,'[1]Select temp_pre_numero'!D$1:E$1845,2,0)","v":"OTRAS"}]
["NI",890901826,"2020-08-25","2020-08-25",2,"PATRICIA  OLIVEROS ","ANALISTA CONCILIACIONES","POLIVEROS@FAMISANAR.COM.CO",3156013576,"11001",{"$f":"VLOOKUP(B1259,'[1]Select temp_pre_numero'!D$1:E$1845,2,0)","v":"OTRAS"}]
["NI",900152983,"2020-08-26","2020-08-26",2,"PATRICIA  OLIVEROS ","ANALISTA CONCILIACIONES","POLIVEROS@FAMISANAR.COM.CO",3156013576,"11001",{"$f":"VLOOKUP(B1260,'[1]Select temp_pre_numero'!D$1:E$1845,2,0)","v":{"$error":"#N/A"}}]
["NI",811016192,"2020-08-27","2020-08-27",2,"PATRICIA  OLIVEROS ","ANALISTA CONCILIACIONES","POLIVEROS@FAMISANAR.COM.CO",3156013576,"11001",{"$f":"VLOOKUP(B1261,'[1]Select temp_pre_numero'!D$1:E$1845,2,0)","v":"OTRAS"}]
["NI",900219866,"2020-08-28","2020-08-28",2,"PATRICIA  OLIVEROS ","ANALISTA CONCILIACIONES","POLIVEROS@FAMISANAR.COM.CO",3156013576,"11001",{"$f":"VLOOKUP(B1262,'[1]Select temp_pre_numero'!D$1:E$1845,2,0)","v":"OTRAS"}]
["NI",830123731,"2020-08-29","2020-08-29",2,"PATRICIA  OLIVEROS ","ANALISTA CONCILIACIONES","POLIVEROS@FAMISANAR.COM.CO",3156013576,"11001",{"$f":"VLOOKUP(B1263,'[1]Select temp_pre_numero'!D$1:E$1845,2,0)","v":"OTRAS"}]
["NI",800085883,"2020-08-30","2020-08-30",2,"PATRICIA  OLIVEROS ","ANALISTA CONCILIACIONES","POLIVEROS@FAMISANAR.COM.CO",3156013576,"11001",{"$f":"VLOOKUP(B1264,'[1]Select temp_pre_numero'!D$1:E$1845,2,0)","v":"OTRAS"}]
["NI",900123436,"2020-08-31","2020-08-31",2,"PATRICIA  OLIVEROS ","ANALISTA CONCILIACIONES","POLIVEROS@FAMISANAR.COM.CO",3156013576,"11001",{"$f":"VLOOKUP(B1265,'[1]Select temp_pre_numero'!D$1:E$1845,2,0)","v":"OTRAS"}]
["NI",890802978,"2020-06-16","2020-06-16",2,"ROSEMBERG ANDRES MUÑOZ ","ANALISTA CONCILIACIONES","JCORONADO@FAMISANAR.COM.CO",3162946361,"11001",{"$f":"VLOOKUP(B1266,'[1]Select temp_pre_numero'!D$1:E$1845,2,0)","v":"OTRAS"}]
["NI",900155383,"2020-06-17","2020-06-17",2,"ROSEMBERG ANDRES MUÑOZ ","ANALISTA CONCILIACIONES","JCORONADO@FAMISANAR.COM.CO",3162946361,"11001",{"$f":"VLOOKUP(B1267,'[1]Select temp_pre_numero'!D$1:E$1845,2,0)","v":{"$error":"#N/A"}}]
["NI",804006936,"2020-06-18","2020-06-18",2,"ROSEMBERG ANDRES MUÑOZ ","ANALISTA CONCILIACIONES","JCORONADO@FAMISANAR.COM.CO",3162946361,"11001",{"$f":"VLOOKUP(B1268,'[1]Select temp_pre_numero'!D$1:E$1845,2,0)","v":"OTRAS"}]
["NI",890203222,"2020-06-19","2020-06-19",2,"ROSEMBERG ANDRES MUÑOZ ","ANALISTA CONCILIACIONES","JCORONADO@FAMISANAR.COM.CO",3162946361,"11001",{"$f":"VLOOKUP(B1269,'[1]Select temp_pre_numero'!D$1:E$1845,2,0)","v":"OTRAS"}]
["NI",805027261,"2020-06-23","2020-06-23",2,"ROSEMBERG ANDRES MUÑOZ ","ANALISTA CONCILIACIONES","JCORONADO@FAMISANAR.COM.CO",3162946361,"11001",{"$f":"VLOOKUP(B1270,'[1]Select temp_pre_numero'!D$1:E$1845,2,0)","v":"OTRAS"}]
["NI",812001846,"2020-06-24","2020-06-24",2,"ROSEMBERG ANDRES MUÑOZ ","ANALISTA CONCILIACIONES","JCORONADO@FAMISANAR.COM.CO",3162946361,"11001",{"$f":"VLOOKUP(B1271,'[1]Select temp_pre_numero'!D$1:E$1845,2,0)","v":"OTRAS"}]
["NI",806007343,"2020-06-25","2020-06-25",2,"ROSEMBERG ANDRES MUÑOZ ","ANALISTA CONCILIACIONES","JCORONADO@FAMISANAR.COM.CO",3162946361,"11001",{"$f":"VLOOKUP(B1272,'[1]Select temp_pre_numero'!D$1:E$1845,2,0)","v":"OTRAS"}]
["NI",890000905,"2020-06-26","2020-06-26",2,"ROSEMBERG ANDRES MUÑOZ ","ANALISTA CONCILIACIONES","JCORONADO@FAMISANAR.COM.CO",3162946361,"11001",{"$f":"VLOOKUP(B1273,'[1]Select temp_pre_numero'!D$1:E$1845,2,0)","v":"OTRAS"}]
["NI",890203373,"2020-06-30","2020-06-30",2,"ROSEMBERG ANDRES MUÑOZ ","ANALISTA CONCILIACIONES","JCORONADO@FAMISANAR.COM.CO",3162946361,"11001",{"$f":"VLOOKUP(B1274,'[1]Select temp_pre_numero'!D$1:E$1845,2,0)","v":"OTRAS"}]
["NI",804010394,"2020-07-01","2020-07-01",2,"ROSEMBERG ANDRES MUÑOZ ","ANALISTA CONCILIACIONES","JCORONADO@FAMISANAR.COM.CO",3162946361,"11001",{"$f":"VLOOKUP(B1275,'[1]Select temp_pre_numero'!D$1:E$1845,2,0)","v":"OTRAS"}]
["NI",817000999,"2020-07-02","2020-07-02",2,"CLAUDIA  PAEZ","ANALISTA CONCILIACIONES","CPAEZ@FAMISANAR.COM.CO",3118590443,"11001",{"$f":"VLOOKUP(B1276,'[1]Select temp_pre_numero'!D$1:E$1845,2,0)","v":"OTRAS"}]
["NI",804015007,"2020-07-03","2020-07-03",2,"CLAUDIA  PAEZ","ANALISTA CONCILIACIONES","CPAEZ@FAMISANAR.COM.CO",3118590443,"11001",{"$f":"VLOOKUP(B1277,'[1]Select temp_pre_numero'!D$1:E$1845,2,0)","v":"OTRAS"}]
["NI",804008809,"2020-07-06","2020-07-06",2,"CLAUDIA  PAEZ","ANALISTA CONCILIACIONES","CPAEZ@FAMISANAR.COM.CO",3118590443,"11001",{"$f":"VLOOKUP(B1278,'[1]Select temp_pre_numero'!D$1:E$1845,2,0)","v":"OTRAS"}]
["NI",800152970,"2020-07-07","2020-07-07",2,"CLAUDIA  PAEZ","ANALISTA CONCILIACIONES","CPAEZ@FAMISANAR.COM.CO",3118590443,"11001",{"$f":"VLOOKUP(B1279,'[1]Select temp_pre_numero'!D$1:E$1845,2,0)","v":"OTRAS"}]
["NI",825001037,"2020-07-08","2020-07-08",2,"CLAUDIA  PAEZ","ANALISTA CONCILIACIONES","CPAEZ@FAMISANAR.COM.CO",3118590443,"11001",{"$f":"VLOOKUP(B1280,'[1]Select temp_pre_numero'!D$1:E$1845,2,0)","v":"OTRAS"}]
["NI",800123106,"2020-07-09","2020-07-09",2,"CLAUDIA  PAEZ","ANALISTA CONCILIACIONES","CPAEZ@FAMISANAR.COM.CO",3118590443,"11001",{"$f":"VLOOKUP(B1281,'[1]Select temp_pre_numero'!D$1:E$1845,2,0)","v":"OTRAS"}]
["NI",800138011,"2020-07-10","2020-07-10",2,"CLAUDIA  PAEZ","ANALISTA CONCILIACIONES","CPAEZ@FAMISANAR.COM.CO",3118590443,"11001",{"$f":"VLOOKUP(B1282,'[1]Select temp_pre_numero'!D$1:E$1845,2,0)","v":"OTRAS"}]
["NI",901242654,"2020-07-13","2020-07-13",2,"CLAUDIA  PAEZ","ANALISTA CONCILIACIONES","CPAEZ@FAMISANAR.COM.CO",3118590443,"11001",{"$f":"VLOOKUP(B1283,'[1]Select temp_pre_numero'!D$1:E$1845,2,0)","v":"OTRAS"}]
["NI",891855492,"2020-07-14","2020-07-14",2,"CLAUDIA  PAEZ","ANALISTA CONCILIACIONES","CPAEZ@FAMISANAR.COM.CO",3118590443,"11001",{"$f":"VLOOKUP(B1284,'[1]Select temp_pre_numero'!D$1:E$1845,2,0)","v":"OTRAS"}]
["NI",826002777,"2020-07-15","2020-07-15",2,"CLAUDIA  PAEZ","ANALISTA CONCILIACIONES","CPAEZ@FAMISANAR.COM.CO",3118590443,"11001",{"$f":"VLOOKUP(B1285,'[1]Select temp_pre_numero'!D$1:E$1845,2,0)","v":"OTRAS"}]
["NI",844001355,"2020-07-16","2020-07-16",2,"CLAUDIA  PAEZ","ANALISTA CONCILIACIONES","CPAEZ@FAMISANAR.COM.CO",3118590443,"11001",{"$f":"VLOOKUP(B1286,'[1]Select temp_pre_numero'!D$1:E$1845,2,0)","v":"OTRAS"}]
["NI",802004549,"2020-07-17","2020-07-17",2,"CLAUDIA  PAEZ","ANALISTA CONCILIACIONES","CPAEZ@FAMISANAR.COM.CO",3118590443,"11001",{"$f":"VLOOKUP(B1287,'[1]Select temp_pre_numero'!D$1:E$1845,2,0)","v":"OTRAS"}]
["NI",800146637,"2020-07-21","2020-07-21",2,"CLAUDIA  PAEZ","ANALISTA CONCILIACIONES","CPAEZ@FAMISANAR.COM.CO",3118590443,"11001",{"$f":"VLOOKUP(B1288,'[1]Select temp_pre_numero'!D$1:E$1845,2,0)","v":"OTRAS"}]
["NI",832006431,"2020-07-22","2020-07-22",2,"CLAUDIA  PAEZ","ANALISTA CONCILIACIONES","CPAEZ@FAMISANAR.COM.CO",3118590443,"11001",{"$f":"VLOOKUP(B1289,'[1]Select temp_pre_numero'!D$1:E$1845,2,0)","v":{"$error":"#N/A"}}]
["NI",890103406,"2020-07-23","2020-07-23",2,"CLAUDIA  PAEZ","ANALISTA CONCILIACIONES","CPAEZ@FAMISANAR.COM.CO",3118590443,"11001",{"$f":"VLOOKUP(B1290,'[1]Select temp_pre_numero'!D$1:E$1845,2,0)","v":"OTRAS"}]
["NI",813012833,"2020-07-24","2020-07-24",2,"CLAUDIA  PAEZ","ANALISTA CONCILIACIONES","CPAEZ@FAMISANAR.COM.CO",3118590443,"11001",{"$f":"VLOOKUP(B1291,'[1]Select temp_pre_numero'!D$1:E$1845,2,0)","v":"OTRAS"}]
["NI",900164285,"2020-07-27","2020-07-27",2,"CLAUDIA  PAEZ","ANALISTA CONCILIACIONES","CPAEZ@FAMISANAR.COM.CO",3118590443,"11001",{"$f":"VLOOKUP(B1292,'[1]Select temp_pre_numero'!D$1:E$1845,2,0)","v":"OTRAS"}]
["NI",800012323,"2020-07-28","2020-07-28",2,"CLAUDIA  PAEZ","ANALISTA CONCILIACIONES","CPAEZ@FAMISANAR.COM.CO",3118590443,"11001",{"$f":"VLOOKUP(B1293,'[1]Select temp_pre_numero'!D$1:E$1845,2,0)","v":"OTRAS"}]
["NI",802009195,"2020-07-29","2020-07-29",2,"CLAUDIA  PAEZ","ANALISTA CONCILIACIONES","CPAEZ@FAMISANAR.COM.CO",3118590443,"11001",{"$f":"VLOOKUP(B1294,'[1]Select temp_pre_numero'!D$1:E$1845,2,0)","v":"OTRAS"}]
["NI",812003739,"2020-07-30","2020-07-30",2,"CLAUDIA  PAEZ","ANALISTA CONCILIACIONES","CPAEZ@FAMISANAR.COM.CO",3118590443,"11001",{"$f":"VLOOKUP(B1295,'[1]Select temp_pre_numero'!D$1:E$1845,2,0)","v":{"$error":"#N/A"}}]
["NI",802023546,"2020-07-31","2020-07-31",2,"ROSEMBERG ANDRES MUÑOZ ","ANALISTA CONCILIACIONES","RMUNOZA@FAMISANAR.COM.CO",3114782491,"11001",{"$f":"VLOOKUP(B1296,'[1]Select temp_pre_numero'!D$1:E$1845,2,0)","v":{"$error":"#N/A"}}]
["NI",890802218,"2020-08-03","2020-08-03",2,"ROSEMBERG ANDRES MUÑOZ ","ANALISTA CONCILIACIONES","RMUNOZA@FAMISANAR.COM.CO",3114782491,"11001",{"$f":"VLOOKUP(B1297,'[1]Select temp_pre_numero'!D$1:E$1845,2,0)","v":"OTRAS"}]
["NI",890203887,"2020-08-04","2020-08-04",2,"ROSEMBERG ANDRES MUÑOZ ","ANALISTA CONCILIACIONES","RMUNOZA@FAMISANAR.COM.CO",3114782491,"11001",{"$f":"VLOOKUP(B1298,'[1]Select temp_pre_numero'!D$1:E$1845,2,0)","v":"OTRAS"}]
["NI",800191916,"2020-08-05","2020-08-05",2,"ROSEMBERG ANDRES MUÑOZ ","ANALISTA CONCILIACIONES","RMUNOZA@FAMISANAR.COM.CO",3114782491,"11001",{"$f":"VLOOKUP(B1299,'[1]Select temp_pre_numero'!D$1:E$1845,2,0)","v":"OTRAS"}]
["NI",891180091,"2020-08-06","2020-08-06",2,"ROSEMBERG ANDRES MUÑOZ ","ANALISTA CONCILIACIONES","RMUNOZA@FAMISANAR.COM.CO",3114782491,"11001",{"$f":"VLOOKUP(B1300,'[1]Select temp_pre_numero'!D$1:E$1845,2,0)","v":"OTRAS"}]
["NI",900138480,"2020-08-10","2020-08-10",2,"ROSEMBERG ANDRES MUÑOZ ","ANALISTA CONCILIACIONES","RMUNOZA@FAMISANAR.COM.CO",3114782491,"11001",{"$f":"VLOOKUP(B1301,'[1]Select temp_pre_numero'!D$1:E$1845,2,0)","v":{"$error":"#N/A"}}]
["NI",813011502,"2020-08-11","2020-08-11",2,"ROSEMBERG ANDRES MUÑOZ ","ANALISTA CONCILIACIONES","RMUNOZA@FAMISANAR.COM.CO",3114782491,"11001",{"$f":"VLOOKUP(B1302,'[1]Select temp_pre_numero'!D$1:E$1845,2,0)","v":"OTRAS"}]
["NI",819001512,"2020-08-12","2020-08-12",2,"ROSEMBERG ANDRES MUÑOZ ","ANALISTA CONCILIACIONES","RMUNOZA@FAMISANAR.COM.CO",3114782491,"11001",{"$f":"VLOOKUP(B1303,'[1]Select temp_pre_numero'!D$1:E$1845,2,0)","v":{"$error":"#N/A"}}]
["NI",891201845,"2020-08-13","2020-08-13",2,"ROSEMBERG ANDRES MUÑOZ ","ANALISTA CONCILIACIONES","RMUNOZA@FAMISANAR.COM.CO",3114782491,"11001",{"$f":"VLOOKUP(B1304,'[1]Select temp_pre_numero'!D$1:E$1845,2,0)","v":"OTRAS"}]
["NI",800016647,"2020-08-14","2020-08-14",2,"ROSEMBERG ANDRES MUÑOZ ","ANALISTA CONCILIACIONES","RMUNOZA@FAMISANAR.COM.CO",3114782491,"11001",{"$f":"VLOOKUP(B1305,'[1]Select temp_pre_numero'!D$1:E$1845,2,0)","v":{"$error":"#N/A"}}]
["NI",890704505,"2020-08-18","2020-08-18",2,"ROSEMBERG ANDRES MUÑOZ ","ANALISTA CONCILIACIONES","RMUNOZA@FAMISANAR.COM.CO",3114782491,"11001",{"$f":"VLOOKUP(B1306,'[1]Select temp_pre_numero'!D$1:E$1845,2,0)","v":"OTRAS"}]
["NI",900146471,"2020-08-19","2020-08-19",2,"ROSEMBERG ANDRES MUÑOZ ","ANALISTA CONCILIACIONES","RMUNOZA@FAMISANAR.COM.CO",3114782491,"11001",{"$f":"VLOOKUP(B1307,'[1]Select temp_pre_numero'!D$1:E$1845,2,0)","v":{"$error":"#N/A"}}]
["NI",860006626,"2020-08-20","2020-08-20",2,"ROSEMBERG ANDRES MUÑOZ ","ANALISTA CONCILIACIONES","RMUNOZA@FAMISANAR.COM.CO",3114782491,"11001",{"$f":"VLOOKUP(B1308,'[1]Select temp_pre_numero'!D$1:E$1845,2,0)","v":"OTRAS"}]
["NI",819001302,"2020-08-21","2020-08-21",2,"ROSEMBERG ANDRES MUÑOZ ","ANALISTA CONCILIACIONES","RMUNOZA@FAMISANAR.COM.CO",3114782491,"11001",{"$f":"VLOOKUP(B1309,'[1]Select temp_pre_numero'!D$1:E$1845,2,0)","v":"OTRAS"}]
["NI",819001712,"2020-08-24","2020-08-24",2,"ROSEMBERG ANDRES MUÑOZ ","ANALISTA CONCILIACIONES","RMUNOZA@FAMISANAR.COM.CO",3114782491,"11001",{"$f":"VLOOKUP(B1310,'[1]Select temp_pre_numero'!D$1:E$1845,2,0)","v":"OTRAS"}]
["NI",820003876,"2020-08-25","2020-08-25",2,"ROSEMBERG ANDRES MUÑOZ ","ANALISTA CONCILIACIONES","RMUNOZA@FAMISANAR.COM.CO",3114782491,"11001",{"$f":"VLOOKUP(B1311,'[1]Select temp_pre_numero'!D$1:E$1845,2,0)","v":"OTRAS"}]
["NI",800149026,"2020-08-26","2020-08-26",2,"ROSEMBERG ANDRES MUÑOZ ","ANALISTA CONCILIACIONES","RMUNOZA@FAMISANAR.COM.CO",3114782491,"11001",{"$f":"VLOOKUP(B1312,'[1]Select temp_pre_numero'!D$1:E$1845,2,0)","v":{"$error":"#N/A"}}]
["NI",890984156,"2020-08-27","2020-08-27",2,"ROSEMBERG ANDRES MUÑOZ ","ANALISTA CONCILIACIONES","RMUNOZA@FAMISANAR.COM.CO",3114782491,"11001",{"$f":"VLOOKUP(B1313,'[1]Select temp_pre_numero'!D$1:E$1845,2,0)","v":{"$error":"#N/A"}}]
["NI",806004548,"2020-08-28","2020-08-28",2,"ROSEMBERG ANDRES MUÑOZ ","ANALISTA CONCILIACIONES","RMUNOZA@FAMISANAR.COM.CO",3114782491,"11001",{"$f":"VLOOKUP(B1314,'[1]Select temp_pre_numero'!D$1:E$1845,2,0)","v":"OTRAS"}]
["NI",824005694,"2020-08-29","2020-08-29",2,"ROSEMBERG ANDRES MUÑOZ ","ANALISTA CONCILIACIONES","RMUNOZA@FAMISANAR.COM.CO",3114782491,"11001",{"$f":"VLOOKUP(B1315,'[1]Select temp_pre_numero'!D$1:E$1845,2,0)","v":"OTRAS"}]
["NI",890200106,"2020-08-30","2020-08-30",2,"ROSEMBERG ANDRES MUÑOZ ","ANALISTA CONCILIACIONES","RMUNOZA@FAMISANAR.COM.CO",3114782491,"11001",{"$f":"VLOOKUP(B1316,'[1]Select temp_pre_numero'!D$1:E$1845,2,0)","v":"OTRAS"}]
["NI",802013492,"2020-08-31","2020-08-31",2,"ROSEMBERG ANDRES MUÑOZ ","ANALISTA CONCILIACIONES","RMUNOZA@FAMISANAR.COM.CO",3114782491,"11001",{"$f":"VLOOKUP(B1317,'[1]Select temp_pre_numero'!D$1:E$1845,2,0)","v":{"$error":"#N/A"}}]
["NI",900619741,"2020-06-16","2020-06-16",2,"ROSEMBERG ANDRES MUÑOZ ","ANALISTA CONCILIACIONES","RMUNOZA@FAMISANAR.COM.CO",3114782491,"11001",{"$f":"VLOOKUP(B1318,'[1]Select temp_pre_numero'!D$1:E$1845,2,0)","v":"OTRAS"}]
["NI",900617858,"2020-06-17","2020-06-17",2,"ROSEMBERG ANDRES MUÑOZ ","ANALISTA CONCILIACIONES","RMUNOZA@FAMISANAR.COM.CO",3114782491,"11001",{"$f":"VLOOKUP(B1319,'[1]Select temp_pre_numero'!D$1:E$1845,2,0)","v":"OTRAS"}]
["NI",890980727,"2020-06-18","2020-06-18",2,"ROSEMBERG ANDRES MUÑOZ ","ANALISTA CONCILIACIONES","RMUNOZA@FAMISANAR.COM.CO",3114782491,"11001",{"$f":"VLOOKUP(B1320,'[1]Select temp_pre_numero'!D$1:E$1845,2,0)","v":"OTRAS"}]
["NI",900061048,"2020-06-19","2020-06-19",2,"ROSEMBERG ANDRES MUÑOZ ","ANALISTA CONCILIACIONES","RMUNOZA@FAMISANAR.COM.CO",3114782491,"11001",{"$f":"VLOOKUP(B1321,'[1]Select temp_pre_numero'!D$1:E$1845,2,0)","v":"OTRAS"}]
["NI",800125276,"2020-06-23","2020-06-23",2,"ROSEMBERG ANDRES MUÑOZ ","ANALISTA CONCILIACIONES","RMUNOZA@FAMISANAR.COM.CO",3114782491,"11001",{"$f":"VLOOKUP(B1322,'[1]Select temp_pre_numero'!D$1:E$1845,2,0)","v":"OTRAS"}]
["NI",891500736,"2020-06-24","2020-06-24",2,"ROSEMBERG ANDRES MUÑOZ ","ANALISTA CONCILIACIONES","RMUNOZA@FAMISANAR.COM.CO",3114782491,"11001",{"$f":"VLOOKUP(B1323,'[1]Select temp_pre_numero'!D$1:E$1845,2,0)","v":"OTRAS"}]
["NI",900153346,"2020-06-25","2020-06-25",2,"ROSEMBERG ANDRES MUÑOZ ","ANALISTA CONCILIACIONES","RMUNOZA@FAMISANAR.COM.CO",3114782491,"11001",{"$f":"VLOOKUP(B1324,'[1]Select temp_pre_numero'!D$1:E$1845,2,0)","v":{"$error":"#N/A"}}]
["NI",812005369,"2020-06-26","2020-06-26",2,"ROSEMBERG ANDRES MUÑOZ ","ANALISTA CONCILIACIONES","RMUNOZA@FAMISANAR.COM.CO",3114782491,"11001",{"$f":"VLOOKUP(B1325,'[1]Select temp_pre_numero'!D$1:E$1845,2,0)","v":{"$error":"#N/A"}}]
["NI",820004962,"2020-06-30","2020-06-30",2,"ROSEMBERG ANDRES MUÑOZ ","ANALISTA CONCILIACIONES","RMUNOZA@FAMISANAR.COM.CO",3114782491,"11001",{"$f":"VLOOKUP(B1326,'[1]Select temp_pre_numero'!D$1:E$1845,2,0)","v":"OTRAS"}]
["NI",800036400,"2020-07-01","2020-07-01",2,"ROSEMBERG ANDRES MUÑOZ ","ANALISTA CONCILIACIONES","RMUNOZA@FAMISANAR.COM.CO",3114782491,"11001",{"$f":"VLOOKUP(B1327,'[1]Select temp_pre_numero'!D$1:E$1845,2,0)","v":"OTRAS"}]
["NI",812003726,"2020-07-02","2020-07-02",2,"ROSEMBERG ANDRES MUÑOZ ","ANALISTA CONCILIACIONES","RMUNOZA@FAMISANAR.COM.CO",3114782491,"11001",{"$f":"VLOOKUP(B1328,'[1]Select temp_pre_numero'!D$1:E$1845,2,0)","v":"OTRAS"}]
["NI",890906346,"2020-07-03","2020-07-03",2,"ROSEMBERG ANDRES MUÑOZ ","ANALISTA CONCILIACIONES","RMUNOZA@FAMISANAR.COM.CO",3114782491,"11001",{"$f":"VLOOKUP(B1329,'[1]Select temp_pre_numero'!D$1:E$1845,2,0)","v":"OTRAS"}]
["NI",890906211,"2020-07-06","2020-07-06",2,"ROSEMBERG ANDRES MUÑOZ ","ANALISTA CONCILIACIONES","RMUNOZA@FAMISANAR.COM.CO",3114782491,"11001",{"$f":"VLOOKUP(B1330,'[1]Select temp_pre_numero'!D$1:E$1845,2,0)","v":"OTRAS"}]
["NI",891900732,"2020-07-07","2020-07-07",2,"ROSEMBERG ANDRES MUÑOZ ","ANALISTA CONCILIACIONES","RMUNOZA@FAMISANAR.COM.CO",3114782491,"11001",{"$f":"VLOOKUP(B1331,'[1]Select temp_pre_numero'!D$1:E$1845,2,0)","v":"OTRAS"}]
["NI",900446032,"2020-07-08","2020-07-08",2,"ROSEMBERG ANDRES MUÑOZ ","ANALISTA CONCILIACIONES","RMUNOZA@FAMISANAR.COM.CO",3114782491,"11001",{"$f":"VLOOKUP(B1332,'[1]Select temp_pre_numero'!D$1:E$1845,2,0)","v":{"$error":"#N/A"}}]
["NI",890981561,"2020-07-09","2020-07-09",2,"ROSEMBERG ANDRES MUÑOZ ","ANALISTA CONCILIACIONES","RMUNOZA@FAMISANAR.COM.CO",3114782491,"11001",{"$f":"VLOOKUP(B1333,'[1]Select temp_pre_numero'!D$1:E$1845,2,0)","v":{"$error":"#N/A"}}]
["NI",809008576,"2020-07-10","2020-07-10",2,"ROSEMBERG ANDRES MUÑOZ ","ANALISTA CONCILIACIONES","RMUNOZA@FAMISANAR.COM.CO",3114782491,"11001",{"$f":"VLOOKUP(B1334,'[1]Select temp_pre_numero'!D$1:E$1845,2,0)","v":{"$error":"#N/A"}}]
["NI",809000383,"2020-07-13","2020-07-13",2,"ROSEMBERG ANDRES MUÑOZ ","ANALISTA CONCILIACIONES","RMUNOZA@FAMISANAR.COM.CO",3114782491,"11001",{"$f":"VLOOKUP(B1335,'[1]Select temp_pre_numero'!D$1:E$1845,2,0)","v":"OTRAS"}]
["NI",817003166,"2020-07-14","2020-07-14",2,"ROSEMBERG ANDRES MUÑOZ ","ANALISTA CONCILIACIONES","RMUNOZA@FAMISANAR.COM.CO",3114782491,"11001",{"$f":"VLOOKUP(B1336,'[1]Select temp_pre_numero'!D$1:E$1845,2,0)","v":{"$error":"#N/A"}}]
["NI",890210222,"2020-07-15","2020-07-15",2,"ROSEMBERG ANDRES MUÑOZ ","ANALISTA CONCILIACIONES","RMUNOZA@FAMISANAR.COM.CO",3114782491,"11001",{"$f":"VLOOKUP(B1337,'[1]Select temp_pre_numero'!D$1:E$1845,2,0)","v":"OTRAS"}]
["NI",891180232,"2020-07-16","2020-07-16",2,"ROSEMBERG ANDRES MUÑOZ ","ANALISTA CONCILIACIONES","RMUNOZA@FAMISANAR.COM.CO",3114782491,"11001",{"$f":"VLOOKUP(B1338,'[1]Select temp_pre_numero'!D$1:E$1845,2,0)","v":"OTRAS"}]
["NI",813001653,"2020-07-17","2020-07-17",2,"ROSEMBERG ANDRES MUÑOZ ","ANALISTA CONCILIACIONES","RMUNOZA@FAMISANAR.COM.CO",3114782491,"11001",{"$f":"VLOOKUP(B1339,'[1]Select temp_pre_numero'!D$1:E$1845,2,0)","v":"OTRAS"}]
["NI",846003357,"2020-07-21","2020-07-21",2,"ROSEMBERG ANDRES MUÑOZ ","ANALISTA CONCILIACIONES","RMUNOZA@FAMISANAR.COM.CO",3114782491,"11001",{"$f":"VLOOKUP(B1340,'[1]Select temp_pre_numero'!D$1:E$1845,2,0)","v":"OTRAS"}]
["NI",891180147,"2020-07-22","2020-07-22",2,"ROSEMBERG ANDRES MUÑOZ ","ANALISTA CONCILIACIONES","RMUNOZA@FAMISANAR.COM.CO",3114782491,"11001",{"$f":"VLOOKUP(B1341,'[1]Select temp_pre_numero'!D$1:E$1845,2,0)","v":"OTRAS"}]
["NI",900408220,"2020-07-23","2020-07-23",2,"ROSEMBERG ANDRES MUÑOZ ","ANALISTA CONCILIACIONES","RMUNOZA@FAMISANAR.COM.CO",3114782491,"11001",{"$f":"VLOOKUP(B1342,'[1]Select temp_pre_numero'!D$1:E$1845,2,0)","v":{"$error":"#N/A"}}]
["NI",900520293,"2020-07-24","2020-07-24",2,"ROSEMBERG ANDRES MUÑOZ ","ANALISTA CONCILIACIONES","RMUNOZA@FAMISANAR.COM.CO",3114782491,"11001",{"$f":"VLOOKUP(B1343,'[1]Select temp_pre_numero'!D$1:E$1845,2,0)","v":"OTRAS"}]
["NI",900211998,"2020-07-27","2020-07-27",2,"ROSEMBERG ANDRES MUÑOZ ","ANALISTA CONCILIACIONES","RMUNOZA@FAMISANAR.COM.CO",3114782491,"11001",{"$f":"VLOOKUP(B1344,'[1]Select temp_pre_numero'!D$1:E$1845,2,0)","v":"OTRAS"}]
["NI",900145572,"2020-07-28","2020-07-28",2,"ROSEMBERG ANDRES MUÑOZ ","ANALISTA CONCILIACIONES","RMUNOZA@FAMISANAR.COM.CO",3114782491,"11001",{"$f":"VLOOKUP(B1345,'[1]Select temp_pre_numero'!D$1:E$1845,2,0)","v":"OTRAS"}]
["NI",900423126,"2020-07-29","2020-07-29",2,"ROSEMBERG ANDRES MUÑOZ ","ANALISTA CONCILIACIONES","RMUNOZA@FAMISANAR.COM.CO",3114782491,"11001",{"$f":"VLOOKUP(B1346,'[1]Select temp_pre_numero'!D$1:E$1845,2,0)","v":{"$error":"#N/A"}}]
["NI",900052148,"2020-07-30","2020-07-30",2,"ROSEMBERG ANDRES MUÑOZ ","ANALISTA CONCILIACIONES","RMUNOZA@FAMISANAR.COM.CO",3114782491,"11001",{"$f":"VLOOKUP(B1347,'[1]Select temp_pre_numero'!D$1:E$1845,2,0)","v":"OTRAS"}]
["NI",900141467,"2020-07-31","2020-07-31",2,"ROSEMBERG ANDRES MUÑOZ ","ANALISTA CONCILIACIONES","RMUNOZA@FAMISANAR.COM.CO",3114782491,"11001",{"$f":"VLOOKUP(B1348,'[1]Select temp_pre_numero'!D$1:E$1845,2,0)","v":{"$error":"#N/A"}}]
["NI",800197601,"2020-08-03","2020-08-03",2,"ROSEMBERG ANDRES MUÑOZ ","ANALISTA CONCILIACIONES","RMUNOZA@FAMISANAR.COM.CO",3114782491,"11001",{"$f":"VLOOKUP(B1349,'[1]Select temp_pre_numero'!D$1:E$1845,2,0)","v":{"$error":"#N/A"}}]
["NI",804015069,"2020-08-04","2020-08-04",2,"ROSEMBERG ANDRES MUÑOZ ","ANALISTA CONCILIACIONES","RMUNOZA@FAMISANAR.COM.CO",3114782491,"11001",{"$f":"VLOOKUP(B1350,'[1]Select temp_pre_numero'!D$1:E$1845,2,0)","v":{"$error":"#N/A"}}]
["NI",890938774,"2020-08-05","2020-08-05",2,"ROSEMBERG ANDRES MUÑOZ ","ANALISTA CONCILIACIONES","RMUNOZA@FAMISANAR.COM.CO",3114782491,"11001",{"$f":"VLOOKUP(B1351,'[1]Select temp_pre_numero'!D$1:E$1845,2,0)","v":"OTRAS"}]
["NI",900274166,"2020-08-06","2020-08-06",2,"ROSEMBERG ANDRES MUÑOZ ","ANALISTA CONCILIACIONES","RMUNOZA@FAMISANAR.COM.CO",3114782491,"11001",{"$f":"VLOOKUP(B1352,'[1]Select temp_pre_numero'!D$1:E$1845,2,0)","v":"OTRAS"}]
["NI",891180039,"2020-08-10","2020-08-10",2,"ROSEMBERG ANDRES MUÑOZ ","ANALISTA CONCILIACIONES","RMUNOZA@FAMISANAR.COM.CO",3114782491,"11001",{"$f":"VLOOKUP(B1353,'[1]Select temp_pre_numero'!D$1:E$1845,2,0)","v":"OTRAS"}]
["NI",802009049,"2020-08-11","2020-08-11",2,"ROSEMBERG ANDRES MUÑOZ ","ANALISTA CONCILIACIONES","RMUNOZA@FAMISANAR.COM.CO",3114782491,"11001",{"$f":"VLOOKUP(B1354,'[1]Select temp_pre_numero'!D$1:E$1845,2,0)","v":"OTRAS"}]
["NI",891900390,"2020-08-12","2020-08-12",2,"ROSEMBERG ANDRES MUÑOZ ","ANALISTA CONCILIACIONES","RMUNOZA@FAMISANAR.COM.CO",3114782491,"11001",{"$f":"VLOOKUP(B1355,'[1]Select temp_pre_numero'!D$1:E$1845,2,0)","v":"OTRAS"}]
["NI",891380184,"2020-08-13","2020-08-13",2,"ROSEMBERG ANDRES MUÑOZ ","ANALISTA CONCILIACIONES","RMUNOZA@FAMISANAR.COM.CO",3114782491,"11001",{"$f":"VLOOKUP(B1356,'[1]Select temp_pre_numero'!D$1:E$1845,2,0)","v":"OTRAS"}]
["NI",800030924,"2020-08-14","2020-08-14",2,"ROSEMBERG ANDRES MUÑOZ ","ANALISTA CONCILIACIONES","RMUNOZA@FAMISANAR.COM.CO",3114782491,"11001",{"$f":"VLOOKUP(B1357,'[1]Select temp_pre_numero'!D$1:E$1845,2,0)","v":"OTRAS"}]
["NI",802007650,"2020-08-18","2020-08-18",2,"ROSEMBERG ANDRES MUÑOZ ","ANALISTA CONCILIACIONES","RMUNOZA@FAMISANAR.COM.CO",3114782491,"11001",{"$f":"VLOOKUP(B1358,'[1]Select temp_pre_numero'!D$1:E$1845,2,0)","v":{"$error":"#N/A"}}]
["NI",812002836,"2020-08-19","2020-08-19",2,"ROSEMBERG ANDRES MUÑOZ ","ANALISTA CONCILIACIONES","RMUNOZA@FAMISANAR.COM.CO",3114782491,"11001",{"$f":"VLOOKUP(B1359,'[1]Select temp_pre_numero'!D$1:E$1845,2,0)","v":"OTRAS"}]
["NI",900897204,"2020-08-20","2020-08-20",2,"ROSEMBERG ANDRES MUÑOZ ","ANALISTA CONCILIACIONES","RMUNOZA@FAMISANAR.COM.CO",3114782491,"11001",{"$f":"VLOOKUP(B1360,'[1]Select temp_pre_numero'!D$1:E$1845,2,0)","v":{"$error":"#N/A"}}]
["NI",899999025,"2020-08-21","2020-08-21",2,"ROSEMBERG ANDRES MUÑOZ ","ANALISTA CONCILIACIONES","RMUNOZA@FAMISANAR.COM.CO",3114782491,"11001",{"$f":"VLOOKUP(B1361,'[1]Select temp_pre_numero'!D$1:E$1845,2,0)","v":{"$error":"#N/A"}}]
["NI",901049161,"2020-08-24","2020-08-24",2,"ROSEMBERG ANDRES MUÑOZ ","ANALISTA CONCILIACIONES","RMUNOZA@FAMISANAR.COM.CO",3114782491,"11001",{"$f":"VLOOKUP(B1362,'[1]Select temp_pre_numero'!D$1:E$1845,2,0)","v":{"$error":"#N/A"}}]
["NI",820003580,"2020-08-25","2020-08-25",2,"ROSEMBERG ANDRES MUÑOZ ","ANALISTA CONCILIACIONES","RMUNOZA@FAMISANAR.COM.CO",3114782491,"11001",{"$f":"VLOOKUP(B1363,'[1]Select temp_pre_numero'!D$1:E$1845,2,0)","v":"OTRAS"}]
["NI",890200965,"2020-08-26","2020-08-26",2,"ROSEMBERG ANDRES MUÑOZ ","ANALISTA CONCILIACIONES","RMUNOZA@FAMISANAR.COM.CO",3114782491,"11001",{"$f":"VLOOKUP(B1364,'[1]Select temp_pre_numero'!D$1:E$1845,2,0)","v":"OTRAS"}]
["NI",890000448,"2020-08-27","2020-08-27",2,"ROSEMBERG ANDRES MUÑOZ ","ANALISTA CONCILIACIONES","RMUNOZA@FAMISANAR.COM.CO",3114782491,"11001",{"$f":"VLOOKUP(B1365,'[1]Select temp_pre_numero'!D$1:E$1845,2,0)","v":"OTRAS"}]
["NI",800014884,"2020-08-28","2020-08-28",2,"ROSEMBERG ANDRES MUÑOZ ","ANALISTA CONCILIACIONES","RMUNOZA@FAMISANAR.COM.CO",3114782491,"11001",{"$f":"VLOOKUP(B1366,'[1]Select temp_pre_numero'!D$1:E$1845,2,0)","v":"OTRAS"}]
["NI",804014835,"2020-08-29","2020-08-29",2,"ROSEMBERG ANDRES MUÑOZ ","ANALISTA CONCILIACIONES","RMUNOZA@FAMISANAR.COM.CO",3114782491,"11001",{"$f":"VLOOKUP(B1367,'[1]Select temp_pre_numero'!D$1:E$1845,2,0)","v":"OTRAS"}]
["NI",890980444,"2020-08-30","2020-08-30",2,"ROSEMBERG ANDRES MUÑOZ ","ANALISTA CONCILIACIONES","RMUNOZA@FAMISANAR.COM.CO",3114782491,"11001",{"$f":"VLOOKUP(B1368,'[1]Select temp_pre_numero'!D$1:E$1845,2,0)","v":"OTRAS"}]
["NI",900190473,"2020-08-31","2020-08-31",2,"ROSEMBERG ANDRES MUÑOZ ","ANALISTA CONCILIACIONES","RMUNOZA@FAMISANAR.COM.CO",3114782491,"11001",{"$f":"VLOOKUP(B1369,'[1]Select temp_pre_numero'!D$1:E$1845,2,0)","v":"OTRAS"}]
["NI",825000834,"2020-06-16","2020-06-16",2,"ROSEMBERG ANDRES MUÑOZ ","ANALISTA CONCILIACIONES","RMUNOZA@FAMISANAR.COM.CO",3114782491,"11001",{"$f":"VLOOKUP(B1370,'[1]Select temp_pre_numero'!D$1:E$1845,2,0)","v":"OTRAS"}]
["NI",900431550,"2020-06-17","2020-06-17",2,"ROSEMBERG ANDRES MUÑOZ ","ANALISTA CONCILIACIONES","RMUNOZA@FAMISANAR.COM.CO",3114782491,"11001",{"$f":"VLOOKUP(B1371,'[1]Select temp_pre_numero'!D$1:E$1845,2,0)","v":{"$error":"#N/A"}}]
["NI",806013944,"2020-06-18","2020-06-18",2,"ROSEMBERG ANDRES MUÑOZ ","ANALISTA CONCILIACIONES","RMUNOZA@FAMISANAR.COM.CO",3114782491,"11001",{"$f":"VLOOKUP(B1372,'[1]Select temp_pre_numero'!D$1:E$1845,2,0)","v":{"$error":"#N/A"}}]
["NI",890980997,"2020-06-19","2020-06-19",2,"ROSEMBERG ANDRES MUÑOZ ","ANALISTA CONCILIACIONES","RMUNOZA@FAMISANAR.COM.CO",3114782491,"11001",{"$f":"VLOOKUP(B1373,'[1]Select temp_pre_numero'!D$1:E$1845,2,0)","v":"OTRAS"}]
["NI",890906966,"2020-06-23","2020-06-23",2,"ROSEMBERG ANDRES MUÑOZ ","ANALISTA CONCILIACIONES","RMUNOZA@FAMISANAR.COM.CO",3114782491,"11001",{"$f":"VLOOKUP(B1374,'[1]Select temp_pre_numero'!D$1:E$1845,2,0)","v":{"$error":"#N/A"}}]
["NI",819001796,"2020-06-24","2020-06-24",2,"ROSEMBERG ANDRES MUÑOZ ","ANALISTA CONCILIACIONES","RMUNOZA@FAMISANAR.COM.CO",3114782491,"11001",{"$f":"VLOOKUP(B1375,'[1]Select temp_pre_numero'!D$1:E$1845,2,0)","v":"OTRAS"}]
["NI",900330752,"2020-06-25","2020-06-25",2,"ROSEMBERG ANDRES MUÑOZ ","ANALISTA CONCILIACIONES","RMUNOZA@FAMISANAR.COM.CO",3114782491,"11001",{"$f":"VLOOKUP(B1376,'[1]Select temp_pre_numero'!D$1:E$1845,2,0)","v":{"$error":"#N/A"}}]
["NI",807004352,"2020-06-26","2020-06-26",2,"ROSEMBERG ANDRES MUÑOZ ","ANALISTA CONCILIACIONES","RMUNOZA@FAMISANAR.COM.CO",3114782491,"11001",{"$f":"VLOOKUP(B1377,'[1]Select temp_pre_numero'!D$1:E$1845,2,0)","v":"OTRAS"}]
["NI",900475557,"2020-06-30","2020-06-30",2,"ROSEMBERG ANDRES MUÑOZ ","ANALISTA CONCILIACIONES","RMUNOZA@FAMISANAR.COM.CO",3114782491,"11001",{"$f":"VLOOKUP(B1378,'[1]Select temp_pre_numero'!D$1:E$1845,2,0)","v":"OTRAS"}]
["NI",800209710,"2020-07-01","2020-07-01",2,"ROSEMBERG ANDRES MUÑOZ ","ANALISTA CONCILIACIONES","RMUNOZA@FAMISANAR.COM.CO",3114782491,"11001",{"$f":"VLOOKUP(B1379,'[1]Select temp_pre_numero'!D$1:E$1845,2,0)","v":"OTRAS"}]
["NI",805013881,"2020-07-02","2020-07-02",2,"ROSEMBERG ANDRES MUÑOZ ","ANALISTA CONCILIACIONES","RMUNOZA@FAMISANAR.COM.CO",3114782491,"11001",{"$f":"VLOOKUP(B1380,'[1]Select temp_pre_numero'!D$1:E$1845,2,0)","v":{"$error":"#N/A"}}]
["NI",800193904,"2020-07-03","2020-07-03",2,"ROSEMBERG ANDRES MUÑOZ ","ANALISTA CONCILIACIONES","RMUNOZA@FAMISANAR.COM.CO",3114782491,"11001",{"$f":"VLOOKUP(B1381,'[1]Select temp_pre_numero'!D$1:E$1845,2,0)","v":"OTRAS"}]
["NI",900349259,"2020-07-06","2020-07-06",2,"ROSEMBERG ANDRES MUÑOZ ","ANALISTA CONCILIACIONES","RMUNOZA@FAMISANAR.COM.CO",3114782491,"11001",{"$f":"VLOOKUP(B1382,'[1]Select temp_pre_numero'!D$1:E$1845,2,0)","v":{"$error":"#N/A"}}]
["NI",892400736,"2020-07-07","2020-07-07",2,"ROSEMBERG ANDRES MUÑOZ ","ANALISTA CONCILIACIONES","RMUNOZA@FAMISANAR.COM.CO",3114782491,"11001",{"$f":"VLOOKUP(B1383,'[1]Select temp_pre_numero'!D$1:E$1845,2,0)","v":"OTRAS"}]
["NI",900146438,"2020-07-08","2020-07-08",2,"ROSEMBERG ANDRES MUÑOZ ","ANALISTA CONCILIACIONES","RMUNOZA@FAMISANAR.COM.CO",3114782491,"11001",{"$f":"VLOOKUP(B1384,'[1]Select temp_pre_numero'!D$1:E$1845,2,0)","v":"OTRAS"}]
["NI",814006732,"2020-07-09","2020-07-09",2,"ROSEMBERG ANDRES MUÑOZ ","ANALISTA CONCILIACIONES","RMUNOZA@FAMISANAR.COM.CO",3114782491,"11001",{"$f":"VLOOKUP(B1385,'[1]Select temp_pre_numero'!D$1:E$1845,2,0)","v":"OTRAS"}]
["NI",823002991,"2020-07-10","2020-07-10",2,"ROSEMBERG ANDRES MUÑOZ ","ANALISTA CONCILIACIONES","RMUNOZA@FAMISANAR.COM.CO",3114782491,"11001",{"$f":"VLOOKUP(B1386,'[1]Select temp_pre_numero'!D$1:E$1845,2,0)","v":{"$error":"#N/A"}}]
["NI",891901123,"2020-07-13","2020-07-13",2,"ROSEMBERG ANDRES MUÑOZ ","ANALISTA CONCILIACIONES","RMUNOZA@FAMISANAR.COM.CO",3114782491,"11001",{"$f":"VLOOKUP(B1387,'[1]Select temp_pre_numero'!D$1:E$1845,2,0)","v":"OTRAS"}]
["NI",900625803,"2020-07-14","2020-07-14",2,"ROSEMBERG ANDRES MUÑOZ ","ANALISTA CONCILIACIONES","RMUNOZA@FAMISANAR.COM.CO",3114782491,"11001",{"$f":"VLOOKUP(B1388,'[1]Select temp_pre_numero'!D$1:E$1845,2,0)","v":{"$error":"#N/A"}}]
["NI",890000671,"2020-07-15","2020-07-15",2,"ROSEMBERG ANDRES MUÑOZ ","ANALISTA CONCILIACIONES","RMUNOZA@FAMISANAR.COM.CO",3114782491,"11001",{"$f":"VLOOKUP(B1389,'[1]Select temp_pre_numero'!D$1:E$1845,2,0)","v":"OTRAS"}]
["NI",823002044,"2020-07-16","2020-07-16",2,"ROSEMBERG ANDRES MUÑOZ ","ANALISTA CONCILIACIONES","RMUNOZA@FAMISANAR.COM.CO",3114782491,"11001",{"$f":"VLOOKUP(B1390,'[1]Select temp_pre_numero'!D$1:E$1845,2,0)","v":"OTRAS"}]
["NI",900432928,"2020-07-17","2020-07-17",2,"ROSEMBERG ANDRES MUÑOZ ","ANALISTA CONCILIACIONES","RMUNOZA@FAMISANAR.COM.CO",3114782491,"11001",{"$f":"VLOOKUP(B1391,'[1]Select temp_pre_numero'!D$1:E$1845,2,0)","v":"OTRAS"}]
["NI",891412126,"2020-07-21","2020-07-21",2,"ROSEMBERG ANDRES MUÑOZ ","ANALISTA CONCILIACIONES","RMUNOZA@FAMISANAR.COM.CO",3114782491,"11001",{"$f":"VLOOKUP(B1392,'[1]Select temp_pre_numero'!D$1:E$1845,2,0)","v":"OTRAS"}]
["NI",826002202,"2020-07-22","2020-07-22",2,"ROSEMBERG ANDRES MUÑOZ ","ANALISTA CONCILIACIONES","RMUNOZA@FAMISANAR.COM.CO",3114782491,"11001",{"$f":"VLOOKUP(B1393,'[1]Select temp_pre_numero'!D$1:E$1845,2,0)","v":"OTRAS"}]
["NI",805027289,"2020-07-23","2020-07-23",2,"ROSEMBERG ANDRES MUÑOZ ","ANALISTA CONCILIACIONES","RMUNOZA@FAMISANAR.COM.CO",3114782491,"11001",{"$f":"VLOOKUP(B1394,'[1]Select temp_pre_numero'!D$1:E$1845,2,0)","v":"OTRAS"}]
["NI",813011027,"2020-07-24","2020-07-24",2,"ROSEMBERG ANDRES MUÑOZ ","ANALISTA CONCILIACIONES","RMUNOZA@FAMISANAR.COM.CO",3114782491,"11001",{"$f":"VLOOKUP(B1395,'[1]Select temp_pre_numero'!D$1:E$1845,2,0)","v":{"$error":"#N/A"}}]
["NI",900931777,"2020-07-27","2020-07-27",2,"ROSEMBERG ANDRES MUÑOZ ","ANALISTA CONCILIACIONES","RMUNOZA@FAMISANAR.COM.CO",3114782491,"11001",{"$f":"VLOOKUP(B1396,'[1]Select temp_pre_numero'!D$1:E$1845,2,0)","v":{"$error":"#N/A"}}]
["NI",890801235,"2020-07-28","2020-07-28",2,"ROSEMBERG ANDRES MUÑOZ ","ANALISTA CONCILIACIONES","RMUNOZA@FAMISANAR.COM.CO",3114782491,"11001",{"$f":"VLOOKUP(B1397,'[1]Select temp_pre_numero'!D$1:E$1845,2,0)","v":"OTRAS"}]
["NI",804011439,"2020-07-29","2020-07-29",2,"ROSEMBERG ANDRES MUÑOZ ","ANALISTA CONCILIACIONES","RMUNOZA@FAMISANAR.COM.CO",3114782491,"11001",{"$f":"VLOOKUP(B1398,'[1]Select temp_pre_numero'!D$1:E$1845,2,0)","v":{"$error":"#N/A"}}]
["NI",890983738,"2020-07-30","2020-07-30",2,"ROSEMBERG ANDRES MUÑOZ ","ANALISTA CONCILIACIONES","RMUNOZA@FAMISANAR.COM.CO",3114782491,"11001",{"$f":"VLOOKUP(B1399,'[1]Select temp_pre_numero'!D$1:E$1845,2,0)","v":{"$error":"#N/A"}}]
["NI",890980752,"2020-07-31","2020-07-31",2,"ROSEMBERG ANDRES MUÑOZ ","ANALISTA CONCILIACIONES","RMUNOZA@FAMISANAR.COM.CO",3114782491,"11001",{"$f":"VLOOKUP(B1400,'[1]Select temp_pre_numero'!D$1:E$1845,2,0)","v":"OTRAS"}]
["NI",890001098,"2020-08-03","2020-08-03",2,"ROSEMBERG ANDRES MUÑOZ ","ANALISTA CONCILIACIONES","RMUNOZA@FAMISANAR.COM.CO",3114782491,"11001",{"$f":"VLOOKUP(B1401,'[1]Select temp_pre_numero'!D$1:E$1845,2,0)","v":"OTRAS"}]
["NI",900005067,"2020-08-04","2020-08-04",2,"ROSEMBERG ANDRES MUÑOZ ","ANALISTA CONCILIACIONES","RMUNOZA@FAMISANAR.COM.CO",3114782491,"11001",{"$f":"VLOOKUP(B1402,'[1]Select temp_pre_numero'!D$1:E$1845,2,0)","v":"OTRAS"}]
["NI",900714155,"2020-08-05","2020-08-05",2,"ROSEMBERG ANDRES MUÑOZ ","ANALISTA CONCILIACIONES","RMUNOZA@FAMISANAR.COM.CO",3114782491,"11001",{"$f":"VLOOKUP(B1403,'[1]Select temp_pre_numero'!D$1:E$1845,2,0)","v":"OTRAS"}]
["NI",804017401,"2020-08-06","2020-08-06",2,"ROSEMBERG ANDRES MUÑOZ ","ANALISTA CONCILIACIONES","RMUNOZA@FAMISANAR.COM.CO",3114782491,"11001",{"$f":"VLOOKUP(B1404,'[1]Select temp_pre_numero'!D$1:E$1845,2,0)","v":{"$error":"#N/A"}}]
["NI",900198799,"2020-08-10","2020-08-10",2,"ROSEMBERG ANDRES MUÑOZ ","ANALISTA CONCILIACIONES","RMUNOZA@FAMISANAR.COM.CO",3114782491,"11001",{"$f":"VLOOKUP(B1405,'[1]Select temp_pre_numero'!D$1:E$1845,2,0)","v":"OTRAS"}]
["NI",812001332,"2020-08-11","2020-08-11",2,"ROSEMBERG ANDRES MUÑOZ ","ANALISTA CONCILIACIONES","RMUNOZA@FAMISANAR.COM.CO",3114782491,"11001",{"$f":"VLOOKUP(B1406,'[1]Select temp_pre_numero'!D$1:E$1845,2,0)","v":"OTRAS"}]
["NI",900146006,"2020-08-12","2020-08-12",2,"ROSEMBERG ANDRES MUÑOZ ","ANALISTA CONCILIACIONES","RMUNOZA@FAMISANAR.COM.CO",3114782491,"11001",{"$f":"VLOOKUP(B1407,'[1]Select temp_pre_numero'!D$1:E$1845,2,0)","v":"OTRAS"}]
["NI",890801160,"2020-08-13","2020-08-13",2,"ROSEMBERG ANDRES MUÑOZ ","ANALISTA CONCILIACIONES","RMUNOZA@FAMISANAR.COM.CO",3114782491,"11001",{"$f":"VLOOKUP(B1408,'[1]Select temp_pre_numero'!D$1:E$1845,2,0)","v":"OTRAS"}]
["NI",824000986,"2020-08-14","2020-08-14",2,"ROSEMBERG ANDRES MUÑOZ ","ANALISTA CONCILIACIONES","RMUNOZA@FAMISANAR.COM.CO",3114782491,"11001",{"$f":"VLOOKUP(B1409,'[1]Select temp_pre_numero'!D$1:E$1845,2,0)","v":{"$error":"#N/A"}}]
["NI",900593091,"2020-08-18","2020-08-18",2,"ROSEMBERG ANDRES MUÑOZ ","ANALISTA CONCILIACIONES","RMUNOZA@FAMISANAR.COM.CO",3114782491,"11001",{"$f":"VLOOKUP(B1410,'[1]Select temp_pre_numero'!D$1:E$1845,2,0)","v":"OTRAS"}]
["NI",807008824,"2020-08-19","2020-08-19",2,"ROSEMBERG ANDRES MUÑOZ ","ANALISTA CONCILIACIONES","RMUNOZA@FAMISANAR.COM.CO",3114782491,"11001",{"$f":"VLOOKUP(B1411,'[1]Select temp_pre_numero'!D$1:E$1845,2,0)","v":"OTRAS"}]
["NI",819004318,"2020-08-20","2020-08-20",2,"ROSEMBERG ANDRES MUÑOZ ","ANALISTA CONCILIACIONES","RMUNOZA@FAMISANAR.COM.CO",3114782491,"11001",{"$f":"VLOOKUP(B1412,'[1]Select temp_pre_numero'!D$1:E$1845,2,0)","v":{"$error":"#N/A"}}]
["NI",890102129,"2020-08-21","2020-08-21",2,"ROSEMBERG ANDRES MUÑOZ ","ANALISTA CONCILIACIONES","RMUNOZA@FAMISANAR.COM.CO",3114782491,"11001",{"$f":"VLOOKUP(B1413,'[1]Select temp_pre_numero'!D$1:E$1845,2,0)","v":{"$error":"#N/A"}}]
["NI",890981108,"2020-08-24","2020-08-24",2,"ROSEMBERG ANDRES MUÑOZ ","ANALISTA CONCILIACIONES","RMUNOZA@FAMISANAR.COM.CO",3114782491,"11001",{"$f":"VLOOKUP(B1414,'[1]Select temp_pre_numero'!D$1:E$1845,2,0)","v":"OTRAS"}]
["NI",900442081,"2020-08-25","2020-08-25",2,"ROSEMBERG ANDRES MUÑOZ ","ANALISTA CONCILIACIONES","RMUNOZA@FAMISANAR.COM.CO",3114782491,"11001",{"$f":"VLOOKUP(B1415,'[1]Select temp_pre_numero'!D$1:E$1845,2,0)","v":"OTRAS"}]
["NI",891180190,"2020-08-26","2020-08-26",2,"ROSEMBERG ANDRES MUÑOZ ","ANALISTA CONCILIACIONES","RMUNOZA@FAMISANAR.COM.CO",3114782491,"11001",{"$f":"VLOOKUP(B1416,'[1]Select temp_pre_numero'!D$1:E$1845,2,0)","v":"OTRAS"}]
["NI",820003409,"2020-08-27","2020-08-27",2,"ROSEMBERG ANDRES MUÑOZ ","ANALISTA CONCILIACIONES","RMUNOZA@FAMISANAR.COM.CO",3114782491,"11001",{"$f":"VLOOKUP(B1417,'[1]Select temp_pre_numero'!D$1:E$1845,2,0)","v":"OTRAS"}]
["NI",900145581,"2020-08-28","2020-08-28",2,"ROSEMBERG ANDRES MUÑOZ ","ANALISTA CONCILIACIONES","RMUNOZA@FAMISANAR.COM.CO",3114782491,"11001",{"$f":"VLOOKUP(B1418,'[1]Select temp_pre_numero'!D$1:E$1845,2,0)","v":"OTRAS"}]
["NI",890115670,"2020-08-29","2020-08-29",2,"ROSEMBERG ANDRES MUÑOZ ","ANALISTA CONCILIACIONES","RMUNOZA@FAMISANAR.COM.CO",3114782491,"11001",{"$f":"VLOOKUP(B1419,'[1]Select temp_pre_numero'!D$1:E$1845,2,0)","v":{"$error":"#N/A"}}]
["NI",830075323,"2020-08-30","2020-08-30",2,"ROSEMBERG ANDRES MUÑOZ ","ANALISTA CONCILIACIONES","RMUNOZA@FAMISANAR.COM.CO",3114782491,"11001",{"$f":"VLOOKUP(B1420,'[1]Select temp_pre_numero'!D$1:E$1845,2,0)","v":{"$error":"#N/A"}}]
["NI",901153838,"2020-08-31","2020-08-31",2,"ROSEMBERG ANDRES MUÑOZ ","ANALISTA CONCILIACIONES","RMUNOZA@FAMISANAR.COM.CO",3114782491,"11001",{"$f":"VLOOKUP(B1421,'[1]Select temp_pre_numero'!D$1:E$1845,2,0)","v":"OTRAS"}]
["NI",900165663,"2020-06-16","2020-06-16",2,"ROSEMBERG ANDRES MUÑOZ ","ANALISTA CONCILIACIONES","RMUNOZA@FAMISANAR.COM.CO",3114782491,"11001",{"$f":"VLOOKUP(B1422,'[1]Select temp_pre_numero'!D$1:E$1845,2,0)","v":{"$error":"#N/A"}}]
["NI",900498069,"2020-06-17","2020-06-17",2,"ROSEMBERG ANDRES MUÑOZ ","ANALISTA CONCILIACIONES","RMUNOZA@FAMISANAR.COM.CO",3114782491,"11001",{"$f":"VLOOKUP(B1423,'[1]Select temp_pre_numero'!D$1:E$1845,2,0)","v":"OTRAS"}]
["NI",890001605,"2020-06-18","2020-06-18",2,"ROSEMBERG ANDRES MUÑOZ ","ANALISTA CONCILIACIONES","RMUNOZA@FAMISANAR.COM.CO",3114782491,"11001",{"$f":"VLOOKUP(B1424,'[1]Select temp_pre_numero'!D$1:E$1845,2,0)","v":"OTRAS"}]
["NI",890980949,"2020-06-19","2020-06-19",2,"ROSEMBERG ANDRES MUÑOZ ","ANALISTA CONCILIACIONES","RMUNOZA@FAMISANAR.COM.CO",3114782491,"11001",{"$f":"VLOOKUP(B1425,'[1]Select temp_pre_numero'!D$1:E$1845,2,0)","v":"OTRAS"}]
["NI",890980326,"2020-06-23","2020-06-23",2,"ROSEMBERG ANDRES MUÑOZ ","ANALISTA CONCILIACIONES","RMUNOZA@FAMISANAR.COM.CO",3114782491,"11001",{"$f":"VLOOKUP(B1426,'[1]Select temp_pre_numero'!D$1:E$1845,2,0)","v":"OTRAS"}]
["NI",800067605,"2020-06-24","2020-06-24",2,"ROSEMBERG ANDRES MUÑOZ ","ANALISTA CONCILIACIONES","RMUNOZA@FAMISANAR.COM.CO",3114782491,"11001",{"$f":"VLOOKUP(B1427,'[1]Select temp_pre_numero'!D$1:E$1845,2,0)","v":{"$error":"#N/A"}}]
["NI",823001901,"2020-06-25","2020-06-25",2,"ROSEMBERG ANDRES MUÑOZ ","ANALISTA CONCILIACIONES","RMUNOZA@FAMISANAR.COM.CO",3114782491,"11001",{"$f":"VLOOKUP(B1428,'[1]Select temp_pre_numero'!D$1:E$1845,2,0)","v":{"$error":"#N/A"}}]
["NI",804015164,"2020-06-26","2020-06-26",2,"ROSEMBERG ANDRES MUÑOZ ","ANALISTA CONCILIACIONES","RMUNOZA@FAMISANAR.COM.CO",3114782491,"11001",{"$f":"VLOOKUP(B1429,'[1]Select temp_pre_numero'!D$1:E$1845,2,0)","v":"OTRAS"}]
["NI",890801944,"2020-06-30","2020-06-30",2,"ROSEMBERG ANDRES MUÑOZ ","ANALISTA CONCILIACIONES","RMUNOZA@FAMISANAR.COM.CO",3114782491,"11001",{"$f":"VLOOKUP(B1430,'[1]Select temp_pre_numero'!D$1:E$1845,2,0)","v":"OTRAS"}]
["NI",820003337,"2020-07-01","2020-07-01",2,"ROSEMBERG ANDRES MUÑOZ ","ANALISTA CONCILIACIONES","RMUNOZA@FAMISANAR.COM.CO",3114782491,"11001",{"$f":"VLOOKUP(B1431,'[1]Select temp_pre_numero'!D$1:E$1845,2,0)","v":{"$error":"#N/A"}}]
["NI",901249947,"2020-07-02","2020-07-02",2,"ROSEMBERG ANDRES MUÑOZ ","ANALISTA CONCILIACIONES","RMUNOZA@FAMISANAR.COM.CO",3114782491,"11001",{"$f":"VLOOKUP(B1432,'[1]Select temp_pre_numero'!D$1:E$1845,2,0)","v":"OTRAS"}]
["NI",828000386,"2020-07-03","2020-07-03",2,"ROSEMBERG ANDRES MUÑOZ ","ANALISTA CONCILIACIONES","RMUNOZA@FAMISANAR.COM.CO",3114782491,"11001",{"$f":"VLOOKUP(B1433,'[1]Select temp_pre_numero'!D$1:E$1845,2,0)","v":"OTRAS"}]
["NI",800149169,"2020-07-06","2020-07-06",2,"ROSEMBERG ANDRES MUÑOZ ","ANALISTA CONCILIACIONES","RMUNOZA@FAMISANAR.COM.CO",3114782491,"11001",{"$f":"VLOOKUP(B1434,'[1]Select temp_pre_numero'!D$1:E$1845,2,0)","v":"OTRAS"}]
["NI",800213121,"2020-07-07","2020-07-07",2,"ROSEMBERG ANDRES MUÑOZ ","ANALISTA CONCILIACIONES","RMUNOZA@FAMISANAR.COM.CO",3114782491,"11001",{"$f":"VLOOKUP(B1435,'[1]Select temp_pre_numero'!D$1:E$1845,2,0)","v":"OTRAS"}]
["NI",824004330,"2020-07-08","2020-07-08",2,"ROSEMBERG ANDRES MUÑOZ ","ANALISTA CONCILIACIONES","RMUNOZA@FAMISANAR.COM.CO",3114782491,"11001",{"$f":"VLOOKUP(B1436,'[1]Select temp_pre_numero'!D$1:E$1845,2,0)","v":"OTRAS"}]
["NI",807004665,"2020-07-09","2020-07-09",2,"ROSEMBERG ANDRES MUÑOZ ","ANALISTA CONCILIACIONES","RMUNOZA@FAMISANAR.COM.CO",3114782491,"11001",{"$f":"VLOOKUP(B1437,'[1]Select temp_pre_numero'!D$1:E$1845,2,0)","v":"OTRAS"}]
["NI",830111502,"2020-07-10","2020-07-10",2,"ROSEMBERG ANDRES MUÑOZ ","ANALISTA CONCILIACIONES","RMUNOZA@FAMISANAR.COM.CO",3114782491,"11001",{"$f":"VLOOKUP(B1438,'[1]Select temp_pre_numero'!D$1:E$1845,2,0)","v":"OTRAS"}]
["NI",814001594,"2020-07-13","2020-07-13",2,"ROSEMBERG ANDRES MUÑOZ ","ANALISTA CONCILIACIONES","RMUNOZA@FAMISANAR.COM.CO",3114782491,"11001",{"$f":"VLOOKUP(B1439,'[1]Select temp_pre_numero'!D$1:E$1845,2,0)","v":"OTRAS"}]
["NI",811013792,"2020-07-14","2020-07-14",2,"ROSEMBERG ANDRES MUÑOZ ","ANALISTA CONCILIACIONES","RMUNOZA@FAMISANAR.COM.CO",3114782491,"11001",{"$f":"VLOOKUP(B1440,'[1]Select temp_pre_numero'!D$1:E$1845,2,0)","v":{"$error":"#N/A"}}]
["NI",900363673,"2020-07-15","2020-07-15",2,"ROSEMBERG ANDRES MUÑOZ ","ANALISTA CONCILIACIONES","RMUNOZA@FAMISANAR.COM.CO",3114782491,"11001",{"$f":"VLOOKUP(B1441,'[1]Select temp_pre_numero'!D$1:E$1845,2,0)","v":"OTRAS"}]
["NI",804005695,"2020-07-16","2020-07-16",2,"ROSEMBERG ANDRES MUÑOZ ","ANALISTA CONCILIACIONES","RMUNOZA@FAMISANAR.COM.CO",3114782491,"11001",{"$f":"VLOOKUP(B1442,'[1]Select temp_pre_numero'!D$1:E$1845,2,0)","v":{"$error":"#N/A"}}]
["NI",830145128,"2020-07-17","2020-07-17",2,"ROSEMBERG ANDRES MUÑOZ ","ANALISTA CONCILIACIONES","RMUNOZA@FAMISANAR.COM.CO",3114782491,"11001",{"$f":"VLOOKUP(B1443,'[1]Select temp_pre_numero'!D$1:E$1845,2,0)","v":{"$error":"#N/A"}}]
["NI",890204581,"2020-07-21","2020-07-21",2,"ROSEMBERG ANDRES MUÑOZ ","ANALISTA CONCILIACIONES","RMUNOZA@FAMISANAR.COM.CO",3114782491,"11001",{"$f":"VLOOKUP(B1444,'[1]Select temp_pre_numero'!D$1:E$1845,2,0)","v":"OTRAS"}]
["NI",900224057,"2020-07-22","2020-07-22",2,"ROSEMBERG ANDRES MUÑOZ ","ANALISTA CONCILIACIONES","RMUNOZA@FAMISANAR.COM.CO",3114782491,"11001",{"$f":"VLOOKUP(B1445,'[1]Select temp_pre_numero'!D$1:E$1845,2,0)","v":"OTRAS"}]
["NI",814006654,"2020-07-23","2020-07-23",2,"ROSEMBERG ANDRES MUÑOZ ","ANALISTA CONCILIACIONES","RMUNOZA@FAMISANAR.COM.CO",3114782491,"11001",{"$f":"VLOOKUP(B1446,'[1]Select temp_pre_numero'!D$1:E$1845,2,0)","v":{"$error":"#N/A"}}]
["NI",830507712,"2020-07-24","2020-07-24",2,"ROSEMBERG ANDRES MUÑOZ ","ANALISTA CONCILIACIONES","RMUNOZA@FAMISANAR.COM.CO",3114782491,"11001",{"$f":"VLOOKUP(B1447,'[1]Select temp_pre_numero'!D$1:E$1845,2,0)","v":"OTRAS"}]
["NI",800031724,"2020-07-27","2020-07-27",2,"ROSEMBERG ANDRES MUÑOZ ","ANALISTA CONCILIACIONES","RMUNOZA@FAMISANAR.COM.CO",3114782491,"11001",{"$f":"VLOOKUP(B1448,'[1]Select temp_pre_numero'!D$1:E$1845,2,0)","v":"OTRAS"}]
["NI",890980866,"2020-07-28","2020-07-28",2,"ROSEMBERG ANDRES MUÑOZ ","ANALISTA CONCILIACIONES","RMUNOZA@FAMISANAR.COM.CO",3114782491,"11001",{"$f":"VLOOKUP(B1449,'[1]Select temp_pre_numero'!D$1:E$1845,2,0)","v":{"$error":"#N/A"}}]
["NI",826000923,"2020-07-29","2020-07-29",2,"ROSEMBERG ANDRES MUÑOZ ","ANALISTA CONCILIACIONES","RMUNOZA@FAMISANAR.COM.CO",3114782491,"11001",{"$f":"VLOOKUP(B1450,'[1]Select temp_pre_numero'!D$1:E$1845,2,0)","v":"OTRAS"}]
["NI",813011515,"2020-07-30","2020-07-30",2,"ROSEMBERG ANDRES MUÑOZ ","ANALISTA CONCILIACIONES","RMUNOZA@FAMISANAR.COM.CO",3114782491,"11001",{"$f":"VLOOKUP(B1451,'[1]Select temp_pre_numero'!D$1:E$1845,2,0)","v":"OTRAS"}]
["NI",890802223,"2020-07-31","2020-07-31",2,"ROSEMBERG ANDRES MUÑOZ ","ANALISTA CONCILIACIONES","RMUNOZA@FAMISANAR.COM.CO",3114782491,"11001",{"$f":"VLOOKUP(B1452,'[1]Select temp_pre_numero'!D$1:E$1845,2,0)","v":{"$error":"#N/A"}}]
["NI",816007943,"2020-08-03","2020-08-03",2,"ROSEMBERG ANDRES MUÑOZ ","ANALISTA CONCILIACIONES","RMUNOZA@FAMISANAR.COM.CO",3114782491,"11001",{"$f":"VLOOKUP(B1453,'[1]Select temp_pre_numero'!D$1:E$1845,2,0)","v":{"$error":"#N/A"}}]
["NI",890905193,"2020-08-04","2020-08-04",2,"ROSEMBERG ANDRES MUÑOZ ","ANALISTA CONCILIACIONES","RMUNOZA@FAMISANAR.COM.CO",3114782491,"11001",{"$f":"VLOOKUP(B1454,'[1]Select temp_pre_numero'!D$1:E$1845,2,0)","v":"OTRAS"}]
["NI",824000449,"2020-08-05","2020-08-05",2,"ROSEMBERG ANDRES MUÑOZ ","ANALISTA CONCILIACIONES","RMUNOZA@FAMISANAR.COM.CO",3114782491,"11001",{"$f":"VLOOKUP(B1455,'[1]Select temp_pre_numero'!D$1:E$1845,2,0)","v":"OTRAS"}]
["NI",900492815,"2020-08-06","2020-08-06",2,"ROSEMBERG ANDRES MUÑOZ ","ANALISTA CONCILIACIONES","RMUNOZA@FAMISANAR.COM.CO",3114782491,"11001",{"$f":"VLOOKUP(B1456,'[1]Select temp_pre_numero'!D$1:E$1845,2,0)","v":{"$error":"#N/A"}}]
["NI",900314301,"2020-08-10","2020-08-10",2,"ROSEMBERG ANDRES MUÑOZ ","ANALISTA CONCILIACIONES","RMUNOZA@FAMISANAR.COM.CO",3114782491,"11001",{"$f":"VLOOKUP(B1457,'[1]Select temp_pre_numero'!D$1:E$1845,2,0)","v":{"$error":"#N/A"}}]
[]
[]
[null,null,null,null,null,{"$f":"57/2","v":28.5}]

{"sheet":"FT022","index":1,"n_rows":1,"n_cols":8,"rows_kept":1,"cut":false,"hidden":false,"merged":[]}
["TipoldAcreedor ","idAcreedor ","fechacompromiso depago","tipovalorconciliado ","valorpendiente","valorconciliado","valorpagado","fechadepago"]

{"sheet":"FT023","index":2,"n_rows":1,"n_cols":4,"rows_kept":1,"cut":false,"hidden":false,"merged":[]}
["fechapubCrom","lugarpubCrom","fechapubAvance","lugarpubAvance"]

{"sheet":"ANEXO","index":3,"n_rows":29,"n_cols":6,"rows_kept":29,"cut":false,"hidden":false,"merged":[]}
["Consecutivo campo","Identificador ","Atributos","Descripciòn","longitud maxima ","Registro permitodo "]
[1,"TipoldAcreedor ","Escrita el tipo de identificacion del acrredor de servicios y tecnologias en salud ","Escrita el tipo de identificacion del acrredor de servicios y tecnologias en salud :    NI=NIT                                                      CC=Cedula de ciudadania                                    CE=Cedula de extranjeria           OT=Otro",2,"TEXTO "]
[2,"idAcreedor ","Numero se identificacion del acreedor de servicios y tecnologias en salud ","Escriba el numero de identificacion tributaria del acreedor de servicios y tecnologias en salud, con el cual se hara la conciliacion y depuracion ",16,"Alfanumerico "]
[3,"Fechainicio ","Fecha inicial proceso de conciliacion ","Registre la fecha en la cual va a iniciar el proceso de conciliacion con el acreedor de servicios y tecnologias en salud ",8,"Fecha de formato DD/MM/AAAA"]
[4,"Fechafinal ","Fecha final proceso de conciliacion ","Registre la fecha en la cual proyecta terminar el proceso de conciliacion con el acreedor de servicios y tecnologias en salud  ",8,"Fecha de formato DD/MM/AAAA"]
[5,"Modalidaddeconciliacion ","Modalidad de conciliacion ","Seleccione la modalidad de conciliacion mediante la cual va a realizar el proceso de conciliacion y depuracion 1=Presencial                           2=virtual",1,"Numerico "]
[6,"nombredelresponsable","Nombre del responsable ","Registre apellidos y nombres del responsable de la ERP que coordinara el proceso de conciliacion con el acreedor de de servicios y tecnologias en salud  ",50,"Texto "]
[7,"cargodelresponsable","Cargo del responsable","Registre el cargo del responsable de la ERP que coordinara el proceso de conciliacion con el acreedor de de servicios y tecnologias en salud  ",50,"Texto "]
[8,"correoElectronico","Correo Electronico del Responsable","Registre el correo electronico del  responsable de la ERP que coordinara el proceso de conciliacion con el acreedor de de servicios y tecnologias en salud  ",50,"Texto "]
[9,"telefonoresponsable","Telefono del Responsable","Registre el telefono del  responsable de la ERP que coordinara el proceso de conciliacion con el acreedor de de servicios y tecnologias en salud  ",10,"Numerico "]
[10,"codigoMunicipio ","Codigo del Municipio ","Correponde al codigo del municipio donde se va a realizar la conciliacion .Tabla de division Politico Administrativa DANE N/A=No aplica en caso de que la modalidad de la conciliacion sea virtual ",5,"Alfanumerico "]
[]
[]
["Consecutivo campo","Identificador ","Atributos","Descripciòn","longitud maxima ","Registro permitodo "]
[1,"TipoldAcreedor ","Escrita el tipo de identificacion del acrredor de servicios y tecnologias en salud ","Escrita el tipo de identificacion del acrredor de servicios y tecnologias en salud :    NI=NIT                                                      CC=Cedula de ciudadania                                    CE=Cedula de extranjeria           OT=Otro",2,"TEXTO "]
[2,"idAcreedor ","Numero se identificacion del acreedor de servicios y tecnologias en salud ","Escriba el numero de identificacion tributaria del acreedor de servicios y tecnologias en salud, con el cual se hara la conciliacion y depuracion ",16,"Alfanumerico "]
[3,"fechacompromiso depago","Fecha de suscripcion de compromiso pago","Registre la fecha en la cual se suscribio el compromiso de pago entre la ERP y el acreedor de servicios y tecnologias en salud.Nota :si se realizo compromisos de pago en difrentes fechas con el mismo acreedor ,realizar un registro por cada fecha de compromiso de pago ",8,"Fecha de formato DD/MM/AAAA"]
[4,"tipovalorconciliado ","Tipo de valor no conciliado y depurado de las cuentas por pagar ","Determine el tipo de valor conciliado y depurado de las cuentas por pagar               1=PBS           2=NoPBS",1,"Numerico "]
[5,"valorpendiente","Valor pendiente por conciliar ","Escriba el valor pendiente entre la ERP y el acreedor de servicios y tecnologias en salud  ",15,"Numerico "]
[6,"valorconciliado","Valor total conciliado y depurado ","Registre el valor conciliado y depurado entre la eps y el acreedor de servicios de salud y tecnologias en salud ",15,"Numerico, sin puntos ni comas "]
[7,"valorpagado","Valor pagado de la cartera conciliada y depurada","Registre el valor pagado al acreedor servicios y tecnologias en salud NOTA:Escriba cero si no ha realizado el pago ",15,"Numerico, sin puntos ni comas "]
[8,"fechadepago","Fecha de pago ","Registre la fecha en la que se realizo el pago,si aun no lo ha hecho pago registre la fecha limite en la que realizara el pago (según el compromiso de pago )",8,"Fecha de formato DD/MM/AAAA"]
[]
[]
["Consecutivo campo","Identificador ","Atributos","Descripciòn","longitud maxima ","Registro permitodo "]
[1,"fechapubCrom","Fecha de publicacion Cronograma","Fecha en la cual se realizo la publicacion cronograma de conciliacion y depuracion de cuentas por cobrar y por pagar con los acreedores de servicios y tecnologias en salud ",8,"Numerico Fecha con formato             AAAA/MM/DD"]
[2,"lugarpubCrom","lugar de publicacion Cronograma","Escribir URL donde publica cronograma de conciliacion y depuracion de cuentas por cobrar y por pagar con los acreedores de servicios y tecnologias en salud ",100,"Alfanumerico "]
[3,"fechapubAvance","Fecha de publicacion Avance","Fecha en la cual se realizo el avance  del proceso  de conciliacion y depuracion de cuentas por cobrar y por pagar con los acreedores de servicios y tecnologias en salud ",8,"Numerico Fecha con formato             AAAA/MM/DD"]
[4,"lugarpubAvance","Lugar de publicacion Avance","Escribir URL donde publica el avance del proceso de conciliacion y depuracion de cuentas por cobrar y por pagar con los acreedores de servicios y tecnologias en salud ",100,"Alfanumerico "]

{"sheet":"TD","index":4,"n_rows":19,"n_cols":11,"rows_kept":19,"cut":false,"hidden":false,"merged":[[0,0,0,1]]}
[]
[]
[]
[]
[null,"Meses","Valores"]
[null,"jun",null,"jul",null,"ago",null,"Total Cuenta de idAcreedor","Total Suma de GLOSA"]
["nombredelresponsable","Cuenta de idAcreedor","Suma de GLOSA","Cuenta de idAcreedor","Suma de GLOSA","Cuenta de idAcreedor","Suma de GLOSA",null,null,null,"ENTRE 1-2 DIAS"]
["CLAUDIA  PAEZ",9,8930067230.7800007,42,3028360213.4000001,34,750943903.90999997,85,12709371348.09]
["CRISTIAN RIVERA ",null,null,1,3494966670.2700052,null,null,1,3494966670.2700052,null,"ENTRE 4-5 DIAS"]
["DIANA SANTUARIO",36,2992108161.4000001,88,5483985842.0499992,96,1642535200,220,10118629203.450001,null,"ENTRE 5-6 DIAS"]
["JENNYFFER ALEXANDRA SARMIENTO",36,731661299,99,3897616899.5999999,96,633774987.70000005,231,5263053186.3000002,null,"ENTRE 4- DIAS"]
["JHON VARGAS",36,56522353,80,258009578,89,555833325.25,205,870365256.25,null,"ENTRE 1-2 DIAS"]
["JUAN CARLOS",36,1265609787,88,1516988506,96,1011910743.5,220,3794509036.5,null,"ENTRE 1-2 DIAS"]
["JULIO BOLIVAR ",36,3529778255.25,88,1532208328.55,97,344512604.75,221,5406499188.5500002,null,"ENTRE 1-2 DIAS"]
["MAURICIO MALAGON",null,null,1,4847916072.1199999,null,null,1,4847916072.1199999]
["MAYRA MORA",3,9608922,null,null,null,null,3,9608922]
["PATRICIA  OLIVEROS ",9,5816074332.5799999,22,2942838439.5300002,34,597725213,65,9356637985.1100006,null,"ENTRE 1-2 DIAS"]
["ROSEMBERG ANDRES MUÑOZ ",45,3335131439,87,1975040826,73,30967596,205,5341139861,null,"ENTRE 1-2 DIAS"]
["Total general",246,26666561780.010002,596,28977931375.520004,615,5568203574.1099997,1457,61212696729.640007]

{"sheet":"LISTA DESPLEGABLE","index":5,"n_rows":1465,"n_cols":12,"rows_kept":1465,"cut":false,"hidden":true,"merged":[]}
["TipoldAcreedor","Columna1",null,"Modalidaddeconciliacion ","Columna1"]
["NI","NIT",null,1,"Presencial"]
["CC","Cedula de ciudadania",null,2,"virtual"]
["CE","Cedula de extranjeria"]
["OT","Otro"]
[]
[]
["NIT","NOMBRE IPS","cargodelresponsable","telefonoresponsable","correoElectronico","nombredelresponsable","GRUPO RESPONSABLE ANTERIOR ","DEPARTAMENTO","MUNICIPIO","ANALISTA","codigoMunicipio","codigoMunicipio-2"]
[860006745,"CONGREGACION HERMANAS DE LA CARIDAD DOMINICAS DE LA PRESENTACION CLINICA PALERMO","ANALISTA CONCILIACIONES",3118590443,"CPAEZ@FAMISANAR.COM.CO","CLAUDIA  PAEZ","CESAR CAÑON , CLAUDIA  PAEZ","COLOMBIA","COLOMBIA",{"$f":"+BASE_ANALISTA[[#This Row],[nombredelresponsable]]","v":"CLAUDIA  PAEZ"},"11001","20001"]
[899999032,"E.S.E. HOSPITAL UNIVERSITARIO DE LA SAMARITANA","ANALISTA CONCILIACIONES",3118590443,"CPAEZ@FAMISANAR.COM.CO","CLAUDIA  PAEZ","CESAR CAÑON , CLAUDIA  PAEZ","COLOMBIA","COLOMBIA",{"$f":"+BASE_ANALISTA[[#This Row],[nombredelresponsable]]","v":"CLAUDIA  PAEZ"},"11001","20001"]
[899999123,"Fundacion Hospital de La Misericordia","ANALISTA CONCILIACIONES",3118590443,"CPAEZ@FAMISANAR.COM.CO","CLAUDIA  PAEZ","CESAR CAÑON , CLAUDIA  PAEZ","COLOMBIA","COLOMBIA",{"$f":"+BASE_ANALISTA[[#This Row],[nombredelresponsable]]","v":"CLAUDIA  PAEZ"},"11001","68001"]
[900702981,"NATIONAL CLINICS CENTENARIO SAS","ANALISTA CONCILIACIONES",3118590443,"CPAEZ@FAMISANAR.COM.CO","CLAUDIA  PAEZ","CESAR CAÑON , CLAUDIA  PAEZ","CUNDINAMARCA","BOGOTÁ D.C",{"$f":"+BASE_ANALISTA[[#This Row],[nombredelresponsable]]","v":"CLAUDIA  PAEZ"},"11001","20001"]
[830005028,"ADMINISTRADORA COUNTRY SA","ANALISTA CONCILIACIONES",3118590443,"CPAEZ@FAMISANAR.COM.CO","CLAUDIA  PAEZ","CESAR CAÑON , CLAUDIA  PAEZ","COLOMBIA","COLOMBIA",{"$f":"+BASE_ANALISTA[[#This Row],[nombredelresponsable]]","v":"CLAUDIA  PAEZ"},"11001","13001"]
[900042103,"ESE HOSPITAL UNIVERSITARIO DEL CARIBE","ANALISTA CONCILIACIONES",3118590443,"CPAEZ@FAMISANAR.COM.CO","CLAUDIA  PAEZ","CESAR CAÑON , CLAUDIA  PAEZ","BOLÍVAR","CARTAGENA",{"$f":"+BASE_ANALISTA[[#This Row],[nombredelresponsable]]","v":"CLAUDIA  PAEZ"},"11001","08001"]
[800185449,"DIAGNOSTICOS CARDIOLOGICOS ESPECIALIZADOS S.A. - DIACORSA","ANALISTA CONCILIACIONES",3118590443,"CPAEZ@FAMISANAR.COM.CO","CLAUDIA  PAEZ","CESAR CAÑON , CLAUDIA  PAEZ","TOLIMA","IBAGUE",{"$f":"+BASE_ANALISTA[[#This Row],[nombredelresponsable]]","v":"CLAUDIA  PAEZ"},"11001","73001"]
[800117564,"CLINICA DE LA MUJER S.A.","ANALISTA CONCILIACIONES",3118590443,"CPAEZ@FAMISANAR.COM.CO","CLAUDIA  PAEZ","CESAR CAÑON , CLAUDIA  PAEZ","COLOMBIA","COLOMBIA",{"$f":"+BASE_ANALISTA[[#This Row],[nombredelresponsable]]","v":"CLAUDIA  PAEZ"},"11001","25269"]
[860002541,"CLINICA DE MARLY S.A.","ANALISTA CONCILIACIONES",3118590443,"CPAEZ@FAMISANAR.COM.CO","CLAUDIA  PAEZ","CESAR CAÑON , CLAUDIA  PAEZ","COLOMBIA","COLOMBIA",{"$f":"+BASE_ANALISTA[[#This Row],[nombredelresponsable]]","v":"CLAUDIA  PAEZ"},"11001","20001"]
[830066626,"MEDIHELP SERVICES COLOMBIA","ANALISTA CONCILIACIONES",3118590443,"CPAEZ@FAMISANAR.COM.CO","CLAUDIA  PAEZ","CESAR CAÑON , CLAUDIA  PAEZ","BOLÍVAR","CARTAGENA",{"$f":"+BASE_ANALISTA[[#This Row],[nombredelresponsable]]","v":"CLAUDIA  PAEZ"},"11001","13001"]
[900213617,"CORPORACION CLINICA UNIVERSIDAD COOPERATIVA DE COLOMBIA","ANALISTA CONCILIACIONES",3118590443,"CPAEZ@FAMISANAR.COM.CO","CLAUDIA  PAEZ","CESAR CAÑON , CLAUDIA  PAEZ","COLOMBIA","COLOMBIA",{"$f":"+BASE_ANALISTA[[#This Row],[nombredelresponsable]]","v":"CLAUDIA  PAEZ"},"11001","73001"]
[832003167,"CLINICA UNIVERSIDAD DE LA SABANA","ANALISTA CONCILIACIONES",3118590443,"CPAEZ@FAMISANAR.COM.CO","CLAUDIA  PAEZ","CESAR CAÑON , CLAUDIA  PAEZ","COLOMBIA","COLOMBIA",{"$f":"+BASE_ANALISTA[[#This Row],[nombredelresponsable]]","v":"CLAUDIA  PAEZ"},"11001","13001"]
[800254132,"MEDICADIZ S.A.","ANALISTA CONCILIACIONES",3118590443,"CPAEZ@FAMISANAR.COM.CO","CLAUDIA  PAEZ","CESAR CAÑON , CLAUDIA  PAEZ","TOLIMA","IBAGUE",{"$f":"+BASE_ANALISTA[[#This Row],[nombredelresponsable]]","v":"CLAUDIA  PAEZ"},"11001","25513"]
[860015888,"HOSPITAL UNIVERSITARIO CLINICA SAN RAFAEL","ANALISTA CONCILIACIONES",3118590443,"CPAEZ@FAMISANAR.COM.CO","CLAUDIA  PAEZ","CESAR CAÑON , CLAUDIA  PAEZ","CUNDINAMARCA","BOGOTÁ D.C",{"$f":"+BASE_ANALISTA[[#This Row],[nombredelresponsable]]","v":"CLAUDIA  PAEZ"},"11001","73268"]
[891180268,"HOSPITAL UNIVERSITARIO DE NEIVA HERNANDO MONCALEANO PERDOMO","ANALISTA CONCILIACIONES",3118590443,"CPAEZ@FAMISANAR.COM.CO","CLAUDIA  PAEZ","CESAR CAÑON , CLAUDIA  PAEZ","HUILA","NEIVA",{"$f":"+BASE_ANALISTA[[#This Row],[nombredelresponsable]]","v":"CLAUDIA  PAEZ"},"11001","25286"]
[890400693,"CLINICA BLAS DE LEZO S.A.","ANALISTA CONCILIACIONES",3118590443,"CPAEZ@FAMISANAR.COM.CO","CLAUDIA  PAEZ","CESAR CAÑON , CLAUDIA  PAEZ","BOLIVAR","CARTAGENA",{"$f":"+BASE_ANALISTA[[#This Row],[nombredelresponsable]]","v":"CLAUDIA  PAEZ"},"11001","20001"]
[800037021,"HOSPITAL DEPARTAMENTAL DE GRANADA E.S.E","ANALISTA CONCILIACIONES",3118590443,"CPAEZ@FAMISANAR.COM.CO","CLAUDIA  PAEZ","CESAR CAÑON , CLAUDIA  PAEZ","META","VILLAVICENCIO",{"$f":"+BASE_ANALISTA[[#This Row],[nombredelresponsable]]","v":"CLAUDIA  PAEZ"},"11001","20001"]
[900574594,"SANTILHEMERGENCIAS SAS","ANALISTA CONCILIACIONES",3118590443,"CPAEZ@FAMISANAR.COM.CO","CLAUDIA  PAEZ","CESAR CAÑON , CLAUDIA  PAEZ","CUNDINAMARCA","CHIA",{"$f":"+BASE_ANALISTA[[#This Row],[nombredelresponsable]]","v":"CLAUDIA  PAEZ"},"11001","47001"]
[900279660,"PROMOTORA BOCAGRANDE S.A. -NUEVO HOSPITAL BOCAGRANDE","ANALISTA CONCILIACIONES",3118590443,"CPAEZ@FAMISANAR.COM.CO","CLAUDIA  PAEZ","CESAR CAÑON , CLAUDIA  PAEZ","BOLÍVAR","CARTAGENA",{"$f":"+BASE_ANALISTA[[#This Row],[nombredelresponsable]]","v":"CLAUDIA  PAEZ"},"11001","68001"]
[830511298,"MULTISALUD LIMITADA - VILLAVICENCIO - LA SANTA MARIA","ANALISTA CONCILIACIONES",3118590443,"CPAEZ@FAMISANAR.COM.CO","CLAUDIA  PAEZ","CESAR CAÑON , CLAUDIA  PAEZ","META","VILLAVICENCIO",{"$f":"+BASE_ANALISTA[[#This Row],[nombredelresponsable]]","v":"CLAUDIA  PAEZ"},"11001","25290"]
[900148265,"ANGIOGRAFIA DE COLOMBIA S EN C","ANALISTA CONCILIACIONES",3118590443,"CPAEZ@FAMISANAR.COM.CO","CLAUDIA  PAEZ","CESAR CAÑON , CLAUDIA  PAEZ","META","VILLAVICENCIO",{"$f":"+BASE_ANALISTA[[#This Row],[nombredelresponsable]]","v":"CLAUDIA  PAEZ"},"11001","25815"]
[830071938,"SOCIEDAD PEDIATRICA DE LOS ANDES SA","ANALISTA CONCILIACIONES",3118590443,"CPAEZ@FAMISANAR.COM.CO","CLAUDIA  PAEZ","CESAR CAÑON , CLAUDIA  PAEZ","COLOMBIA","COLOMBIA",{"$f":"+BASE_ANALISTA[[#This Row],[nombredelresponsable]]","v":"CLAUDIA  PAEZ"},"11001","08001"]
[806013147,"LAFONT ENCASA IPS","ANALISTA CONCILIACIONES",3118590443,"CPAEZ@FAMISANAR.COM.CO","CLAUDIA  PAEZ","CESAR CAÑON , CLAUDIA  PAEZ","BOLIVAR","CARTAGENA",{"$f":"+BASE_ANALISTA[[#This Row],[nombredelresponsable]]","v":"CLAUDIA  PAEZ"},"11001","68001"]
[860023987,"COOPERATIVA NACIONAL DE ODONTOLOGOS","ANALISTA CONCILIACIONES",3118590443,"CPAEZ@FAMISANAR.COM.CO","CLAUDIA  PAEZ","CESAR CAÑON , CLAUDIA  PAEZ","CUNDINAMARCA","BOGOTÁ D.C",{"$f":"+BASE_ANALISTA[[#This Row],[nombredelresponsable]]","v":"CLAUDIA  PAEZ"},"11001","25740"]
[900405505,"SERVICIOS MEDICOS FAMEDIC SAS","ANALISTA CONCILIACIONES",3118590443,"CPAEZ@FAMISANAR.COM.CO","CLAUDIA  PAEZ","CESAR CAÑON , CLAUDIA  PAEZ","META","VILLAVICENCIO",{"$f":"+BASE_ANALISTA[[#This Row],[nombredelresponsable]]","v":"CLAUDIA  PAEZ"},"11001","41001"]
[900215151,"CENTRO DE ESPECIALISTAS IPS LOGROS SAS","ANALISTA CONCILIACIONES",3118590443,"CPAEZ@FAMISANAR.COM.CO","CLAUDIA  PAEZ","CESAR CAÑON , CLAUDIA  PAEZ","CUNDINAMARCA","BOGOTÁ D.C",{"$f":"+BASE_ANALISTA[[#This Row],[nombredelresponsable]]","v":"CLAUDIA  PAEZ"},"11001","25183"]
[800234860,"LITOTRICIA SA","ANALISTA CONCILIACIONES",3118590443,"CPAEZ@FAMISANAR.COM.CO","CLAUDIA  PAEZ","CESAR CAÑON , CLAUDIA  PAEZ","BOLIVAR","CARTAGENA",{"$f":"+BASE_ANALISTA[[#This Row],[nombredelresponsable]]","v":"CLAUDIA  PAEZ"},"11001","20001"]
[830009112,"ORGANIZACIONES DE IMAGENOLOGIA COLOMBIANA O.I.C. S.A","ANALISTA CONCILIACIONES",3118590443,"CPAEZ@FAMISANAR.COM.CO","CLAUDIA  PAEZ","CESAR CAÑON , CLAUDIA  PAEZ","HUILA","NEIVA",{"$f":"+BASE_ANALISTA[[#This Row],[nombredelresponsable]]","v":"CLAUDIA  PAEZ"},"11001","85001"]
[900304958,"Soiedad San Jose De Torices S.A.S","ANALISTA CONCILIACIONES",3118590443,"CPAEZ@FAMISANAR.COM.CO","CLAUDIA  PAEZ","CESAR CAÑON , CLAUDIA  PAEZ","BOLÍVAR","CARTAGENA",{"$f":"+BASE_ANALISTA[[#This Row],[nombredelresponsable]]","v":"CLAUDIA  PAEZ"},"11001","08001"]
[830008300,"CENTRO DE CONTROL DE CANCER LIMITADA","ANALISTA CONCILIACIONES",3118590443,"CPAEZ@FAMISANAR.COM.CO","CLAUDIA  PAEZ","CESAR CAÑON , CLAUDIA  PAEZ","COLOMBIA","COLOMBIA",{"$f":"+BASE_ANALISTA[[#This Row],[nombredelresponsable]]","v":"CLAUDIA  PAEZ"},"11001","13001"]
[900691301,"DIAXME SAS","ANALISTA CONCILIACIONES",3118590443,"CPAEZ@FAMISANAR.COM.CO","CLAUDIA  PAEZ","CESAR CAÑON , CLAUDIA  PAEZ","META","VILLAVICENCIO",{"$f":"+BASE_ANALISTA[[#This Row],[nombredelresponsable]]","v":"CLAUDIA  PAEZ"},"11001","50001"]
[808000252,"CLINICA METROPOLITANA CMO IPS SAS","ANALISTA CONCILIACIONES",3118590443,"CPAEZ@FAMISANAR.COM.CO","CLAUDIA  PAEZ","CESAR CAÑON , CLAUDIA  PAEZ","CUNDINAMARCA","GIRARDOT",{"$f":"+BASE_ANALISTA[[#This Row],[nombredelresponsable]]","v":"CLAUDIA  PAEZ"},"11001","25843"]
[890601210,"SOCIEDAD DE ESPECIALISTAS DE GIRARDOT S.A.S.","ANALISTA CONCILIACIONES",3118590443,"CPAEZ@FAMISANAR.COM.CO","CLAUDIA  PAEZ","CESAR CAÑON , CLAUDIA  PAEZ","CUNDINAMARCA","GIRARDOT",{"$f":"+BASE_ANALISTA[[#This Row],[nombredelresponsable]]","v":"CLAUDIA  PAEZ"},"11001","20001"]
[892000401,"INVERSIONES CLINICA META","ANALISTA CONCILIACIONES",3118590443,"CPAEZ@FAMISANAR.COM.CO","CLAUDIA  PAEZ","CESAR CAÑON , CLAUDIA  PAEZ","META","VILLAVICENCIO",{"$f":"+BASE_ANALISTA[[#This Row],[nombredelresponsable]]","v":"CLAUDIA  PAEZ"},"11001","25754"]
[890700666,"Hospital San Juan de Dios Honda Tolima E.S.E","ANALISTA CONCILIACIONES",3118590443,"CPAEZ@FAMISANAR.COM.CO","CLAUDIA  PAEZ","CESAR CAÑON , CLAUDIA  PAEZ","TOLIMA","HONDA",{"$f":"+BASE_ANALISTA[[#This Row],[nombredelresponsable]]","v":"CLAUDIA  PAEZ"},"11001","76001"]
[900743605,"RHOCAMPO S.A.S.","ANALISTA CONCILIACIONES",3118590443,"CPAEZ@FAMISANAR.COM.CO","CLAUDIA  PAEZ","CESAR CAÑON , CLAUDIA  PAEZ","META","VILLAVICENCIO",{"$f":"+BASE_ANALISTA[[#This Row],[nombredelresponsable]]","v":"CLAUDIA  PAEZ"},"11001","68276"]
[822007351,"CENTRO OFTALMOLOGICO DEL LLANO S.A.","ANALISTA CONCILIACIONES",3118590443,"CPAEZ@FAMISANAR.COM.CO","CLAUDIA  PAEZ","CESAR CAÑON , CLAUDIA  PAEZ","META","VILLAVICENCIO",{"$f":"+BASE_ANALISTA[[#This Row],[nombredelresponsable]]","v":"CLAUDIA  PAEZ"},"11001","25326"]
[806015201,"Gestion Salud SAS","ANALISTA CONCILIACIONES",3118590443,"CPAEZ@FAMISANAR.COM.CO","CLAUDIA  PAEZ","CESAR CAÑON , CLAUDIA  PAEZ","BOLÍVAR","CARTAGENA",{"$f":"+BASE_ANALISTA[[#This Row],[nombredelresponsable]]","v":"CLAUDIA  PAEZ"},"11001","73001"]
[899999017,"SOCIEDAD DE CIRUGIA DE BOGOTA-HOSPITAL DE SAN JOSE","ANALISTA CONCILIACIONES",3118590443,"CPAEZ@FAMISANAR.COM.CO","CLAUDIA  PAEZ","CESAR CAÑON , CLAUDIA  PAEZ","COLOMBIA","COLOMBIA",{"$f":"+BASE_ANALISTA[[#This Row],[nombredelresponsable]]","v":"CLAUDIA  PAEZ"},"11001","15176"]
[830027578,"TORRES Y JARAMILLO LTDA","ANALISTA CONCILIACIONES",3118590443,"CPAEZ@FAMISANAR.COM.CO","CLAUDIA  PAEZ","CESAR CAÑON , CLAUDIA  PAEZ","TOLIMA","MELGAR",{"$f":"+BASE_ANALISTA[[#This Row],[nombredelresponsable]]","v":"CLAUDIA  PAEZ"},"11001","25290"]
[806007650,"CENTRO RADIO ONCOLOGICO DEL CARIBE LTDA","ANALISTA CONCILIACIONES",3118590443,"CPAEZ@FAMISANAR.COM.CO","CLAUDIA  PAEZ","CESAR CAÑON , CLAUDIA  PAEZ","BOLÍVAR","CARTAGENA",{"$f":"+BASE_ANALISTA[[#This Row],[nombredelresponsable]]","v":"CLAUDIA  PAEZ"},"11001","15238"]
[900611961,"MAPLE RESPIRATORY IPS SAS","ANALISTA CONCILIACIONES",3118590443,"CPAEZ@FAMISANAR.COM.CO","CLAUDIA  PAEZ","CESAR CAÑON , CLAUDIA  PAEZ","CUNDINAMARCA","BOGOTÁ D.C",{"$f":"+BASE_ANALISTA[[#This Row],[nombredelresponsable]]","v":"CLAUDIA  PAEZ"},"11001","47001"]
[900466867,"TADASHI S.A.S - CENTROS DE IMAGENES ESPECIALIZADAS (CIE)","ANALISTA CONCILIACIONES",3118590443,"CPAEZ@FAMISANAR.COM.CO","CLAUDIA  PAEZ","CESAR CAÑON , CLAUDIA  PAEZ","CUNDINAMARCA","BOGOTÁ D.C",{"$f":"+BASE_ANALISTA[[#This Row],[nombredelresponsable]]","v":"CLAUDIA  PAEZ"},"11001","68081"]
[830113069,"CENTRO AUDIOLOGICO Y QUIRURGICO DEL COUNTRY SAS","ANALISTA CONCILIACIONES",3118590443,"CPAEZ@FAMISANAR.COM.CO","CLAUDIA  PAEZ","CESAR CAÑON , CLAUDIA  PAEZ","CUNDINAMARCA","BOGOTÁ D.C",{"$f":"+BASE_ANALISTA[[#This Row],[nombredelresponsable]]","v":"CLAUDIA  PAEZ"},"11001","50001"]
[812005522,"FUNDACION AMIGOS DE LA SALUD","ANALISTA CONCILIACIONES",3118590443,"CPAEZ@FAMISANAR.COM.CO","CLAUDIA  PAEZ","CESAR CAÑON , CLAUDIA  PAEZ","COLOMBIA","COLOMBIA",{"$f":"+BASE_ANALISTA[[#This Row],[nombredelresponsable]]","v":"CLAUDIA  PAEZ"},"11001","68001"]
[800242197,"CLINICA SANTA ANA LTDA","ANALISTA CONCILIACIONES",3118590443,"CPAEZ@FAMISANAR.COM.CO","CLAUDIA  PAEZ","CESAR CAÑON , CLAUDIA  PAEZ","CUNDINAMARCA","FACATATIVA",{"$f":"+BASE_ANALISTA[[#This Row],[nombredelresponsable]]","v":"CLAUDIA  PAEZ"},"11001","50001"]
[800209488,"Hospital El Tunal III Nivel ESE","ANALISTA CONCILIACIONES",3118590443,"CPAEZ@FAMISANAR.COM.CO","CLAUDIA  PAEZ","CESAR CAÑON , CLAUDIA  PAEZ","COLOMBIA","COLOMBIA",{"$f":"+BASE_ANALISTA[[#This Row],[nombredelresponsable]]","v":"CLAUDIA  PAEZ"},"11001","13001"]
[860039726,"PARAMEDICOS  S.A.","ANALISTA CONCILIACIONES",3118590443,"CPAEZ@FAMISANAR.COM.CO","CLAUDIA  PAEZ","CESAR CAÑON , CLAUDIA  PAEZ","BOLIVAR","CARTAGENA",{"$f":"+BASE_ANALISTA[[#This Row],[nombredelresponsable]]","v":"CLAUDIA  PAEZ"},"11001","25785"]
[830138802,"FUNDACION SALUD BOSQUE","ANALISTA CONCILIACIONES",3118590443,"CPAEZ@FAMISANAR.COM.CO","CLAUDIA  PAEZ","CESAR CAÑON , CLAUDIA  PAEZ","COLOMBIA","COLOMBIA",{"$f":"+BASE_ANALISTA[[#This Row],[nombredelresponsable]]","v":"CLAUDIA  PAEZ"},"11001","15322"]
[809002913,"PROMOVER LTDA","ANALISTA CONCILIACIONES",3118590443,"CPAEZ@FAMISANAR.COM.CO","CLAUDIA  PAEZ","CESAR CAÑON , CLAUDIA  PAEZ","TOLIMA","IBAGUE",{"$f":"+BASE_ANALISTA[[#This Row],[nombredelresponsable]]","v":"CLAUDIA  PAEZ"},"11001","13001"]
[800048880,"LITOMEDICA S.A","ANALISTA CONCILIACIONES",3118590443,"CPAEZ@FAMISANAR.COM.CO","CLAUDIA  PAEZ","CESAR CAÑON , CLAUDIA  PAEZ","COLOMBIA","COLOMBIA",{"$f":"+BASE_ANALISTA[[#This Row],[nombredelresponsable]]","v":"CLAUDIA  PAEZ"},"11001","73001"]
[900096797,"CENTRO DE DERMATOLOGIA Y CIRUGIA DERMATOLOGICA DEL COUNTRY CDCD  LTDA","ANALISTA CONCILIACIONES",3118590443,"CPAEZ@FAMISANAR.COM.CO","CLAUDIA  PAEZ","CESAR CAÑON , CLAUDIA  PAEZ","CUNDINAMARCA","BOGOTÁ D.C",{"$f":"+BASE_ANALISTA[[#This Row],[nombredelresponsable]]","v":"CLAUDIA  PAEZ"},"11001","25297"]
[823004710,"IPS DE LA COSTA SA","ANALISTA CONCILIACIONES",3118590443,"CPAEZ@FAMISANAR.COM.CO","CLAUDIA  PAEZ","CESAR CAÑON , CLAUDIA  PAEZ","ATLÁNTICO","BARRANQUILLA",{"$f":"+BASE_ANALISTA[[#This Row],[nombredelresponsable]]","v":"CLAUDIA  PAEZ"},"11001","25486"]
[892000264,"HOSPITAL MUNICIPAL DE ACACIAS E.S.E.","ANALISTA CONCILIACIONES",3118590443,"CPAEZ@FAMISANAR.COM.CO","CLAUDIA  PAEZ","CESAR CAÑON , CLAUDIA  PAEZ","META","ACACIAS",{"$f":"+BASE_ANALISTA[[#This Row],[nombredelresponsable]]","v":"CLAUDIA  PAEZ"},"11001","68001"]
[800075543,"Laboratorio de Investigacion Hormonal","ANALISTA CONCILIACIONES",3118590443,"CPAEZ@FAMISANAR.COM.CO","CLAUDIA  PAEZ","CESAR CAÑON , CLAUDIA  PAEZ","COLOMBIA","COLOMBIA",{"$f":"+BASE_ANALISTA[[#This Row],[nombredelresponsable]]","v":"CLAUDIA  PAEZ"},"11001","25175"]
[900327339,"UNIDAD DE ATENCION DOMICILIARIA INTEGRAL EN SALUD","ANALISTA CONCILIACIONES",3118590443,"CPAEZ@FAMISANAR.COM.CO","CLAUDIA  PAEZ","CESAR CAÑON , CLAUDIA  PAEZ","CUNDINAMARCA","FUSAGASUGA",{"$f":"+BASE_ANALISTA[[#This Row],[nombredelresponsable]]","v":"CLAUDIA  PAEZ"},"11001","15759"]
[806007255,"CORPORACION ENCUENTRO PARA SOLUCIONES DEL COMPORTAMIENTO ESCO IPS","ANALISTA CONCILIACIONES",3118590443,"CPAEZ@FAMISANAR.COM.CO","CLAUDIA  PAEZ","CESAR CAÑON , CLAUDIA  PAEZ","BOLIVAR","CARTAGENA",{"$f":"+BASE_ANALISTA[[#This Row],[nombredelresponsable]]","v":"CLAUDIA  PAEZ"},"11001","19397"]
[890700163,"CLINICA MINERVA S.A","ANALISTA CONCILIACIONES",3118590443,"CPAEZ@FAMISANAR.COM.CO","CLAUDIA  PAEZ","CESAR CAÑON , CLAUDIA  PAEZ","TOLIMA ","IBAGUE",{"$f":"+BASE_ANALISTA[[#This Row],[nombredelresponsable]]","v":"CLAUDIA  PAEZ"},"11001","15238"]
[900274663,"SALUD LLANOS IPS LTDA","ANALISTA CONCILIACIONES",3118590443,"CPAEZ@FAMISANAR.COM.CO","CLAUDIA  PAEZ","CESAR CAÑON , CLAUDIA  PAEZ","META","VILLAVICENCIO",{"$f":"+BASE_ANALISTA[[#This Row],[nombredelresponsable]]","v":"CLAUDIA  PAEZ"},"11001","47001"]
[891480000,"COMFAMILIAR RISARALDA - Caja de Compensacion Familiar de Risaralda","ANALISTA CONCILIACIONES",3118590443,"CPAEZ@FAMISANAR.COM.CO","CLAUDIA  PAEZ","CESAR CAÑON , CLAUDIA  PAEZ","COLOMBIA","COLOMBIA",{"$f":"+BASE_ANALISTA[[#This Row],[nombredelresponsable]]","v":"CLAUDIA  PAEZ"},"11001","76001"]
[830018645,"REHABILITANDO LIMITADA","ANALISTA CONCILIACIONES",3118590443,"CPAEZ@FAMISANAR.COM.CO","CLAUDIA  PAEZ","CESAR CAÑON , CLAUDIA  PAEZ","CUNDINAMARCA","BOGOTÁ D.C",{"$f":"+BASE_ANALISTA[[#This Row],[nombredelresponsable]]","v":"CLAUDIA  PAEZ"},"11001","76001"]
[802010614,"CENTRO CANCEROLOGICO DEL CARIBE LTDA","ANALISTA CONCILIACIONES",3118590443,"CPAEZ@FAMISANAR.COM.CO","CLAUDIA  PAEZ","CESAR CAÑON , CLAUDIA  PAEZ","ATLÁNTICO","BARRANQUILLA",{"$f":"+BASE_ANALISTA[[#This Row],[nombredelresponsable]]","v":"CLAUDIA  PAEZ"},"11001","25001"]
[806008356,"UCI DEL CARIBE S.A.","ANALISTA CONCILIACIONES",3118590443,"CPAEZ@FAMISANAR.COM.CO","CLAUDIA  PAEZ","CESAR CAÑON , CLAUDIA  PAEZ","BOLIVAR","CARTAGENA",{"$f":"+BASE_ANALISTA[[#This Row],[nombredelresponsable]]","v":"CLAUDIA  PAEZ"},"11001","20001"]
[900602745,"MEDICOS Y AUDITORES ASISTENCIA DOMICILIARIA SAS","ANALISTA CONCILIACIONES",3118590443,"CPAEZ@FAMISANAR.COM.CO","CLAUDIA  PAEZ","CESAR CAÑON , CLAUDIA  PAEZ","BOLIVAR","CARTAGENA",{"$f":"+BASE_ANALISTA[[#This Row],[nombredelresponsable]]","v":"CLAUDIA  PAEZ"},"11001","25394"]
[900123159,"FUNDACION CLINICA UNIVERSITARIA SAN JUAN DE DIOS","ANALISTA CONCILIACIONES",3118590443,"CPAEZ@FAMISANAR.COM.CO","CLAUDIA  PAEZ","CESAR CAÑON , CLAUDIA  PAEZ","BOLIVAR","CARTAGENA ",{"$f":"+BASE_ANALISTA[[#This Row],[nombredelresponsable]]","v":"CLAUDIA  PAEZ"},"11001","20001"]
[860013570,"CAFAM","ANALISTA CONCILIACIONES",3043995070,"CRIVERAA@FAMISANAR.COM.CO","CRISTIAN RIVERA ","CRISTIAN RIVERA ","COLOMBIA","COLOMBIA",{"$f":"+BASE_ANALISTA[[#This Row],[nombredelresponsable]]","v":"CRISTIAN RIVERA "},"11001","25151"]
[804010244,"SOCIEDAD CARDIOVASCULAR DE SANTANDER LTDA","ANALISTA CONCILIACIONES",3125547250,"JCRAMIREZ@FAMISANAR.COM.CO","JUAN CARLOS","JUAN RAMIREZ, MICHEL MALAGON , CRISTIAN RIVERA","SANTANDER","BUCARAMANGA",{"$f":"+BASE_ANALISTA[[#This Row],[nombredelresponsable]]","v":"JUAN CARLOS"},"11001","25175"]
[800239977,"Rehabilitadores Asociados Ltda.","ANALISTA CONCILIACIONES",3125547250,"JCRAMIREZ@FAMISANAR.COM.CO","DIANA SANTUARIO","JUAN RAMIREZ, MICHEL MALAGON , CRISTIAN RIVERA","CESAR","VALLEDUPAR",{"$f":"+BASE_ANALISTA[[#This Row],[nombredelresponsable]]","v":"DIANA SANTUARIO"},"11001","08001"]
[901145394,"LOSCOBOS MEDICAL CENTER SAS - LOSCOBOS","ANALISTA CONCILIACIONES",3125547250,"JCRAMIREZ@FAMISANAR.COM.CO","JUAN CARLOS","JUAN RAMIREZ, MICHEL MALAGON , CRISTIAN RIVERA","CUNDINAMARCA","BOGOTA D.C",{"$f":"+BASE_ANALISTA[[#This Row],[nombredelresponsable]]","v":"JUAN CARLOS"},"11001","73001"]
[800222844,"RADIOIMAGENES RADIOLOGOS ASOCIADOS SAS","ANALISTA CONCILIACIONES",3125547250,"JCRAMIREZ@FAMISANAR.COM.CO","DIANA SANTUARIO","JUAN RAMIREZ, MICHEL MALAGON , CRISTIAN RIVERA","MAGDALENA","SANTA MARTA",{"$f":"+BASE_ANALISTA[[#This Row],[nombredelresponsable]]","v":"DIANA SANTUARIO"},"11001","25758"]
[806013568,"NEURODINAMIA S.A","ANALISTA CONCILIACIONES",3125547250,"JCRAMIREZ@FAMISANAR.COM.CO","JUAN CARLOS","JUAN RAMIREZ, MICHEL MALAGON , CRISTIAN RIVERA","BOLIVAR","CARTAGENA",{"$f":"+BASE_ANALISTA[[#This Row],[nombredelresponsable]]","v":"JUAN CARLOS"},"11001","15001"]
[890480135,"FUNDACION HOSPITAL INFANTIL NAPOLEON FRANCO PAREJA","ANALISTA CONCILIACIONES",3125547250,"JCRAMIREZ@FAMISANAR.COM.CO","JUAN CARLOS","JUAN RAMIREZ, MICHEL MALAGON , CRISTIAN RIVERA","BOLIVAR","CARTAGENA",{"$f":"+BASE_ANALISTA[[#This Row],[nombredelresponsable]]","v":"JUAN CARLOS"},"11001","20001"]
[802016761,"CLINICA JALLER LIMITADA","ANALISTA CONCILIACIONES",3125547250,"JCRAMIREZ@FAMISANAR.COM.CO","JUAN CARLOS","JUAN RAMIREZ, MICHEL MALAGON , CRISTIAN RIVERA","ATLÁNTICO","BARRANQUILLA",{"$f":"+BASE_ANALISTA[[#This Row],[nombredelresponsable]]","v":"JUAN CARLOS"},"11001","25126"]
[890301430,"CLINICA DE LOS REMEDIOS","ANALISTA CONCILIACIONES",3125547250,"JCRAMIREZ@FAMISANAR.COM.CO","DIANA SANTUARIO","JUAN RAMIREZ, MICHEL MALAGON , CRISTIAN RIVERA","VALLE DEL CAUCA","CALI",{"$f":"+BASE_ANALISTA[[#This Row],[nombredelresponsable]]","v":"DIANA SANTUARIO"},"11001","13001"]
[824002277,"CLINICA BUENOS AIRES S.A.S","ANALISTA CONCILIACIONES",3125547250,"JCRAMIREZ@FAMISANAR.COM.CO","DIANA SANTUARIO","JUAN RAMIREZ, MICHEL MALAGON , CRISTIAN RIVERA","CESAR","VALLEDUPAR",{"$f":"+BASE_ANALISTA[[#This Row],[nombredelresponsable]]","v":"DIANA SANTUARIO"},"11001","08001"]
[824022277,"CLINICA BUENOS AIRES S.A.S","ANALISTA CONCILIACIONES",3125547250,"JCRAMIREZ@FAMISANAR.COM.CO","DIANA SANTUARIO","JUAN RAMIREZ, MICHEL MALAGON , CRISTIAN RIVERA",{"$error":"#N/A"},{"$error":"#N/A"},{"$f":"+BASE_ANALISTA[[#This Row],[nombredelresponsable]]","v":"DIANA SANTUARIO"},"11001","15001"]
[900136752,"INSTITUTO DE REHABILITACION DE SAMUEL LTDA.","ANALISTA CONCILIACIONES",3125547250,"JCRAMIREZ@FAMISANAR.COM.CO","DIANA SANTUARIO","JUAN RAMIREZ, MICHEL MALAGON , CRISTIAN RIVERA","CESAR","VALLEDUPAR",{"$f":"+BASE_ANALISTA[[#This Row],[nombredelresponsable]]","v":"DIANA SANTUARIO"},"11001","50001"]
[830002272,"servimed ips s.a.","ANALISTA CONCILIACIONES",3125547250,"JCRAMIREZ@FAMISANAR.COM.CO","DIANA SANTUARIO","JUAN RAMIREZ, MICHEL MALAGON , CRISTIAN RIVERA","CUNDINAMARCA","BOGOTÁ D.C",{"$f":"+BASE_ANALISTA[[#This Row],[nombredelresponsable]]","v":"DIANA SANTUARIO"},"11001","08001"]
[900345005,"CENTRO DE DIAGNOSTICO POR LA IMAGEN S.A.S.","ANALISTA CONCILIACIONES",3125547250,"JCRAMIREZ@FAMISANAR.COM.CO","JUAN CARLOS","JUAN RAMIREZ, MICHEL MALAGON , CRISTIAN RIVERA","BOLIVAR","CARTAGENA",{"$f":"+BASE_ANALISTA[[#This Row],[nombredelresponsable]]","v":"JUAN CARLOS"},"11001","25386"]
[802012998,"INVERSIONES RADIOLOGOS ECOGRAFISTAS DEL CARIBE S.A.","ANALISTA CONCILIACIONES",3125547250,"JCRAMIREZ@FAMISANAR.COM.CO","JUAN CARLOS","JUAN RAMIREZ, MICHEL MALAGON , CRISTIAN RIVERA","ATLÁNTICO","BARRANQUILLA",{"$f":"+BASE_ANALISTA[[#This Row],[nombredelresponsable]]","v":"JUAN CARLOS"},"11001","20001"]
[802021182,"IPS UNIDAD MEDICA ETICA EU","ANALISTA CONCILIACIONES",3125547250,"JCRAMIREZ@FAMISANAR.COM.CO","JUAN CARLOS","JUAN RAMIREZ, MICHEL MALAGON , CRISTIAN RIVERA","ATLÁNTICO","PUERTO COLOMBIA",{"$f":"+BASE_ANALISTA[[#This Row],[nombredelresponsable]]","v":"JUAN CARLOS"},"11001","25040"]
[900243752,"CENTRO NACIONAL DE ENDOCRINOLOGIA Y METABOLISMO SA","ANALISTA CONCILIACIONES",3125547250,"JCRAMIREZ@FAMISANAR.COM.CO","DIANA SANTUARIO","JUAN RAMIREZ, MICHEL MALAGON , CRISTIAN RIVERA","CUNDINAMARCA","BOGOTÁ D.C",{"$f":"+BASE_ANALISTA[[#This Row],[nombredelresponsable]]","v":"DIANA SANTUARIO"},"11001","41298"]
[892300358,"HOSPITAL AGUSTIN CODAZZI E.S.E.","ANALISTA CONCILIACIONES",3125547250,"JCRAMIREZ@FAMISANAR.COM.CO","DIANA SANTUARIO","JUAN RAMIREZ, MICHEL MALAGON , CRISTIAN RIVERA","CESAR","AGUSTIN CODAZZI",{"$f":"+BASE_ANALISTA[[#This Row],[nombredelresponsable]]","v":"DIANA SANTUARIO"},"11001","68001"]
[891180026,"Hospital Departamental San Vicente de Paul ESE de Garzon Huila","ANALISTA CONCILIACIONES",3125547250,"JCRAMIREZ@FAMISANAR.COM.CO","DIANA SANTUARIO","JUAN RAMIREZ, MICHEL MALAGON , CRISTIAN RIVERA","HUILA","GARZON",{"$f":"+BASE_ANALISTA[[#This Row],[nombredelresponsable]]","v":"DIANA SANTUARIO"},"11001","20013"]
[901139193,"MIRED BARRANQUILLA IPS S.A.S.","ANALISTA CONCILIACIONES",3125547250,"JCRAMIREZ@FAMISANAR.COM.CO","JUAN CARLOS","JUAN RAMIREZ, MICHEL MALAGON , CRISTIAN RIVERA","ATLÁNTICO","BARRANQUILLA",{"$f":"+BASE_ANALISTA[[#This Row],[nombredelresponsable]]","v":"JUAN CARLOS"},"11001","47001"]
[819002176,"COMPAÑIA COLOMBIANA DE SALUD COLSALUD S.A.","ANALISTA CONCILIACIONES",3125547250,"JCRAMIREZ@FAMISANAR.COM.CO","DIANA SANTUARIO","JUAN RAMIREZ, MICHEL MALAGON , CRISTIAN RIVERA","MAGDALENA","SANTA MARTA",{"$f":"+BASE_ANALISTA[[#This Row],[nombredelresponsable]]","v":"DIANA SANTUARIO"},"11001","68001"]
[890205283,"RADIOLOGICA S.A.S.","ANALISTA CONCILIACIONES",3125547250,"JCRAMIREZ@FAMISANAR.COM.CO","JUAN CARLOS","JUAN RAMIREZ, MICHEL MALAGON , CRISTIAN RIVERA","SANTANDER","BUCARAMANGA",{"$f":"+BASE_ANALISTA[[#This Row],[nombredelresponsable]]","v":"JUAN CARLOS"},"11001","25386"]
[844004197,"RED SALUD CASANARE ESE","ANALISTA CONCILIACIONES",3125547250,"JCRAMIREZ@FAMISANAR.COM.CO","DIANA SANTUARIO","JUAN RAMIREZ, MICHEL MALAGON , CRISTIAN RIVERA","CASANARE","VILLANUEVA",{"$f":"+BASE_ANALISTA[[#This Row],[nombredelresponsable]]","v":"DIANA SANTUARIO"},"11001","25473"]
[900477943,"M.V.C. INVERSONES S.A.S","ANALISTA CONCILIACIONES",3125547250,"JCRAMIREZ@FAMISANAR.COM.CO","JUAN CARLOS","JUAN RAMIREZ, MICHEL MALAGON , CRISTIAN RIVERA","CUNDINAMARCA","BOGOTÁ D.C",{"$f":"+BASE_ANALISTA[[#This Row],[nombredelresponsable]]","v":"JUAN CARLOS"},"11001","50001"]
[900361147,"CLINICA DE ENFERMEDADES DIGESTIVAS SAS","ANALISTA CONCILIACIONES",3125547250,"JCRAMIREZ@FAMISANAR.COM.CO","DIANA SANTUARIO","JUAN RAMIREZ, MICHEL MALAGON , CRISTIAN RIVERA","MAGDALENA","SANTA MARTA",{"$f":"+BASE_ANALISTA[[#This Row],[nombredelresponsable]]","v":"DIANA SANTUARIO"},"11001","08573"]
[830108095,"FUNDACION SUEÑO VIGILIA COLOMBIANA","ANALISTA CONCILIACIONES",3125547250,"JCRAMIREZ@FAMISANAR.COM.CO","DIANA SANTUARIO","JUAN RAMIREZ, MICHEL MALAGON , CRISTIAN RIVERA","CUNDINAMARCA","BOGOTÁ D.C",{"$f":"+BASE_ANALISTA[[#This Row],[nombredelresponsable]]","v":"DIANA SANTUARIO"},"11001","13001"]
[900291392,"Fundación de Habilitación Integral Escalar","ANALISTA CONCILIACIONES",3125547250,"JCRAMIREZ@FAMISANAR.COM.CO","JUAN CARLOS","JUAN RAMIREZ, MICHEL MALAGON , CRISTIAN RIVERA","ATLÁNTICO","PUERTO COLOMBIA",{"$f":"+BASE_ANALISTA[[#This Row],[nombredelresponsable]]","v":"JUAN CARLOS"},"11001","68001"]
[813011577,"CLINICA UROS S.A.","ANALISTA CONCILIACIONES",3125547250,"JCRAMIREZ@FAMISANAR.COM.CO","DIANA SANTUARIO","JUAN RAMIREZ, MICHEL MALAGON , CRISTIAN RIVERA","HUILA","NEIVA",{"$f":"+BASE_ANALISTA[[#This Row],[nombredelresponsable]]","v":"DIANA SANTUARIO"},"11001","25307"]
[900283194,"E.S.E CENTRO DE SALUD SAN FRANCISCO DE SALES","ANALISTA CONCILIACIONES",3125547250,"JCRAMIREZ@FAMISANAR.COM.CO","DIANA SANTUARIO","JUAN RAMIREZ, MICHEL MALAGON , CRISTIAN RIVERA","CUNDINAMARCA","SAN FRANCISCO",{"$f":"+BASE_ANALISTA[[#This Row],[nombredelresponsable]]","v":"DIANA SANTUARIO"},"11001","25307"]
[800156469,"IMAGENES DIAGNOSTICAS DEL LLANO S.A.","ANALISTA CONCILIACIONES",3125547250,"JCRAMIREZ@FAMISANAR.COM.CO","JUAN CARLOS","JUAN RAMIREZ, MICHEL MALAGON , CRISTIAN RIVERA","META","VILLAVICENCIO",{"$f":"+BASE_ANALISTA[[#This Row],[nombredelresponsable]]","v":"JUAN CARLOS"},"11001","13873"]
[900533903,"INVERSIONES SANTA FE DEL CARIBE S.A.S.","ANALISTA CONCILIACIONES",3125547250,"JCRAMIREZ@FAMISANAR.COM.CO","JUAN CARLOS","JUAN RAMIREZ, MICHEL MALAGON , CRISTIAN RIVERA","ATLÁNTICO","BARRANQUILLA",{"$f":"+BASE_ANALISTA[[#This Row],[nombredelresponsable]]","v":"JUAN CARLOS"},"11001","15238"]
[900066797,"CLINICA DE LA VISION OAB LTDA","ANALISTA CONCILIACIONES",3125547250,"JCRAMIREZ@FAMISANAR.COM.CO","DIANA SANTUARIO","JUAN RAMIREZ, MICHEL MALAGON , CRISTIAN RIVERA","CESAR","VALLEDUPAR",{"$f":"+BASE_ANALISTA[[#This Row],[nombredelresponsable]]","v":"DIANA SANTUARIO"},"11001","08001"]
[900412760,"AMBULANCIAS PROYECTAR SAS","ANALISTA CONCILIACIONES",3125547250,"JCRAMIREZ@FAMISANAR.COM.CO","DIANA SANTUARIO","JUAN RAMIREZ, MICHEL MALAGON , CRISTIAN RIVERA","CESAR","VALLEDUPAR",{"$f":"+BASE_ANALISTA[[#This Row],[nombredelresponsable]]","v":"DIANA SANTUARIO"},"11001","50001"]
[891580002,"hospital Universitario San jose de Popayan","ANALISTA CONCILIACIONES",3125547250,"JCRAMIREZ@FAMISANAR.COM.CO","DIANA SANTUARIO","JUAN RAMIREZ, MICHEL MALAGON , CRISTIAN RIVERA","CAUCA","POPAYAN",{"$f":"+BASE_ANALISTA[[#This Row],[nombredelresponsable]]","v":"DIANA SANTUARIO"},"11001","08001"]
[890108597,"FUNDACION HOSPITAL UNIVERSITARIO METROPOLITANO","ANALISTA CONCILIACIONES",3125547250,"JCRAMIREZ@FAMISANAR.COM.CO","JUAN CARLOS","JUAN RAMIREZ, MICHEL MALAGON , CRISTIAN RIVERA","ATLÁNTICO","BARRANQUILLA",{"$f":"+BASE_ANALISTA[[#This Row],[nombredelresponsable]]","v":"JUAN CARLOS"},"11001","08573"]
[800209891,"CLINICA ASOTRAUMA SAS","ANALISTA CONCILIACIONES",3125547250,"JCRAMIREZ@FAMISANAR.COM.CO","DIANA SANTUARIO","JUAN RAMIREZ, MICHEL MALAGON , CRISTIAN RIVERA","TOLIMA ","IBAGUE",{"$f":"+BASE_ANALISTA[[#This Row],[nombredelresponsable]]","v":"DIANA SANTUARIO"},"11001","47001"]
[900531204,"BIOMEDICAL IPS SAS","ANALISTA CONCILIACIONES",3125547250,"JCRAMIREZ@FAMISANAR.COM.CO","DIANA SANTUARIO","JUAN RAMIREZ, MICHEL MALAGON , CRISTIAN RIVERA","TOLIMA ","IBAGUE",{"$f":"+BASE_ANALISTA[[#This Row],[nombredelresponsable]]","v":"DIANA SANTUARIO"},"11001","73268"]
[804017235,"IMAGENES DE LA SABANA S.A.S","ANALISTA CONCILIACIONES",3125547250,"JCRAMIREZ@FAMISANAR.COM.CO","DIANA SANTUARIO","JUAN RAMIREZ, MICHEL MALAGON , CRISTIAN RIVERA","CUNDINAMARCA","MOSQUERA",{"$f":"+BASE_ANALISTA[[#This Row],[nombredelresponsable]]","v":"DIANA SANTUARIO"},"11001","25245"]
[890680032,"HOSPITAL SAN FRANCISCO DE VIOTA","ANALISTA CONCILIACIONES",3125547250,"JCRAMIREZ@FAMISANAR.COM.CO","DIANA SANTUARIO","JUAN RAMIREZ, MICHEL MALAGON , CRISTIAN RIVERA","CUNDINAMARCA","VIOTA",{"$f":"+BASE_ANALISTA[[#This Row],[nombredelresponsable]]","v":"DIANA SANTUARIO"},"11001","08001"]
[890904646,"Hospital General de Medellin Luz Castro de Gutierrez","ANALISTA CONCILIACIONES",3125547250,"JCRAMIREZ@FAMISANAR.COM.CO","DIANA SANTUARIO","JUAN RAMIREZ, MICHEL MALAGON , CRISTIAN RIVERA","ANTIOQUIA","MEDELLÍN",{"$f":"+BASE_ANALISTA[[#This Row],[nombredelresponsable]]","v":"DIANA SANTUARIO"},"11001","15572"]
[800037979,"HOSPITAL LOCAL DE PUERTO LOPEZ E.S.E","ANALISTA CONCILIACIONES",3125547250,"JCRAMIREZ@FAMISANAR.COM.CO","JUAN CARLOS","JUAN RAMIREZ, MICHEL MALAGON , CRISTIAN RIVERA","META","PUERTO LOPEZ",{"$f":"+BASE_ANALISTA[[#This Row],[nombredelresponsable]]","v":"JUAN CARLOS"},"11001","25320"]
[900386591,"GYO MEDICAL IPS SAS","ANALISTA CONCILIACIONES",3125547250,"JCRAMIREZ@FAMISANAR.COM.CO","DIANA SANTUARIO","JUAN RAMIREZ, MICHEL MALAGON , CRISTIAN RIVERA","LA GUAJIRA","RIOHACHA",{"$f":"+BASE_ANALISTA[[#This Row],[nombredelresponsable]]","v":"DIANA SANTUARIO"},"11001","25473"]
[819000134,"CENTRO CARDIOVASCULAR DEL MAGDALENA S.A.","ANALISTA CONCILIACIONES",3125547250,"JCRAMIREZ@FAMISANAR.COM.CO","DIANA SANTUARIO","JUAN RAMIREZ, MICHEL MALAGON , CRISTIAN RIVERA","MAGDALENA","SANTA MARTA",{"$f":"+BASE_ANALISTA[[#This Row],[nombredelresponsable]]","v":"DIANA SANTUARIO"},"11001","15516"]
[891200528,"HOSPITAL UNIVERSITARIO DEPARTAMENTAL DE NARIÑO","ANALISTA CONCILIACIONES",3125547250,"JCRAMIREZ@FAMISANAR.COM.CO","DIANA SANTUARIO","JUAN RAMIREZ, MICHEL MALAGON , CRISTIAN RIVERA","NARIÑO","PASTO",{"$f":"+BASE_ANALISTA[[#This Row],[nombredelresponsable]]","v":"DIANA SANTUARIO"},"11001","20001"]
[900600550,"INVENCIONES MEDICA BARU S.A.S","ANALISTA CONCILIACIONES",3125547250,"JCRAMIREZ@FAMISANAR.COM.CO","JUAN CARLOS","JUAN RAMIREZ, MICHEL MALAGON , CRISTIAN RIVERA","ATLÁNTICO","BARRANQUILLA",{"$f":"+BASE_ANALISTA[[#This Row],[nombredelresponsable]]","v":"JUAN CARLOS"},"11001","41001"]
[800204497,"ESE HOSPITAL SAN JOSE DE GUACHETA","ANALISTA CONCILIACIONES",3125547250,"JCRAMIREZ@FAMISANAR.COM.CO","DIANA SANTUARIO","JUAN RAMIREZ, MICHEL MALAGON , CRISTIAN RIVERA","CUNDINAMARCA","GUACHETA",{"$f":"+BASE_ANALISTA[[#This Row],[nombredelresponsable]]","v":"DIANA SANTUARIO"},"11001","50001"]
[900036553,"E.S.E. HOSPITAL SAN ANTONIO DEL TEQUENDAMA","ANALISTA CONCILIACIONES",3125547250,"JCRAMIREZ@FAMISANAR.COM.CO","DIANA SANTUARIO","JUAN RAMIREZ, MICHEL MALAGON , CRISTIAN RIVERA","CUNDINAMARCA","SAN ANTONIO DEL TEQUENDAMA",{"$f":"+BASE_ANALISTA[[#This Row],[nombredelresponsable]]","v":"DIANA SANTUARIO"},"11001","44001"]
[900413988,"IPS DE LAS AMERICAS","ANALISTA CONCILIACIONES",3125547250,"JCRAMIREZ@FAMISANAR.COM.CO","DIANA SANTUARIO","JUAN RAMIREZ, MICHEL MALAGON , CRISTIAN RIVERA","CUNDINAMARCA","BOGOTÁ D.C",{"$f":"+BASE_ANALISTA[[#This Row],[nombredelresponsable]]","v":"DIANA SANTUARIO"},"11001","73443"]
[900266533,"INSTITUTO COLOMBIANO DE GERONTOLOGIA Y GERIATRIA LTDA","ANALISTA CONCILIACIONES",3125547250,"JCRAMIREZ@FAMISANAR.COM.CO","JUAN CARLOS","JUAN RAMIREZ, MICHEL MALAGON , CRISTIAN RIVERA","CUNDINAMARCA","BOGOTÁ D.C",{"$f":"+BASE_ANALISTA[[#This Row],[nombredelresponsable]]","v":"JUAN CARLOS"},"11001","13001"]
[800094439,"CATME SAS","ANALISTA CONCILIACIONES",3125547250,"JCRAMIREZ@FAMISANAR.COM.CO","JUAN CARLOS","JUAN RAMIREZ, MICHEL MALAGON , CRISTIAN RIVERA","SANTANDER","BUCARAMANGA",{"$f":"+BASE_ANALISTA[[#This Row],[nombredelresponsable]]","v":"JUAN CARLOS"},"11001","73349"]
[891702882,"CENTRO DE CIRUGIA OCULAR LTDA","ANALISTA CONCILIACIONES",3125547250,"JCRAMIREZ@FAMISANAR.COM.CO","DIANA SANTUARIO","JUAN RAMIREZ, MICHEL MALAGON , CRISTIAN RIVERA","MAGDALENA","SANTA MARTA",{"$f":"+BASE_ANALISTA[[#This Row],[nombredelresponsable]]","v":"DIANA SANTUARIO"},"11001","08001"]
[830509497,"MEDICINA INTEGRAL IPS S.A","ANALISTA CONCILIACIONES",3125547250,"JCRAMIREZ@FAMISANAR.COM.CO","JUAN CARLOS","JUAN RAMIREZ, MICHEL MALAGON , CRISTIAN RIVERA","ATLÁNTICO","BARRANQUILLA",{"$f":"+BASE_ANALISTA[[#This Row],[nombredelresponsable]]","v":"JUAN CARLOS"},"11001","50001"]
[900900122,"HEALTH & LIFE IPS SAS SIGLA H&L UCC SAS - PRINCIPAL","ANALISTA CONCILIACIONES",3125547250,"JCRAMIREZ@FAMISANAR.COM.CO","DIANA SANTUARIO","JUAN RAMIREZ, MICHEL MALAGON , CRISTIAN RIVERA","CUNDINAMARCA","BOGOTÁ D.C",{"$f":"+BASE_ANALISTA[[#This Row],[nombredelresponsable]]","v":"DIANA SANTUARIO"},"11001","15759"]
[900269029,"FUNDACION CENTRO COLOMBIANO DE EPILEPSIA Y ENFERMEDADES NEUROLOGICAS - FIRE","ANALISTA CONCILIACIONES",3125547250,"JCRAMIREZ@FAMISANAR.COM.CO","JUAN CARLOS","JUAN RAMIREZ, MICHEL MALAGON , CRISTIAN RIVERA","BOLIVAR","CARTAGENA",{"$f":"+BASE_ANALISTA[[#This Row],[nombredelresponsable]]","v":"JUAN CARLOS"},"11001","85001"]
[900371613,"INVERSIONES MEDICAS DE LOS ANDES S.A.S.","ANALISTA CONCILIACIONES",3125547250,"JCRAMIREZ@FAMISANAR.COM.CO","DIANA SANTUARIO","JUAN RAMIREZ, MICHEL MALAGON , CRISTIAN RIVERA","BOYACÁ","TUNJA",{"$f":"+BASE_ANALISTA[[#This Row],[nombredelresponsable]]","v":"DIANA SANTUARIO"},"11001","08758"]
[900454409,"UNION TEMPORAL CRITICAL CARE GROUP","ANALISTA CONCILIACIONES",3125547250,"JCRAMIREZ@FAMISANAR.COM.CO","DIANA SANTUARIO","JUAN RAMIREZ, MICHEL MALAGON , CRISTIAN RIVERA","CUNDINAMARCA","BOGOTÁ D.C",{"$f":"+BASE_ANALISTA[[#This Row],[nombredelresponsable]]","v":"DIANA SANTUARIO"},"11001","25317"]
[800204153,"EMPRESA SOCIAL DEL ESTADO HOSPITAL SAN VICENTE DE PAUL DE LORICA","ANALISTA CONCILIACIONES",3125547250,"JCRAMIREZ@FAMISANAR.COM.CO","DIANA SANTUARIO","JUAN RAMIREZ, MICHEL MALAGON , CRISTIAN RIVERA","CÓRDOBA","LORICA",{"$f":"+BASE_ANALISTA[[#This Row],[nombredelresponsable]]","v":"DIANA SANTUARIO"},"11001","52001"]
[899999156,"ESE HOSPITAL SAN ANTONIO DE CHIA","ANALISTA CONCILIACIONES",3125547250,"JCRAMIREZ@FAMISANAR.COM.CO","DIANA SANTUARIO","JUAN RAMIREZ, MICHEL MALAGON , CRISTIAN RIVERA","CUNDINAMARCA","CHIA",{"$f":"+BASE_ANALISTA[[#This Row],[nombredelresponsable]]","v":"DIANA SANTUARIO"},"11001","25279"]
[890112801,"FUNDACION HOSPITAL UNIVERSIDAD DEL NORTE","ANALISTA CONCILIACIONES",3125547250,"JCRAMIREZ@FAMISANAR.COM.CO","JUAN CARLOS","JUAN RAMIREZ, MICHEL MALAGON , CRISTIAN RIVERA","ATLÁNTICO","SOLEDAD",{"$f":"+BASE_ANALISTA[[#This Row],[nombredelresponsable]]","v":"JUAN CARLOS"},"11001","50001"]
[890701353,"NUEVO HOSPITAL LA CANDELARIA E.S.E.","ANALISTA CONCILIACIONES",3125547250,"JCRAMIREZ@FAMISANAR.COM.CO","DIANA SANTUARIO","JUAN RAMIREZ, MICHEL MALAGON , CRISTIAN RIVERA","TOLIMA ","PURIFICACION",{"$f":"+BASE_ANALISTA[[#This Row],[nombredelresponsable]]","v":"DIANA SANTUARIO"},"11001","68001"]
[900184815,"FUNDACION SOCIAL DE DESARROLLO INTEGRAL - SION","ANALISTA CONCILIACIONES",3125547250,"JCRAMIREZ@FAMISANAR.COM.CO","JUAN CARLOS","JUAN RAMIREZ, MICHEL MALAGON , CRISTIAN RIVERA","ATLÁNTICO","BARRANQUILLA",{"$f":"+BASE_ANALISTA[[#This Row],[nombredelresponsable]]","v":"JUAN CARLOS"},"11001","08001"]
[900267064,"INVERSIONES AZALUD S.A.S.","ANALISTA CONCILIACIONES",3125547250,"JCRAMIREZ@FAMISANAR.COM.CO","DIANA SANTUARIO","JUAN RAMIREZ, MICHEL MALAGON , CRISTIAN RIVERA","MAGDALENA","SANTA MARTA",{"$f":"+BASE_ANALISTA[[#This Row],[nombredelresponsable]]","v":"DIANA SANTUARIO"},"11001","08001"]
[900196347,"ESE HOSPITAL LA DIVINA MISERICORDIA","ANALISTA CONCILIACIONES",3125547250,"JCRAMIREZ@FAMISANAR.COM.CO","JUAN CARLOS","JUAN RAMIREZ, MICHEL MALAGON , CRISTIAN RIVERA","BOLIVAR","MAGANGUE",{"$f":"+BASE_ANALISTA[[#This Row],[nombredelresponsable]]","v":"JUAN CARLOS"},"11001","25645"]
[900231829,"I.P.S YENNY ZORAYA SALAZAR M. S.A.S","ANALISTA CONCILIACIONES",3125547250,"JCRAMIREZ@FAMISANAR.COM.CO","DIANA SANTUARIO","JUAN RAMIREZ, MICHEL MALAGON , CRISTIAN RIVERA","CUNDINAMARCA","BOGOTÁ D.C",{"$f":"+BASE_ANALISTA[[#This Row],[nombredelresponsable]]","v":"DIANA SANTUARIO"},"11001","47001"]
[822007837,"IPS AMBULANCIAS DEL LLANO","ANALISTA CONCILIACIONES",3125547250,"JCRAMIREZ@FAMISANAR.COM.CO","JUAN CARLOS","JUAN RAMIREZ, MICHEL MALAGON , CRISTIAN RIVERA","META","VILLAVICENCIO",{"$f":"+BASE_ANALISTA[[#This Row],[nombredelresponsable]]","v":"JUAN CARLOS"},"11001","15001"]
[890701459,"HOSPITAL SAN JUAN BAUTISTA ESE","ANALISTA CONCILIACIONES",3125547250,"JCRAMIREZ@FAMISANAR.COM.CO","DIANA SANTUARIO","JUAN RAMIREZ, MICHEL MALAGON , CRISTIAN RIVERA","TOLIMA ","CHAPARRAL",{"$f":"+BASE_ANALISTA[[#This Row],[nombredelresponsable]]","v":"DIANA SANTUARIO"},"11001","25799"]
[800018233,"Servicios Odontomèdicos del Caribe Limitada","ANALISTA CONCILIACIONES",3125547250,"JCRAMIREZ@FAMISANAR.COM.CO","JUAN CARLOS","JUAN RAMIREZ, MICHEL MALAGON , CRISTIAN RIVERA","ATLÁNTICO","BARRANQUILLA",{"$f":"+BASE_ANALISTA[[#This Row],[nombredelresponsable]]","v":"JUAN CARLOS"},"11001","05652"]
[900581702,"CLINICA DE URGENCIAS BUCARAMANGA SAS","ANALISTA CONCILIACIONES",3125547250,"JCRAMIREZ@FAMISANAR.COM.CO","JUAN CARLOS","JUAN RAMIREZ, MICHEL MALAGON , CRISTIAN RIVERA","SANTANDER","BUCARAMANGA",{"$f":"+BASE_ANALISTA[[#This Row],[nombredelresponsable]]","v":"JUAN CARLOS"},"11001","13001"]
[800253167,"HOSPITAL UNIVERSITARIO CARI ESE","ANALISTA CONCILIACIONES",3125547250,"JCRAMIREZ@FAMISANAR.COM.CO","JUAN CARLOS","JUAN RAMIREZ, MICHEL MALAGON , CRISTIAN RIVERA","ATLÁNTICO","BARRANQUILLA",{"$f":"+BASE_ANALISTA[[#This Row],[nombredelresponsable]]","v":"JUAN CARLOS"},"11001","50573"]
[901164974,"JUNICAL MEDICAL S.A.S.","ANALISTA CONCILIACIONES",3125547250,"JCRAMIREZ@FAMISANAR.COM.CO","DIANA SANTUARIO","JUAN RAMIREZ, MICHEL MALAGON , CRISTIAN RIVERA","CUNDINAMARCA","GIRARDOT",{"$f":"+BASE_ANALISTA[[#This Row],[nombredelresponsable]]","v":"DIANA SANTUARIO"},"11001","13001"]
[811046900,"Centro Cardiovascular Colombiano Clinica Santa Maria","ANALISTA CONCILIACIONES",3125547250,"JCRAMIREZ@FAMISANAR.COM.CO","DIANA SANTUARIO","JUAN RAMIREZ, MICHEL MALAGON , CRISTIAN RIVERA","ANTIOQUIA","MEDELLÍN",{"$f":"+BASE_ANALISTA[[#This Row],[nombredelresponsable]]","v":"DIANA SANTUARIO"},"11001","25772"]
[892120115,"E.S.E. HOSPITAL SAN JOSE DE MAICAO","ANALISTA CONCILIACIONES",3125547250,"JCRAMIREZ@FAMISANAR.COM.CO","DIANA SANTUARIO","JUAN RAMIREZ, MICHEL MALAGON , CRISTIAN RIVERA","LA GUAJIRA","MAICAO",{"$f":"+BASE_ANALISTA[[#This Row],[nombredelresponsable]]","v":"DIANA SANTUARIO"},"11001","73001"]
[809001482,"CLINICA DE LOS OJOS DEL TOLIMA LTDA.","ANALISTA CONCILIACIONES",3125547250,"JCRAMIREZ@FAMISANAR.COM.CO","DIANA SANTUARIO","JUAN RAMIREZ, MICHEL MALAGON , CRISTIAN RIVERA","TOLIMA ","IBAGUE",{"$f":"+BASE_ANALISTA[[#This Row],[nombredelresponsable]]","v":"DIANA SANTUARIO"},"11001","25878"]
[900552539,"SOCIEDAD UNIDAD INTEGRAL DE SALUD MENTAL SION S.A.S.","ANALISTA CONCILIACIONES",3125547250,"JCRAMIREZ@FAMISANAR.COM.CO","DIANA SANTUARIO","JUAN RAMIREZ, MICHEL MALAGON , CRISTIAN RIVERA","CESAR","VALLEDUPAR",{"$f":"+BASE_ANALISTA[[#This Row],[nombredelresponsable]]","v":"DIANA SANTUARIO"},"11001","08001"]
[900136865,"EMPRESA SOCIAL DEL ESTADO HOSPITAL REGIONAL DEL MAGDALENA MEDIO","ANALISTA CONCILIACIONES",3125547250,"JCRAMIREZ@FAMISANAR.COM.CO","JUAN CARLOS","JUAN RAMIREZ, MICHEL MALAGON , CRISTIAN RIVERA","SANTANDER","BARRANCABERMEJA",{"$f":"+BASE_ANALISTA[[#This Row],[nombredelresponsable]]","v":"JUAN CARLOS"},"11001","08001"]
[900192085,"ACCIONES INTEGRALES S.A.","ANALISTA CONCILIACIONES",3125547250,"JCRAMIREZ@FAMISANAR.COM.CO","JUAN CARLOS","JUAN RAMIREZ, MICHEL MALAGON , CRISTIAN RIVERA","SANTANDER","BUCARAMANGA",{"$f":"+BASE_ANALISTA[[#This Row],[nombredelresponsable]]","v":"JUAN CARLOS"},"11001","73449"]
[824003102,"CENTRAL DE PATOLOGIA DEL CESAR LTDA","ANALISTA CONCILIACIONES",3125547250,"JCRAMIREZ@FAMISANAR.COM.CO","DIANA SANTUARIO","JUAN RAMIREZ, MICHEL MALAGON , CRISTIAN RIVERA","CESAR","VALLEDUPAR",{"$f":"+BASE_ANALISTA[[#This Row],[nombredelresponsable]]","v":"DIANA SANTUARIO"},"11001","25269"]
[900879006,"NUEVA CLINICA DE SANTO TOMAS S.A.S.","ANALISTA CONCILIACIONES",3125547250,"JCRAMIREZ@FAMISANAR.COM.CO","DIANA SANTUARIO","JUAN RAMIREZ, MICHEL MALAGON , CRISTIAN RIVERA","CESAR","VALLEDUPAR",{"$f":"+BASE_ANALISTA[[#This Row],[nombredelresponsable]]","v":"DIANA SANTUARIO"},"11001","47001"]
[824005216,"SOCIEDAD DE UROLOGIA CESAR S.A.S","ANALISTA CONCILIACIONES",3125547250,"JCRAMIREZ@FAMISANAR.COM.CO","DIANA SANTUARIO","JUAN RAMIREZ, MICHEL MALAGON , CRISTIAN RIVERA","CESAR","VALLEDUPAR",{"$f":"+BASE_ANALISTA[[#This Row],[nombredelresponsable]]","v":"DIANA SANTUARIO"},"11001","15001"]
[900190045,"E.S.E. HOSPITAL REGIONAL MANUELA BELTRAN","ANALISTA CONCILIACIONES",3125547250,"JCRAMIREZ@FAMISANAR.COM.CO","JUAN CARLOS","JUAN RAMIREZ, MICHEL MALAGON , CRISTIAN RIVERA","SANTANDER","SOCORRO",{"$f":"+BASE_ANALISTA[[#This Row],[nombredelresponsable]]","v":"JUAN CARLOS"},"11001","50001"]
[802022775,"CENTRO DE SALUD AGRUPASALUD IPS LTDA","ANALISTA CONCILIACIONES",3125547250,"JCRAMIREZ@FAMISANAR.COM.CO","JUAN CARLOS","JUAN RAMIREZ, MICHEL MALAGON , CRISTIAN RIVERA","ATLÁNTICO","SOLEDAD",{"$f":"+BASE_ANALISTA[[#This Row],[nombredelresponsable]]","v":"JUAN CARLOS"},"11001","25175"]
[890399047,"HOSPITAL DEPARTAMENTAL MARIO CORREA RENGIFO ESE","ANALISTA CONCILIACIONES",3125547250,"JCRAMIREZ@FAMISANAR.COM.CO","DIANA SANTUARIO","JUAN RAMIREZ, MICHEL MALAGON , CRISTIAN RIVERA","VALLE DEL CAUCA","CALI",{"$f":"+BASE_ANALISTA[[#This Row],[nombredelresponsable]]","v":"DIANA SANTUARIO"},"11001","19001"]
[806008439,"CLINICA CARTAGENA DEL MAR S.A.","ANALISTA CONCILIACIONES",3125547250,"JCRAMIREZ@FAMISANAR.COM.CO","JUAN CARLOS","JUAN RAMIREZ, MICHEL MALAGON , CRISTIAN RIVERA","BOLIVAR","CARTAGENA",{"$f":"+BASE_ANALISTA[[#This Row],[nombredelresponsable]]","v":"JUAN CARLOS"},"11001","08001"]
[860011298,"Centro de Rehabilitación para Adultos Ciegos CRAC","ANALISTA CONCILIACIONES",3125547250,"JCRAMIREZ@FAMISANAR.COM.CO","DIANA SANTUARIO","JUAN RAMIREZ, MICHEL MALAGON , CRISTIAN RIVERA","CUNDINAMARCA","BOGOTÁ D.C",{"$f":"+BASE_ANALISTA[[#This Row],[nombredelresponsable]]","v":"DIANA SANTUARIO"},"11001","25290"]
[829001846,"ESE Barrancabermeja","ANALISTA CONCILIACIONES",3125547250,"JCRAMIREZ@FAMISANAR.COM.CO","JUAN CARLOS","JUAN RAMIREZ, MICHEL MALAGON , CRISTIAN RIVERA","SANTANDER","BARRANCABERMEJA",{"$f":"+BASE_ANALISTA[[#This Row],[nombredelresponsable]]","v":"JUAN CARLOS"},"11001","13001"]
[800131518,"FUNDACION GRUPO DE ESTUDIO BARRANQUILLA","ANALISTA CONCILIACIONES",3125547250,"JCRAMIREZ@FAMISANAR.COM.CO","JUAN CARLOS","JUAN RAMIREZ, MICHEL MALAGON , CRISTIAN RIVERA","ATLÁNTICO","SANTO TOMAS",{"$f":"+BASE_ANALISTA[[#This Row],[nombredelresponsable]]","v":"JUAN CARLOS"},"11001","68001"]
[830118605,"FUNDACION IDEAS DIA A DIA","ANALISTA CONCILIACIONES",3125547250,"JCRAMIREZ@FAMISANAR.COM.CO","DIANA SANTUARIO","JUAN RAMIREZ, MICHEL MALAGON , CRISTIAN RIVERA","CUNDINAMARCA","BOGOTÁ D.C",{"$f":"+BASE_ANALISTA[[#This Row],[nombredelresponsable]]","v":"DIANA SANTUARIO"},"11001","73168"]
[800000118,"HOSPITAL SAN JUAN DE DIOS DE QUINDIO","ANALISTA CONCILIACIONES",3125547250,"JCRAMIREZ@FAMISANAR.COM.CO","DIANA SANTUARIO","JUAN RAMIREZ, MICHEL MALAGON , CRISTIAN RIVERA","QUINDÍO","ARMENIA",{"$f":"+BASE_ANALISTA[[#This Row],[nombredelresponsable]]","v":"DIANA SANTUARIO"},"11001","15759"]
[900228989,"CLINICA SANTA SOFIA DEL PACIFICO LTDA","ANALISTA CONCILIACIONES",3125547250,"JCRAMIREZ@FAMISANAR.COM.CO","DIANA SANTUARIO","JUAN RAMIREZ, MICHEL MALAGON , CRISTIAN RIVERA","VALLE DEL CAUCA","BUENAVENTURA",{"$f":"+BASE_ANALISTA[[#This Row],[nombredelresponsable]]","v":"DIANA SANTUARIO"},"11001","73585"]
[892001990,"ESE HOSPITAL NUESTRA SEÑORA DEL PILAR DE MEDINA","ANALISTA CONCILIACIONES",3125547250,"JCRAMIREZ@FAMISANAR.COM.CO","JUAN CARLOS","JUAN RAMIREZ, MICHEL MALAGON , CRISTIAN RIVERA","CUNDINAMARCA","MEDINA",{"$f":"+BASE_ANALISTA[[#This Row],[nombredelresponsable]]","v":"JUAN CARLOS"},"11001","13001"]
[900054442,"CLINICA DEL DOLOR Y CUIDADO PALIATIVO ALIVIAR LTDA","ANALISTA CONCILIACIONES",3125547250,"JCRAMIREZ@FAMISANAR.COM.CO","JUAN CARLOS","JUAN RAMIREZ, MICHEL MALAGON , CRISTIAN RIVERA","SANTANDER","BUCARAMANGA",{"$f":"+BASE_ANALISTA[[#This Row],[nombredelresponsable]]","v":"JUAN CARLOS"},"11001","76001"]
[890701715,"ESE HOSPITAL SAN ANTONIO GUAMO - TOLIMA","ANALISTA CONCILIACIONES",3125547250,"JCRAMIREZ@FAMISANAR.COM.CO","DIANA SANTUARIO","JUAN RAMIREZ, MICHEL MALAGON , CRISTIAN RIVERA","TOLIMA ","GUAMO",{"$f":"+BASE_ANALISTA[[#This Row],[nombredelresponsable]]","v":"DIANA SANTUARIO"},"11001","68547"]
[900110631,"Ortopedia Mínimamente Invasiva OMIMED S.A.S.","ANALISTA CONCILIACIONES",3125547250,"JCRAMIREZ@FAMISANAR.COM.CO","JUAN CARLOS","JUAN RAMIREZ, MICHEL MALAGON , CRISTIAN RIVERA","SANTANDER","BUCARAMANGA",{"$f":"+BASE_ANALISTA[[#This Row],[nombredelresponsable]]","v":"JUAN CARLOS"},"11001","20001"]
[809003590,"UNIDAD DE SALUD DE IBAGUE E.S.E.","ANALISTA CONCILIACIONES",3125547250,"JCRAMIREZ@FAMISANAR.COM.CO","DIANA SANTUARIO","JUAN RAMIREZ, MICHEL MALAGON , CRISTIAN RIVERA","TOLIMA ","IBAGUE",{"$f":"+BASE_ANALISTA[[#This Row],[nombredelresponsable]]","v":"DIANA SANTUARIO"},"11001","68081"]
[900355554,"centro de estimulacion rehabilitacion aprendizaje sonrisa de esperanza","ANALISTA CONCILIACIONES",3125547250,"JCRAMIREZ@FAMISANAR.COM.CO","JUAN CARLOS","JUAN RAMIREZ, MICHEL MALAGON , CRISTIAN RIVERA","ATLÁNTICO","BARRANQUILLA",{"$f":"+BASE_ANALISTA[[#This Row],[nombredelresponsable]]","v":"JUAN CARLOS"},"11001","20001"]
[900041169,"PREVENCION SALUD IPS LTDA","ANALISTA CONCILIACIONES",3125547250,"JCRAMIREZ@FAMISANAR.COM.CO","JUAN CARLOS","JUAN RAMIREZ, MICHEL MALAGON , CRISTIAN RIVERA","CUNDINAMARCA","SOACHA",{"$f":"+BASE_ANALISTA[[#This Row],[nombredelresponsable]]","v":"JUAN CARLOS"},"11001","25718"]
[901201887,"CLINICA PUTUMAYO S.A.S ZOMAC","ANALISTA CONCILIACIONES",3125547250,"JCRAMIREZ@FAMISANAR.COM.CO","JUAN CARLOS","JUAN RAMIREZ, MICHEL MALAGON , CRISTIAN RIVERA","PUTUMAYO","PUERTO ASIS",{"$f":"+BASE_ANALISTA[[#This Row],[nombredelresponsable]]","v":"JUAN CARLOS"},"11001","13430"]
[891200679,"ESE HOSPITAL  JOSE MARIA HERNANDEZ","ANALISTA CONCILIACIONES",3125547250,"JCRAMIREZ@FAMISANAR.COM.CO","DIANA SANTUARIO","JUAN RAMIREZ, MICHEL MALAGON , CRISTIAN RIVERA","PUTUMAYO","MOCOA",{"$f":"+BASE_ANALISTA[[#This Row],[nombredelresponsable]]","v":"DIANA SANTUARIO"},"11001","20001"]
[900073081,"SERVICLINICOS DROMEDICA S.A.","ANALISTA CONCILIACIONES",3125547250,"JCRAMIREZ@FAMISANAR.COM.CO","JUAN CARLOS","JUAN RAMIREZ, MICHEL MALAGON , CRISTIAN RIVERA","SANTANDER","BUCARAMANGA",{"$f":"+BASE_ANALISTA[[#This Row],[nombredelresponsable]]","v":"JUAN CARLOS"},"11001","20001"]
[890303841,"HOSPITAL DE SAN JUAN DE DIOS CALI","ANALISTA CONCILIACIONES",3125547250,"JCRAMIREZ@FAMISANAR.COM.CO","DIANA SANTUARIO","JUAN RAMIREZ, MICHEL MALAGON , CRISTIAN RIVERA","VALLE DEL CAUCA","CALI",{"$f":"+BASE_ANALISTA[[#This Row],[nombredelresponsable]]","v":"DIANA SANTUARIO"},"11001","08758"]
[900004059,"HOSPITAL DE CASTILLA  LA NUEVA ESE","ANALISTA CONCILIACIONES",3125547250,"JCRAMIREZ@FAMISANAR.COM.CO","JUAN CARLOS","JUAN RAMIREZ, MICHEL MALAGON , CRISTIAN RIVERA","META","CASTILLA LA NUEVA",{"$f":"+BASE_ANALISTA[[#This Row],[nombredelresponsable]]","v":"JUAN CARLOS"},"11001","44650"]
[900202290,"AUDIOSALUD INTEGRAL LTDA","ANALISTA CONCILIACIONES",3125547250,"JCRAMIREZ@FAMISANAR.COM.CO","DIANA SANTUARIO","JUAN RAMIREZ, MICHEL MALAGON , CRISTIAN RIVERA","CUNDINAMARCA","BOGOTÁ D.C",{"$f":"+BASE_ANALISTA[[#This Row],[nombredelresponsable]]","v":"DIANA SANTUARIO"},"11001","76001"]
[891180117,"ESE HOSPITAL DEPARTAMENTAL SAN ANTONIO DE PADUA","ANALISTA CONCILIACIONES",3125547250,"JCRAMIREZ@FAMISANAR.COM.CO","DIANA SANTUARIO","JUAN RAMIREZ, MICHEL MALAGON , CRISTIAN RIVERA","HUILA","LA PLATA",{"$f":"+BASE_ANALISTA[[#This Row],[nombredelresponsable]]","v":"DIANA SANTUARIO"},"11001","68001"]
[800215908,"Estudios e inversiones medicas","ANALISTA CONCILIACIONES",3125547250,"JCRAMIREZ@FAMISANAR.COM.CO","DIANA SANTUARIO","JUAN RAMIREZ, MICHEL MALAGON , CRISTIAN RIVERA","CUNDINAMARCA","BOGOTÁ D.C",{"$f":"+BASE_ANALISTA[[#This Row],[nombredelresponsable]]","v":"DIANA SANTUARIO"},"11001","76001"]
[800057325,"UNIDAD MAMOGRAFICA DEL COUNTRY","ANALISTA CONCILIACIONES",3125547250,"JCRAMIREZ@FAMISANAR.COM.CO","JUAN CARLOS","JUAN RAMIREZ, MICHEL MALAGON , CRISTIAN RIVERA","CUNDINAMARCA","BOGOTÁ D.C",{"$f":"+BASE_ANALISTA[[#This Row],[nombredelresponsable]]","v":"JUAN CARLOS"},"11001","68001"]
[900246313,"IPS INTEGRAL SOMOS SALUD SAS","ANALISTA CONCILIACIONES",3125547250,"JCRAMIREZ@FAMISANAR.COM.CO","DIANA SANTUARIO","JUAN RAMIREZ, MICHEL MALAGON , CRISTIAN RIVERA","TOLIMA ","IBAGUE",{"$f":"+BASE_ANALISTA[[#This Row],[nombredelresponsable]]","v":"DIANA SANTUARIO"},"11001","25307"]
[819001483,"ESE HOSPITAL FRAY LUIS DE LEON DE PLATO","ANALISTA CONCILIACIONES",3125547250,"JCRAMIREZ@FAMISANAR.COM.CO","DIANA SANTUARIO","JUAN RAMIREZ, MICHEL MALAGON , CRISTIAN RIVERA","MAGDALENA","PLATO",{"$f":"+BASE_ANALISTA[[#This Row],[nombredelresponsable]]","v":"DIANA SANTUARIO"},"11001","68755"]
[806016870,"UNIDAD DE PATOLOGIA CLINICA S.A.S","ANALISTA CONCILIACIONES",3125547250,"JCRAMIREZ@FAMISANAR.COM.CO","JUAN CARLOS","JUAN RAMIREZ, MICHEL MALAGON , CRISTIAN RIVERA","BOLIVAR","CARTAGENA",{"$f":"+BASE_ANALISTA[[#This Row],[nombredelresponsable]]","v":"JUAN CARLOS"},"11001","76109"]
[900368327,"MEDICAL HOMECARE S.A.S","ANALISTA CONCILIACIONES",3125547250,"JCRAMIREZ@FAMISANAR.COM.CO","JUAN CARLOS","JUAN RAMIREZ, MICHEL MALAGON , CRISTIAN RIVERA","ATLÁNTICO","BARRANQUILLA",{"$f":"+BASE_ANALISTA[[#This Row],[nombredelresponsable]]","v":"JUAN CARLOS"},"11001","08001"]
[900036695,"INTENSIVISTAS MATERNIDAD RAFAEL CALVO IPS S.A.","ANALISTA CONCILIACIONES",3125547250,"JCRAMIREZ@FAMISANAR.COM.CO","JUAN CARLOS","JUAN RAMIREZ, MICHEL MALAGON , CRISTIAN RIVERA","BOLIVAR","CARTAGENA",{"$f":"+BASE_ANALISTA[[#This Row],[nombredelresponsable]]","v":"JUAN CARLOS"},"11001","47001"]
[900948875,"IPS MARIA PAZ DEL CESAR S.A.S","ANALISTA CONCILIACIONES",3125547250,"JCRAMIREZ@FAMISANAR.COM.CO","DIANA SANTUARIO","JUAN RAMIREZ, MICHEL MALAGON , CRISTIAN RIVERA","CESAR","VALLEDUPAR",{"$f":"+BASE_ANALISTA[[#This Row],[nombredelresponsable]]","v":"DIANA SANTUARIO"},"11001","25799"]
[800191643,"E.S.E HOSPITAL REGIONAL DE II NIVEL DE SAN MARCOS","ANALISTA CONCILIACIONES",3125547250,"JCRAMIREZ@FAMISANAR.COM.CO","DIANA SANTUARIO","JUAN RAMIREZ, MICHEL MALAGON , CRISTIAN RIVERA","SUCRE","SAN MARCOS",{"$f":"+BASE_ANALISTA[[#This Row],[nombredelresponsable]]","v":"DIANA SANTUARIO"},"11001","73001"]
[890103127,"ESE HOSPITAL DEPARTAMENTAL DE SABANALARGA","ANALISTA CONCILIACIONES",3125547250,"JCRAMIREZ@FAMISANAR.COM.CO","JUAN CARLOS","JUAN RAMIREZ, MICHEL MALAGON , CRISTIAN RIVERA","ATLÁNTICO","SABANALARGA",{"$f":"+BASE_ANALISTA[[#This Row],[nombredelresponsable]]","v":"JUAN CARLOS"},"11001","68081"]
[900012660,"CARDENAS VISION LTDA","ANALISTA CONCILIACIONES",3125547250,"JCRAMIREZ@FAMISANAR.COM.CO","DIANA SANTUARIO","JUAN RAMIREZ, MICHEL MALAGON , CRISTIAN RIVERA","BOYACÁ","TUNJA",{"$f":"+BASE_ANALISTA[[#This Row],[nombredelresponsable]]","v":"DIANA SANTUARIO"},"11001","73001"]
[800099778,"SALUD IPS ASOCIACION NIÑOS DE PAPEL","ANALISTA CONCILIACIONES",3125547250,"JCRAMIREZ@FAMISANAR.COM.CO","JUAN CARLOS","JUAN RAMIREZ, MICHEL MALAGON , CRISTIAN RIVERA","BOLIVAR","CARTAGENA",{"$f":"+BASE_ANALISTA[[#This Row],[nombredelresponsable]]","v":"JUAN CARLOS"},"11001","76001"]
[901179268,"NEUROFAMILIA IPS SAS","ANALISTA CONCILIACIONES",3125547250,"JCRAMIREZ@FAMISANAR.COM.CO","JUAN CARLOS","JUAN RAMIREZ, MICHEL MALAGON , CRISTIAN RIVERA","COLOMBIA","COLOMBIA",{"$f":"+BASE_ANALISTA[[#This Row],[nombredelresponsable]]","v":"JUAN CARLOS"},"11001","68001"]
[800139444,"CLINICA OFTALMOLOGICA INTEGRAL COI LTDA","ANALISTA CONCILIACIONES",3125547250,"JCRAMIREZ@FAMISANAR.COM.CO","JUAN CARLOS","JUAN RAMIREZ, MICHEL MALAGON , CRISTIAN RIVERA","SANTANDER","BUCARAMANGA",{"$f":"+BASE_ANALISTA[[#This Row],[nombredelresponsable]]","v":"JUAN CARLOS"},"11001","68001"]
[900589178,"REMY IPS - TOBERIN","ANALISTA CONCILIACIONES",3125547250,"JCRAMIREZ@FAMISANAR.COM.CO","JUAN CARLOS","JUAN RAMIREZ, MICHEL MALAGON , CRISTIAN RIVERA","CUNDINAMARCA","BOGOTA D.C",{"$f":"+BASE_ANALISTA[[#This Row],[nombredelresponsable]]","v":"JUAN CARLOS"},"11001","86568"]
[800182136,"HOSPITAL SAN ANTONIO DE NATAGAIMA E.S.E","ANALISTA CONCILIACIONES",3125547250,"JCRAMIREZ@FAMISANAR.COM.CO","DIANA SANTUARIO","JUAN RAMIREZ, MICHEL MALAGON , CRISTIAN RIVERA","TOLIMA ","NATAGAIMA",{"$f":"+BASE_ANALISTA[[#This Row],[nombredelresponsable]]","v":"DIANA SANTUARIO"},"11001","68001"]
[802021171,"IPS CIRUJANOS Y PEDIATRAS ASOCIADOS","ANALISTA CONCILIACIONES",3125547250,"JCRAMIREZ@FAMISANAR.COM.CO","JUAN CARLOS","JUAN RAMIREZ, MICHEL MALAGON , CRISTIAN RIVERA","ATLÁNTICO","BARRANQUILLA",{"$f":"+BASE_ANALISTA[[#This Row],[nombredelresponsable]]","v":"JUAN CARLOS"},"11001","08001"]
[900066347,"ESE Hospital Regional de San Gil","ANALISTA CONCILIACIONES",3125547250,"JCRAMIREZ@FAMISANAR.COM.CO","JUAN CARLOS","JUAN RAMIREZ, MICHEL MALAGON , CRISTIAN RIVERA","SANTANDER","SAN GIL",{"$f":"+BASE_ANALISTA[[#This Row],[nombredelresponsable]]","v":"JUAN CARLOS"},"11001","47001"]
[890905843,"COMUNIDAD HNAS DOMINICAS DE LA PRESENTACION - CLINICA EL ROSARIO","ANALISTA CONCILIACIONES",3125547250,"JCRAMIREZ@FAMISANAR.COM.CO","DIANA SANTUARIO","JUAN RAMIREZ, MICHEL MALAGON , CRISTIAN RIVERA","ANTIOQUIA","MEDELLÍN",{"$f":"+BASE_ANALISTA[[#This Row],[nombredelresponsable]]","v":"DIANA SANTUARIO"},"11001","47189"]
[900437964,"CENTRO DE RADIOLOGIA ELISA CLARA R.F S.A.S","ANALISTA CONCILIACIONES",3125547250,"JCRAMIREZ@FAMISANAR.COM.CO","DIANA SANTUARIO","JUAN RAMIREZ, MICHEL MALAGON , CRISTIAN RIVERA","CESAR","VALLEDUPAR",{"$f":"+BASE_ANALISTA[[#This Row],[nombredelresponsable]]","v":"DIANA SANTUARIO"},"11001","08758"]
[802003414,"E.S.E. HOSPITAL DE JUAN DE ACOSTA","ANALISTA CONCILIACIONES",3125547250,"JCRAMIREZ@FAMISANAR.COM.CO","JUAN CARLOS","JUAN RAMIREZ, MICHEL MALAGON , CRISTIAN RIVERA","ATLÁNTICO","JUAN DE ACOSTA",{"$f":"+BASE_ANALISTA[[#This Row],[nombredelresponsable]]","v":"JUAN CARLOS"},"11001","13001"]
[900829069,"GRUPO EMPRESARIAL JARBSALUD IPS S.A.S.","ANALISTA CONCILIACIONES",3125547250,"JCRAMIREZ@FAMISANAR.COM.CO","DIANA SANTUARIO","JUAN RAMIREZ, MICHEL MALAGON , CRISTIAN RIVERA","CUNDINAMARCA","BOGOTA",{"$f":"+BASE_ANALISTA[[#This Row],[nombredelresponsable]]","v":"DIANA SANTUARIO"},"11001","50150"]
[809005719,"HOSPITAL SAN VICENTE E.S.E ROVIRA TOLIMA","ANALISTA CONCILIACIONES",3125547250,"JCRAMIREZ@FAMISANAR.COM.CO","DIANA SANTUARIO","JUAN RAMIREZ, MICHEL MALAGON , CRISTIAN RIVERA","TOLIMA ","ROVIRA",{"$f":"+BASE_ANALISTA[[#This Row],[nombredelresponsable]]","v":"DIANA SANTUARIO"},"11001","19397"]
[900221747,"IPS ASESORIAS HORIZONTES DEL NORTE S.A.S.","ANALISTA CONCILIACIONES",3125547250,"JCRAMIREZ@FAMISANAR.COM.CO","JUAN CARLOS","JUAN RAMIREZ, MICHEL MALAGON , CRISTIAN RIVERA","ATLÁNTICO","BARRANQUILLA",{"$f":"+BASE_ANALISTA[[#This Row],[nombredelresponsable]]","v":"JUAN CARLOS"},"11001","15407"]
[800197424,"asociación medica de medicina nuclear nuclear 2000 limitada","ANALISTA CONCILIACIONES",3125547250,"JCRAMIREZ@FAMISANAR.COM.CO","JUAN CARLOS","JUAN RAMIREZ, MICHEL MALAGON , CRISTIAN RIVERA","ATLÁNTICO","BARRANQUILLA",{"$f":"+BASE_ANALISTA[[#This Row],[nombredelresponsable]]","v":"JUAN CARLOS"},"11001","25754"]
[890307200,"CENTRO MEDICO IMBANACO DE CALI SA","ANALISTA CONCILIACIONES",3125547250,"JCRAMIREZ@FAMISANAR.COM.CO","DIANA SANTUARIO","JUAN RAMIREZ, MICHEL MALAGON , CRISTIAN RIVERA","VALLE DEL CAUCA","CALI",{"$f":"+BASE_ANALISTA[[#This Row],[nombredelresponsable]]","v":"DIANA SANTUARIO"},"11001","15001"]
[490480113,"HOSPITAL DE II NIVEL NUESTRA SEÑORA DE LAS MERCEDES DE COROZAL","ANALISTA CONCILIACIONES",3125547250,"JCRAMIREZ@FAMISANAR.COM.CO","DIANA SANTUARIO","JUAN RAMIREZ, MICHEL MALAGON , CRISTIAN RIVERA",{"$error":"#N/A"},{"$error":"#N/A"},{"$f":"+BASE_ANALISTA[[#This Row],[nombredelresponsable]]","v":"DIANA SANTUARIO"},"11001","73001"]
[890480113,"HOSPITAL REGIONAL DE II NIVEL NUESTRA SEÑORA DE LAS MERCEDES DE COROZAL","ANALISTA CONCILIACIONES",3125547250,"JCRAMIREZ@FAMISANAR.COM.CO","DIANA SANTUARIO","JUAN RAMIREZ, MICHEL MALAGON , CRISTIAN RIVERA","SUCRE","COROZAL",{"$f":"+BASE_ANALISTA[[#This Row],[nombredelresponsable]]","v":"DIANA SANTUARIO"},"11001","41396"]
[900142282,"FUNDACION CLINICA LETICIA","ANALISTA CONCILIACIONES",3125547250,"JCRAMIREZ@FAMISANAR.COM.CO","DIANA SANTUARIO","JUAN RAMIREZ, MICHEL MALAGON , CRISTIAN RIVERA","AMAZONIA","LETICIA",{"$f":"+BASE_ANALISTA[[#This Row],[nombredelresponsable]]","v":"DIANA SANTUARIO"},"11001","08685"]
[800194798,"ORGANIZACION CLINICA BONNADONA PREVENIR S.A.","ANALISTA CONCILIACIONES",3125547250,"JCRAMIREZ@FAMISANAR.COM.CO","JUAN CARLOS","JUAN RAMIREZ, MICHEL MALAGON , CRISTIAN RIVERA","ATLÁNTICO","BARRANQUILLA",{"$f":"+BASE_ANALISTA[[#This Row],[nombredelresponsable]]","v":"JUAN CARLOS"},"11001","73411"]
[890907215,"E.S.E. HOSPITAL SAN VICENTE DE PAUL DE CALDAS","ANALISTA CONCILIACIONES",3125547250,"JCRAMIREZ@FAMISANAR.COM.CO","DIANA SANTUARIO","JUAN RAMIREZ, MICHEL MALAGON , CRISTIAN RIVERA","ANTIOQUIA","CALDAS",{"$f":"+BASE_ANALISTA[[#This Row],[nombredelresponsable]]","v":"DIANA SANTUARIO"},"11001","73001"]
[800175901,"CLINICA EMPERATRIZ LTDA","ANALISTA CONCILIACIONES",3125547250,"JCRAMIREZ@FAMISANAR.COM.CO","JUAN CARLOS","JUAN RAMIREZ, MICHEL MALAGON , CRISTIAN RIVERA","META","VILLAVICENCIO",{"$f":"+BASE_ANALISTA[[#This Row],[nombredelresponsable]]","v":"JUAN CARLOS"},"11001","70708"]
[830103660,"CARDIOPEDIATRAS LTDA","ANALISTA CONCILIACIONES",3125547250,"JCRAMIREZ@FAMISANAR.COM.CO","DIANA SANTUARIO","JUAN RAMIREZ, MICHEL MALAGON , CRISTIAN RIVERA","CUNDINAMARCA","BOGOTÁ D.C",{"$f":"+BASE_ANALISTA[[#This Row],[nombredelresponsable]]","v":"DIANA SANTUARIO"},"11001","68001"]
[900400605,"UNIDAD DE PERINATOLOGIA Y TERAPIA FETAL DE CARIBE","ANALISTA CONCILIACIONES",3125547250,"JCRAMIREZ@FAMISANAR.COM.CO","JUAN CARLOS","JUAN RAMIREZ, MICHEL MALAGON , CRISTIAN RIVERA","ATLÁNTICO","BARRANQUILLA",{"$f":"+BASE_ANALISTA[[#This Row],[nombredelresponsable]]","v":"JUAN CARLOS"},"11001","13001"]
[810003245,"Clinica Versalles S.A","ANALISTA CONCILIACIONES",3125547250,"JCRAMIREZ@FAMISANAR.COM.CO","JUAN CARLOS","JUAN RAMIREZ, MICHEL MALAGON , CRISTIAN RIVERA","CALDAS","MANIZALES",{"$f":"+BASE_ANALISTA[[#This Row],[nombredelresponsable]]","v":"JUAN CARLOS"},"11001","08001"]
[830510985,"UNIDAD DE DIAGNOSTICO Y TRATAMIENTO UROLOGICO S.A","ANALISTA CONCILIACIONES",3125547250,"JCRAMIREZ@FAMISANAR.COM.CO","DIANA SANTUARIO","JUAN RAMIREZ, MICHEL MALAGON , CRISTIAN RIVERA","MAGDALENA","SANTA MARTA",{"$f":"+BASE_ANALISTA[[#This Row],[nombredelresponsable]]","v":"DIANA SANTUARIO"},"11001","73001"]
[891080015,"ESE HOSPITAL SAN DIEGO","ANALISTA CONCILIACIONES",3125547250,"JCRAMIREZ@FAMISANAR.COM.CO","DIANA SANTUARIO","JUAN RAMIREZ, MICHEL MALAGON , CRISTIAN RIVERA","CÓRDOBA","CERETÉ",{"$f":"+BASE_ANALISTA[[#This Row],[nombredelresponsable]]","v":"DIANA SANTUARIO"},"11001","08001"]
[890980757,"E.S.E. HOSPITAL CESAR URIBE PIEDRAHITA","ANALISTA CONCILIACIONES",3125547250,"JCRAMIREZ@FAMISANAR.COM.CO","DIANA SANTUARIO","JUAN RAMIREZ, MICHEL MALAGON , CRISTIAN RIVERA","ANTIOQUIA","CAUCASIA",{"$f":"+BASE_ANALISTA[[#This Row],[nombredelresponsable]]","v":"DIANA SANTUARIO"},"11001","08372"]
[890985703,"E.S.E. HOSPITAL MARCO FIDEL SUAREZ","ANALISTA CONCILIACIONES",3125547250,"JCRAMIREZ@FAMISANAR.COM.CO","DIANA SANTUARIO","JUAN RAMIREZ, MICHEL MALAGON , CRISTIAN RIVERA","ANTIOQUIA","BELLO",{"$f":"+BASE_ANALISTA[[#This Row],[nombredelresponsable]]","v":"DIANA SANTUARIO"},"11001","20001"]
[802004326,"LABORATORIO CLINICO FALAB S.A.S","ANALISTA CONCILIACIONES",3125547250,"JCRAMIREZ@FAMISANAR.COM.CO","JUAN CARLOS","JUAN RAMIREZ, MICHEL MALAGON , CRISTIAN RIVERA","ATLÁNTICO","BARRANQUILLA",{"$f":"+BASE_ANALISTA[[#This Row],[nombredelresponsable]]","v":"JUAN CARLOS"},"11001","68001"]
[800179870,"Hospital San Andres ESE","ANALISTA CONCILIACIONES",3125547250,"JCRAMIREZ@FAMISANAR.COM.CO","DIANA SANTUARIO","JUAN RAMIREZ, MICHEL MALAGON , CRISTIAN RIVERA","NARIÑO","SAN ANDRES DE TUMACO",{"$f":"+BASE_ANALISTA[[#This Row],[nombredelresponsable]]","v":"DIANA SANTUARIO"},"11001","08001"]
[804008642,"UNIVERSALIDAD EN SALUD Y VISION UNIVER LTDA","ANALISTA CONCILIACIONES",3125547250,"JCRAMIREZ@FAMISANAR.COM.CO","JUAN CARLOS","JUAN RAMIREZ, MICHEL MALAGON , CRISTIAN RIVERA","SANTANDER","BUCARAMANGA",{"$f":"+BASE_ANALISTA[[#This Row],[nombredelresponsable]]","v":"JUAN CARLOS"},"11001","05628"]
[810004747,"MEDICARE IPS LTDA","ANALISTA CONCILIACIONES",3125547250,"JCRAMIREZ@FAMISANAR.COM.CO","JUAN CARLOS","JUAN RAMIREZ, MICHEL MALAGON , CRISTIAN RIVERA","CALDAS","LA DORADA",{"$f":"+BASE_ANALISTA[[#This Row],[nombredelresponsable]]","v":"JUAN CARLOS"},"11001","76001"]
[900161062,"VIDA MEDICA LTDA","ANALISTA CONCILIACIONES",3125547250,"JCRAMIREZ@FAMISANAR.COM.CO","JUAN CARLOS","JUAN RAMIREZ, MICHEL MALAGON , CRISTIAN RIVERA","SANTANDER","BUCARAMANGA",{"$f":"+BASE_ANALISTA[[#This Row],[nombredelresponsable]]","v":"JUAN CARLOS"},"11001","68001"]
[900421895,"FUNDACION CLINICA DEL NORTE","ANALISTA CONCILIACIONES",3125547250,"JCRAMIREZ@FAMISANAR.COM.CO","DIANA SANTUARIO","JUAN RAMIREZ, MICHEL MALAGON , CRISTIAN RIVERA","CUNDINAMARCA","BOGOTÁ D.C",{"$f":"+BASE_ANALISTA[[#This Row],[nombredelresponsable]]","v":"DIANA SANTUARIO"},"11001","73624"]
[900718172,"CLINICA INTERNACIONAL DE ALTA TECNOLOGIA S.A.S.","ANALISTA CONCILIACIONES",3125547250,"JCRAMIREZ@FAMISANAR.COM.CO","DIANA SANTUARIO","JUAN RAMIREZ, MICHEL MALAGON , CRISTIAN RIVERA","TOLIMA ","IBAGUE",{"$f":"+BASE_ANALISTA[[#This Row],[nombredelresponsable]]","v":"DIANA SANTUARIO"},"11001","08001"]
[900422064,"CENTRO ESPECIALIZADO DE UROLOGIA SAS IBAGUE","ANALISTA CONCILIACIONES",3125547250,"JCRAMIREZ@FAMISANAR.COM.CO","DIANA SANTUARIO","JUAN RAMIREZ, MICHEL MALAGON , CRISTIAN RIVERA","TOLIMA ","IBAGUE",{"$f":"+BASE_ANALISTA[[#This Row],[nombredelresponsable]]","v":"DIANA SANTUARIO"},"11001","08001"]
[900143844,"GASTROCESAR SAS","ANALISTA CONCILIACIONES",3125547250,"JCRAMIREZ@FAMISANAR.COM.CO","DIANA SANTUARIO","JUAN RAMIREZ, MICHEL MALAGON , CRISTIAN RIVERA","CESAR","VALLEDUPAR",{"$f":"+BASE_ANALISTA[[#This Row],[nombredelresponsable]]","v":"DIANA SANTUARIO"},"11001","47555"]
[900394422,"CORPORACION CON ANIMO","ANALISTA CONCILIACIONES",3125547250,"JCRAMIREZ@FAMISANAR.COM.CO","DIANA SANTUARIO","JUAN RAMIREZ, MICHEL MALAGON , CRISTIAN RIVERA","CUNDINAMARCA","BOGOTÁ D.C",{"$f":"+BASE_ANALISTA[[#This Row],[nombredelresponsable]]","v":"DIANA SANTUARIO"},"11001","25175"]
[860028947,"CONGREGACION DE HERMANAS FRANCISCANAS CLINICA MADRE BERNARDA","ANALISTA CONCILIACIONES",3125547250,"JCRAMIREZ@FAMISANAR.COM.CO","DIANA SANTUARIO","JUAN RAMIREZ, MICHEL MALAGON , CRISTIAN RIVERA","CUNDINAMARCA","BOGOTÁ D.C",{"$f":"+BASE_ANALISTA[[#This Row],[nombredelresponsable]]","v":"DIANA SANTUARIO"},"11001","70215"]
[890702241,"HOSPITAL NUESTRA SEÑORA DEL CARMEN E.S.E.","ANALISTA CONCILIACIONES",3125547250,"JCRAMIREZ@FAMISANAR.COM.CO","DIANA SANTUARIO","JUAN RAMIREZ, MICHEL MALAGON , CRISTIAN RIVERA","TOLIMA ","CARMEN DE APICALA",{"$f":"+BASE_ANALISTA[[#This Row],[nombredelresponsable]]","v":"DIANA SANTUARIO"},"11001","25875"]
[900381084,"CORPO MEDICAL SAS","ANALISTA CONCILIACIONES",3125547250,"JCRAMIREZ@FAMISANAR.COM.CO","JUAN CARLOS","JUAN RAMIREZ, MICHEL MALAGON , CRISTIAN RIVERA","SANTANDER","BUCARAMANGA",{"$f":"+BASE_ANALISTA[[#This Row],[nombredelresponsable]]","v":"JUAN CARLOS"},"11001","08001"]
[809009066,"CLINICA LOS REMANSOS LIMITADA INSTITUTO TOLIMENSE DE SALUD MENTAL","ANALISTA CONCILIACIONES",3125547250,"JCRAMIREZ@FAMISANAR.COM.CO","DIANA SANTUARIO","JUAN RAMIREZ, MICHEL MALAGON , CRISTIAN RIVERA","TOLIMA ","IBAGUE",{"$f":"+BASE_ANALISTA[[#This Row],[nombredelresponsable]]","v":"DIANA SANTUARIO"},"11001","25736"]
[832007272,"ESE HOSPITAL SAN ANTONIO DE FOSCA","ANALISTA CONCILIACIONES",3125547250,"JCRAMIREZ@FAMISANAR.COM.CO","DIANA SANTUARIO","JUAN RAMIREZ, MICHEL MALAGON , CRISTIAN RIVERA","CUNDINAMARCA","FOSCA",{"$f":"+BASE_ANALISTA[[#This Row],[nombredelresponsable]]","v":"DIANA SANTUARIO"},"11001","52356"]
[819000413,"CLINICA GENERAL DE CIENAGA","ANALISTA CONCILIACIONES",3125547250,"JCRAMIREZ@FAMISANAR.COM.CO","DIANA SANTUARIO","JUAN RAMIREZ, MICHEL MALAGON , CRISTIAN RIVERA","MAGDALENA","CIENAGA",{"$f":"+BASE_ANALISTA[[#This Row],[nombredelresponsable]]","v":"DIANA SANTUARIO"},"11001","08001"]
[824005588,"LABORATORIOS NANCY FLOREZ GARCIA S.A.S.","ANALISTA CONCILIACIONES",3125547250,"JCRAMIREZ@FAMISANAR.COM.CO","DIANA SANTUARIO","JUAN RAMIREZ, MICHEL MALAGON , CRISTIAN RIVERA","CESAR","VALLEDUPAR",{"$f":"+BASE_ANALISTA[[#This Row],[nombredelresponsable]]","v":"DIANA SANTUARIO"},"11001","73483"]
[804006167,"AUDIOMIC S.A.S.","ANALISTA CONCILIACIONES",3125547250,"JCRAMIREZ@FAMISANAR.COM.CO","JUAN CARLOS","JUAN RAMIREZ, MICHEL MALAGON , CRISTIAN RIVERA","SANTANDER","BUCARAMANGA",{"$f":"+BASE_ANALISTA[[#This Row],[nombredelresponsable]]","v":"JUAN CARLOS"},"11001","68679"]
[830040256,"HOSPITAL MILITAR CENTRAL","ANALISTA CONCILIACIONES",3125547250,"JCRAMIREZ@FAMISANAR.COM.CO","DIANA SANTUARIO","JUAN RAMIREZ, MICHEL MALAGON , CRISTIAN RIVERA","CUNDINAMARCA","BOGOTÁ D.C",{"$f":"+BASE_ANALISTA[[#This Row],[nombredelresponsable]]","v":"DIANA SANTUARIO"},"11001","13001"]
[900147276,"IPS FERNANDO KUAN MEDINA","ANALISTA CONCILIACIONES",3125547250,"JCRAMIREZ@FAMISANAR.COM.CO","DIANA SANTUARIO","JUAN RAMIREZ, MICHEL MALAGON , CRISTIAN RIVERA","CUNDINAMARCA","BOGOTÁ D.C",{"$f":"+BASE_ANALISTA[[#This Row],[nombredelresponsable]]","v":"DIANA SANTUARIO"},"11001","47001"]
[901045695,"NEUMOCENTER S.A.S","ANALISTA CONCILIACIONES",3125547250,"JCRAMIREZ@FAMISANAR.COM.CO","DIANA SANTUARIO","JUAN RAMIREZ, MICHEL MALAGON , CRISTIAN RIVERA","CESAR","VALLEDUPAR",{"$f":"+BASE_ANALISTA[[#This Row],[nombredelresponsable]]","v":"DIANA SANTUARIO"},"11001","68001"]
[900030814,"SAS","ANALISTA CONCILIACIONES",3125547250,"JCRAMIREZ@FAMISANAR.COM.CO","JUAN CARLOS","JUAN RAMIREZ, MICHEL MALAGON , CRISTIAN RIVERA","META","VILLAVICENCIO",{"$f":"+BASE_ANALISTA[[#This Row],[nombredelresponsable]]","v":"JUAN CARLOS"},"11001","68001"]
[813005265,"ESE CARMEN EMILIA OSPINA","ANALISTA CONCILIACIONES",3125547250,"JCRAMIREZ@FAMISANAR.COM.CO","DIANA SANTUARIO","JUAN RAMIREZ, MICHEL MALAGON , CRISTIAN RIVERA","HUILA","NEIVA",{"$f":"+BASE_ANALISTA[[#This Row],[nombredelresponsable]]","v":"DIANA SANTUARIO"},"11001","08001"]
[900609215,"CUIDADOS NEONATALES S.A.S","ANALISTA CONCILIACIONES",3125547250,"JCRAMIREZ@FAMISANAR.COM.CO","DIANA SANTUARIO","JUAN RAMIREZ, MICHEL MALAGON , CRISTIAN RIVERA","MAGDALENA","SANTA MARTA",{"$f":"+BASE_ANALISTA[[#This Row],[nombredelresponsable]]","v":"DIANA SANTUARIO"},"11001","68001"]
[800008240,"Unidad Oftalmologica de Cartagena SAS","ANALISTA CONCILIACIONES",3125547250,"JCRAMIREZ@FAMISANAR.COM.CO","JUAN CARLOS","JUAN RAMIREZ, MICHEL MALAGON , CRISTIAN RIVERA","BOLIVAR","CARTAGENA",{"$f":"+BASE_ANALISTA[[#This Row],[nombredelresponsable]]","v":"JUAN CARLOS"},"11001","05059"]
[800193989,"CENTRO DIAGNOSTICO DE ESPECIALISTAS CLINICA CEDES LTDA","ANALISTA CONCILIACIONES",3125547250,"JCRAMIREZ@FAMISANAR.COM.CO","DIANA SANTUARIO","JUAN RAMIREZ, MICHEL MALAGON , CRISTIAN RIVERA","LA GUAJIRA","RIOHACHA",{"$f":"+BASE_ANALISTA[[#This Row],[nombredelresponsable]]","v":"DIANA SANTUARIO"},"11001","68001"]
[802000909,"CLINICA LOS ALMENDROS S.A","ANALISTA CONCILIACIONES",3125547250,"JCRAMIREZ@FAMISANAR.COM.CO","JUAN CARLOS","JUAN RAMIREZ, MICHEL MALAGON , CRISTIAN RIVERA","ATLÁNTICO","SOLEDAD",{"$f":"+BASE_ANALISTA[[#This Row],[nombredelresponsable]]","v":"JUAN CARLOS"},"11001","73001"]
[804013775,"CENTRO DE DIAGNOSTICO Y CIRUGIA OCULAR CEDCO SAS","ANALISTA CONCILIACIONES",3125547250,"JCRAMIREZ@FAMISANAR.COM.CO","JUAN CARLOS","JUAN RAMIREZ, MICHEL MALAGON , CRISTIAN RIVERA","SANTANDER","BUCARAMANGA",{"$f":"+BASE_ANALISTA[[#This Row],[nombredelresponsable]]","v":"JUAN CARLOS"},"11001","25438"]
[891501676,"HOSPITAL SUSANA LOPEZ DE VALENCIA","ANALISTA CONCILIACIONES",3125547250,"JCRAMIREZ@FAMISANAR.COM.CO","DIANA SANTUARIO","JUAN RAMIREZ, MICHEL MALAGON , CRISTIAN RIVERA","CAUCA","POPAYAN",{"$f":"+BASE_ANALISTA[[#This Row],[nombredelresponsable]]","v":"DIANA SANTUARIO"},"11001","68001"]
[900264327,"CLINICA LURUACO IPS LTDA","ANALISTA CONCILIACIONES",3125547250,"JCRAMIREZ@FAMISANAR.COM.CO","JUAN CARLOS","JUAN RAMIREZ, MICHEL MALAGON , CRISTIAN RIVERA","ATLÁNTICO","BARRANQUILLA",{"$f":"+BASE_ANALISTA[[#This Row],[nombredelresponsable]]","v":"JUAN CARLOS"},"11001","47189"]
[800037202,"HOSPITAL LOCAL PRIMER NIVEL GUAMAL ESE","ANALISTA CONCILIACIONES",3125547250,"JCRAMIREZ@FAMISANAR.COM.CO","JUAN CARLOS","JUAN RAMIREZ, MICHEL MALAGON , CRISTIAN RIVERA","META","GUAMAL",{"$f":"+BASE_ANALISTA[[#This Row],[nombredelresponsable]]","v":"JUAN CARLOS"},"11001","73319"]
[806012426,"CLINICA CARDIOVASCULAR JESUS DE NAZARETH","ANALISTA CONCILIACIONES",3125547250,"JCRAMIREZ@FAMISANAR.COM.CO","JUAN CARLOS","JUAN RAMIREZ, MICHEL MALAGON , CRISTIAN RIVERA","BOLIVAR","CARTAGENA",{"$f":"+BASE_ANALISTA[[#This Row],[nombredelresponsable]]","v":"JUAN CARLOS"},"11001","68001"]
[891901158,"HOSPITAL DEPARTAMENTAL TOMAS URIBE URIBE","ANALISTA CONCILIACIONES",3125547250,"JCRAMIREZ@FAMISANAR.COM.CO","DIANA SANTUARIO","JUAN RAMIREZ, MICHEL MALAGON , CRISTIAN RIVERA","VALLE DEL CAUCA","TULUA",{"$f":"+BASE_ANALISTA[[#This Row],[nombredelresponsable]]","v":"DIANA SANTUARIO"},"11001","52835"]
[900067169,"ESE Hospital Regional de García Rovira","ANALISTA CONCILIACIONES",3125547250,"JCRAMIREZ@FAMISANAR.COM.CO","JUAN CARLOS","JUAN RAMIREZ, MICHEL MALAGON , CRISTIAN RIVERA","SANTANDER","MALAGA",{"$f":"+BASE_ANALISTA[[#This Row],[nombredelresponsable]]","v":"JUAN CARLOS"},"11001","25307"]
[891800982,"Empresa Social del Estado Centro de Rehabilitación Integral de Boyacá","ANALISTA CONCILIACIONES",3125547250,"JCRAMIREZ@FAMISANAR.COM.CO","DIANA SANTUARIO","JUAN RAMIREZ, MICHEL MALAGON , CRISTIAN RIVERA","BOYACÁ","TUNJA",{"$f":"+BASE_ANALISTA[[#This Row],[nombredelresponsable]]","v":"DIANA SANTUARIO"},"11001","25281"]
[800130625,"ESS HOSPITAL SAN CRISTOBAL DE CIENAGA","ANALISTA CONCILIACIONES",3125547250,"JCRAMIREZ@FAMISANAR.COM.CO","DIANA SANTUARIO","JUAN RAMIREZ, MICHEL MALAGON , CRISTIAN RIVERA","MAGDALENA","CIENAGA",{"$f":"+BASE_ANALISTA[[#This Row],[nombredelresponsable]]","v":"DIANA SANTUARIO"},"11001","50001"]
[800248276,"HOSPITAL VISTA HERMOSA I NIVEL E.S.E","ANALISTA CONCILIACIONES",3125547250,"JCRAMIREZ@FAMISANAR.COM.CO","JUAN CARLOS","JUAN RAMIREZ, MICHEL MALAGON , CRISTIAN RIVERA","CUNDINAMARCA","BOGOTÁ D.C",{"$f":"+BASE_ANALISTA[[#This Row],[nombredelresponsable]]","v":"JUAN CARLOS"},"11001","20001"]
[824000725,"HOSPITAL EDUARDO ARREDONDO DAZA ESE","ANALISTA CONCILIACIONES",3125547250,"JCRAMIREZ@FAMISANAR.COM.CO","DIANA SANTUARIO","JUAN RAMIREZ, MICHEL MALAGON , CRISTIAN RIVERA","CESAR","VALLEDUPAR",{"$f":"+BASE_ANALISTA[[#This Row],[nombredelresponsable]]","v":"DIANA SANTUARIO"},"11001","47001"]
[890700967,"HOSPITAL SAN JOSE DE ORTEGA","ANALISTA CONCILIACIONES",3125547250,"JCRAMIREZ@FAMISANAR.COM.CO","DIANA SANTUARIO","JUAN RAMIREZ, MICHEL MALAGON , CRISTIAN RIVERA","TOLIMA ","ORTEGA",{"$f":"+BASE_ANALISTA[[#This Row],[nombredelresponsable]]","v":"DIANA SANTUARIO"},"11001","73283"]
[900249014,"CLINICA COLOMBIANA DEL RIÑON S.A.","ANALISTA CONCILIACIONES",3125547250,"JCRAMIREZ@FAMISANAR.COM.CO","JUAN CARLOS","JUAN RAMIREZ, MICHEL MALAGON , CRISTIAN RIVERA","ATLÁNTICO","BARRANQUILLA",{"$f":"+BASE_ANALISTA[[#This Row],[nombredelresponsable]]","v":"JUAN CARLOS"},"11001","20001"]
[890680031,"E S E HOSPITAL SAN ANTONIO","ANALISTA CONCILIACIONES",3125547250,"JCRAMIREZ@FAMISANAR.COM.CO","DIANA SANTUARIO","JUAN RAMIREZ, MICHEL MALAGON , CRISTIAN RIVERA","CUNDINAMARCA","ARBELAEZ",{"$f":"+BASE_ANALISTA[[#This Row],[nombredelresponsable]]","v":"DIANA SANTUARIO"},"11001","47001"]
[890501438,"EMPRESA SOCIAL DEL  ESTADO HOSPITAL EMIRO QUINTERO CAÑIZARES","ANALISTA CONCILIACIONES",3125547250,"JCRAMIREZ@FAMISANAR.COM.CO","JUAN CARLOS","JUAN RAMIREZ, MICHEL MALAGON , CRISTIAN RIVERA","NORTE DE SANTANDER","OCAÑA",{"$f":"+BASE_ANALISTA[[#This Row],[nombredelresponsable]]","v":"JUAN CARLOS"},"11001","70001"]
[860352594,"CENTRO DE TECNOLGIA OFTALMICA S.A.S","ANALISTA CONCILIACIONES",3125547250,"JCRAMIREZ@FAMISANAR.COM.CO","DIANA SANTUARIO","JUAN RAMIREZ, MICHEL MALAGON , CRISTIAN RIVERA","CUNDINAMARCA","BOGOTÁ D.C",{"$f":"+BASE_ANALISTA[[#This Row],[nombredelresponsable]]","v":"DIANA SANTUARIO"},"11001","68001"]
[891800335,"ESE HOSPITAL SANTA MARTA DE SAMACA","ANALISTA CONCILIACIONES",3125547250,"JCRAMIREZ@FAMISANAR.COM.CO","DIANA SANTUARIO","JUAN RAMIREZ, MICHEL MALAGON , CRISTIAN RIVERA","BOYACÁ","SAMACA",{"$f":"+BASE_ANALISTA[[#This Row],[nombredelresponsable]]","v":"DIANA SANTUARIO"},"11001","47318"]
[900067136,"ESE HOSPITAL REGIONAL DE VELEZ","ANALISTA CONCILIACIONES",3125547250,"JCRAMIREZ@FAMISANAR.COM.CO","JUAN CARLOS","JUAN RAMIREZ, MICHEL MALAGON , CRISTIAN RIVERA","SANTANDER","VELEZ",{"$f":"+BASE_ANALISTA[[#This Row],[nombredelresponsable]]","v":"JUAN CARLOS"},"11001","13001"]
[822002459,"EMPRESA SOCIAL DEL ESTADO DEL MUNICIPIO DE VILLAVICENCIO","ANALISTA CONCILIACIONES",3125547250,"JCRAMIREZ@FAMISANAR.COM.CO","JUAN CARLOS","JUAN RAMIREZ, MICHEL MALAGON , CRISTIAN RIVERA","META","VILLAVICENCIO",{"$f":"+BASE_ANALISTA[[#This Row],[nombredelresponsable]]","v":"JUAN CARLOS"},"11001","08001"]
[860070301,"Cruz Roja Colombiana Seccional Cundinamarca y Bogotá","ANALISTA CONCILIACIONES",3125547250,"JCRAMIREZ@FAMISANAR.COM.CO","DIANA SANTUARIO","JUAN RAMIREZ, MICHEL MALAGON , CRISTIAN RIVERA","CUNDINAMARCA","BOGOTÁ D.C",{"$f":"+BASE_ANALISTA[[#This Row],[nombredelresponsable]]","v":"DIANA SANTUARIO"},"11001","08001"]
[900448559,"MEDIGLOBAL IPS SAS","ANALISTA CONCILIACIONES",3125547250,"JCRAMIREZ@FAMISANAR.COM.CO","DIANA SANTUARIO","JUAN RAMIREZ, MICHEL MALAGON , CRISTIAN RIVERA","CUNDINAMARCA","BOGOTÁ D.C",{"$f":"+BASE_ANALISTA[[#This Row],[nombredelresponsable]]","v":"DIANA SANTUARIO"},"11001","20001"]
[891180098,"HOSPITAL MARIA INMACULADA E.S.E.","ANALISTA CONCILIACIONES",3125547250,"JCRAMIREZ@FAMISANAR.COM.CO","DIANA SANTUARIO","JUAN RAMIREZ, MICHEL MALAGON , CRISTIAN RIVERA","CAQUETÁ","FLORENCIA",{"$f":"+BASE_ANALISTA[[#This Row],[nombredelresponsable]]","v":"DIANA SANTUARIO"},"11001","20001"]
[892115010,"E.S.E. HOSPITAL SAN RAFAEL NIVEL II","ANALISTA CONCILIACIONES",3125547250,"JCRAMIREZ@FAMISANAR.COM.CO","DIANA SANTUARIO","JUAN RAMIREZ, MICHEL MALAGON , CRISTIAN RIVERA","LA GUAJIRA","SAN JUAN DEL CESAR",{"$f":"+BASE_ANALISTA[[#This Row],[nombredelresponsable]]","v":"DIANA SANTUARIO"},"11001","15001"]
[900465319,"OINSAMED S.A.S.","ANALISTA CONCILIACIONES",3125547250,"JCRAMIREZ@FAMISANAR.COM.CO","JUAN CARLOS","JUAN RAMIREZ, MICHEL MALAGON , CRISTIAN RIVERA","ATLÁNTICO","BARRANQUILLA",{"$f":"+BASE_ANALISTA[[#This Row],[nombredelresponsable]]","v":"JUAN CARLOS"},"11001","15001"]
[890304155,"Hospital Departamental Psiquiatrico Universitario del Valle","ANALISTA CONCILIACIONES",3125547250,"JCRAMIREZ@FAMISANAR.COM.CO","DIANA SANTUARIO","JUAN RAMIREZ, MICHEL MALAGON , CRISTIAN RIVERA","VALLE DEL CAUCA","CALI",{"$f":"+BASE_ANALISTA[[#This Row],[nombredelresponsable]]","v":"DIANA SANTUARIO"},"11001","73001"]
[892000458,"HOSPITAL LOCAL SAN MARTIN, ESE.","ANALISTA CONCILIACIONES",3125547250,"JCRAMIREZ@FAMISANAR.COM.CO","JUAN CARLOS","JUAN RAMIREZ, MICHEL MALAGON , CRISTIAN RIVERA","META","SAN MARTIN",{"$f":"+BASE_ANALISTA[[#This Row],[nombredelresponsable]]","v":"JUAN CARLOS"},"11001","25126"]
[900813470,"ELECTRODIAGNOSTICO GIRALDO SAS","ANALISTA CONCILIACIONES",3125547250,"JCRAMIREZ@FAMISANAR.COM.CO","DIANA SANTUARIO","JUAN RAMIREZ, MICHEL MALAGON , CRISTIAN RIVERA","TOLIMA ","IBAGUE",{"$f":"+BASE_ANALISTA[[#This Row],[nombredelresponsable]]","v":"DIANA SANTUARIO"},"11001","73148"]
[891001122,"CLINICA MONTERIA S.A.","ANALISTA CONCILIACIONES",3125547250,"JCRAMIREZ@FAMISANAR.COM.CO","DIANA SANTUARIO","JUAN RAMIREZ, MICHEL MALAGON , CRISTIAN RIVERA","CÓRDOBA","MONTERÍA",{"$f":"+BASE_ANALISTA[[#This Row],[nombredelresponsable]]","v":"DIANA SANTUARIO"},"11001","50001"]
[900435768,"avances terapeuticos ips sas","ANALISTA CONCILIACIONES",3125547250,"JCRAMIREZ@FAMISANAR.COM.CO","DIANA SANTUARIO","JUAN RAMIREZ, MICHEL MALAGON , CRISTIAN RIVERA","CUNDINAMARCA","BOGOTÁ D.C",{"$f":"+BASE_ANALISTA[[#This Row],[nombredelresponsable]]","v":"DIANA SANTUARIO"},"11001","50001"]
[860076321,"FUNDACION LIGA CENTRAL CONTRA LA EPILEPSIA","ANALISTA CONCILIACIONES",3125547250,"JCRAMIREZ@FAMISANAR.COM.CO","JUAN CARLOS","JUAN RAMIREZ, MICHEL MALAGON , CRISTIAN RIVERA","CUNDINAMARCA","BOGOTÁ D.C",{"$f":"+BASE_ANALISTA[[#This Row],[nombredelresponsable]]","v":"JUAN CARLOS"},"11001","47189"]
[800044402,"inversiones medicas de antioquia s.a. CLINICA LAS VEGAS","ANALISTA CONCILIACIONES",3125547250,"JCRAMIREZ@FAMISANAR.COM.CO","DIANA SANTUARIO","JUAN RAMIREZ, MICHEL MALAGON , CRISTIAN RIVERA","ANTIOQUIA","MEDELLÍN",{"$f":"+BASE_ANALISTA[[#This Row],[nombredelresponsable]]","v":"DIANA SANTUARIO"},"11001","41001"]
[900634864,"IPS TOTAL REHABILITATION","ANALISTA CONCILIACIONES",3125547250,"JCRAMIREZ@FAMISANAR.COM.CO","JUAN CARLOS","JUAN RAMIREZ, MICHEL MALAGON , CRISTIAN RIVERA","SANTANDER","BUCARAMANGA",{"$f":"+BASE_ANALISTA[[#This Row],[nombredelresponsable]]","v":"JUAN CARLOS"},"11001","25053"]
[809011517,"Medicina Intensiva del Tolima - UCI Honda","ANALISTA CONCILIACIONES",3125547250,"JCRAMIREZ@FAMISANAR.COM.CO","DIANA SANTUARIO","JUAN RAMIREZ, MICHEL MALAGON , CRISTIAN RIVERA","TOLIMA ","IBAGUE",{"$f":"+BASE_ANALISTA[[#This Row],[nombredelresponsable]]","v":"DIANA SANTUARIO"},"11001","25430"]
[800249139,"CLINICA GENERAL DE SOLEDAD Y CIA LTDA","ANALISTA CONCILIACIONES",3125547250,"JCRAMIREZ@FAMISANAR.COM.CO","JUAN CARLOS","JUAN RAMIREZ, MICHEL MALAGON , CRISTIAN RIVERA","ATLÁNTICO","SOLEDAD",{"$f":"+BASE_ANALISTA[[#This Row],[nombredelresponsable]]","v":"JUAN CARLOS"},"11001","73001"]
[900513306,"FUNDACION MARIA REINA","ANALISTA CONCILIACIONES",3125547250,"JCRAMIREZ@FAMISANAR.COM.CO","JUAN CARLOS","JUAN RAMIREZ, MICHEL MALAGON , CRISTIAN RIVERA","ATLÁNTICO","BARRANQUILLA",{"$f":"+BASE_ANALISTA[[#This Row],[nombredelresponsable]]","v":"JUAN CARLOS"},"11001","20001"]
[806007923,"empresa social del esatdo Hospital local Arjona","ANALISTA CONCILIACIONES",3125547250,"JCRAMIREZ@FAMISANAR.COM.CO","JUAN CARLOS","JUAN RAMIREZ, MICHEL MALAGON , CRISTIAN RIVERA","BOLIVAR","ARJONA",{"$f":"+BASE_ANALISTA[[#This Row],[nombredelresponsable]]","v":"JUAN CARLOS"},"11001","13001"]
[900602320,"CLINICA LA MISERICORDIA","ANALISTA CONCILIACIONES",3125547250,"JCRAMIREZ@FAMISANAR.COM.CO","JUAN CARLOS","JUAN RAMIREZ, MICHEL MALAGON , CRISTIAN RIVERA","BOLIVAR","CARTAGO",{"$f":"+BASE_ANALISTA[[#This Row],[nombredelresponsable]]","v":"JUAN CARLOS"},"11001","15646"]
[890704495,"HOSPITAL SAN ROQUE E.S.E COYAIMA","ANALISTA CONCILIACIONES",3125547250,"JCRAMIREZ@FAMISANAR.COM.CO","DIANA SANTUARIO","JUAN RAMIREZ, MICHEL MALAGON , CRISTIAN RIVERA","TOLIMA ","COYAIMA",{"$f":"+BASE_ANALISTA[[#This Row],[nombredelresponsable]]","v":"DIANA SANTUARIO"},"11001","05628"]
[802009766,"hospital departamental juan dominguez romero de soledad ese","ANALISTA CONCILIACIONES",3125547250,"JCRAMIREZ@FAMISANAR.COM.CO","JUAN CARLOS","JUAN RAMIREZ, MICHEL MALAGON , CRISTIAN RIVERA","ATLÁNTICO","SOLEDAD",{"$f":"+BASE_ANALISTA[[#This Row],[nombredelresponsable]]","v":"JUAN CARLOS"},"11001","68081"]
[845000038,"ESE HOSPITAL SAN ANTONIO DE MITU","ANALISTA CONCILIACIONES",3125547250,"JCRAMIREZ@FAMISANAR.COM.CO","DIANA SANTUARIO","JUAN RAMIREZ, MICHEL MALAGON , CRISTIAN RIVERA","VAUPÉS","MITÚ",{"$f":"+BASE_ANALISTA[[#This Row],[nombredelresponsable]]","v":"DIANA SANTUARIO"},"11001","13001"]
[890702190,"HOSPITAL SUMAPAZ E.S.E","ANALISTA CONCILIACIONES",3125547250,"JCRAMIREZ@FAMISANAR.COM.CO","DIANA SANTUARIO","JUAN RAMIREZ, MICHEL MALAGON , CRISTIAN RIVERA","TOLIMA ","ICONONZO",{"$f":"+BASE_ANALISTA[[#This Row],[nombredelresponsable]]","v":"DIANA SANTUARIO"},"11001","73001"]
[891079999,"E.S.E HOSPITAL SAN JERONIMO DE MONTERIA","ANALISTA CONCILIACIONES",3125547250,"JCRAMIREZ@FAMISANAR.COM.CO","DIANA SANTUARIO","JUAN RAMIREZ, MICHEL MALAGON , CRISTIAN RIVERA","CÓRDOBA","MONTERÍA",{"$f":"+BASE_ANALISTA[[#This Row],[nombredelresponsable]]","v":"DIANA SANTUARIO"},"11001","52001"]
[800024744,"Unidad de Cirugia del Tolima UNICAT","ANALISTA CONCILIACIONES",3125547250,"JCRAMIREZ@FAMISANAR.COM.CO","DIANA SANTUARIO","JUAN RAMIREZ, MICHEL MALAGON , CRISTIAN RIVERA","TOLIMA ","IBAGUE",{"$f":"+BASE_ANALISTA[[#This Row],[nombredelresponsable]]","v":"DIANA SANTUARIO"},"11001","68001"]
[892280033,"HOSPITAL UNIVERSITARIO DE SINCELEJO E.S.E","ANALISTA CONCILIACIONES",3125547250,"JCRAMIREZ@FAMISANAR.COM.CO","DIANA SANTUARIO","JUAN RAMIREZ, MICHEL MALAGON , CRISTIAN RIVERA","SUCRE","SINCELEJO",{"$f":"+BASE_ANALISTA[[#This Row],[nombredelresponsable]]","v":"DIANA SANTUARIO"},"11001","15238"]
[891200240,"HOSPITAL INFANTIL LOS ANGELES","ANALISTA CONCILIACIONES",3125547250,"JCRAMIREZ@FAMISANAR.COM.CO","DIANA SANTUARIO","JUAN RAMIREZ, MICHEL MALAGON , CRISTIAN RIVERA","NARIÑO","PASTO",{"$f":"+BASE_ANALISTA[[#This Row],[nombredelresponsable]]","v":"DIANA SANTUARIO"},"11001","41001"]
[800152039,"CLINICA HONDA LTDA","ANALISTA CONCILIACIONES",3125547250,"JCRAMIREZ@FAMISANAR.COM.CO","DIANA SANTUARIO","JUAN RAMIREZ, MICHEL MALAGON , CRISTIAN RIVERA","TOLIMA ","HONDA",{"$f":"+BASE_ANALISTA[[#This Row],[nombredelresponsable]]","v":"DIANA SANTUARIO"},"11001","13001"]
[890702408,"HOSPITAL SAN ANTONIO  DE AMBALEMA E.S.E","ANALISTA CONCILIACIONES",3125547250,"JCRAMIREZ@FAMISANAR.COM.CO","DIANA SANTUARIO","JUAN RAMIREZ, MICHEL MALAGON , CRISTIAN RIVERA","TOLIMA ","AMBALEMA",{"$f":"+BASE_ANALISTA[[#This Row],[nombredelresponsable]]","v":"DIANA SANTUARIO"},"11001","68001"]
[890111897,"SOCIEDAD DE MEDICINA NUCLEAR-SOMENUCLEAR S.A","ANALISTA CONCILIACIONES",3125547250,"JCRAMIREZ@FAMISANAR.COM.CO","JUAN CARLOS","JUAN RAMIREZ, MICHEL MALAGON , CRISTIAN RIVERA","ATLÁNTICO","BARRANQUILLA",{"$f":"+BASE_ANALISTA[[#This Row],[nombredelresponsable]]","v":"JUAN CARLOS"},"11001","47001"]
[800231235,"ESE HOSPITAL UNIVERSITARIO SAN JORGE DE PEREIRA","ANALISTA CONCILIACIONES",3125547250,"JCRAMIREZ@FAMISANAR.COM.CO","DIANA SANTUARIO","JUAN RAMIREZ, MICHEL MALAGON , CRISTIAN RIVERA","RISARALDA","PEREIRA",{"$f":"+BASE_ANALISTA[[#This Row],[nombredelresponsable]]","v":"DIANA SANTUARIO"},"11001","08001"]
[802004504,"YEPES RESTREPO & CIA S EN C","ANALISTA CONCILIACIONES",3125547250,"JCRAMIREZ@FAMISANAR.COM.CO","JUAN CARLOS","JUAN RAMIREZ, MICHEL MALAGON , CRISTIAN RIVERA","ATLÁNTICO","BARRANQUILLA",{"$f":"+BASE_ANALISTA[[#This Row],[nombredelresponsable]]","v":"JUAN CARLOS"},"11001","08758"]
[820001103,"sociedad medica ames ltda","ANALISTA CONCILIACIONES",3125547250,"JCRAMIREZ@FAMISANAR.COM.CO","DIANA SANTUARIO","JUAN RAMIREZ, MICHEL MALAGON , CRISTIAN RIVERA","BOYACÁ","CHIQUINQUIRA",{"$f":"+BASE_ANALISTA[[#This Row],[nombredelresponsable]]","v":"DIANA SANTUARIO"},"11001","86001"]
[890807591,"SERVICIOS ESPECIALES DE SALUD","ANALISTA CONCILIACIONES",3125547250,"JCRAMIREZ@FAMISANAR.COM.CO","JUAN CARLOS","JUAN RAMIREZ, MICHEL MALAGON , CRISTIAN RIVERA","CALDAS","MANIZALES",{"$f":"+BASE_ANALISTA[[#This Row],[nombredelresponsable]]","v":"JUAN CARLOS"},"11001","15176"]
[800054299,"ASOCIACION COLOMBIANA DE PADRES CON HIJOS ESPECIALES ACPHES","ANALISTA CONCILIACIONES",3125547250,"JCRAMIREZ@FAMISANAR.COM.CO","DIANA SANTUARIO","JUAN RAMIREZ, MICHEL MALAGON , CRISTIAN RIVERA","CUNDINAMARCA","BOGOTÁ D.C",{"$f":"+BASE_ANALISTA[[#This Row],[nombredelresponsable]]","v":"DIANA SANTUARIO"},"11001","73001"]
[860060016,"ESE HOSPITAL SAN FRANCISO","ANALISTA CONCILIACIONES",3125547250,"JCRAMIREZ@FAMISANAR.COM.CO","DIANA SANTUARIO","JUAN RAMIREZ, MICHEL MALAGON , CRISTIAN RIVERA","BOYACÁ","SAN LUIS DE GACENO",{"$f":"+BASE_ANALISTA[[#This Row],[nombredelresponsable]]","v":"DIANA SANTUARIO"},"11001","20770"]
[890000381,"CAJA COMPENSACION FAMILIAR COMFENALCO QUINDIO","ANALISTA CONCILIACIONES",3125547250,"JCRAMIREZ@FAMISANAR.COM.CO","JUAN CARLOS","JUAN RAMIREZ, MICHEL MALAGON , CRISTIAN RIVERA","QUINDÍO","ARMENIA",{"$f":"+BASE_ANALISTA[[#This Row],[nombredelresponsable]]","v":"JUAN CARLOS"},"11001","76147"]
[825001800,"CLINICA SOMEDA LTDA","ANALISTA CONCILIACIONES",3125547250,"JCRAMIREZ@FAMISANAR.COM.CO","DIANA SANTUARIO","JUAN RAMIREZ, MICHEL MALAGON , CRISTIAN RIVERA","LA GUAJIRA","SAN JUAN DEL CESAR",{"$f":"+BASE_ANALISTA[[#This Row],[nombredelresponsable]]","v":"DIANA SANTUARIO"},"11001","50001"]
[800187260,"INSTITUO DE ENFERMEDADES DIGESTIVAS DEL HUILA LTDA","ANALISTA CONCILIACIONES",3125547250,"JCRAMIREZ@FAMISANAR.COM.CO","DIANA SANTUARIO","JUAN RAMIREZ, MICHEL MALAGON , CRISTIAN RIVERA","HUILA","NEIVA",{"$f":"+BASE_ANALISTA[[#This Row],[nombredelresponsable]]","v":"DIANA SANTUARIO"},"11001","44650"]
[900255583,"CENTRO NEUROLOGICO INTEGRAL DE SANTANDER NISA E.U.","ANALISTA CONCILIACIONES",3125547250,"JCRAMIREZ@FAMISANAR.COM.CO","JUAN CARLOS","JUAN RAMIREZ, MICHEL MALAGON , CRISTIAN RIVERA","SANTANDER","BUCARAMANGA",{"$f":"+BASE_ANALISTA[[#This Row],[nombredelresponsable]]","v":"JUAN CARLOS"},"11001","68001"]
[900670943,"GASTRO PACK SAS","ANALISTA CONCILIACIONES",3125547250,"JCRAMIREZ@FAMISANAR.COM.CO","JUAN CARLOS","JUAN RAMIREZ, MICHEL MALAGON , CRISTIAN RIVERA","BOLIVAR","CARTAGENA",{"$f":"+BASE_ANALISTA[[#This Row],[nombredelresponsable]]","v":"JUAN CARLOS"},"11001","15753"]
[900179340,"CENTRO DE CIRUGIA LAPAROSCOPICA Y ENDOSCOPICA DIGESTIVA DEL CESAR","ANALISTA CONCILIACIONES",3125547250,"JCRAMIREZ@FAMISANAR.COM.CO","DIANA SANTUARIO","JUAN RAMIREZ, MICHEL MALAGON , CRISTIAN RIVERA","CESAR","VALLEDUPAR",{"$f":"+BASE_ANALISTA[[#This Row],[nombredelresponsable]]","v":"DIANA SANTUARIO"},"11001","20001"]
[820003524,"EMPRESA SOCIAL DEL ESTADO CENTRO DE SALUD DE TOCA","ANALISTA CONCILIACIONES",3125547250,"JCRAMIREZ@FAMISANAR.COM.CO","DIANA SANTUARIO","JUAN RAMIREZ, MICHEL MALAGON , CRISTIAN RIVERA","BOYACÁ","TOCA",{"$f":"+BASE_ANALISTA[[#This Row],[nombredelresponsable]]","v":"DIANA SANTUARIO"},"11001","73217"]
[800231602,"SOCIEDAD DE CIRUGIA OCULAR S.A.","ANALISTA CONCILIACIONES",3125547250,"JCRAMIREZ@FAMISANAR.COM.CO","DIANA SANTUARIO","JUAN RAMIREZ, MICHEL MALAGON , CRISTIAN RIVERA","CUNDINAMARCA","BOGOTÁ D.C",{"$f":"+BASE_ANALISTA[[#This Row],[nombredelresponsable]]","v":"DIANA SANTUARIO"},"11001","68001"]
[900643615,"FUNDACION LUGAR DE ENCUENTRO SAN FRANCISCO DE ASIS","ANALISTA CONCILIACIONES",3125547250,"JCRAMIREZ@FAMISANAR.COM.CO","JUAN CARLOS","JUAN RAMIREZ, MICHEL MALAGON , CRISTIAN RIVERA","COLOMBIA","COLOMBIA",{"$f":"+BASE_ANALISTA[[#This Row],[nombredelresponsable]]","v":"JUAN CARLOS"},"11001","68001"]
[824000426,"HOSPITAL LOCAL CURUMANI CRISTIAN MORENO PALLARES","ANALISTA CONCILIACIONES",3125547250,"JCRAMIREZ@FAMISANAR.COM.CO","DIANA SANTUARIO","JUAN RAMIREZ, MICHEL MALAGON , CRISTIAN RIVERA","CESAR","VALLEDUPAR",{"$f":"+BASE_ANALISTA[[#This Row],[nombredelresponsable]]","v":"DIANA SANTUARIO"},"11001","08001"]
[802001084,"IPS CLÍNICA SANTA ANA DE BARANOA LTDA.","ANALISTA CONCILIACIONES",3125547250,"JCRAMIREZ@FAMISANAR.COM.CO","JUAN CARLOS","JUAN RAMIREZ, MICHEL MALAGON , CRISTIAN RIVERA","ATLÁNTICO","BARANOA",{"$f":"+BASE_ANALISTA[[#This Row],[nombredelresponsable]]","v":"JUAN CARLOS"},"11001","08001"]
[890203242,"ESE HOSPITAL SAN JUAN DE DIOS DE GIRON","ANALISTA CONCILIACIONES",3125547250,"JCRAMIREZ@FAMISANAR.COM.CO","JUAN CARLOS","JUAN RAMIREZ, MICHEL MALAGON , CRISTIAN RIVERA","SANTANDER","GIRON",{"$f":"+BASE_ANALISTA[[#This Row],[nombredelresponsable]]","v":"JUAN CARLOS"},"11001","50001"]
[802000774,"CLINICA ALTOS DE SAN VICENTE LTDA","ANALISTA CONCILIACIONES",3125547250,"JCRAMIREZ@FAMISANAR.COM.CO","JUAN CARLOS","JUAN RAMIREZ, MICHEL MALAGON , CRISTIAN RIVERA","ATLÁNTICO","BARRANQUILLA",{"$f":"+BASE_ANALISTA[[#This Row],[nombredelresponsable]]","v":"JUAN CARLOS"},"11001","15469"]
[800033723,"SERVICIOS MEDICOS OLIMPUS IPS LIMITADA","ANALISTA CONCILIACIONES",3125547250,"JCRAMIREZ@FAMISANAR.COM.CO","JUAN CARLOS","JUAN RAMIREZ, MICHEL MALAGON , CRISTIAN RIVERA","ATLÁNTICO","BARRANQUILLA",{"$f":"+BASE_ANALISTA[[#This Row],[nombredelresponsable]]","v":"JUAN CARLOS"},"11001","19001"]
[800084206,"INSTITUTO DE SALUD DE BUCARAMANGA - ESE ISABU","ANALISTA CONCILIACIONES",3125547250,"JCRAMIREZ@FAMISANAR.COM.CO","JUAN CARLOS","JUAN RAMIREZ, MICHEL MALAGON , CRISTIAN RIVERA","SANTANDER","BUCARAMANGA",{"$f":"+BASE_ANALISTA[[#This Row],[nombredelresponsable]]","v":"JUAN CARLOS"},"11001","70001"]
[824006352,"OFTALMOLOGOS ASOCIADOS SAS","ANALISTA CONCILIACIONES",3125547250,"JCRAMIREZ@FAMISANAR.COM.CO","DIANA SANTUARIO","JUAN RAMIREZ, MICHEL MALAGON , CRISTIAN RIVERA","CESAR","VALLEDUPAR",{"$f":"+BASE_ANALISTA[[#This Row],[nombredelresponsable]]","v":"DIANA SANTUARIO"},"11001","15667"]
[900175569,"CARIBBEAN ORTHODONTICS DENTAL SPECIALITIES","ANALISTA CONCILIACIONES",3125547250,"JCRAMIREZ@FAMISANAR.COM.CO","DIANA SANTUARIO","JUAN RAMIREZ, MICHEL MALAGON , CRISTIAN RIVERA","MAGDALENA","SANTA MARTA",{"$f":"+BASE_ANALISTA[[#This Row],[nombredelresponsable]]","v":"DIANA SANTUARIO"},"11001","41001"]
[822006595,"ESE SOLUCION SALUD DEPARTAMENTO DEL META","ANALISTA CONCILIACIONES",3125547250,"JCRAMIREZ@FAMISANAR.COM.CO","JUAN CARLOS","JUAN RAMIREZ, MICHEL MALAGON , CRISTIAN RIVERA","META","RESTREPO",{"$f":"+BASE_ANALISTA[[#This Row],[nombredelresponsable]]","v":"JUAN CARLOS"},"11001","73349"]
[900322565,"SERVICIOS MEDICOS INTEGRALES DE COLOMBIA.SERVICIO DE AMBULANCIA PREPAGADO S.A.S SEMISAP","ANALISTA CONCILIACIONES",3125547250,"JCRAMIREZ@FAMISANAR.COM.CO","JUAN CARLOS","JUAN RAMIREZ, MICHEL MALAGON , CRISTIAN RIVERA","META","VILLAVICENCIO",{"$f":"+BASE_ANALISTA[[#This Row],[nombredelresponsable]]","v":"JUAN CARLOS"},"11001","08001"]
[900373690,"UNIDHOS S.A.S","ANALISTA CONCILIACIONES",3125547250,"JCRAMIREZ@FAMISANAR.COM.CO","JUAN CARLOS","JUAN RAMIREZ, MICHEL MALAGON , CRISTIAN RIVERA","SANTANDER","BUCARAMANGA",{"$f":"+BASE_ANALISTA[[#This Row],[nombredelresponsable]]","v":"JUAN CARLOS"},"11001","68861"]
[820004318,"ESE MANUEL ELKIN PATARROYO OTANCHE","ANALISTA CONCILIACIONES",3125547250,"JCRAMIREZ@FAMISANAR.COM.CO","DIANA SANTUARIO","JUAN RAMIREZ, MICHEL MALAGON , CRISTIAN RIVERA","BOYACÁ","OTANCHE",{"$f":"+BASE_ANALISTA[[#This Row],[nombredelresponsable]]","v":"DIANA SANTUARIO"},"11001","50001"]
[800125697,"HOSPITAL NELSON RESTREPO MARTINEZ","ANALISTA CONCILIACIONES",3125547250,"JCRAMIREZ@FAMISANAR.COM.CO","DIANA SANTUARIO","JUAN RAMIREZ, MICHEL MALAGON , CRISTIAN RIVERA","TOLIMA ","ARMERO",{"$f":"+BASE_ANALISTA[[#This Row],[nombredelresponsable]]","v":"DIANA SANTUARIO"},"11001","25154"]
[900085612,"SANTA HELENA DEL VALLE IPS SAS","ANALISTA CONCILIACIONES",3125547250,"JCRAMIREZ@FAMISANAR.COM.CO","DIANA SANTUARIO","JUAN RAMIREZ, MICHEL MALAGON , CRISTIAN RIVERA","CESAR","VALLEDUPAR",{"$f":"+BASE_ANALISTA[[#This Row],[nombredelresponsable]]","v":"DIANA SANTUARIO"},"11001","15814"]
[900247822,"REHABILITACIÓN INTEGRAL INFANTIL ESPECIALIZADA SAS","ANALISTA CONCILIACIONES",3125547250,"JCRAMIREZ@FAMISANAR.COM.CO","DIANA SANTUARIO","JUAN RAMIREZ, MICHEL MALAGON , CRISTIAN RIVERA","CUNDINAMARCA","BOGOTÁ D.C",{"$f":"+BASE_ANALISTA[[#This Row],[nombredelresponsable]]","v":"DIANA SANTUARIO"},"11001","13001"]
[900364822,"CONEQUIPOS MEDICA SAS - CLÍNICA PROYECTARTE","ANALISTA CONCILIACIONES",3125547250,"JCRAMIREZ@FAMISANAR.COM.CO","DIANA SANTUARIO","JUAN RAMIREZ, MICHEL MALAGON , CRISTIAN RIVERA","CUNDINAMARCA","BOGOTÁ D.C",{"$f":"+BASE_ANALISTA[[#This Row],[nombredelresponsable]]","v":"DIANA SANTUARIO"},"11001","68001"]
[900798173,"CENTRO DE REHABILITACION NEUROLOGICA NUEVOS HORIZONTES S.A.S.","ANALISTA CONCILIACIONES",3125547250,"JCRAMIREZ@FAMISANAR.COM.CO","JUAN CARLOS","JUAN RAMIREZ, MICHEL MALAGON , CRISTIAN RIVERA","ATLÁNTICO","BARRANQUILLA",{"$f":"+BASE_ANALISTA[[#This Row],[nombredelresponsable]]","v":"JUAN CARLOS"},"11001","08078"]
[890911816,"CLINICA MEDELLÍN S.A.","ANALISTA CONCILIACIONES",3125547250,"JCRAMIREZ@FAMISANAR.COM.CO","DIANA SANTUARIO","JUAN RAMIREZ, MICHEL MALAGON , CRISTIAN RIVERA","ANTIOQUIA","MEDELLÍN",{"$f":"+BASE_ANALISTA[[#This Row],[nombredelresponsable]]","v":"DIANA SANTUARIO"},"11001","13052"]
[824000439,"CENTRO CARDIOLOGICO VALLEDUPAR LTDA","ANALISTA CONCILIACIONES",3125547250,"JCRAMIREZ@FAMISANAR.COM.CO","DIANA SANTUARIO","JUAN RAMIREZ, MICHEL MALAGON , CRISTIAN RIVERA","CESAR","VALLEDUPAR",{"$f":"+BASE_ANALISTA[[#This Row],[nombredelresponsable]]","v":"DIANA SANTUARIO"},"11001","68081"]
[806001061,"ESE CLINICA DE MATERNIDAD RAFAEL CALVO CASTAÑO","ANALISTA CONCILIACIONES",3125547250,"JCRAMIREZ@FAMISANAR.COM.CO","JUAN CARLOS","JUAN RAMIREZ, MICHEL MALAGON , CRISTIAN RIVERA","BOLIVAR","CARTAGENA",{"$f":"+BASE_ANALISTA[[#This Row],[nombredelresponsable]]","v":"JUAN CARLOS"},"11001","76834"]
[800089364,"INSTITUTO DE CORNEA SAS","ANALISTA CONCILIACIONES",3125547250,"JCRAMIREZ@FAMISANAR.COM.CO","JUAN CARLOS","JUAN RAMIREZ, MICHEL MALAGON , CRISTIAN RIVERA","CUNDINAMARCA","BOGOTÁ D.C",{"$f":"+BASE_ANALISTA[[#This Row],[nombredelresponsable]]","v":"JUAN CARLOS"},"11001","68307"]
[806000540,"SERVICIOS MÉDICOS AMBULATORIOS SAS - SERVIMEDAS","ANALISTA CONCILIACIONES",3125547250,"JCRAMIREZ@FAMISANAR.COM.CO","JUAN CARLOS","JUAN RAMIREZ, MICHEL MALAGON , CRISTIAN RIVERA","BOLIVAR","CARTAGENA",{"$f":"+BASE_ANALISTA[[#This Row],[nombredelresponsable]]","v":"JUAN CARLOS"},"11001","73001"]
[806013287,"SERVICIOS FONOAUDIOLOGICOS DEL CARIBE SAS","ANALISTA CONCILIACIONES",3125547250,"JCRAMIREZ@FAMISANAR.COM.CO","JUAN CARLOS","JUAN RAMIREZ, MICHEL MALAGON , CRISTIAN RIVERA","BOLIVAR","CARTAGENA",{"$f":"+BASE_ANALISTA[[#This Row],[nombredelresponsable]]","v":"JUAN CARLOS"},"11001","13001"]
[900624158,"centro de terapias integrales PROGRESAR S.A.S","ANALISTA CONCILIACIONES",3125547250,"JCRAMIREZ@FAMISANAR.COM.CO","JUAN CARLOS","JUAN RAMIREZ, MICHEL MALAGON , CRISTIAN RIVERA","ATLÁNTICO","BARRANQUILLA",{"$f":"+BASE_ANALISTA[[#This Row],[nombredelresponsable]]","v":"JUAN CARLOS"},"11001","68547"]
[830003807,"INTEGRA MEDICA COLOMBIA SA","ANALISTA CONCILIACIONES",3125547250,"JCRAMIREZ@FAMISANAR.COM.CO","JUAN CARLOS","JUAN RAMIREZ, MICHEL MALAGON , CRISTIAN RIVERA","CUNDINAMARCA","BOGOTÁ D.C",{"$f":"+BASE_ANALISTA[[#This Row],[nombredelresponsable]]","v":"JUAN CARLOS"},"11001","73352"]
[800254850,"ESE HOSPITAL SANTA ANA DE MUZO","ANALISTA CONCILIACIONES",3125547250,"JCRAMIREZ@FAMISANAR.COM.CO","DIANA SANTUARIO","JUAN RAMIREZ, MICHEL MALAGON , CRISTIAN RIVERA","BOYACÁ","MUZO",{"$f":"+BASE_ANALISTA[[#This Row],[nombredelresponsable]]","v":"DIANA SANTUARIO"},"11001","08001"]
[900601052,"UNIDAD PEDIÁTRICA SIMÓN BOLÍVAR IPS S.A.S","ANALISTA CONCILIACIONES",3125547250,"JCRAMIREZ@FAMISANAR.COM.CO","DIANA SANTUARIO","JUAN RAMIREZ, MICHEL MALAGON , CRISTIAN RIVERA","CESAR","VALLEDUPAR",{"$f":"+BASE_ANALISTA[[#This Row],[nombredelresponsable]]","v":"DIANA SANTUARIO"},"11001","15507"]
[901108114,"NUEVA EMPRESA SOCIAL DEL ESTADO HOSPITAL DEPARTAMENTAL SAN FRANCISCO DE ASÍS ","ANALISTA CONCILIACIONES",3125547250,"JCRAMIREZ@FAMISANAR.COM.CO","DIANA SANTUARIO","JUAN RAMIREZ, MICHEL MALAGON , CRISTIAN RIVERA","QUIBDÓ","CHOCO",{"$f":"+BASE_ANALISTA[[#This Row],[nombredelresponsable]]","v":"DIANA SANTUARIO"},"11001","15001"]
[900936058,"CLINICA REINA LUCIA SAS","ANALISTA CONCILIACIONES",3125547250,"JCRAMIREZ@FAMISANAR.COM.CO","DIANA SANTUARIO","JUAN RAMIREZ, MICHEL MALAGON , CRISTIAN RIVERA","QUINDÍO","BARRANCABERMEJA",{"$f":"+BASE_ANALISTA[[#This Row],[nombredelresponsable]]","v":"DIANA SANTUARIO"},"11001","08001"]
[860055083,"FUNDACIÓN CLÍNICA HOSPITAL JUAN N CORPAS Y CENTROS ASISTENCIALES AFINES","ANALISTA CONCILIACIONES",3125547250,"JCRAMIREZ@FAMISANAR.COM.CO","DIANA SANTUARIO","JUAN RAMIREZ, MICHEL MALAGON , CRISTIAN RIVERA","CUNDINAMARCA","BOGOTÁ D.C",{"$f":"+BASE_ANALISTA[[#This Row],[nombredelresponsable]]","v":"DIANA SANTUARIO"},"11001","13001"]
[901183879,"UNIDAD DE SALUD MENTAL Y PSICOACTIVAS IPS S.A.S","ANALISTA CONCILIACIONES",3125547250,"JCRAMIREZ@FAMISANAR.COM.CO","JUAN CARLOS","JUAN RAMIREZ, MICHEL MALAGON , CRISTIAN RIVERA","COLOMBIA","COLOMBIA",{"$f":"+BASE_ANALISTA[[#This Row],[nombredelresponsable]]","v":"JUAN CARLOS"},"11001","50001"]
[890706823,"HOSPITAL REINA SOFIA DE ESPAÑA","ANALISTA CONCILIACIONES",3125547250,"JCRAMIREZ@FAMISANAR.COM.CO","DIANA SANTUARIO","JUAN RAMIREZ, MICHEL MALAGON , CRISTIAN RIVERA","TOLIMA ","LERIDA",{"$f":"+BASE_ANALISTA[[#This Row],[nombredelresponsable]]","v":"DIANA SANTUARIO"},"11001","15455"]
[890100279,"CLINICA SANTA MONICA SAS","ANALISTA CONCILIACIONES",3125547250,"JCRAMIREZ@FAMISANAR.COM.CO","JUAN CARLOS","JUAN RAMIREZ, MICHEL MALAGON , CRISTIAN RIVERA","ATLÁNTICO","BARRANQUILLA",{"$f":"+BASE_ANALISTA[[#This Row],[nombredelresponsable]]","v":"JUAN CARLOS"},"11001","20001"]
[800098325,"CENTRO DE DIAGNOSTICO CARDIOLOGICO LTDA.","ANALISTA CONCILIACIONES",3125547250,"JCRAMIREZ@FAMISANAR.COM.CO","JUAN CARLOS","JUAN RAMIREZ, MICHEL MALAGON , CRISTIAN RIVERA","BOLIVAR","CARTAGENA",{"$f":"+BASE_ANALISTA[[#This Row],[nombredelresponsable]]","v":"JUAN CARLOS"},"11001","08001"]
[900669601,"CENTRO DE DIAGNOSTICO AVANZADO SAS - TUNJA","ANALISTA CONCILIACIONES",3125547250,"JCRAMIREZ@FAMISANAR.COM.CO","JUAN CARLOS","JUAN RAMIREZ, MICHEL MALAGON , CRISTIAN RIVERA","BOYACA","TUNJA",{"$f":"+BASE_ANALISTA[[#This Row],[nombredelresponsable]]","v":"JUAN CARLOS"},"11001","68001"]
[900306367,"biogenetica s.a.s","ANALISTA CONCILIACIONES",3125547250,"JCRAMIREZ@FAMISANAR.COM.CO","JUAN CARLOS","JUAN RAMIREZ, MICHEL MALAGON , CRISTIAN RIVERA","CUNDINAMARCA","BOGOTÁ D.C",{"$f":"+BASE_ANALISTA[[#This Row],[nombredelresponsable]]","v":"JUAN CARLOS"},"11001","25843"]
[890111339,"PASTEUR LABORATORIOS CLINICOS DE COLOMBIA S.A.","ANALISTA CONCILIACIONES",3125547250,"JCRAMIREZ@FAMISANAR.COM.CO","JUAN CARLOS","JUAN RAMIREZ, MICHEL MALAGON , CRISTIAN RIVERA","ATLÁNTICO","BARRANQUILLA",{"$f":"+BASE_ANALISTA[[#This Row],[nombredelresponsable]]","v":"JUAN CARLOS"},"11001","13001"]
[900103906,"CENTRO RADIOLOGICO","ANALISTA CONCILIACIONES",3125547250,"JCRAMIREZ@FAMISANAR.COM.CO","JUAN CARLOS","JUAN RAMIREZ, MICHEL MALAGON , CRISTIAN RIVERA","BOLIVAR","CARTAGENA",{"$f":"+BASE_ANALISTA[[#This Row],[nombredelresponsable]]","v":"JUAN CARLOS"},"11001","15480"]
[819006193,"INSTITUTO PSIQUIÁTRICO NUESTRA SEÑORA DEL CARMEN INSECAR SAS","ANALISTA CONCILIACIONES",3125547250,"JCRAMIREZ@FAMISANAR.COM.CO","DIANA SANTUARIO","JUAN RAMIREZ, MICHEL MALAGON , CRISTIAN RIVERA","MAGDALENA","SANTA MARTA",{"$f":"+BASE_ANALISTA[[#This Row],[nombredelresponsable]]","v":"DIANA SANTUARIO"},"11001","68081"]
[900009080,"DENTISANA LTDA.","ANALISTA CONCILIACIONES",3125547250,"JCRAMIREZ@FAMISANAR.COM.CO","DIANA SANTUARIO","JUAN RAMIREZ, MICHEL MALAGON , CRISTIAN RIVERA","CESAR","VALLEDUPAR",{"$f":"+BASE_ANALISTA[[#This Row],[nombredelresponsable]]","v":"DIANA SANTUARIO"},"11001","08001"]
[830100228,"Cardio Global LTDA","ANALISTA CONCILIACIONES",3125547250,"JCRAMIREZ@FAMISANAR.COM.CO","DIANA SANTUARIO","JUAN RAMIREZ, MICHEL MALAGON , CRISTIAN RIVERA","CUNDINAMARCA","BOGOTÁ D.C",{"$f":"+BASE_ANALISTA[[#This Row],[nombredelresponsable]]","v":"DIANA SANTUARIO"},"11001","15001"]
[900269973,"LABORATORIO CLINICO BIOANALISIS IBAGUE E.U","ANALISTA CONCILIACIONES",3125547250,"JCRAMIREZ@FAMISANAR.COM.CO","DIANA SANTUARIO","JUAN RAMIREZ, MICHEL MALAGON , CRISTIAN RIVERA","TOLIMA ","IBAGUE",{"$f":"+BASE_ANALISTA[[#This Row],[nombredelresponsable]]","v":"DIANA SANTUARIO"},"11001","20001"]
[900502421,"CENTRO DE REHABILITACION Y EDUCACION ESPECIAL MEJORA IPS SAS","ANALISTA CONCILIACIONES",3125547250,"JCRAMIREZ@FAMISANAR.COM.CO","JUAN CARLOS","JUAN RAMIREZ, MICHEL MALAGON , CRISTIAN RIVERA","ATLÁNTICO","BARRANQUILLA",{"$f":"+BASE_ANALISTA[[#This Row],[nombredelresponsable]]","v":"JUAN CARLOS"},"11001","50606"]
[832010048,"UT HOSPITAL CARDIOVASCULAR DEL NIÑO DE CUNDINAMARCA","ANALISTA CONCILIACIONES",3125547250,"JCRAMIREZ@FAMISANAR.COM.CO","DIANA SANTUARIO","JUAN RAMIREZ, MICHEL MALAGON , CRISTIAN RIVERA","CUNDINAMARCA","SOACHA",{"$f":"+BASE_ANALISTA[[#This Row],[nombredelresponsable]]","v":"DIANA SANTUARIO"},"11001","73504"]
[900848340,"CLINICA CENTRAL DEL QUINDIO S.A.S","ANALISTA CONCILIACIONES",3125547250,"JCRAMIREZ@FAMISANAR.COM.CO","JUAN CARLOS","JUAN RAMIREZ, MICHEL MALAGON , CRISTIAN RIVERA","QUINDÍO","ARMENIA",{"$f":"+BASE_ANALISTA[[#This Row],[nombredelresponsable]]","v":"JUAN CARLOS"},"11001","73449"]
[892200273,"CLINICA LAS PEÑITAS SAS","ANALISTA CONCILIACIONES",3125547250,"JCRAMIREZ@FAMISANAR.COM.CO","DIANA SANTUARIO","JUAN RAMIREZ, MICHEL MALAGON , CRISTIAN RIVERA","SUCRE","SINCELEJO",{"$f":"+BASE_ANALISTA[[#This Row],[nombredelresponsable]]","v":"DIANA SANTUARIO"},"11001","73408"]
[830053297,"INSTITUTO OFTALMOLOGICO SALAMANCA LTDA","ANALISTA CONCILIACIONES",3125547250,"JCRAMIREZ@FAMISANAR.COM.CO","JUAN CARLOS","JUAN RAMIREZ, MICHEL MALAGON , CRISTIAN RIVERA","CUNDINAMARCA","BOGOTÁ D.C",{"$f":"+BASE_ANALISTA[[#This Row],[nombredelresponsable]]","v":"JUAN CARLOS"},"11001","20001"]
[899999026,"CAPRECOM - CAJA DE PREVISION SOCIAL DE COMUNICACION CAPRECOM EPS","ANALISTA CONCILIACIONES",3125547250,"JCRAMIREZ@FAMISANAR.COM.CO","JUAN CARLOS","JUAN RAMIREZ, MICHEL MALAGON , CRISTIAN RIVERA","CUNDINAMARCA","GIRARDOT",{"$f":"+BASE_ANALISTA[[#This Row],[nombredelresponsable]]","v":"JUAN CARLOS"},"11001","73001"]
[800099652,"CLINICA LA CAROLINA SA","ANALISTA CONCILIACIONES",3125547250,"JCRAMIREZ@FAMISANAR.COM.CO","DIANA SANTUARIO","JUAN RAMIREZ, MICHEL MALAGON , CRISTIAN RIVERA","CUNDINAMARCA","BOGOTÁ D.C",{"$f":"+BASE_ANALISTA[[#This Row],[nombredelresponsable]]","v":"DIANA SANTUARIO"},"11001","08001"]
[900133528,"ASISTENCIA DOMICILIARIA INTEGRAL - ADI","ANALISTA CONCILIACIONES",3125547250,"JCRAMIREZ@FAMISANAR.COM.CO","JUAN CARLOS","JUAN RAMIREZ, MICHEL MALAGON , CRISTIAN RIVERA","ATLÁNTICO","BARRANQUILLA",{"$f":"+BASE_ANALISTA[[#This Row],[nombredelresponsable]]","v":"JUAN CARLOS"},"11001","20001"]
[890701490,"HOSPITAL SAN VICENTE DE PAUL E.S.E PRADO","ANALISTA CONCILIACIONES",3125547250,"JCRAMIREZ@FAMISANAR.COM.CO","DIANA SANTUARIO","JUAN RAMIREZ, MICHEL MALAGON , CRISTIAN RIVERA","TOLIMA ","PRADO",{"$f":"+BASE_ANALISTA[[#This Row],[nombredelresponsable]]","v":"DIANA SANTUARIO"},"11001","08001"]
[900196346,"ESE HOSPITAL NUESTRA SEÑORA DEL CARMEN","ANALISTA CONCILIACIONES",3125547250,"JCRAMIREZ@FAMISANAR.COM.CO","JUAN CARLOS","JUAN RAMIREZ, MICHEL MALAGON , CRISTIAN RIVERA","BOLIVAR","EL CARMEN DE BOLIVAR",{"$f":"+BASE_ANALISTA[[#This Row],[nombredelresponsable]]","v":"JUAN CARLOS"},"11001","05059"]
[900817788,"CLÍNICA DE MARLY JORGE CAVELIER GAVIRIA SAS","ANALISTA CONCILIACIONES",3125547250,"JCRAMIREZ@FAMISANAR.COM.CO","JUAN CARLOS","JUAN RAMIREZ, MICHEL MALAGON , CRISTIAN RIVERA","CUNDINAMARCA","BOGOTA D.C",{"$f":"+BASE_ANALISTA[[#This Row],[nombredelresponsable]]","v":"JUAN CARLOS"},"11001","08001"]
[802019573,"CLINICA PORVENIR LIMITADA","ANALISTA CONCILIACIONES",3125547250,"JCRAMIREZ@FAMISANAR.COM.CO","JUAN CARLOS","JUAN RAMIREZ, MICHEL MALAGON , CRISTIAN RIVERA","ATLÁNTICO","BARRANQUILLA",{"$f":"+BASE_ANALISTA[[#This Row],[nombredelresponsable]]","v":"JUAN CARLOS"},"11001","08758"]
[811002429,"CLINICA PAJONAL LIMITADA","ANALISTA CONCILIACIONES",3125547250,"JCRAMIREZ@FAMISANAR.COM.CO","DIANA SANTUARIO","JUAN RAMIREZ, MICHEL MALAGON , CRISTIAN RIVERA","ANTIOQUIA","CAUCASIA",{"$f":"+BASE_ANALISTA[[#This Row],[nombredelresponsable]]","v":"DIANA SANTUARIO"},"11001","20001"]
[830502473,"CENTRO UROLOGICO FOSCAL S.A.S","ANALISTA CONCILIACIONES",3125547250,"JCRAMIREZ@FAMISANAR.COM.CO","JUAN CARLOS","JUAN RAMIREZ, MICHEL MALAGON , CRISTIAN RIVERA","SANTANDER","BUCARAMANGA",{"$f":"+BASE_ANALISTA[[#This Row],[nombredelresponsable]]","v":"JUAN CARLOS"},"11001","08001"]
[890200500,"E.S.E. HOSPITAL PSIQUIATRICO SAN CAMILO","ANALISTA CONCILIACIONES",3125547250,"JCRAMIREZ@FAMISANAR.COM.CO","JUAN CARLOS","JUAN RAMIREZ, MICHEL MALAGON , CRISTIAN RIVERA","SANTANDER","BUCARAMANGA",{"$f":"+BASE_ANALISTA[[#This Row],[nombredelresponsable]]","v":"JUAN CARLOS"},"11001","08001"]
[812003851,"ESE HOSPITAL SAN JUAN","ANALISTA CONCILIACIONES",3125547250,"JCRAMIREZ@FAMISANAR.COM.CO","DIANA SANTUARIO","JUAN RAMIREZ, MICHEL MALAGON , CRISTIAN RIVERA","CÓRDOBA","SAHAGÚN",{"$f":"+BASE_ANALISTA[[#This Row],[nombredelresponsable]]","v":"DIANA SANTUARIO"},"11001","68001"]
[900653844,"IPS MI CASA MI HOSPITAL DE LA SABANA SAS","ANALISTA CONCILIACIONES",3125547250,"JCRAMIREZ@FAMISANAR.COM.CO","DIANA SANTUARIO","JUAN RAMIREZ, MICHEL MALAGON , CRISTIAN RIVERA","COLOMBIA","COLOMBIA",{"$f":"+BASE_ANALISTA[[#This Row],[nombredelresponsable]]","v":"DIANA SANTUARIO"},"11001","08001"]
[890906347,"ESE Hospital Manuel Uribe Angel","ANALISTA CONCILIACIONES",3125547250,"JCRAMIREZ@FAMISANAR.COM.CO","DIANA SANTUARIO","JUAN RAMIREZ, MICHEL MALAGON , CRISTIAN RIVERA","ANTIOQUIA","ENVIGADO",{"$f":"+BASE_ANALISTA[[#This Row],[nombredelresponsable]]","v":"DIANA SANTUARIO"},"11001","08372"]
[890103002,"E.S.E. HOSPITAL DE BARANOA JOSE DE J. GOMEZ","ANALISTA CONCILIACIONES",3125547250,"JCRAMIREZ@FAMISANAR.COM.CO","JUAN CARLOS","JUAN RAMIREZ, MICHEL MALAGON , CRISTIAN RIVERA","ATLÁNTICO","BARANOA",{"$f":"+BASE_ANALISTA[[#This Row],[nombredelresponsable]]","v":"JUAN CARLOS"},"11001","73030"]
[860024030,"E.S.E HOSPITAL DIOGENES TRONCOSO","ANALISTA CONCILIACIONES",3125547250,"JCRAMIREZ@FAMISANAR.COM.CO","JENNYFFER ALEXANDRA SARMIENTO","JUAN RAMIREZ, MICHEL MALAGON , CRISTIAN RIVERA","CUNDINAMARCA","PUERTO SALGAR",{"$f":"+BASE_ANALISTA[[#This Row],[nombredelresponsable]]","v":"JENNYFFER ALEXANDRA SARMIENTO"},"11001","25572"]
[890905177,"ESE HOSPITAL LA MARIA","ANALISTA CONCILIACIONES",3125547250,"JCRAMIREZ@FAMISANAR.COM.CO","JENNYFFER ALEXANDRA SARMIENTO","JUAN RAMIREZ, MICHEL MALAGON , CRISTIAN RIVERA","ANTIOQUIA","MEDELLÍN",{"$f":"+BASE_ANALISTA[[#This Row],[nombredelresponsable]]","v":"JENNYFFER ALEXANDRA SARMIENTO"},"11001","47001"]
[890902922,"Universidad Pontificia Bolivariana Clínica","ANALISTA CONCILIACIONES",3125547250,"JCRAMIREZ@FAMISANAR.COM.CO","JENNYFFER ALEXANDRA SARMIENTO","JUAN RAMIREZ, MICHEL MALAGON , CRISTIAN RIVERA","ANTIOQUIA","MEDELLÍN",{"$f":"+BASE_ANALISTA[[#This Row],[nombredelresponsable]]","v":"JENNYFFER ALEXANDRA SARMIENTO"},"11001","68001"]
[900774590,"DENTS ESTETICA DENTAL S.A.S","ANALISTA CONCILIACIONES",3125547250,"JCRAMIREZ@FAMISANAR.COM.CO","JENNYFFER ALEXANDRA SARMIENTO","JUAN RAMIREZ, MICHEL MALAGON , CRISTIAN RIVERA","TOLIMA ","IBAGUE",{"$f":"+BASE_ANALISTA[[#This Row],[nombredelresponsable]]","v":"JENNYFFER ALEXANDRA SARMIENTO"},"11001","73001"]
[900103377,"CLINICA VALLE DEL SOL","ANALISTA CONCILIACIONES",3125547250,"JCRAMIREZ@FAMISANAR.COM.CO","JENNYFFER ALEXANDRA SARMIENTO","JUAN RAMIREZ, MICHEL MALAGON , CRISTIAN RIVERA","BOYACÁ","SOGAMOSO",{"$f":"+BASE_ANALISTA[[#This Row],[nombredelresponsable]]","v":"JENNYFFER ALEXANDRA SARMIENTO"},"11001","08001"]
[800119945,"HOSPITAL SAN ROQUE DE EL COPEY","ANALISTA CONCILIACIONES",3125547250,"JCRAMIREZ@FAMISANAR.COM.CO","JENNYFFER ALEXANDRA SARMIENTO","JUAN RAMIREZ, MICHEL MALAGON , CRISTIAN RIVERA","CESAR","EL COPEY",{"$f":"+BASE_ANALISTA[[#This Row],[nombredelresponsable]]","v":"JENNYFFER ALEXANDRA SARMIENTO"},"11001","08001"]
[900521908,"UNIDAD DE GASTROENTEROLOGIA INTEGRAL SAS","ANALISTA CONCILIACIONES",3125547250,"JCRAMIREZ@FAMISANAR.COM.CO","JENNYFFER ALEXANDRA SARMIENTO","JUAN RAMIREZ, MICHEL MALAGON , CRISTIAN RIVERA","CUNDINAMARCA","BOGOTA D.C",{"$f":"+BASE_ANALISTA[[#This Row],[nombredelresponsable]]","v":"JENNYFFER ALEXANDRA SARMIENTO"},"11001","73055"]
[900485843,"GRUPO DR LACIDES MAZA S.A.S","ANALISTA CONCILIACIONES",3125547250,"JCRAMIREZ@FAMISANAR.COM.CO","JUAN CARLOS","JUAN RAMIREZ, MICHEL MALAGON , CRISTIAN RIVERA","BOLIVAR","CARTAGENA",{"$f":"+BASE_ANALISTA[[#This Row],[nombredelresponsable]]","v":"JUAN CARLOS"},"11001","20001"]
[890701718,"HOSPITAL REGIONAL LIBANO E.S.E","ANALISTA CONCILIACIONES",3125547250,"JCRAMIREZ@FAMISANAR.COM.CO","JENNYFFER ALEXANDRA SARMIENTO","JUAN RAMIREZ, MICHEL MALAGON , CRISTIAN RIVERA","TOLIMA ","LIBANO",{"$f":"+BASE_ANALISTA[[#This Row],[nombredelresponsable]]","v":"JENNYFFER ALEXANDRA SARMIENTO"},"11001","76001"]
[891200209,"Fundacion Hospital San Pedro","ANALISTA CONCILIACIONES",3125547250,"JCRAMIREZ@FAMISANAR.COM.CO","JENNYFFER ALEXANDRA SARMIENTO","JUAN RAMIREZ, MICHEL MALAGON , CRISTIAN RIVERA","NARIÑO","PASTO",{"$f":"+BASE_ANALISTA[[#This Row],[nombredelresponsable]]","v":"JENNYFFER ALEXANDRA SARMIENTO"},"11001","05079"]
[890205456,"ESE HOSPITAL INTEGRADO SAN BERNARDO","ANALISTA CONCILIACIONES",3125547250,"JCRAMIREZ@FAMISANAR.COM.CO","JUAN CARLOS","JUAN RAMIREZ, MICHEL MALAGON , CRISTIAN RIVERA","SANTANDER","BARBOSA",{"$f":"+BASE_ANALISTA[[#This Row],[nombredelresponsable]]","v":"JUAN CARLOS"},"11001","47001"]
[892300175,"HOSPITAL REGIONAL SAN ANDRES E.S.E","ANALISTA CONCILIACIONES",3125547250,"JCRAMIREZ@FAMISANAR.COM.CO","JENNYFFER ALEXANDRA SARMIENTO","JUAN RAMIREZ, MICHEL MALAGON , CRISTIAN RIVERA","CESAR","CHIRIGUANA",{"$f":"+BASE_ANALISTA[[#This Row],[nombredelresponsable]]","v":"JENNYFFER ALEXANDRA SARMIENTO"},"11001","44430"]
[822001338,"UNIDAD CLINICA DEL SISTEMA NERVIOSO- RENOVAR LIMITADA","ANALISTA CONCILIACIONES",3125547250,"JCRAMIREZ@FAMISANAR.COM.CO","JUAN CARLOS","JUAN RAMIREZ, MICHEL MALAGON , CRISTIAN RIVERA","META","VILLAVICENCIO",{"$f":"+BASE_ANALISTA[[#This Row],[nombredelresponsable]]","v":"JUAN CARLOS"},"11001","13001"]
[900192459,"PROMOSALUD DEL SINÚ LTDA","ANALISTA CONCILIACIONES",3125547250,"JCRAMIREZ@FAMISANAR.COM.CO","JENNYFFER ALEXANDRA SARMIENTO","JUAN RAMIREZ, MICHEL MALAGON , CRISTIAN RIVERA","CÓRDOBA","MONTERÍA",{"$f":"+BASE_ANALISTA[[#This Row],[nombredelresponsable]]","v":"JENNYFFER ALEXANDRA SARMIENTO"},"11001","08078"]
[900373155,"ESCO SALUD PLUS IPS SAS","ANALISTA CONCILIACIONES",3125547250,"JCRAMIREZ@FAMISANAR.COM.CO","JUAN CARLOS","JUAN RAMIREZ, MICHEL MALAGON , CRISTIAN RIVERA","ATLÁNTICO","BARRANQUILLA",{"$f":"+BASE_ANALISTA[[#This Row],[nombredelresponsable]]","v":"JUAN CARLOS"},"11001","25307"]
[900735729,"CENTRO DE REHABILITACION Y TRATAMIENTO DEL DOLOR KINESIS SAS","ANALISTA CONCILIACIONES",3125547250,"JCRAMIREZ@FAMISANAR.COM.CO","JUAN CARLOS","JUAN RAMIREZ, MICHEL MALAGON , CRISTIAN RIVERA","ATLÁNTICO","BARRANQUILLA",{"$f":"+BASE_ANALISTA[[#This Row],[nombredelresponsable]]","v":"JUAN CARLOS"},"11001","15759"]
[891856372,"CLINICA DE ESPECIALISTAS LTDA CI","ANALISTA CONCILIACIONES",3125547250,"JCRAMIREZ@FAMISANAR.COM.CO","JENNYFFER ALEXANDRA SARMIENTO","JUAN RAMIREZ, MICHEL MALAGON , CRISTIAN RIVERA","BOYACÁ","SOGAMOSO",{"$f":"+BASE_ANALISTA[[#This Row],[nombredelresponsable]]","v":"JENNYFFER ALEXANDRA SARMIENTO"},"11001","41001"]
[900147959,"E.S.E CENTRO DE SALUD TIMOTEO RIVEROS CUBILLOS","ANALISTA CONCILIACIONES",3125547250,"JCRAMIREZ@FAMISANAR.COM.CO","JENNYFFER ALEXANDRA SARMIENTO","JUAN RAMIREZ, MICHEL MALAGON , CRISTIAN RIVERA","CUNDINAMARCA","UNE",{"$f":"+BASE_ANALISTA[[#This Row],[nombredelresponsable]]","v":"JENNYFFER ALEXANDRA SARMIENTO"},"11001","41551"]
[815000316,"HOSPITAL RAUL OREJUELA BUENO E.S.E.","ANALISTA CONCILIACIONES",3125547250,"JCRAMIREZ@FAMISANAR.COM.CO","JENNYFFER ALEXANDRA SARMIENTO","JUAN RAMIREZ, MICHEL MALAGON , CRISTIAN RIVERA","VALLE DEL CAUCA","PALMIRA",{"$f":"+BASE_ANALISTA[[#This Row],[nombredelresponsable]]","v":"JENNYFFER ALEXANDRA SARMIENTO"},"11001","15001"]
[806004756,"CENTRO DE CIRUGIA LASER OCULAR","ANALISTA CONCILIACIONES",3125547250,"JCRAMIREZ@FAMISANAR.COM.CO","JUAN CARLOS","JUAN RAMIREZ, MICHEL MALAGON , CRISTIAN RIVERA","BOLIVAR","CARTAGENA",{"$f":"+BASE_ANALISTA[[#This Row],[nombredelresponsable]]","v":"JUAN CARLOS"},"11001","18001"]
[900541416,"LABORATORIO CLINICO CLARET ARIÑO GARCIA SAS","ANALISTA CONCILIACIONES",3125547250,"JCRAMIREZ@FAMISANAR.COM.CO","JENNYFFER ALEXANDRA SARMIENTO","JUAN RAMIREZ, MICHEL MALAGON , CRISTIAN RIVERA","CESAR","VALLEDUPAR",{"$f":"+BASE_ANALISTA[[#This Row],[nombredelresponsable]]","v":"JENNYFFER ALEXANDRA SARMIENTO"},"11001","86568"]
[830023202,"CORPORACION DE SERVICIOS MEDICOS THEM Y CIA LTDA","ANALISTA CONCILIACIONES",3125547250,"JCRAMIREZ@FAMISANAR.COM.CO","JENNYFFER ALEXANDRA SARMIENTO","JUAN RAMIREZ, MICHEL MALAGON , CRISTIAN RIVERA","VALLE DEL CAUCA","CALI",{"$f":"+BASE_ANALISTA[[#This Row],[nombredelresponsable]]","v":"JENNYFFER ALEXANDRA SARMIENTO"},"11001","20238"]
[900048040,"EMPRESA SOCIAL DEL ESTADO HOSPITAL LOCAL DE CUBARRAL","ANALISTA CONCILIACIONES",3125547250,"JCRAMIREZ@FAMISANAR.COM.CO","JUAN CARLOS","JUAN RAMIREZ, MICHEL MALAGON , CRISTIAN RIVERA","META","CUBARRAL",{"$f":"+BASE_ANALISTA[[#This Row],[nombredelresponsable]]","v":"JUAN CARLOS"},"11001","08001"]
[890205516,"ESE HOSPITAL INTEGRADO LANDAZURI","ANALISTA CONCILIACIONES",3125547250,"JCRAMIREZ@FAMISANAR.COM.CO","JUAN CARLOS","JUAN RAMIREZ, MICHEL MALAGON , CRISTIAN RIVERA","SANTANDER","LANDAZURI",{"$f":"+BASE_ANALISTA[[#This Row],[nombredelresponsable]]","v":"JUAN CARLOS"},"11001","08001"]
[800012189,"CLINICA SAN JOSE DE CUCUTA SA","ANALISTA CONCILIACIONES",3125547250,"JCRAMIREZ@FAMISANAR.COM.CO","JUAN CARLOS","JUAN RAMIREZ, MICHEL MALAGON , CRISTIAN RIVERA","NORTE DE SANTANDER","CÚCUTA",{"$f":"+BASE_ANALISTA[[#This Row],[nombredelresponsable]]","v":"JUAN CARLOS"},"11001","73001"]
[900348937,"CENTRO EXCELENCIA DE CUIDADOS EN SALUD ESENCIAL IPS SAS","ANALISTA CONCILIACIONES",3125547250,"JCRAMIREZ@FAMISANAR.COM.CO","JENNYFFER ALEXANDRA SARMIENTO","JUAN RAMIREZ, MICHEL MALAGON , CRISTIAN RIVERA","CUNDINAMARCA","BOGOTÁ D.C",{"$f":"+BASE_ANALISTA[[#This Row],[nombredelresponsable]]","v":"JENNYFFER ALEXANDRA SARMIENTO"},"11001","20001"]
[806010305,"ESE HOSPITAL LOCAL CARTAGENA DE INDIAS","ANALISTA CONCILIACIONES",3125547250,"JCRAMIREZ@FAMISANAR.COM.CO","JUAN CARLOS","JUAN RAMIREZ, MICHEL MALAGON , CRISTIAN RIVERA","BOLIVAR","CARTAGENA",{"$f":"+BASE_ANALISTA[[#This Row],[nombredelresponsable]]","v":"JUAN CARLOS"},"11001","76001"]
[900807126,"CLINICA REINA ISABEL SAS","ANALISTA CONCILIACIONES",3125547250,"JCRAMIREZ@FAMISANAR.COM.CO","JENNYFFER ALEXANDRA SARMIENTO","JUAN RAMIREZ, MICHEL MALAGON , CRISTIAN RIVERA","HUILA","PITALITO",{"$f":"+BASE_ANALISTA[[#This Row],[nombredelresponsable]]","v":"JENNYFFER ALEXANDRA SARMIENTO"},"11001","20011"]
[900221139,"Fundacion Evoluciona Ips","ANALISTA CONCILIACIONES",3125547250,"JCRAMIREZ@FAMISANAR.COM.CO","JENNYFFER ALEXANDRA SARMIENTO","JUAN RAMIREZ, MICHEL MALAGON , CRISTIAN RIVERA","CUNDINAMARCA","BOGOTÁ D.C",{"$f":"+BASE_ANALISTA[[#This Row],[nombredelresponsable]]","v":"JENNYFFER ALEXANDRA SARMIENTO"},"11001","25845"]
[900566814,"Centro de Rehabilitacion Crees","ANALISTA CONCILIACIONES",3125547250,"JCRAMIREZ@FAMISANAR.COM.CO","JENNYFFER ALEXANDRA SARMIENTO","JUAN RAMIREZ, MICHEL MALAGON , CRISTIAN RIVERA","BOYACÁ","TUNJA",{"$f":"+BASE_ANALISTA[[#This Row],[nombredelresponsable]]","v":"JENNYFFER ALEXANDRA SARMIENTO"},"11001","15835"]
[846000253,"ESE HOSPITAL LOCAL DE PUERTO ASIS","ANALISTA CONCILIACIONES",3125547250,"JCRAMIREZ@FAMISANAR.COM.CO","JENNYFFER ALEXANDRA SARMIENTO","JUAN RAMIREZ, MICHEL MALAGON , CRISTIAN RIVERA","PUTUMAYO","PUERTO ASIS",{"$f":"+BASE_ANALISTA[[#This Row],[nombredelresponsable]]","v":"JENNYFFER ALEXANDRA SARMIENTO"},"11001","73026"]
[900660001,"ambulancias andar plus sas","ANALISTA CONCILIACIONES",3125547250,"JCRAMIREZ@FAMISANAR.COM.CO","JENNYFFER ALEXANDRA SARMIENTO","JUAN RAMIREZ, MICHEL MALAGON , CRISTIAN RIVERA","CUNDINAMARCA","BOGOTÁ",{"$f":"+BASE_ANALISTA[[#This Row],[nombredelresponsable]]","v":"JENNYFFER ALEXANDRA SARMIENTO"},"11001","76520"]
[802016357,"Medicina Alta Complejidad MACSA S.A.","ANALISTA CONCILIACIONES",3125547250,"JCRAMIREZ@FAMISANAR.COM.CO","JUAN CARLOS","JUAN RAMIREZ, MICHEL MALAGON , CRISTIAN RIVERA","ATLÁNTICO","BARRANQUILLA",{"$f":"+BASE_ANALISTA[[#This Row],[nombredelresponsable]]","v":"JUAN CARLOS"},"11001","20060"]
[891800857,"Empresa Social del Estado Hospital Baudilio Acero Turmequé","ANALISTA CONCILIACIONES",3125547250,"JCRAMIREZ@FAMISANAR.COM.CO","JENNYFFER ALEXANDRA SARMIENTO","JUAN RAMIREZ, MICHEL MALAGON , CRISTIAN RIVERA","BOYACÁ","TURMEQUE",{"$f":"+BASE_ANALISTA[[#This Row],[nombredelresponsable]]","v":"JENNYFFER ALEXANDRA SARMIENTO"},"11001","50001"]
[891180238,"ese hospital san carlos","ANALISTA CONCILIACIONES",3125547250,"JCRAMIREZ@FAMISANAR.COM.CO","JENNYFFER ALEXANDRA SARMIENTO","JUAN RAMIREZ, MICHEL MALAGON , CRISTIAN RIVERA","HUILA","AIPE",{"$f":"+BASE_ANALISTA[[#This Row],[nombredelresponsable]]","v":"JENNYFFER ALEXANDRA SARMIENTO"},"11001","70001"]
[860529151,"SERVICIOS MÉDICOS YUNIS TURBAY Y CÍA. S.A.S.","ANALISTA CONCILIACIONES",3125547250,"JCRAMIREZ@FAMISANAR.COM.CO","JENNYFFER ALEXANDRA SARMIENTO","JUAN RAMIREZ, MICHEL MALAGON , CRISTIAN RIVERA","CUNDINAMARCA","BOGOTÁ D.C",{"$f":"+BASE_ANALISTA[[#This Row],[nombredelresponsable]]","v":"JENNYFFER ALEXANDRA SARMIENTO"},"11001","08001"]
[800067065,"PROMOTORA MEDICA LAS AMERICAS S.A.","ANALISTA CONCILIACIONES",3125547250,"JCRAMIREZ@FAMISANAR.COM.CO","JENNYFFER ALEXANDRA SARMIENTO","JUAN RAMIREZ, MICHEL MALAGON , CRISTIAN RIVERA","ANTIOQUIA","MEDELLÍN",{"$f":"+BASE_ANALISTA[[#This Row],[nombredelresponsable]]","v":"JENNYFFER ALEXANDRA SARMIENTO"},"11001","73563"]
[892300445,"HOSPITAL REGIONAL DE AGUACHICA","ANALISTA CONCILIACIONES",3125547250,"JCRAMIREZ@FAMISANAR.COM.CO","JENNYFFER ALEXANDRA SARMIENTO","JUAN RAMIREZ, MICHEL MALAGON , CRISTIAN RIVERA","CESAR","AGUACHICA",{"$f":"+BASE_ANALISTA[[#This Row],[nombredelresponsable]]","v":"JENNYFFER ALEXANDRA SARMIENTO"},"11001","20001"]
[900307987,"VITAL MEDICAL CARE SOCIEDAD POR ACCIONES SIMPLIFICADA","ANALISTA CONCILIACIONES",3125547250,"JCRAMIREZ@FAMISANAR.COM.CO","JUAN CARLOS","JUAN RAMIREZ, MICHEL MALAGON , CRISTIAN RIVERA","NORTE DE SANTANDER","OCAÑA",{"$f":"+BASE_ANALISTA[[#This Row],[nombredelresponsable]]","v":"JUAN CARLOS"},"11001","13244"]
[890981137,"ESE HOSPITAL FRANCISCO VALDERRAMA","ANALISTA CONCILIACIONES",3125547250,"JCRAMIREZ@FAMISANAR.COM.CO","JENNYFFER ALEXANDRA SARMIENTO","JUAN RAMIREZ, MICHEL MALAGON , CRISTIAN RIVERA","ANTIOQUIA","TURBO",{"$f":"+BASE_ANALISTA[[#This Row],[nombredelresponsable]]","v":"JENNYFFER ALEXANDRA SARMIENTO"},"11001","15442"]
[804015920,"ESE NUESTRA SEÑORA DE LA PAZ","ANALISTA CONCILIACIONES",3125547250,"JCRAMIREZ@FAMISANAR.COM.CO","JUAN CARLOS","JUAN RAMIREZ, MICHEL MALAGON , CRISTIAN RIVERA","SANTANDER","LA PAZ",{"$f":"+BASE_ANALISTA[[#This Row],[nombredelresponsable]]","v":"JUAN CARLOS"},"11001","47001"]
[891500084,"HOSPITAL FRANCISCO DE PAULA SANTANDER","ANALISTA CONCILIACIONES",3125547250,"JCRAMIREZ@FAMISANAR.COM.CO","JENNYFFER ALEXANDRA SARMIENTO","JUAN RAMIREZ, MICHEL MALAGON , CRISTIAN RIVERA","CAUCA","SANTANDER DE QUILICHAO",{"$f":"+BASE_ANALISTA[[#This Row],[nombredelresponsable]]","v":"JENNYFFER ALEXANDRA SARMIENTO"},"11001","68001"]
[826003318,"UNIDAD DE CUIDADOS INTENSIVOS MATERNO INFANTIL DE BOYACA LTDA","ANALISTA CONCILIACIONES",3125547250,"JCRAMIREZ@FAMISANAR.COM.CO","JENNYFFER ALEXANDRA SARMIENTO","JUAN RAMIREZ, MICHEL MALAGON , CRISTIAN RIVERA","BOYACÁ","SOGAMOSO",{"$f":"+BASE_ANALISTA[[#This Row],[nombredelresponsable]]","v":"JENNYFFER ALEXANDRA SARMIENTO"},"11001","50006"]
[800058016,"ESE METROSALUD","ANALISTA CONCILIACIONES",3125547250,"JCRAMIREZ@FAMISANAR.COM.CO","JENNYFFER ALEXANDRA SARMIENTO","JUAN RAMIREZ, MICHEL MALAGON , CRISTIAN RIVERA","ANTIOQUIA","MEDELLÍN",{"$f":"+BASE_ANALISTA[[#This Row],[nombredelresponsable]]","v":"JENNYFFER ALEXANDRA SARMIENTO"},"11001","15759"]
[809004280,"HOSPITAL RICARDO ACOSTA E.S.E. NIVEL I","ANALISTA CONCILIACIONES",3125547250,"JCRAMIREZ@FAMISANAR.COM.CO","JENNYFFER ALEXANDRA SARMIENTO","JUAN RAMIREZ, MICHEL MALAGON , CRISTIAN RIVERA","TOLIMA ","PALOCABILDO",{"$f":"+BASE_ANALISTA[[#This Row],[nombredelresponsable]]","v":"JENNYFFER ALEXANDRA SARMIENTO"},"11001","08001"]
[809003541,"HOSPITAL SAN ROQUE E.S.E","ANALISTA CONCILIACIONES",3125547250,"JCRAMIREZ@FAMISANAR.COM.CO","JENNYFFER ALEXANDRA SARMIENTO","JUAN RAMIREZ, MICHEL MALAGON , CRISTIAN RIVERA","TOLIMA ","ALVARADO",{"$f":"+BASE_ANALISTA[[#This Row],[nombredelresponsable]]","v":"JENNYFFER ALEXANDRA SARMIENTO"},"11001","50001"]
[890702080,"E.S.E. HOSPITAL FEDERICO ARBELAEZ","ANALISTA CONCILIACIONES",3125547250,"JCRAMIREZ@FAMISANAR.COM.CO","JENNYFFER ALEXANDRA SARMIENTO","JUAN RAMIREZ, MICHEL MALAGON , CRISTIAN RIVERA","TOLIMA ","CUNDAY",{"$f":"+BASE_ANALISTA[[#This Row],[nombredelresponsable]]","v":"JENNYFFER ALEXANDRA SARMIENTO"},"11001","15599"]
[824000450,"hospital san juan bosco","ANALISTA CONCILIACIONES",3125547250,"JCRAMIREZ@FAMISANAR.COM.CO","JENNYFFER ALEXANDRA SARMIENTO","JUAN RAMIREZ, MICHEL MALAGON , CRISTIAN RIVERA","CESAR","BOSCONIA",{"$f":"+BASE_ANALISTA[[#This Row],[nombredelresponsable]]","v":"JENNYFFER ALEXANDRA SARMIENTO"},"11001","15686"]
[819002534,"Empresa Social del Estado Hospital Nuestra Señora del Carmen de Guamal Magdalena","ANALISTA CONCILIACIONES",3125547250,"JCRAMIREZ@FAMISANAR.COM.CO","JENNYFFER ALEXANDRA SARMIENTO","JUAN RAMIREZ, MICHEL MALAGON , CRISTIAN RIVERA","MAGDALENA","GUAMAL",{"$f":"+BASE_ANALISTA[[#This Row],[nombredelresponsable]]","v":"JENNYFFER ALEXANDRA SARMIENTO"},"11001","73671"]
[830510991,"CLÍNICA ESPECIALIZADA LA CONCEPCIÓN S.A.S","ANALISTA CONCILIACIONES",3125547250,"JCRAMIREZ@FAMISANAR.COM.CO","JENNYFFER ALEXANDRA SARMIENTO","JUAN RAMIREZ, MICHEL MALAGON , CRISTIAN RIVERA","SUCRE","SINCELEJO",{"$f":"+BASE_ANALISTA[[#This Row],[nombredelresponsable]]","v":"JENNYFFER ALEXANDRA SARMIENTO"},"11001","68432"]
[801001440,"REDSALUD ARMENIA E.S.E","ANALISTA CONCILIACIONES",3125547250,"JCRAMIREZ@FAMISANAR.COM.CO","JUAN CARLOS","JUAN RAMIREZ, MICHEL MALAGON , CRISTIAN RIVERA","QUINDÍO","ARMENIA",{"$f":"+BASE_ANALISTA[[#This Row],[nombredelresponsable]]","v":"JUAN CARLOS"},"11001","52001"]
[900571887,"CALMEDICAS SAS","ANALISTA CONCILIACIONES",3125547250,"JCRAMIREZ@FAMISANAR.COM.CO","JENNYFFER ALEXANDRA SARMIENTO","JUAN RAMIREZ, MICHEL MALAGON , CRISTIAN RIVERA","BOYACÁ","SOGAMOSO",{"$f":"+BASE_ANALISTA[[#This Row],[nombredelresponsable]]","v":"JENNYFFER ALEXANDRA SARMIENTO"},"11001","47001"]
[838000096,"ESE HOSPITAL SAN RAFAEL DE LETICIA","ANALISTA CONCILIACIONES",3125547250,"JCRAMIREZ@FAMISANAR.COM.CO","JENNYFFER ALEXANDRA SARMIENTO","JUAN RAMIREZ, MICHEL MALAGON , CRISTIAN RIVERA","AMAZONIA","LETICIA",{"$f":"+BASE_ANALISTA[[#This Row],[nombredelresponsable]]","v":"JENNYFFER ALEXANDRA SARMIENTO"},"11001","13001"]
[891800644,"ESE HOSPITAL SAN VICENTE DE RAMIRIQUI","ANALISTA CONCILIACIONES",3125547250,"JCRAMIREZ@FAMISANAR.COM.CO","JENNYFFER ALEXANDRA SARMIENTO","JUAN RAMIREZ, MICHEL MALAGON , CRISTIAN RIVERA","BOYACÁ","RAMIRIQUI",{"$f":"+BASE_ANALISTA[[#This Row],[nombredelresponsable]]","v":"JENNYFFER ALEXANDRA SARMIENTO"},"11001","15759"]
[818001019,"ESE HOSPITAL LOCAL ISMAEL ROLDAN VALENCIA DE QUIBDO","ANALISTA CONCILIACIONES",3125547250,"JCRAMIREZ@FAMISANAR.COM.CO","JENNYFFER ALEXANDRA SARMIENTO","JUAN RAMIREZ, MICHEL MALAGON , CRISTIAN RIVERA","CHOCÓ","QUIBDÓ",{"$f":"+BASE_ANALISTA[[#This Row],[nombredelresponsable]]","v":"JENNYFFER ALEXANDRA SARMIENTO"},"11001","68001"]
[820003632,"EMPRESA SOCIAL DEL ESTADO CENTRO DE SALUD SANTANA","ANALISTA CONCILIACIONES",3125547250,"JCRAMIREZ@FAMISANAR.COM.CO","JENNYFFER ALEXANDRA SARMIENTO","JUAN RAMIREZ, MICHEL MALAGON , CRISTIAN RIVERA","BOYACÁ","SANTANA",{"$f":"+BASE_ANALISTA[[#This Row],[nombredelresponsable]]","v":"JENNYFFER ALEXANDRA SARMIENTO"},"11001","05059"]
[900600212,"CARDIOLOGIA SIGLO XXI","ANALISTA CONCILIACIONES",3125547250,"JCRAMIREZ@FAMISANAR.COM.CO","JENNYFFER ALEXANDRA SARMIENTO","JUAN RAMIREZ, MICHEL MALAGON , CRISTIAN RIVERA","TOLIMA ","IBAGUE",{"$f":"+BASE_ANALISTA[[#This Row],[nombredelresponsable]]","v":"JENNYFFER ALEXANDRA SARMIENTO"},"11001","73226"]
[824000440,"ESE HOSPITAL HERNANDO QUINTERO BLANCO","ANALISTA CONCILIACIONES",3125547250,"JCRAMIREZ@FAMISANAR.COM.CO","JENNYFFER ALEXANDRA SARMIENTO","JUAN RAMIREZ, MICHEL MALAGON , CRISTIAN RIVERA","CESAR","EL PASO",{"$f":"+BASE_ANALISTA[[#This Row],[nombredelresponsable]]","v":"JENNYFFER ALEXANDRA SARMIENTO"},"11001","13001"]
[900041832,"IPA GEMEVA EU","ANALISTA CONCILIACIONES",3125547250,"JCRAMIREZ@FAMISANAR.COM.CO","JUAN CARLOS","JUAN RAMIREZ, MICHEL MALAGON , CRISTIAN RIVERA","BOLIVAR","CARTAGENA",{"$f":"+BASE_ANALISTA[[#This Row],[nombredelresponsable]]","v":"JUAN CARLOS"},"11001","13001"]
[890701300,"hospital san carlos de saldaña ESE","ANALISTA CONCILIACIONES",3125547250,"JCRAMIREZ@FAMISANAR.COM.CO","JENNYFFER ALEXANDRA SARMIENTO","JUAN RAMIREZ, MICHEL MALAGON , CRISTIAN RIVERA","TOLIMA ","SALDANA",{"$f":"+BASE_ANALISTA[[#This Row],[nombredelresponsable]]","v":"JENNYFFER ALEXANDRA SARMIENTO"},"11001","08001"]
[820002854,"ESE CENTRO DE SALUD NUESTRA SEÑORA DE LA PAZ","ANALISTA CONCILIACIONES",3125547250,"JCRAMIREZ@FAMISANAR.COM.CO","JENNYFFER ALEXANDRA SARMIENTO","JUAN RAMIREZ, MICHEL MALAGON , CRISTIAN RIVERA","BOYACÁ","QUIPAMA",{"$f":"+BASE_ANALISTA[[#This Row],[nombredelresponsable]]","v":"JENNYFFER ALEXANDRA SARMIENTO"},"11001","08001"]
[802013023,"ESE HOSPITAL MATERNO INFANTIL CIUDADELA METROPOLITANA DE SOLEDAD","ANALISTA CONCILIACIONES",3125547250,"JCRAMIREZ@FAMISANAR.COM.CO","JUAN CARLOS","JUAN RAMIREZ, MICHEL MALAGON , CRISTIAN RIVERA","ATLÁNTICO","SOLEDAD",{"$f":"+BASE_ANALISTA[[#This Row],[nombredelresponsable]]","v":"JUAN CARLOS"},"11001","05059"]
[900119417,"OFTAMAR SAS","ANALISTA CONCILIACIONES",3125547250,"JCRAMIREZ@FAMISANAR.COM.CO","JENNYFFER ALEXANDRA SARMIENTO","JUAN RAMIREZ, MICHEL MALAGON , CRISTIAN RIVERA","MAGDALENA","SANTA MARTA",{"$f":"+BASE_ANALISTA[[#This Row],[nombredelresponsable]]","v":"JENNYFFER ALEXANDRA SARMIENTO"},"11001","68001"]
[890202024,"ESE HOSPITAL SAN JUAN DE DIOS FLORIDABLANCA","ANALISTA CONCILIACIONES",3125547250,"JCRAMIREZ@FAMISANAR.COM.CO","JUAN CARLOS","JUAN RAMIREZ, MICHEL MALAGON , CRISTIAN RIVERA","SANTANDER","FLORIDABLANCA",{"$f":"+BASE_ANALISTA[[#This Row],[nombredelresponsable]]","v":"JUAN CARLOS"},"11001","76001"]
[890701078,"HOSPITAL SANTA LUCIA ESE","ANALISTA CONCILIACIONES",3125547250,"JCRAMIREZ@FAMISANAR.COM.CO","JENNYFFER ALEXANDRA SARMIENTO","JUAN RAMIREZ, MICHEL MALAGON , CRISTIAN RIVERA","TOLIMA ","CAJAMARCA",{"$f":"+BASE_ANALISTA[[#This Row],[nombredelresponsable]]","v":"JENNYFFER ALEXANDRA SARMIENTO"},"11001","73124"]
[890501019,"ESE Hospital San Juan de Dios de Pamplona","ANALISTA CONCILIACIONES",3125547250,"JCRAMIREZ@FAMISANAR.COM.CO","JUAN CARLOS","JUAN RAMIREZ, MICHEL MALAGON , CRISTIAN RIVERA","NORTE DE SANTANDER","PAMPLONA",{"$f":"+BASE_ANALISTA[[#This Row],[nombredelresponsable]]","v":"JUAN CARLOS"},"11001","85001"]
[890980066,"ESE HOSPITAL SAN RAFAEL DE ITAGUI","ANALISTA CONCILIACIONES",3125547250,"JCRAMIREZ@FAMISANAR.COM.CO","JENNYFFER ALEXANDRA SARMIENTO","JUAN RAMIREZ, MICHEL MALAGON , CRISTIAN RIVERA","ANTIOQUIA","ITAGUI",{"$f":"+BASE_ANALISTA[[#This Row],[nombredelresponsable]]","v":"JENNYFFER ALEXANDRA SARMIENTO"},"11001","13001"]
[890981726,"ESE Hospital San Juan de Dios de Yarumal","ANALISTA CONCILIACIONES",3125547250,"JCRAMIREZ@FAMISANAR.COM.CO","JENNYFFER ALEXANDRA SARMIENTO","JUAN RAMIREZ, MICHEL MALAGON , CRISTIAN RIVERA","ANTIOQUIA","YARUMAL",{"$f":"+BASE_ANALISTA[[#This Row],[nombredelresponsable]]","v":"JENNYFFER ALEXANDRA SARMIENTO"},"11001","41001"]
[892170002,"ESE HOSPITALSAN AGUSTIN DE FONSECA","ANALISTA CONCILIACIONES",3125547250,"JCRAMIREZ@FAMISANAR.COM.CO","JENNYFFER ALEXANDRA SARMIENTO","JUAN RAMIREZ, MICHEL MALAGON , CRISTIAN RIVERA","LA GUAJIRA","FONSECA",{"$f":"+BASE_ANALISTA[[#This Row],[nombredelresponsable]]","v":"JENNYFFER ALEXANDRA SARMIENTO"},"11001","73001"]
[891180134,"HOSPITAL DEPARTAMENTAL SAN ANTONIO DE PITALITO","ANALISTA CONCILIACIONES",3125547250,"JCRAMIREZ@FAMISANAR.COM.CO","JENNYFFER ALEXANDRA SARMIENTO","JUAN RAMIREZ, MICHEL MALAGON , CRISTIAN RIVERA","HUILA","PITALITO",{"$f":"+BASE_ANALISTA[[#This Row],[nombredelresponsable]]","v":"JENNYFFER ALEXANDRA SARMIENTO"},"11001","73001"]
[900145767,"EMPRESA SOCIAL DEL ESTADO SUROCCIDENTE ESE","ANALISTA CONCILIACIONES",3125547250,"JCRAMIREZ@FAMISANAR.COM.CO","JENNYFFER ALEXANDRA SARMIENTO","JUAN RAMIREZ, MICHEL MALAGON , CRISTIAN RIVERA","CAUCA","POPAYAN",{"$f":"+BASE_ANALISTA[[#This Row],[nombredelresponsable]]","v":"JENNYFFER ALEXANDRA SARMIENTO"},"11001","20621"]
[900871571,"UNIDAD DE GASTROENTEROLOGIA CLINICA Y QUIRURGICA \"GASTROQUIRURGICA DEL ORIENTE\"","ANALISTA CONCILIACIONES",3125547250,"JCRAMIREZ@FAMISANAR.COM.CO","JUAN CARLOS","JUAN RAMIREZ, MICHEL MALAGON , CRISTIAN RIVERA","SANTANDER","BUCARAMANGA",{"$f":"+BASE_ANALISTA[[#This Row],[nombredelresponsable]]","v":"JUAN CARLOS"},"11001","50001"]
[824000425,"hospital san jose de becerril","ANALISTA CONCILIACIONES",3125547250,"JCRAMIREZ@FAMISANAR.COM.CO","JENNYFFER ALEXANDRA SARMIENTO","JUAN RAMIREZ, MICHEL MALAGON , CRISTIAN RIVERA","CESAR","BECERRIL",{"$f":"+BASE_ANALISTA[[#This Row],[nombredelresponsable]]","v":"JENNYFFER ALEXANDRA SARMIENTO"},"11001","68001"]
[901104576,"CEMEGS IPS S.A.S","ANALISTA CONCILIACIONES",3125547250,"JCRAMIREZ@FAMISANAR.COM.CO","JUAN CARLOS","JUAN RAMIREZ, MICHEL MALAGON , CRISTIAN RIVERA","ATLÁNTICO","BARRANQUILLA",{"$f":"+BASE_ANALISTA[[#This Row],[nombredelresponsable]]","v":"JUAN CARLOS"},"11001","08758"]
[890801699,"E.S.E Hospital San Antonio","ANALISTA CONCILIACIONES",3125547250,"JCRAMIREZ@FAMISANAR.COM.CO","JUAN CARLOS","JUAN RAMIREZ, MICHEL MALAGON , CRISTIAN RIVERA","CALDAS","MANZANARES",{"$f":"+BASE_ANALISTA[[#This Row],[nombredelresponsable]]","v":"JUAN CARLOS"},"11001","08001"]
[890905154,"CLINICA SAN JUAN DE DIOS","ANALISTA CONCILIACIONES",3125547250,"JCRAMIREZ@FAMISANAR.COM.CO","JENNYFFER ALEXANDRA SARMIENTO","JUAN RAMIREZ, MICHEL MALAGON , CRISTIAN RIVERA","ANTIOQUIA","LA CEJA",{"$f":"+BASE_ANALISTA[[#This Row],[nombredelresponsable]]","v":"JENNYFFER ALEXANDRA SARMIENTO"},"11001","13001"]
[813005431,"SOCIEDAD CLINICA EMCOSALUD S.A.","ANALISTA CONCILIACIONES",3125547250,"JCRAMIREZ@FAMISANAR.COM.CO","JENNYFFER ALEXANDRA SARMIENTO","JUAN RAMIREZ, MICHEL MALAGON , CRISTIAN RIVERA","HUILA","NEIVA",{"$f":"+BASE_ANALISTA[[#This Row],[nombredelresponsable]]","v":"JENNYFFER ALEXANDRA SARMIENTO"},"11001","50001"]
[890500309,"CLINICA NORTE S.A.","ANALISTA CONCILIACIONES",3125547250,"JCRAMIREZ@FAMISANAR.COM.CO","JUAN CARLOS","JUAN RAMIREZ, MICHEL MALAGON , CRISTIAN RIVERA","NORTE DE SANTANDER","CÚCUTA",{"$f":"+BASE_ANALISTA[[#This Row],[nombredelresponsable]]","v":"JUAN CARLOS"},"11001","73873"]
[900254487,"LM ODONTOCENTER SAS","ANALISTA CONCILIACIONES",3125547250,"JCRAMIREZ@FAMISANAR.COM.CO","JUAN CARLOS","JUAN RAMIREZ, MICHEL MALAGON , CRISTIAN RIVERA","META","VILLAVICENCIO",{"$f":"+BASE_ANALISTA[[#This Row],[nombredelresponsable]]","v":"JUAN CARLOS"},"11001","25862"]
[832008321,"E.S.E CENTRO DE SALUD DE TAUSA","ANALISTA CONCILIACIONES",3125547250,"JCRAMIREZ@FAMISANAR.COM.CO","JENNYFFER ALEXANDRA SARMIENTO","JUAN RAMIREZ, MICHEL MALAGON , CRISTIAN RIVERA","CUNDINAMARCA","TAUSA",{"$f":"+BASE_ANALISTA[[#This Row],[nombredelresponsable]]","v":"JENNYFFER ALEXANDRA SARMIENTO"},"11001","08001"]
[890985810,"ESE HOSPITAL OCTAVIO OLIVARES","ANALISTA CONCILIACIONES",3125547250,"JCRAMIREZ@FAMISANAR.COM.CO","JENNYFFER ALEXANDRA SARMIENTO","JUAN RAMIREZ, MICHEL MALAGON , CRISTIAN RIVERA","ANTIOQUIA","PUERTO NARE",{"$f":"+BASE_ANALISTA[[#This Row],[nombredelresponsable]]","v":"JENNYFFER ALEXANDRA SARMIENTO"},"11001","50001"]
[890702476,"hospital la milagrosa e.s.e","ANALISTA CONCILIACIONES",3125547250,"JCRAMIREZ@FAMISANAR.COM.CO","JENNYFFER ALEXANDRA SARMIENTO","JUAN RAMIREZ, MICHEL MALAGON , CRISTIAN RIVERA","TOLIMA ","VILLARRICA",{"$f":"+BASE_ANALISTA[[#This Row],[nombredelresponsable]]","v":"JENNYFFER ALEXANDRA SARMIENTO"},"11001","47318"]
[899999150,"ESE HOSPITAL SANTA BARBARA DE VERGARA","ANALISTA CONCILIACIONES",3125547250,"JCRAMIREZ@FAMISANAR.COM.CO","JENNYFFER ALEXANDRA SARMIENTO","JUAN RAMIREZ, MICHEL MALAGON , CRISTIAN RIVERA","CUNDINAMARCA","VERGARA",{"$f":"+BASE_ANALISTA[[#This Row],[nombredelresponsable]]","v":"JENNYFFER ALEXANDRA SARMIENTO"},"11001","68385"]
[892001588,"Clínica Martha S.A.","ANALISTA CONCILIACIONES",3125547250,"JCRAMIREZ@FAMISANAR.COM.CO","JUAN CARLOS","JUAN RAMIREZ, MICHEL MALAGON , CRISTIAN RIVERA","META","VILLAVICENCIO",{"$f":"+BASE_ANALISTA[[#This Row],[nombredelresponsable]]","v":"JUAN CARLOS"},"11001","73520"]
[900378914,"UNIDAD DE CUIDADOS INTENSIVOS NEONATALES DE MAGANGUE SAS","ANALISTA CONCILIACIONES",3125547250,"JCRAMIREZ@FAMISANAR.COM.CO","JUAN CARLOS","JUAN RAMIREZ, MICHEL MALAGON , CRISTIAN RIVERA","BOLIVAR","MAGANGUE",{"$f":"+BASE_ANALISTA[[#This Row],[nombredelresponsable]]","v":"JUAN CARLOS"},"11001","08001"]
[900204617,"MEDICUC IPS","ANALISTA CONCILIACIONES",3125547250,"JCRAMIREZ@FAMISANAR.COM.CO","JUAN CARLOS","JUAN RAMIREZ, MICHEL MALAGON , CRISTIAN RIVERA","SANTANDER","BUCARAMANGA",{"$f":"+BASE_ANALISTA[[#This Row],[nombredelresponsable]]","v":"JUAN CARLOS"},"11001","68572"]
[900294046,"FUNDACIÓN COMUNIDAD VIVA","ANALISTA CONCILIACIONES",3125547250,"JCRAMIREZ@FAMISANAR.COM.CO","JUAN CARLOS","JUAN RAMIREZ, MICHEL MALAGON , CRISTIAN RIVERA","ATLÁNTICO","BARRANQUILLA",{"$f":"+BASE_ANALISTA[[#This Row],[nombredelresponsable]]","v":"JUAN CARLOS"},"11001","68001"]
[900600962,"centro de neuroestimulacion PROMEMORIA","ANALISTA CONCILIACIONES",3125547250,"JCRAMIREZ@FAMISANAR.COM.CO","JUAN CARLOS","JUAN RAMIREZ, MICHEL MALAGON , CRISTIAN RIVERA","SANTANDER","BUCARAMANGA",{"$f":"+BASE_ANALISTA[[#This Row],[nombredelresponsable]]","v":"JUAN CARLOS"},"11001","25307"]
[819003473,"CENTRO DE FISIOTERAPIA Y REHABILITACION INTEGRAL LTDA.","ANALISTA CONCILIACIONES",3125547250,"JCRAMIREZ@FAMISANAR.COM.CO","JENNYFFER ALEXANDRA SARMIENTO","JUAN RAMIREZ, MICHEL MALAGON , CRISTIAN RIVERA","MAGDALENA","SANTA MARTA",{"$f":"+BASE_ANALISTA[[#This Row],[nombredelresponsable]]","v":"JENNYFFER ALEXANDRA SARMIENTO"},"11001","25793"]
[900355962,"GRUPO FAMEDIT LIMITADA","ANALISTA CONCILIACIONES",3125547250,"JCRAMIREZ@FAMISANAR.COM.CO","JENNYFFER ALEXANDRA SARMIENTO","JUAN RAMIREZ, MICHEL MALAGON , CRISTIAN RIVERA","BOYACÁ","TUNJA",{"$f":"+BASE_ANALISTA[[#This Row],[nombredelresponsable]]","v":"JENNYFFER ALEXANDRA SARMIENTO"},"11001","08001"]
[890204789,"ESE HOSPITAL INTEGRADO SAN ANTONIO","ANALISTA CONCILIACIONES",3125547250,"JCRAMIREZ@FAMISANAR.COM.CO","JUAN CARLOS","JUAN RAMIREZ, MICHEL MALAGON , CRISTIAN RIVERA","SANTANDER","PUENTE NACIONAL",{"$f":"+BASE_ANALISTA[[#This Row],[nombredelresponsable]]","v":"JUAN CARLOS"},"11001","05400"]
[800024834,"Clinica de Otorrinolaringologia de Antioquia Orlant S A","ANALISTA CONCILIACIONES",3125547250,"JCRAMIREZ@FAMISANAR.COM.CO","JENNYFFER ALEXANDRA SARMIENTO","JUAN RAMIREZ, MICHEL MALAGON , CRISTIAN RIVERA","ANTIOQUIA","MEDELLÍN",{"$f":"+BASE_ANALISTA[[#This Row],[nombredelresponsable]]","v":"JENNYFFER ALEXANDRA SARMIENTO"},"11001","15001"]
[890110705,"CLINICA DE FRACTURAS S.A","ANALISTA CONCILIACIONES",3125547250,"JCRAMIREZ@FAMISANAR.COM.CO","JUAN CARLOS","JUAN RAMIREZ, MICHEL MALAGON , CRISTIAN RIVERA","ATLÁNTICO","BARRANQUILLA",{"$f":"+BASE_ANALISTA[[#This Row],[nombredelresponsable]]","v":"JUAN CARLOS"},"11001","25269"]
[800162035,"SERVIMEDICOS LTDA","ANALISTA CONCILIACIONES",3125547250,"JCRAMIREZ@FAMISANAR.COM.CO","JUAN CARLOS","JUAN RAMIREZ, MICHEL MALAGON , CRISTIAN RIVERA","META","VILLAVICENCIO",{"$f":"+BASE_ANALISTA[[#This Row],[nombredelresponsable]]","v":"JUAN CARLOS"},"11001","44430"]
[822000946,"MEDICINA NUCLEAR DIAGNOSTICA  SAS","ANALISTA CONCILIACIONES",3125547250,"JCRAMIREZ@FAMISANAR.COM.CO","JUAN CARLOS","JUAN RAMIREZ, MICHEL MALAGON , CRISTIAN RIVERA","META","VILLAVICENCIO",{"$f":"+BASE_ANALISTA[[#This Row],[nombredelresponsable]]","v":"JUAN CARLOS"},"11001","08001"]
[900016636,"UNION TEMPORAL UCI DE LA SABANA","ANALISTA CONCILIACIONES",3125547250,"JCRAMIREZ@FAMISANAR.COM.CO","JUAN CARLOS","JUAN RAMIREZ, MICHEL MALAGON , CRISTIAN RIVERA","ATLÁNTICO","SABANALARGA",{"$f":"+BASE_ANALISTA[[#This Row],[nombredelresponsable]]","v":"JUAN CARLOS"},"11001","68406"]
[890801099,"Hospital departamental Santa Sofia ESE","ANALISTA CONCILIACIONES",3125547250,"JCRAMIREZ@FAMISANAR.COM.CO","JUAN CARLOS","JUAN RAMIREZ, MICHEL MALAGON , CRISTIAN RIVERA","CALDAS","MANIZALES",{"$f":"+BASE_ANALISTA[[#This Row],[nombredelresponsable]]","v":"JUAN CARLOS"},"11001","08001"]
[890980003,"ESE HOSPITAL SAN JUAN DE DIOS","ANALISTA CONCILIACIONES",3125547250,"JCRAMIREZ@FAMISANAR.COM.CO","JENNYFFER ALEXANDRA SARMIENTO","JUAN RAMIREZ, MICHEL MALAGON , CRISTIAN RIVERA","ANTIOQUIA","SONSON",{"$f":"+BASE_ANALISTA[[#This Row],[nombredelresponsable]]","v":"JENNYFFER ALEXANDRA SARMIENTO"},"11001","73616"]
[890982264,"EMPRESA SOCIAL DEL ESTADO HOSPITAL SAN JUAN DE DIOS","ANALISTA CONCILIACIONES",3125547250,"JCRAMIREZ@FAMISANAR.COM.CO","JENNYFFER ALEXANDRA SARMIENTO","JUAN RAMIREZ, MICHEL MALAGON , CRISTIAN RIVERA","ANTIOQUIA","SANTAFÉ DE ANTIOQUIA",{"$f":"+BASE_ANALISTA[[#This Row],[nombredelresponsable]]","v":"JENNYFFER ALEXANDRA SARMIENTO"},"11001","73268"]
[810000901,"PASBISALUD IPS SAS","ANALISTA CONCILIACIONES",3125547250,"JCRAMIREZ@FAMISANAR.COM.CO","JUAN CARLOS","JUAN RAMIREZ, MICHEL MALAGON , CRISTIAN RIVERA","CALDAS","VILLAMARÍA",{"$f":"+BASE_ANALISTA[[#This Row],[nombredelresponsable]]","v":"JUAN CARLOS"},"11001","73001"]
[800154347,"Empresa Social del Estado Hospital La Candelaria","ANALISTA CONCILIACIONES",3125547250,"JCRAMIREZ@FAMISANAR.COM.CO","JENNYFFER ALEXANDRA SARMIENTO","JUAN RAMIREZ, MICHEL MALAGON , CRISTIAN RIVERA","MAGDALENA","EL BANCO",{"$f":"+BASE_ANALISTA[[#This Row],[nombredelresponsable]]","v":"JENNYFFER ALEXANDRA SARMIENTO"},"11001","47001"]
[860502092,"MEDICA MAGDALENA SAS","ANALISTA CONCILIACIONES",3125547250,"JCRAMIREZ@FAMISANAR.COM.CO","JENNYFFER ALEXANDRA SARMIENTO","JUAN RAMIREZ, MICHEL MALAGON , CRISTIAN RIVERA","CUNDINAMARCA","BOGOTÁ D.C",{"$f":"+BASE_ANALISTA[[#This Row],[nombredelresponsable]]","v":"JENNYFFER ALEXANDRA SARMIENTO"},"11001","68001"]
[892115009,"ESE HOSPITAL NUESTRA SEÑORA DE LOS REMEDIOS","ANALISTA CONCILIACIONES",3125547250,"JCRAMIREZ@FAMISANAR.COM.CO","JENNYFFER ALEXANDRA SARMIENTO","JUAN RAMIREZ, MICHEL MALAGON , CRISTIAN RIVERA","LA GUAJIRA","RIOHACHA",{"$f":"+BASE_ANALISTA[[#This Row],[nombredelresponsable]]","v":"JENNYFFER ALEXANDRA SARMIENTO"},"11001","20250"]
[900807287,"GRUPO HEALTH","ANALISTA CONCILIACIONES",3125547250,"JCRAMIREZ@FAMISANAR.COM.CO","JUAN CARLOS","JUAN RAMIREZ, MICHEL MALAGON , CRISTIAN RIVERA","ATLÁNTICO","BARRANQUILLA",{"$f":"+BASE_ANALISTA[[#This Row],[nombredelresponsable]]","v":"JUAN CARLOS"},"11001","25662"]
[800025467,"CLINICA DE ESPECIALISTAS LA DORADA S.A.","ANALISTA CONCILIACIONES",3125547250,"JCRAMIREZ@FAMISANAR.COM.CO","JUAN CARLOS","JUAN RAMIREZ, MICHEL MALAGON , CRISTIAN RIVERA","CALDAS","LA DORADA",{"$f":"+BASE_ANALISTA[[#This Row],[nombredelresponsable]]","v":"JUAN CARLOS"},"11001","15755"]
[890704555,"HOSPITAL CENTRO E.S.E PLANADAS","ANALISTA CONCILIACIONES",3125547250,"JCRAMIREZ@FAMISANAR.COM.CO","JENNYFFER ALEXANDRA SARMIENTO","JUAN RAMIREZ, MICHEL MALAGON , CRISTIAN RIVERA","TOLIMA ","PLANADAS",{"$f":"+BASE_ANALISTA[[#This Row],[nombredelresponsable]]","v":"JENNYFFER ALEXANDRA SARMIENTO"},"11001","20001"]
[860007400,"INSTITUTO COLOMBIANO DEL SISTEMA NERVIOSO","ANALISTA CONCILIACIONES",3125547250,"JCRAMIREZ@FAMISANAR.COM.CO","JUAN CARLOS","JUAN RAMIREZ, MICHEL MALAGON , CRISTIAN RIVERA","CUNDINAMARCA","BOGOTÁ D.C",{"$f":"+BASE_ANALISTA[[#This Row],[nombredelresponsable]]","v":"JUAN CARLOS"},"11001","15238"]
[891200952,"HOSPITAL EDUARDO SANTOS EMPRESA SOCIAL DEL ESTADO","ANALISTA CONCILIACIONES",3125547250,"JCRAMIREZ@FAMISANAR.COM.CO","JENNYFFER ALEXANDRA SARMIENTO","JUAN RAMIREZ, MICHEL MALAGON , CRISTIAN RIVERA","NARIÑO","LA UNION",{"$f":"+BASE_ANALISTA[[#This Row],[nombredelresponsable]]","v":"JENNYFFER ALEXANDRA SARMIENTO"},"11001","20001"]
[900031644,"MEDYDONT IPS","ANALISTA CONCILIACIONES",3125547250,"JCRAMIREZ@FAMISANAR.COM.CO","JENNYFFER ALEXANDRA SARMIENTO","JUAN RAMIREZ, MICHEL MALAGON , CRISTIAN RIVERA","CESAR","BECERRIL",{"$f":"+BASE_ANALISTA[[#This Row],[nombredelresponsable]]","v":"JENNYFFER ALEXANDRA SARMIENTO"},"11001","68001"]
[820002248,"EMPRESA SOCIAL DEL ESTADO centro de salud ventaquemada","ANALISTA CONCILIACIONES",3125547250,"JCRAMIREZ@FAMISANAR.COM.CO","JENNYFFER ALEXANDRA SARMIENTO","JUAN RAMIREZ, MICHEL MALAGON , CRISTIAN RIVERA","BOYACÁ","VENTAQUEMADA",{"$f":"+BASE_ANALISTA[[#This Row],[nombredelresponsable]]","v":"JENNYFFER ALEXANDRA SARMIENTO"},"11001","73001"]
[900211668,"clínica santa teresita del niño jesus","ANALISTA CONCILIACIONES",3125547250,"JCRAMIREZ@FAMISANAR.COM.CO","JUAN CARLOS","JUAN RAMIREZ, MICHEL MALAGON , CRISTIAN RIVERA","CUNDINAMARCA","BOGOTÁ D.C",{"$f":"+BASE_ANALISTA[[#This Row],[nombredelresponsable]]","v":"JUAN CARLOS"},"11001","86320"]
[890203436,"ESE HOSPITAL SAN JUAN DE DIOS LEBRIJA","ANALISTA CONCILIACIONES",3125547250,"JCRAMIREZ@FAMISANAR.COM.CO","JUAN CARLOS","JUAN RAMIREZ, MICHEL MALAGON , CRISTIAN RIVERA","SANTANDER","LEBRIJA",{"$f":"+BASE_ANALISTA[[#This Row],[nombredelresponsable]]","v":"JUAN CARLOS"},"11001","05856"]
[839000356,"SOCIEDAD MEDICA CLINICA MAICAO SA","ANALISTA CONCILIACIONES",3125547250,"JCRAMIREZ@FAMISANAR.COM.CO","JENNYFFER ALEXANDRA SARMIENTO","JUAN RAMIREZ, MICHEL MALAGON , CRISTIAN RIVERA","LA GUAJIRA","MAICAO",{"$f":"+BASE_ANALISTA[[#This Row],[nombredelresponsable]]","v":"JENNYFFER ALEXANDRA SARMIENTO"},"11001","18247"]
[830031646,"INTEGRAL SALUD LTDA - SEDE BOGOTA","ANALISTA CONCILIACIONES",3125547250,"JCRAMIREZ@FAMISANAR.COM.CO","JUAN CARLOS","JUAN RAMIREZ, MICHEL MALAGON , CRISTIAN RIVERA","CUNDINAMARCA","BOGOTA",{"$f":"+BASE_ANALISTA[[#This Row],[nombredelresponsable]]","v":"JUAN CARLOS"},"11001","18753"]
[860023999,"ESE HOSPITAL SAN VICENTE DE PAUL DE SAN JUAN DE RIOSECO","ANALISTA CONCILIACIONES",3125547250,"JCRAMIREZ@FAMISANAR.COM.CO","JENNYFFER ALEXANDRA SARMIENTO","JUAN RAMIREZ, MICHEL MALAGON , CRISTIAN RIVERA","CUNDINAMARCA","SAN JUAN DE RIOSECO",{"$f":"+BASE_ANALISTA[[#This Row],[nombredelresponsable]]","v":"JENNYFFER ALEXANDRA SARMIENTO"},"11001","41016"]
[890700694,"HOSPITAL MARIA INMACULADA RIOBLANCO","ANALISTA CONCILIACIONES",3125547250,"JCRAMIREZ@FAMISANAR.COM.CO","JENNYFFER ALEXANDRA SARMIENTO","JUAN RAMIREZ, MICHEL MALAGON , CRISTIAN RIVERA","TOLIMA ","RIOBLANCO",{"$f":"+BASE_ANALISTA[[#This Row],[nombredelresponsable]]","v":"JENNYFFER ALEXANDRA SARMIENTO"},"11001","50001"]
[900471504,"INVERSIONES SAN PEDRO Y SAN JUAN S.A.S CLINICA LAS VICTORIAS FRACTURAS","ANALISTA CONCILIACIONES",3125547250,"JCRAMIREZ@FAMISANAR.COM.CO","JENNYFFER ALEXANDRA SARMIENTO","JUAN RAMIREZ, MICHEL MALAGON , CRISTIAN RIVERA","TOLIMA ","ESPINAL",{"$f":"+BASE_ANALISTA[[#This Row],[nombredelresponsable]]","v":"JENNYFFER ALEXANDRA SARMIENTO"},"11001","25183"]
[900644884,"CLINICA LOS OCOBOS IPS S.A.S","ANALISTA CONCILIACIONES",3125547250,"JCRAMIREZ@FAMISANAR.COM.CO","JENNYFFER ALEXANDRA SARMIENTO","JUAN RAMIREZ, MICHEL MALAGON , CRISTIAN RIVERA","TOLIMA ","IBAGUE",{"$f":"+BASE_ANALISTA[[#This Row],[nombredelresponsable]]","v":"JENNYFFER ALEXANDRA SARMIENTO"},"11001","95001"]
[900976082,"SALUD Y ESPERANZA DOMICILIARIA S.A.S.","ANALISTA CONCILIACIONES",3125547250,"JCRAMIREZ@FAMISANAR.COM.CO","JENNYFFER ALEXANDRA SARMIENTO","JUAN RAMIREZ, MICHEL MALAGON , CRISTIAN RIVERA","MAGDALENA","SANTA MARTA",{"$f":"+BASE_ANALISTA[[#This Row],[nombredelresponsable]]","v":"JENNYFFER ALEXANDRA SARMIENTO"},"11001","20045"]
[900145585,"EMPRESA SOCIAL DEL ESTADO TIERRADENTRO E.S.E.","ANALISTA CONCILIACIONES",3125547250,"JCRAMIREZ@FAMISANAR.COM.CO","JENNYFFER ALEXANDRA SARMIENTO","JUAN RAMIREZ, MICHEL MALAGON , CRISTIAN RIVERA","CAUCA","PAEZ",{"$f":"+BASE_ANALISTA[[#This Row],[nombredelresponsable]]","v":"JENNYFFER ALEXANDRA SARMIENTO"},"11001","08433"]
[890980814,"E.S.E. HOSPITAL SAN RAFAEL DE ANDES","ANALISTA CONCILIACIONES",3125547250,"JCRAMIREZ@FAMISANAR.COM.CO","JENNYFFER ALEXANDRA SARMIENTO","JUAN RAMIREZ, MICHEL MALAGON , CRISTIAN RIVERA","ANTIOQUIA","ANDES",{"$f":"+BASE_ANALISTA[[#This Row],[nombredelresponsable]]","v":"JENNYFFER ALEXANDRA SARMIENTO"},"11001","08685"]
[822001570,"HOSPITAL LOCAL I NIVEL E.S.E. FUENTEDEORO","ANALISTA CONCILIACIONES",3125547250,"JCRAMIREZ@FAMISANAR.COM.CO","JUAN CARLOS","JUAN RAMIREZ, MICHEL MALAGON , CRISTIAN RIVERA","META","FUENTEDEORO",{"$f":"+BASE_ANALISTA[[#This Row],[nombredelresponsable]]","v":"JUAN CARLOS"},"11001","50287"]
[812005644,"CLINICA REGIONAL DEL SAN JORGE S.A.","ANALISTA CONCILIACIONES",3125547250,"JCRAMIREZ@FAMISANAR.COM.CO","JENNYFFER ALEXANDRA SARMIENTO","JUAN RAMIREZ, MICHEL MALAGON , CRISTIAN RIVERA","CÓRDOBA","MONTELÍBANO",{"$f":"+BASE_ANALISTA[[#This Row],[nombredelresponsable]]","v":"JENNYFFER ALEXANDRA SARMIENTO"},"11001","20001"]
[800026173,"HOSPITAL HELI MORENO BLANCO E.S.E.","ANALISTA CONCILIACIONES",3125547250,"JCRAMIREZ@FAMISANAR.COM.CO","JENNYFFER ALEXANDRA SARMIENTO","JUAN RAMIREZ, MICHEL MALAGON , CRISTIAN RIVERA","CESAR","PAILITAS",{"$f":"+BASE_ANALISTA[[#This Row],[nombredelresponsable]]","v":"JENNYFFER ALEXANDRA SARMIENTO"},"11001","15580"]
[800006690,"VILLA 76 INSTITUTO DE PSICOTERAPIA S.A.S","ANALISTA CONCILIACIONES",3125547250,"JCRAMIREZ@FAMISANAR.COM.CO","JUAN CARLOS","JUAN RAMIREZ, MICHEL MALAGON , CRISTIAN RIVERA","ATLÁNTICO","BARRANQUILLA",{"$f":"+BASE_ANALISTA[[#This Row],[nombredelresponsable]]","v":"JUAN CARLOS"},"11001","44279"]
[900034131,"ESE DEPARTAMENTAL DE I NIVEL MORENO Y CLAVIJO","ANALISTA CONCILIACIONES",3125547250,"JCRAMIREZ@FAMISANAR.COM.CO","JENNYFFER ALEXANDRA SARMIENTO","JUAN RAMIREZ, MICHEL MALAGON , CRISTIAN RIVERA","ARAUCA","TAME",{"$f":"+BASE_ANALISTA[[#This Row],[nombredelresponsable]]","v":"JENNYFFER ALEXANDRA SARMIENTO"},"11001","25307"]
[900145579,"EMPRESA SOCIAL DEL ESTADO POPAYAN ESE","ANALISTA CONCILIACIONES",3125547250,"JCRAMIREZ@FAMISANAR.COM.CO","JENNYFFER ALEXANDRA SARMIENTO","JUAN RAMIREZ, MICHEL MALAGON , CRISTIAN RIVERA","CAUCA","POPAYAN",{"$f":"+BASE_ANALISTA[[#This Row],[nombredelresponsable]]","v":"JENNYFFER ALEXANDRA SARMIENTO"},"11001","25290"]
[826002060,"ESE CENTRO DE SALUD SAN ANTONIO DE SOCOTA","ANALISTA CONCILIACIONES",3125547250,"JCRAMIREZ@FAMISANAR.COM.CO","JENNYFFER ALEXANDRA SARMIENTO","JUAN RAMIREZ, MICHEL MALAGON , CRISTIAN RIVERA","BOYACÁ","SOCOTA",{"$f":"+BASE_ANALISTA[[#This Row],[nombredelresponsable]]","v":"JENNYFFER ALEXANDRA SARMIENTO"},"11001","68001"]
[900484031,"DIPRESALUD IPS S.A.S","ANALISTA CONCILIACIONES",3125547250,"JCRAMIREZ@FAMISANAR.COM.CO","JENNYFFER ALEXANDRA SARMIENTO","JUAN RAMIREZ, MICHEL MALAGON , CRISTIAN RIVERA","CESAR","VALLEDUPAR",{"$f":"+BASE_ANALISTA[[#This Row],[nombredelresponsable]]","v":"JENNYFFER ALEXANDRA SARMIENTO"},"11001","50001"]
[824000543,"Hospital Jorge Isaac Rincon Torres","ANALISTA CONCILIACIONES",3125547250,"JCRAMIREZ@FAMISANAR.COM.CO","JENNYFFER ALEXANDRA SARMIENTO","JUAN RAMIREZ, MICHEL MALAGON , CRISTIAN RIVERA","CESAR","LA JAGUA DE IBIRICO",{"$f":"+BASE_ANALISTA[[#This Row],[nombredelresponsable]]","v":"JENNYFFER ALEXANDRA SARMIENTO"},"11001","19001"]
[900855509,"CLINICA DE FRACTURAS VALLEDUPAR S.A.S","ANALISTA CONCILIACIONES",3125547250,"JCRAMIREZ@FAMISANAR.COM.CO","JENNYFFER ALEXANDRA SARMIENTO","JUAN RAMIREZ, MICHEL MALAGON , CRISTIAN RIVERA","CESAR","VALLEDUPAR",{"$f":"+BASE_ANALISTA[[#This Row],[nombredelresponsable]]","v":"JENNYFFER ALEXANDRA SARMIENTO"},"11001","20001"]
[809003128,"HOSPITAL NUESTRA SEÑORA DE FATIMA","ANALISTA CONCILIACIONES",3125547250,"JCRAMIREZ@FAMISANAR.COM.CO","JENNYFFER ALEXANDRA SARMIENTO","JUAN RAMIREZ, MICHEL MALAGON , CRISTIAN RIVERA","TOLIMA ","FLANDES",{"$f":"+BASE_ANALISTA[[#This Row],[nombredelresponsable]]","v":"JENNYFFER ALEXANDRA SARMIENTO"},"11001","05615"]
[802006267,"E.S.E. CENTRO DE SALUD DE PALMAR DE VARELA","ANALISTA CONCILIACIONES",3125547250,"JCRAMIREZ@FAMISANAR.COM.CO","JUAN CARLOS","JUAN RAMIREZ, MICHEL MALAGON , CRISTIAN RIVERA","ATLÁNTICO","PALMAR DE VARELA",{"$f":"+BASE_ANALISTA[[#This Row],[nombredelresponsable]]","v":"JUAN CARLOS"},"11001","08001"]
[800206551,"GASTROPED S.A.S.","ANALISTA CONCILIACIONES",3125547250,"JCRAMIREZ@FAMISANAR.COM.CO","JUAN CARLOS","JUAN RAMIREZ, MICHEL MALAGON , CRISTIAN RIVERA","ATLÁNTICO","BARRANQUILLA",{"$f":"+BASE_ANALISTA[[#This Row],[nombredelresponsable]]","v":"JUAN CARLOS"},"11001","20045"]
[890802628,"HOSPITAL SAN SIMON","ANALISTA CONCILIACIONES",3125547250,"JCRAMIREZ@FAMISANAR.COM.CO","JUAN CARLOS","JUAN RAMIREZ, MICHEL MALAGON , CRISTIAN RIVERA","CALDAS","VICTORIA",{"$f":"+BASE_ANALISTA[[#This Row],[nombredelresponsable]]","v":"JUAN CARLOS"},"11001","73200"]
[830509406,"Fundasalud","ANALISTA CONCILIACIONES",3125547250,"JCRAMIREZ@FAMISANAR.COM.CO","JENNYFFER ALEXANDRA SARMIENTO","JUAN RAMIREZ, MICHEL MALAGON , CRISTIAN RIVERA","TOLIMA ","IBAGUE",{"$f":"+BASE_ANALISTA[[#This Row],[nombredelresponsable]]","v":"JENNYFFER ALEXANDRA SARMIENTO"},"11001","08001"]
[819002551,"EMPRESA SOCIAL DEL ESTADO CENTRO DE SALUD PAZ DEL RIO","ANALISTA CONCILIACIONES",3125547250,"JCRAMIREZ@FAMISANAR.COM.CO","JENNYFFER ALEXANDRA SARMIENTO","JUAN RAMIREZ, MICHEL MALAGON , CRISTIAN RIVERA","MAGDALENA","LA PAZ",{"$f":"+BASE_ANALISTA[[#This Row],[nombredelresponsable]]","v":"JENNYFFER ALEXANDRA SARMIENTO"},"11001","13688"]
[846000474,"ESE HOSPITAL ORITO","ANALISTA CONCILIACIONES",3125547250,"JCRAMIREZ@FAMISANAR.COM.CO","JENNYFFER ALEXANDRA SARMIENTO","JUAN RAMIREZ, MICHEL MALAGON , CRISTIAN RIVERA","PUTUMAYO","ORITO",{"$f":"+BASE_ANALISTA[[#This Row],[nombredelresponsable]]","v":"JENNYFFER ALEXANDRA SARMIENTO"},"11001","76001"]
[892115096,"SOCIEDAD MEDICA CLINICA  RIOHACHA S.A.S","ANALISTA CONCILIACIONES",3125547250,"JCRAMIREZ@FAMISANAR.COM.CO","JENNYFFER ALEXANDRA SARMIENTO","JUAN RAMIREZ, MICHEL MALAGON , CRISTIAN RIVERA","LA GUAJIRA","RIOHACHA",{"$f":"+BASE_ANALISTA[[#This Row],[nombredelresponsable]]","v":"JENNYFFER ALEXANDRA SARMIENTO"},"11001","44001"]
[900211468,"ESE FABIO JARAMILLO LONDONO","ANALISTA CONCILIACIONES",3125547250,"JCRAMIREZ@FAMISANAR.COM.CO","JENNYFFER ALEXANDRA SARMIENTO","JUAN RAMIREZ, MICHEL MALAGON , CRISTIAN RIVERA","CAQUETÁ","VALPARAISO",{"$f":"+BASE_ANALISTA[[#This Row],[nombredelresponsable]]","v":"JENNYFFER ALEXANDRA SARMIENTO"},"11001","76736"]
[900211460,"ESE SOR TERESA ADELE","ANALISTA CONCILIACIONES",3125547250,"JCRAMIREZ@FAMISANAR.COM.CO","JENNYFFER ALEXANDRA SARMIENTO","JUAN RAMIREZ, MICHEL MALAGON , CRISTIAN RIVERA","CAQUETÁ","EL DONCELLO",{"$f":"+BASE_ANALISTA[[#This Row],[nombredelresponsable]]","v":"JENNYFFER ALEXANDRA SARMIENTO"},"11001","73411"]
[891190011,"E.S.E.  HOSPITAL SAN RAFAEL","ANALISTA CONCILIACIONES",3125547250,"JCRAMIREZ@FAMISANAR.COM.CO","JENNYFFER ALEXANDRA SARMIENTO","JUAN RAMIREZ, MICHEL MALAGON , CRISTIAN RIVERA","CAQUETÁ","SAN VICENTE DEL CAGUAN",{"$f":"+BASE_ANALISTA[[#This Row],[nombredelresponsable]]","v":"JENNYFFER ALEXANDRA SARMIENTO"},"11001","20001"]
[808002168,"COOPERATIVA MULTIACTIVA DEL SUMAPAZ - COOPSUMAPAZ","ANALISTA CONCILIACIONES",3125547250,"JCRAMIREZ@FAMISANAR.COM.CO","JENNYFFER ALEXANDRA SARMIENTO","JUAN RAMIREZ, MICHEL MALAGON , CRISTIAN RIVERA","CUNDINAMARCA","BOGOTÁ D.C",{"$f":"+BASE_ANALISTA[[#This Row],[nombredelresponsable]]","v":"JENNYFFER ALEXANDRA SARMIENTO"},"11001","68655"]
[800174123,"ESE HOSPITAL SANTO TOMAS","ANALISTA CONCILIACIONES",3125547250,"JCRAMIREZ@FAMISANAR.COM.CO","JUAN CARLOS","JUAN RAMIREZ, MICHEL MALAGON , CRISTIAN RIVERA","ATLÁNTICO","SANTO TOMAS",{"$f":"+BASE_ANALISTA[[#This Row],[nombredelresponsable]]","v":"JUAN CARLOS"},"11001","47189"]
[800084362,"HOSPITAL CIVIL E.S.E.","ANALISTA CONCILIACIONES",3125547250,"JCRAMIREZ@FAMISANAR.COM.CO","JENNYFFER ALEXANDRA SARMIENTO","JUAN RAMIREZ, MICHEL MALAGON , CRISTIAN RIVERA","NARIÑO","IPIALES",{"$f":"+BASE_ANALISTA[[#This Row],[nombredelresponsable]]","v":"JENNYFFER ALEXANDRA SARMIENTO"},"11001","13744"]
[832001966,"ESE HOSPITAL SAN JOSE DEL GUAVIARE","ANALISTA CONCILIACIONES",3125547250,"JCRAMIREZ@FAMISANAR.COM.CO","JUAN CARLOS","JUAN RAMIREZ, MICHEL MALAGON , CRISTIAN RIVERA","GUAVIARE","SAN JOSE DEL GUAVIARE",{"$f":"+BASE_ANALISTA[[#This Row],[nombredelresponsable]]","v":"JUAN CARLOS"},"11001","68547"]
[830507245,"CLÍNICA JERUSALEN LIMITADA","ANALISTA CONCILIACIONES",3125547250,"JCRAMIREZ@FAMISANAR.COM.CO","JENNYFFER ALEXANDRA SARMIENTO","JUAN RAMIREZ, MICHEL MALAGON , CRISTIAN RIVERA","CÓRDOBA","MONTERIA",{"$f":"+BASE_ANALISTA[[#This Row],[nombredelresponsable]]","v":"JENNYFFER ALEXANDRA SARMIENTO"},"11001","08001"]
[890204360,"EMPRESA SOCIAL DEL ESTADO SAN ANTONIO RIONEGRO","ANALISTA CONCILIACIONES",3125547250,"JCRAMIREZ@FAMISANAR.COM.CO","JUAN CARLOS","JUAN RAMIREZ, MICHEL MALAGON , CRISTIAN RIVERA","SANTANDER","RIONEGRO",{"$f":"+BASE_ANALISTA[[#This Row],[nombredelresponsable]]","v":"JUAN CARLOS"},"11001","20621"]
[890701543,"HOSPITAL CARLOS TORRENTE LLANO ESE","ANALISTA CONCILIACIONES",3125547250,"JCRAMIREZ@FAMISANAR.COM.CO","JENNYFFER ALEXANDRA SARMIENTO","JUAN RAMIREZ, MICHEL MALAGON , CRISTIAN RIVERA","TOLIMA ","SANTA ISABEL",{"$f":"+BASE_ANALISTA[[#This Row],[nombredelresponsable]]","v":"JENNYFFER ALEXANDRA SARMIENTO"},"11001","13001"]
[890117677,"CLINICA MEDIESP S.A.S.","ANALISTA CONCILIACIONES",3125547250,"JCRAMIREZ@FAMISANAR.COM.CO","JUAN CARLOS","JUAN RAMIREZ, MICHEL MALAGON , CRISTIAN RIVERA","ATLÁNTICO","BARRANQUILLA",{"$f":"+BASE_ANALISTA[[#This Row],[nombredelresponsable]]","v":"JUAN CARLOS"},"11001","41551"]
[809002097,"CENTRO DE SALUD COELLO ESE","ANALISTA CONCILIACIONES",3125547250,"JCRAMIREZ@FAMISANAR.COM.CO","JENNYFFER ALEXANDRA SARMIENTO","JUAN RAMIREZ, MICHEL MALAGON , CRISTIAN RIVERA","TOLIMA ","COELLO",{"$f":"+BASE_ANALISTA[[#This Row],[nombredelresponsable]]","v":"JENNYFFER ALEXANDRA SARMIENTO"},"11001","13430"]
[824000204,"HOSPITAL MARINO ZULETA RAMIREZ","ANALISTA CONCILIACIONES",3125547250,"JCRAMIREZ@FAMISANAR.COM.CO","JENNYFFER ALEXANDRA SARMIENTO","JUAN RAMIREZ, MICHEL MALAGON , CRISTIAN RIVERA","CESAR","LA PAZ",{"$f":"+BASE_ANALISTA[[#This Row],[nombredelresponsable]]","v":"JENNYFFER ALEXANDRA SARMIENTO"},"11001","08520"]
[900759182,"FUNDACIÓN DE PROYECTO HOMBRE DE BIEN","ANALISTA CONCILIACIONES",3125547250,"JCRAMIREZ@FAMISANAR.COM.CO","JENNYFFER ALEXANDRA SARMIENTO","JUAN RAMIREZ, MICHEL MALAGON , CRISTIAN RIVERA","CESAR","VALLEDUPAR",{"$f":"+BASE_ANALISTA[[#This Row],[nombredelresponsable]]","v":"JENNYFFER ALEXANDRA SARMIENTO"},"11001","50223"]
[806006414,"EMPRESA SOCIAL DEL ESTADO HOSPITAL LOCAL DE SAN JUAN NEPOMUCENO","ANALISTA CONCILIACIONES",3125547250,"JCRAMIREZ@FAMISANAR.COM.CO","JUAN CARLOS","JUAN RAMIREZ, MICHEL MALAGON , CRISTIAN RIVERA","BOLIVAR","SAN JUAN NEPOMUCENO",{"$f":"+BASE_ANALISTA[[#This Row],[nombredelresponsable]]","v":"JUAN CARLOS"},"11001","08001"]
[901153925,"CLINICA NUEVA EL LAGO S.A.S.","ANALISTA CONCILIACIONES",3125547250,"JCRAMIREZ@FAMISANAR.COM.CO","JENNYFFER ALEXANDRA SARMIENTO","JUAN RAMIREZ, MICHEL MALAGON , CRISTIAN RIVERA","COLOMBIA","COLOMBIA",{"$f":"+BASE_ANALISTA[[#This Row],[nombredelresponsable]]","v":"JENNYFFER ALEXANDRA SARMIENTO"},"11001","47001"]
[800101022,"E.S.E. HOSPITAL NUESTRA SEÑORA DEL PILAR","ANALISTA CONCILIACIONES",3125547250,"JCRAMIREZ@FAMISANAR.COM.CO","JENNYFFER ALEXANDRA SARMIENTO","JUAN RAMIREZ, MICHEL MALAGON , CRISTIAN RIVERA","LA GUAJIRA","BARRANCAS",{"$f":"+BASE_ANALISTA[[#This Row],[nombredelresponsable]]","v":"JENNYFFER ALEXANDRA SARMIENTO"},"11001","76001"]
[800167228,"CEUSA CENTRO DE ESPECIALISTAS EN UROLOGIA S A","ANALISTA CONCILIACIONES",3125547250,"JCRAMIREZ@FAMISANAR.COM.CO","JUAN CARLOS","JUAN RAMIREZ, MICHEL MALAGON , CRISTIAN RIVERA","CUNDINAMARCA","BOGOTÁ D.C",{"$f":"+BASE_ANALISTA[[#This Row],[nombredelresponsable]]","v":"JUAN CARLOS"},"11001","19001"]
[842000004,"HOSPITAL DEPARTAMENTAL SAN JUAN DE DIOS","ANALISTA CONCILIACIONES",3125547250,"JCRAMIREZ@FAMISANAR.COM.CO","JENNYFFER ALEXANDRA SARMIENTO","JUAN RAMIREZ, MICHEL MALAGON , CRISTIAN RIVERA","VICHADA","PUERTO CARREÑO",{"$f":"+BASE_ANALISTA[[#This Row],[nombredelresponsable]]","v":"JENNYFFER ALEXANDRA SARMIENTO"},"11001","47001"]
[900420618,"SERVICIOS CARDIOLOGICOS INTEGRALES SAS","ANALISTA CONCILIACIONES",3125547250,"JCRAMIREZ@FAMISANAR.COM.CO","JUAN CARLOS","JUAN RAMIREZ, MICHEL MALAGON , CRISTIAN RIVERA","ATLÁNTICO","BARRANQUILLA",{"$f":"+BASE_ANALISTA[[#This Row],[nombredelresponsable]]","v":"JUAN CARLOS"},"11001","05315"]
[900625317,"Corporación Hospital Infantil Concejo de Medellín","ANALISTA CONCILIACIONES",3125547250,"JCRAMIREZ@FAMISANAR.COM.CO","JENNYFFER ALEXANDRA SARMIENTO","JUAN RAMIREZ, MICHEL MALAGON , CRISTIAN RIVERA","ANTIOQUIA","MEDELLÍN",{"$f":"+BASE_ANALISTA[[#This Row],[nombredelresponsable]]","v":"JENNYFFER ALEXANDRA SARMIENTO"},"11001","68235"]
[900066345,"E.S.E HOSPITAL LOCAL DE PIEDECUESTA","ANALISTA CONCILIACIONES",3125547250,"JCRAMIREZ@FAMISANAR.COM.CO","JUAN CARLOS","JUAN RAMIREZ, MICHEL MALAGON , CRISTIAN RIVERA","SANTANDER","PIEDECUESTA",{"$f":"+BASE_ANALISTA[[#This Row],[nombredelresponsable]]","v":"JUAN CARLOS"},"11001","08001"]
[821003143,"Hospital  Departamental Centenario de Sevilla ESE","ANALISTA CONCILIACIONES",3125547250,"JCRAMIREZ@FAMISANAR.COM.CO","JENNYFFER ALEXANDRA SARMIENTO","JUAN RAMIREZ, MICHEL MALAGON , CRISTIAN RIVERA","VALLE DEL CAUCA","SEVILLA",{"$f":"+BASE_ANALISTA[[#This Row],[nombredelresponsable]]","v":"JENNYFFER ALEXANDRA SARMIENTO"},"11001","68500"]
[891000736,"ESE HOSPITAL SAN NICOLAS","ANALISTA CONCILIACIONES",3125547250,"JCRAMIREZ@FAMISANAR.COM.CO","JENNYFFER ALEXANDRA SARMIENTO","JUAN RAMIREZ, MICHEL MALAGON , CRISTIAN RIVERA","CÓRDOBA","MONTERIA",{"$f":"+BASE_ANALISTA[[#This Row],[nombredelresponsable]]","v":"JENNYFFER ALEXANDRA SARMIENTO"},"11001","19001"]
[900869605,"TU SALUD PLUS IPS S.A.S.","ANALISTA CONCILIACIONES",3125547250,"JCRAMIREZ@FAMISANAR.COM.CO","JUAN CARLOS","JUAN RAMIREZ, MICHEL MALAGON , CRISTIAN RIVERA","ATLÁNTICO","BARRANQUILLA",{"$f":"+BASE_ANALISTA[[#This Row],[nombredelresponsable]]","v":"JUAN CARLOS"},"11001","08001"]
[900318701,"CENTRO PARA EL DESARROLLO, HABILITACION Y REHABILITACION INTEGRAL CENDRI S.A.S.","ANALISTA CONCILIACIONES",3125547250,"JCRAMIREZ@FAMISANAR.COM.CO","JUAN CARLOS","JUAN RAMIREZ, MICHEL MALAGON , CRISTIAN RIVERA","ATLÁNTICO","BARRANQUILLA",{"$f":"+BASE_ANALISTA[[#This Row],[nombredelresponsable]]","v":"JUAN CARLOS"},"11001","15001"]
[829001256,"ESE HOSPITAL MANUEL ELKIN PATARROYO","ANALISTA CONCILIACIONES",3125547250,"JCRAMIREZ@FAMISANAR.COM.CO","JUAN CARLOS","JUAN RAMIREZ, MICHEL MALAGON , CRISTIAN RIVERA","BOLIVAR","SANTA ROSA DEL SUR",{"$f":"+BASE_ANALISTA[[#This Row],[nombredelresponsable]]","v":"JUAN CARLOS"},"11001","08001"]
[823004881,"I.P.S. CLINICA GUARANDA SANA S.A.S.","ANALISTA CONCILIACIONES",3125547250,"JCRAMIREZ@FAMISANAR.COM.CO","JENNYFFER ALEXANDRA SARMIENTO","JUAN RAMIREZ, MICHEL MALAGON , CRISTIAN RIVERA","SUCRE","GUARANDA",{"$f":"+BASE_ANALISTA[[#This Row],[nombredelresponsable]]","v":"JENNYFFER ALEXANDRA SARMIENTO"},"11001","44650"]
[825002525,"ESE HOSPITAL SAN RAFAEL DE ALBANIA","ANALISTA CONCILIACIONES",3125547250,"JCRAMIREZ@FAMISANAR.COM.CO","JENNYFFER ALEXANDRA SARMIENTO","JUAN RAMIREZ, MICHEL MALAGON , CRISTIAN RIVERA","LA GUAJIRA","ALBANIA",{"$f":"+BASE_ANALISTA[[#This Row],[nombredelresponsable]]","v":"JENNYFFER ALEXANDRA SARMIENTO"},"11001","76109"]
[800064543,"ESE HOSPITAL INTEGRADO SABANA DE TORRES","ANALISTA CONCILIACIONES",3125547250,"JCRAMIREZ@FAMISANAR.COM.CO","JUAN CARLOS","JUAN RAMIREZ, MICHEL MALAGON , CRISTIAN RIVERA","SANTANDER","SABANA DE TORRES",{"$f":"+BASE_ANALISTA[[#This Row],[nombredelresponsable]]","v":"JUAN CARLOS"},"11001","47001"]
[900558595,"FUNDACION MEDICA CAMPBELL","ANALISTA CONCILIACIONES",3125547250,"JCRAMIREZ@FAMISANAR.COM.CO","JUAN CARLOS","JUAN RAMIREZ, MICHEL MALAGON , CRISTIAN RIVERA","ATLÁNTICO","BARRANQUILLA",{"$f":"+BASE_ANALISTA[[#This Row],[nombredelresponsable]]","v":"JUAN CARLOS"},"11001","20517"]
[900181419,"MEINTEGRAL S.A.S","ANALISTA CONCILIACIONES",3125547250,"JCRAMIREZ@FAMISANAR.COM.CO","JENNYFFER ALEXANDRA SARMIENTO","JUAN RAMIREZ, MICHEL MALAGON , CRISTIAN RIVERA","TOLIMA ","LIBANO",{"$f":"+BASE_ANALISTA[[#This Row],[nombredelresponsable]]","v":"JENNYFFER ALEXANDRA SARMIENTO"},"11001","08001"]
[900510844,"CENTRO DE EVALUACION DIAGNOSTICA Y REHABILITACION NEUROCOGNITIVA S.A.S. SIGLA CEREN","ANALISTA CONCILIACIONES",3125547250,"JCRAMIREZ@FAMISANAR.COM.CO","JUAN CARLOS","JUAN RAMIREZ, MICHEL MALAGON , CRISTIAN RIVERA","CUNDINAMARCA","BOGOTA D.C",{"$f":"+BASE_ANALISTA[[#This Row],[nombredelresponsable]]","v":"JUAN CARLOS"},"11001","76364"]
[824000586,"HOSPITAL LAZARO ALFONSO HERNANDEZ LARA","ANALISTA CONCILIACIONES",3125547250,"JCRAMIREZ@FAMISANAR.COM.CO","JENNYFFER ALEXANDRA SARMIENTO","JUAN RAMIREZ, MICHEL MALAGON , CRISTIAN RIVERA","CESAR","SAN ALBERTO",{"$f":"+BASE_ANALISTA[[#This Row],[nombredelresponsable]]","v":"JENNYFFER ALEXANDRA SARMIENTO"},"11001","25754"]
[900045673,"FUNDACION SIMON SANTANDER","ANALISTA CONCILIACIONES",3125547250,"JCRAMIREZ@FAMISANAR.COM.CO","JUAN CARLOS","JUAN RAMIREZ, MICHEL MALAGON , CRISTIAN RIVERA","BOLIVAR","CARTAGENA",{"$f":"+BASE_ANALISTA[[#This Row],[nombredelresponsable]]","v":"JUAN CARLOS"},"11001","08001"]
[900196366,"ESE HOSPITAL SAN ANTONIO DE PADUA DE SIMITI","ANALISTA CONCILIACIONES",3125547250,"JCRAMIREZ@FAMISANAR.COM.CO","JUAN CARLOS","JUAN RAMIREZ, MICHEL MALAGON , CRISTIAN RIVERA","BOLIVAR","SIMITI",{"$f":"+BASE_ANALISTA[[#This Row],[nombredelresponsable]]","v":"JUAN CARLOS"},"11001","41132"]
[892300209,"HOSPITAL DE TAMALAMEQUE ESE","ANALISTA CONCILIACIONES",3125547250,"JCRAMIREZ@FAMISANAR.COM.CO","JENNYFFER ALEXANDRA SARMIENTO","JUAN RAMIREZ, MICHEL MALAGON , CRISTIAN RIVERA","CESAR","TAMALAMEQUE",{"$f":"+BASE_ANALISTA[[#This Row],[nombredelresponsable]]","v":"JENNYFFER ALEXANDRA SARMIENTO"},"11001","73001"]
[900870878,"CARDIOLOGIA PEDIATRICA INTEGRAL Y PEDIATRIA SAS CARDIOPED","ANALISTA CONCILIACIONES",3125547250,"JCRAMIREZ@FAMISANAR.COM.CO","JENNYFFER ALEXANDRA SARMIENTO","JUAN RAMIREZ, MICHEL MALAGON , CRISTIAN RIVERA","MAGDALENA","SANTA MARTA",{"$f":"+BASE_ANALISTA[[#This Row],[nombredelresponsable]]","v":"JENNYFFER ALEXANDRA SARMIENTO"},"11001","08001"]
[890303208,"COMFAMILIAR ANDI - Caja de Compensacion Familiar del Valle del Cauca","ANALISTA CONCILIACIONES",3125547250,"JCRAMIREZ@FAMISANAR.COM.CO","JENNYFFER ALEXANDRA SARMIENTO","JUAN RAMIREZ, MICHEL MALAGON , CRISTIAN RIVERA","VALLE DEL CAUCA","BUENAVENTURA",{"$f":"+BASE_ANALISTA[[#This Row],[nombredelresponsable]]","v":"JENNYFFER ALEXANDRA SARMIENTO"},"11001","08001"]
[800014405,"ESE HOSPITAL SANTA ISABEL","ANALISTA CONCILIACIONES",3125547250,"JCRAMIREZ@FAMISANAR.COM.CO","JENNYFFER ALEXANDRA SARMIENTO","JUAN RAMIREZ, MICHEL MALAGON , CRISTIAN RIVERA","ANTIOQUIA","SAN PEDRO ",{"$f":"+BASE_ANALISTA[[#This Row],[nombredelresponsable]]","v":"JENNYFFER ALEXANDRA SARMIENTO"},"11001","13001"]
[800193912,"ESE HOSPITAL SAN RAFAEL DE CHINU","ANALISTA CONCILIACIONES",3125547250,"JCRAMIREZ@FAMISANAR.COM.CO","JENNYFFER ALEXANDRA SARMIENTO","JUAN RAMIREZ, MICHEL MALAGON , CRISTIAN RIVERA","CÓRDOBA","CHINÚ",{"$f":"+BASE_ANALISTA[[#This Row],[nombredelresponsable]]","v":"JENNYFFER ALEXANDRA SARMIENTO"},"11001","25899"]
[900485026,"FUNDACIÓN DE HABILITACIÓN INTEGRAL VIVIR MEJOR","ANALISTA CONCILIACIONES",3125547250,"JCRAMIREZ@FAMISANAR.COM.CO","JENNYFFER ALEXANDRA SARMIENTO","JUAN RAMIREZ, MICHEL MALAGON , CRISTIAN RIVERA","MAGDALENA","NUEVA GRANADA",{"$f":"+BASE_ANALISTA[[#This Row],[nombredelresponsable]]","v":"JENNYFFER ALEXANDRA SARMIENTO"},"11001","50270"]
[900152996,"CARVAJAL LABORATORIOS IPS S.A.S - TUNJA SEDE 1","ANALISTA CONCILIACIONES",3125547250,"JCRAMIREZ@FAMISANAR.COM.CO","JENNYFFER ALEXANDRA SARMIENTO","JUAN RAMIREZ, MICHEL MALAGON , CRISTIAN RIVERA","BOYACÁ","TUNJA",{"$f":"+BASE_ANALISTA[[#This Row],[nombredelresponsable]]","v":"JENNYFFER ALEXANDRA SARMIENTO"},"11001","68001"]
[812000527,"CLINICA SAHAGUN IPS S.A.","ANALISTA CONCILIACIONES",3125547250,"JCRAMIREZ@FAMISANAR.COM.CO","JENNYFFER ALEXANDRA SARMIENTO","JUAN RAMIREZ, MICHEL MALAGON , CRISTIAN RIVERA","CÓRDOBA","SAHAGÚN",{"$f":"+BASE_ANALISTA[[#This Row],[nombredelresponsable]]","v":"JENNYFFER ALEXANDRA SARMIENTO"},"11001","47001"]
[901043659,"CAMINO A LA VIDA C.A.D. I.P.S. S.A.S.","ANALISTA CONCILIACIONES",3125547250,"JCRAMIREZ@FAMISANAR.COM.CO","JENNYFFER ALEXANDRA SARMIENTO","JUAN RAMIREZ, MICHEL MALAGON , CRISTIAN RIVERA","MAGDALENA","SANTA MARTA",{"$f":"+BASE_ANALISTA[[#This Row],[nombredelresponsable]]","v":"JENNYFFER ALEXANDRA SARMIENTO"},"11001","41548"]
[890203563,"ESE Hospital San Rafael de Oiba","ANALISTA CONCILIACIONES",3125547250,"JCRAMIREZ@FAMISANAR.COM.CO","JUAN CARLOS","JUAN RAMIREZ, MICHEL MALAGON , CRISTIAN RIVERA","SANTANDER","OIBA",{"$f":"+BASE_ANALISTA[[#This Row],[nombredelresponsable]]","v":"JUAN CARLOS"},"11001","13430"]
[812000344,"HOSPITAL LOCAL DE MONTELIBANO","ANALISTA CONCILIACIONES",3125547250,"JCRAMIREZ@FAMISANAR.COM.CO","JENNYFFER ALEXANDRA SARMIENTO","JUAN RAMIREZ, MICHEL MALAGON , CRISTIAN RIVERA","CÓRDOBA","MONTELÍBANO",{"$f":"+BASE_ANALISTA[[#This Row],[nombredelresponsable]]","v":"JENNYFFER ALEXANDRA SARMIENTO"},"11001","13268"]
[900242742,"Fabilu Ltda Clinica Colombia","ANALISTA CONCILIACIONES",3125547250,"JCRAMIREZ@FAMISANAR.COM.CO","JENNYFFER ALEXANDRA SARMIENTO","JUAN RAMIREZ, MICHEL MALAGON , CRISTIAN RIVERA","VALLE DEL CAUCA","CALI",{"$f":"+BASE_ANALISTA[[#This Row],[nombredelresponsable]]","v":"JENNYFFER ALEXANDRA SARMIENTO"},"11001","20400"]
[900227720,"CENTRO NEUROLOGICO DEL NORTE SAS","ANALISTA CONCILIACIONES",3125547250,"JCRAMIREZ@FAMISANAR.COM.CO","JUAN CARLOS","JUAN RAMIREZ, MICHEL MALAGON , CRISTIAN RIVERA","ATLÁNTICO","BARRANQUILLA",{"$f":"+BASE_ANALISTA[[#This Row],[nombredelresponsable]]","v":"JUAN CARLOS"},"11001","13001"]
[811042064,"Centro Cardiovascular Somer In Care","ANALISTA CONCILIACIONES",3125547250,"JCRAMIREZ@FAMISANAR.COM.CO","JENNYFFER ALEXANDRA SARMIENTO","JUAN RAMIREZ, MICHEL MALAGON , CRISTIAN RIVERA","ANTIOQUIA","RIONEGRO",{"$f":"+BASE_ANALISTA[[#This Row],[nombredelresponsable]]","v":"JENNYFFER ALEXANDRA SARMIENTO"},"11001","13657"]
[804016365,"EMPRESA SOCIAL DEL ESTADO HOSPITAL EL CARMEN","ANALISTA CONCILIACIONES",3125547250,"JCRAMIREZ@FAMISANAR.COM.CO","JUAN CARLOS","JUAN RAMIREZ, MICHEL MALAGON , CRISTIAN RIVERA","SANTANDER","EL CARMEN DE CHUCURI",{"$f":"+BASE_ANALISTA[[#This Row],[nombredelresponsable]]","v":"JUAN CARLOS"},"11001","13001"]
[802020291,"FUNDEMOS IPS SAS","ANALISTA CONCILIACIONES",3125547250,"JCRAMIREZ@FAMISANAR.COM.CO","JUAN CARLOS","JUAN RAMIREZ, MICHEL MALAGON , CRISTIAN RIVERA","ATLÁNTICO","BARRANQUILLA",{"$f":"+BASE_ANALISTA[[#This Row],[nombredelresponsable]]","v":"JUAN CARLOS"},"11001","47245"]
[900174813,"FundaciOn Educativa y de rehabilitaciOn integral Prisma","ANALISTA CONCILIACIONES",3125547250,"JCRAMIREZ@FAMISANAR.COM.CO","JUAN CARLOS","JUAN RAMIREZ, MICHEL MALAGON , CRISTIAN RIVERA","ATLÁNTICO","BARRANQUILLA",{"$f":"+BASE_ANALISTA[[#This Row],[nombredelresponsable]]","v":"JUAN CARLOS"},"11001","20001"]
[844003225,"E.S.E. SALUD YOPAL","ANALISTA CONCILIACIONES",3125547250,"JCRAMIREZ@FAMISANAR.COM.CO","JUAN CARLOS","JUAN RAMIREZ, MICHEL MALAGON , CRISTIAN RIVERA","META","YOPAL",{"$f":"+BASE_ANALISTA[[#This Row],[nombredelresponsable]]","v":"JUAN CARLOS"},"11001","41378"]
[800107179,"INSTITUTO DEL CORAZON S.A.S","ANALISTA CONCILIACIONES",3125547250,"JCRAMIREZ@FAMISANAR.COM.CO","JENNYFFER ALEXANDRA SARMIENTO","JUAN RAMIREZ, MICHEL MALAGON , CRISTIAN RIVERA","ANTIOQUIA","MEDELLÍN",{"$f":"+BASE_ANALISTA[[#This Row],[nombredelresponsable]]","v":"JENNYFFER ALEXANDRA SARMIENTO"},"11001","52079"]
[800228773,"PROSALCO IPS","ANALISTA CONCILIACIONES",3125547250,"JCRAMIREZ@FAMISANAR.COM.CO","JENNYFFER ALEXANDRA SARMIENTO","JUAN RAMIREZ, MICHEL MALAGON , CRISTIAN RIVERA","ANTIOQUIA","MEDELLIN",{"$f":"+BASE_ANALISTA[[#This Row],[nombredelresponsable]]","v":"JENNYFFER ALEXANDRA SARMIENTO"},"11001","13873"]
[901238038,"NEURONAS S.A.S","ANALISTA CONCILIACIONES",3125547250,"JCRAMIREZ@FAMISANAR.COM.CO","JUAN CARLOS","JUAN RAMIREZ, MICHEL MALAGON , CRISTIAN RIVERA","COLOMBIA","COLOMBIA",{"$f":"+BASE_ANALISTA[[#This Row],[nombredelresponsable]]","v":"JUAN CARLOS"},"11001","08001"]
[800143438,"ESE  HOSPITAL HECTOR  ABAD  GOMEZ","ANALISTA CONCILIACIONES",3125547250,"JCRAMIREZ@FAMISANAR.COM.CO","JENNYFFER ALEXANDRA SARMIENTO","JUAN RAMIREZ, MICHEL MALAGON , CRISTIAN RIVERA","ANTIOQUIA","URABA",{"$f":"+BASE_ANALISTA[[#This Row],[nombredelresponsable]]","v":"JENNYFFER ALEXANDRA SARMIENTO"},"11001","70708"]
[800231215,"ESE HOSPITAL DEL SARARE SAN RICARDO PAMPURI","ANALISTA CONCILIACIONES",3125547250,"JCRAMIREZ@FAMISANAR.COM.CO","JENNYFFER ALEXANDRA SARMIENTO","JUAN RAMIREZ, MICHEL MALAGON , CRISTIAN RIVERA","ARAUCA","SARAVENA",{"$f":"+BASE_ANALISTA[[#This Row],[nombredelresponsable]]","v":"JENNYFFER ALEXANDRA SARMIENTO"},"11001","76001"]
[900233294,"clinica general del caribe S.A","ANALISTA CONCILIACIONES",3125547250,"JCRAMIREZ@FAMISANAR.COM.CO","JUAN CARLOS","JUAN RAMIREZ, MICHEL MALAGON , CRISTIAN RIVERA","BOLIVAR","CARTAGENA",{"$f":"+BASE_ANALISTA[[#This Row],[nombredelresponsable]]","v":"JUAN CARLOS"},"11001","20621"]
[900583004,"Unidad de Diagnostico y Rehabilitacion Cardiopulmonar Creer SAS","ANALISTA CONCILIACIONES",3125547250,"JCRAMIREZ@FAMISANAR.COM.CO","JUAN CARLOS","JUAN RAMIREZ, MICHEL MALAGON , CRISTIAN RIVERA","CUNDINAMARCA","BOGOTÁ D.C",{"$f":"+BASE_ANALISTA[[#This Row],[nombredelresponsable]]","v":"JUAN CARLOS"},"11001","50001"]
[800199397,"FISIOTER LTDA","ANALISTA CONCILIACIONES",3125547250,"JCRAMIREZ@FAMISANAR.COM.CO","JENNYFFER ALEXANDRA SARMIENTO","JUAN RAMIREZ, MICHEL MALAGON , CRISTIAN RIVERA","BOYACÁ","TUNJA",{"$f":"+BASE_ANALISTA[[#This Row],[nombredelresponsable]]","v":"JENNYFFER ALEXANDRA SARMIENTO"},"11001","25799"]
[900133836,"VIVIR GENERA SALUD SAS","ANALISTA CONCILIACIONES",3125547250,"JCRAMIREZ@FAMISANAR.COM.CO","JENNYFFER ALEXANDRA SARMIENTO","JUAN RAMIREZ, MICHEL MALAGON , CRISTIAN RIVERA","BOYACÁ","DUITAMA",{"$f":"+BASE_ANALISTA[[#This Row],[nombredelresponsable]]","v":"JENNYFFER ALEXANDRA SARMIENTO"},"11001","76895"]
[807008857,"ESE HOSPITAL REGIONAL NORTE","ANALISTA CONCILIACIONES",3125547250,"JCRAMIREZ@FAMISANAR.COM.CO","JUAN CARLOS","JUAN RAMIREZ, MICHEL MALAGON , CRISTIAN RIVERA","NORTE DE SANTANDER","TIBÚ",{"$f":"+BASE_ANALISTA[[#This Row],[nombredelresponsable]]","v":"JUAN CARLOS"},"11001","25372"]
[890306950,"EMPRESA SOCIAL DEL ESTADO HOSPITAL PILOTO DE JAMUNDI","ANALISTA CONCILIACIONES",3125547250,"JCRAMIREZ@FAMISANAR.COM.CO","JENNYFFER ALEXANDRA SARMIENTO","JUAN RAMIREZ, MICHEL MALAGON , CRISTIAN RIVERA","VALLE DEL CAUCA","JAMUNDI",{"$f":"+BASE_ANALISTA[[#This Row],[nombredelresponsable]]","v":"JENNYFFER ALEXANDRA SARMIENTO"},"11001","50001"]
[890701922,"HOSPITAL LA MISERICORDIA E.S.E. DE SAN ANTONIO TOLIMA","ANALISTA CONCILIACIONES",3125547250,"JCRAMIREZ@FAMISANAR.COM.CO","JENNYFFER ALEXANDRA SARMIENTO","JUAN RAMIREZ, MICHEL MALAGON , CRISTIAN RIVERA","TOLIMA ","SAN ANTONIO",{"$f":"+BASE_ANALISTA[[#This Row],[nombredelresponsable]]","v":"JENNYFFER ALEXANDRA SARMIENTO"},"11001","13683"]
[890982116,"ESE HOSPITAL GERMAN VELEZ GUTIERREZ BETULIA","ANALISTA CONCILIACIONES",3125547250,"JCRAMIREZ@FAMISANAR.COM.CO","JENNYFFER ALEXANDRA SARMIENTO","JUAN RAMIREZ, MICHEL MALAGON , CRISTIAN RIVERA","ANTIOQUIA","MEDELLÍN",{"$f":"+BASE_ANALISTA[[#This Row],[nombredelresponsable]]","v":"JENNYFFER ALEXANDRA SARMIENTO"},"11001","73555"]
[890102140,"CONGREGACION DE HNAS FCANAS MISIONERAS DE MARIA AUXILIADORA CLINICA LA ASUNCION","ANALISTA CONCILIACIONES",3125547250,"JCRAMIREZ@FAMISANAR.COM.CO","JUAN CARLOS","JUAN RAMIREZ, MICHEL MALAGON , CRISTIAN RIVERA","ATLÁNTICO","BARRANQUILLA",{"$f":"+BASE_ANALISTA[[#This Row],[nombredelresponsable]]","v":"JUAN CARLOS"},"11001","68001"]
[900129296,"EMPRESA SOCIAL DEL ESTADO CAYETANO MARIA DE ROJAS, PRIMER NIVEL DE ATENCION","ANALISTA CONCILIACIONES",3125547250,"JCRAMIREZ@FAMISANAR.COM.CO","JENNYFFER ALEXANDRA SARMIENTO","JUAN RAMIREZ, MICHEL MALAGON , CRISTIAN RIVERA","CUNDINAMARCA","EL PENON",{"$f":"+BASE_ANALISTA[[#This Row],[nombredelresponsable]]","v":"JENNYFFER ALEXANDRA SARMIENTO"},"11001","68001"]
[900205788,"UNIDAD UROLOGICA DIAGNOSTICA LTDA","ANALISTA CONCILIACIONES",3125547250,"JCRAMIREZ@FAMISANAR.COM.CO","JENNYFFER ALEXANDRA SARMIENTO","JUAN RAMIREZ, MICHEL MALAGON , CRISTIAN RIVERA","BOYACÁ","TUNJA",{"$f":"+BASE_ANALISTA[[#This Row],[nombredelresponsable]]","v":"JENNYFFER ALEXANDRA SARMIENTO"},"11001","08433"]
[890984696,"Hospital San Antonio de Taraza","ANALISTA CONCILIACIONES",3125547250,"JCRAMIREZ@FAMISANAR.COM.CO","JENNYFFER ALEXANDRA SARMIENTO","JUAN RAMIREZ, MICHEL MALAGON , CRISTIAN RIVERA","ANTIOQUIA","TARAZÁ",{"$f":"+BASE_ANALISTA[[#This Row],[nombredelresponsable]]","v":"JENNYFFER ALEXANDRA SARMIENTO"},"11001","68001"]
[900696730,"HOME CARE IPS - CENTRO ESPECIALIZADO EN MEDICINA DOMICILIARIA SAS","ANALISTA CONCILIACIONES",3125547250,"JCRAMIREZ@FAMISANAR.COM.CO","JENNYFFER ALEXANDRA SARMIENTO","JUAN RAMIREZ, MICHEL MALAGON , CRISTIAN RIVERA","CUNDINAMARCA","ZIPAQUIRA",{"$f":"+BASE_ANALISTA[[#This Row],[nombredelresponsable]]","v":"JENNYFFER ALEXANDRA SARMIENTO"},"11001","15514"]
[891780008,"ESE HOSPITAL DEPARTAMENTAL SAN RAFAEL","ANALISTA CONCILIACIONES",3125547250,"JCRAMIREZ@FAMISANAR.COM.CO","JENNYFFER ALEXANDRA SARMIENTO","JUAN RAMIREZ, MICHEL MALAGON , CRISTIAN RIVERA","MAGDALENA","SANTA MARTA",{"$f":"+BASE_ANALISTA[[#This Row],[nombredelresponsable]]","v":"JENNYFFER ALEXANDRA SARMIENTO"},"11001","19110"]
[900304417,"SALUD DOMICILIARIA IMTREGRAL","ANALISTA CONCILIACIONES",3125547250,"JCRAMIREZ@FAMISANAR.COM.CO","JENNYFFER ALEXANDRA SARMIENTO","JUAN RAMIREZ, MICHEL MALAGON , CRISTIAN RIVERA","ANTIOQUIA","MEDELLÍN",{"$f":"+BASE_ANALISTA[[#This Row],[nombredelresponsable]]","v":"JENNYFFER ALEXANDRA SARMIENTO"},"11001","73270"]
[890802961,"ESE HOSPITAL SAN JOSE DE SAMANA","ANALISTA CONCILIACIONES",3125547250,"JCRAMIREZ@FAMISANAR.COM.CO","JUAN CARLOS","JUAN RAMIREZ, MICHEL MALAGON , CRISTIAN RIVERA","CALDAS","SAMANÁ",{"$f":"+BASE_ANALISTA[[#This Row],[nombredelresponsable]]","v":"JUAN CARLOS"},"11001","68377"]
[891401643,"EMPRESA SOCIAL DEL ESTADO HOSPITAL SAN PEDRO Y","ANALISTA CONCILIACIONES",3125547250,"JCRAMIREZ@FAMISANAR.COM.CO","JENNYFFER ALEXANDRA SARMIENTO","JUAN RAMIREZ, MICHEL MALAGON , CRISTIAN RIVERA","RISARALDA","LA VIRGINIA",{"$f":"+BASE_ANALISTA[[#This Row],[nombredelresponsable]]","v":"JENNYFFER ALEXANDRA SARMIENTO"},"11001","86885"]
[900081643,"E.S.E HOSPITAL MUNICIPAL  DEL DORADO","ANALISTA CONCILIACIONES",3125547250,"JCRAMIREZ@FAMISANAR.COM.CO","JUAN CARLOS","JUAN RAMIREZ, MICHEL MALAGON , CRISTIAN RIVERA","META","EL DORADO",{"$f":"+BASE_ANALISTA[[#This Row],[nombredelresponsable]]","v":"JUAN CARLOS"},"11001","73675"]
[800197217,"CLINICA DE ESPECIALISTAS MARIA AUXILIADORA LIMITADA","ANALISTA CONCILIACIONES",3125547250,"JCRAMIREZ@FAMISANAR.COM.CO","JENNYFFER ALEXANDRA SARMIENTO","JUAN RAMIREZ, MICHEL MALAGON , CRISTIAN RIVERA","CESAR","AGUACHICA",{"$f":"+BASE_ANALISTA[[#This Row],[nombredelresponsable]]","v":"JENNYFFER ALEXANDRA SARMIENTO"},"11001","44078"]
[890701010,"HOSPITAL SANTA BARBARA ESE","ANALISTA CONCILIACIONES",3125547250,"JCRAMIREZ@FAMISANAR.COM.CO","JENNYFFER ALEXANDRA SARMIENTO","JUAN RAMIREZ, MICHEL MALAGON , CRISTIAN RIVERA","TOLIMA ","VENADILLO",{"$f":"+BASE_ANALISTA[[#This Row],[nombredelresponsable]]","v":"JENNYFFER ALEXANDRA SARMIENTO"},"11001","73275"]
[800227877,"ESE HOSPITAL FRANCISCO LUIS JIMENEZ MARTINEZ","ANALISTA CONCILIACIONES",3125547250,"JCRAMIREZ@FAMISANAR.COM.CO","JENNYFFER ALEXANDRA SARMIENTO","JUAN RAMIREZ, MICHEL MALAGON , CRISTIAN RIVERA","ANTIOQUIA","CAREPA",{"$f":"+BASE_ANALISTA[[#This Row],[nombredelresponsable]]","v":"JENNYFFER ALEXANDRA SARMIENTO"},"11001","08001"]
[813006877,"E.S.E CENTRO DE SALUD SAN JUAN DE DIOS","ANALISTA CONCILIACIONES",3125547250,"JCRAMIREZ@FAMISANAR.COM.CO","JENNYFFER ALEXANDRA SARMIENTO","JUAN RAMIREZ, MICHEL MALAGON , CRISTIAN RIVERA","HUILA","PITAL",{"$f":"+BASE_ANALISTA[[#This Row],[nombredelresponsable]]","v":"JENNYFFER ALEXANDRA SARMIENTO"},"11001","15861"]
[890907254,"HOSPITAL SAN JUAN DE DIOS ESE RIONEGRO","ANALISTA CONCILIACIONES",3125547250,"JCRAMIREZ@FAMISANAR.COM.CO","JENNYFFER ALEXANDRA SARMIENTO","JUAN RAMIREZ, MICHEL MALAGON , CRISTIAN RIVERA","ANTIOQUIA","RIONEGRO",{"$f":"+BASE_ANALISTA[[#This Row],[nombredelresponsable]]","v":"JENNYFFER ALEXANDRA SARMIENTO"},"11001","73861"]
[809001086,"HOSPITAL SERAFIN MONTAÑA CUELLAR E.S.E","ANALISTA CONCILIACIONES",3125547250,"JCRAMIREZ@FAMISANAR.COM.CO","JENNYFFER ALEXANDRA SARMIENTO","JUAN RAMIREZ, MICHEL MALAGON , CRISTIAN RIVERA","TOLIMA ","SAN LUIS",{"$f":"+BASE_ANALISTA[[#This Row],[nombredelresponsable]]","v":"JENNYFFER ALEXANDRA SARMIENTO"},"11001","20443"]
[900696065,"JOFECAD SAS","ANALISTA CONCILIACIONES",3125547250,"JCRAMIREZ@FAMISANAR.COM.CO","JENNYFFER ALEXANDRA SARMIENTO","JUAN RAMIREZ, MICHEL MALAGON , CRISTIAN RIVERA","CESAR","VALLEDUPAR",{"$f":"+BASE_ANALISTA[[#This Row],[nombredelresponsable]]","v":"JENNYFFER ALEXANDRA SARMIENTO"},"11001","86569"]
[890981536,"ESE HOSPITAL SAN RAFAEL YOLOMBO","ANALISTA CONCILIACIONES",3125547250,"JCRAMIREZ@FAMISANAR.COM.CO","JENNYFFER ALEXANDRA SARMIENTO","JUAN RAMIREZ, MICHEL MALAGON , CRISTIAN RIVERA","ANTIOQUIA","YOLOMBÓ",{"$f":"+BASE_ANALISTA[[#This Row],[nombredelresponsable]]","v":"JENNYFFER ALEXANDRA SARMIENTO"},"11001","20001"]
[813010966,"EMPRESA SOCIAL DEL ESTADO JUAN RAMON NUÑEZ PALACIOS","ANALISTA CONCILIACIONES",3125547250,"JCRAMIREZ@FAMISANAR.COM.CO","JENNYFFER ALEXANDRA SARMIENTO","JUAN RAMIREZ, MICHEL MALAGON , CRISTIAN RIVERA","HUILA","LA ARGENTINA",{"$f":"+BASE_ANALISTA[[#This Row],[nombredelresponsable]]","v":"JENNYFFER ALEXANDRA SARMIENTO"},"11001","13001"]
[900319481,"FISIOPLUS SAS","ANALISTA CONCILIACIONES",3125547250,"JCRAMIREZ@FAMISANAR.COM.CO","JENNYFFER ALEXANDRA SARMIENTO","JUAN RAMIREZ, MICHEL MALAGON , CRISTIAN RIVERA","CUNDINAMARCA","BOGOTÁ D.C",{"$f":"+BASE_ANALISTA[[#This Row],[nombredelresponsable]]","v":"JENNYFFER ALEXANDRA SARMIENTO"},"11001","15001"]
[891200445,"HOSPITAL SAN ANTONIO DE BARBACOAS E.S.E.","ANALISTA CONCILIACIONES",3125547250,"JCRAMIREZ@FAMISANAR.COM.CO","JENNYFFER ALEXANDRA SARMIENTO","JUAN RAMIREZ, MICHEL MALAGON , CRISTIAN RIVERA","NARIÑO","BARBACOAS",{"$f":"+BASE_ANALISTA[[#This Row],[nombredelresponsable]]","v":"JENNYFFER ALEXANDRA SARMIENTO"},"11001","68190"]
[900000427,"ESE POLICLINICO DE JUNIN","ANALISTA CONCILIACIONES",3125547250,"JCRAMIREZ@FAMISANAR.COM.CO","JUAN CARLOS","JUAN RAMIREZ, MICHEL MALAGON , CRISTIAN RIVERA","CUNDINAMARCA","JUNIN",{"$f":"+BASE_ANALISTA[[#This Row],[nombredelresponsable]]","v":"JUAN CARLOS"},"11001","50680"]
[800075650,"E.S.E. HOSPITAL SANTO TOMAS DE VILLANUEVA","ANALISTA CONCILIACIONES",3125547250,"JCRAMIREZ@FAMISANAR.COM.CO","JENNYFFER ALEXANDRA SARMIENTO","JUAN RAMIREZ, MICHEL MALAGON , CRISTIAN RIVERA","LA GUAJIRA","VILLANUEVA",{"$f":"+BASE_ANALISTA[[#This Row],[nombredelresponsable]]","v":"JENNYFFER ALEXANDRA SARMIENTO"},"11001","15001"]
[890204895,"ESE HOSPITAL SAN JUAN DE CIMITARRA","ANALISTA CONCILIACIONES",3125547250,"JCRAMIREZ@FAMISANAR.COM.CO","JUAN CARLOS","JUAN RAMIREZ, MICHEL MALAGON , CRISTIAN RIVERA","SANTANDER","CIMITARRA",{"$f":"+BASE_ANALISTA[[#This Row],[nombredelresponsable]]","v":"JUAN CARLOS"},"11001","85410"]
[891000499,"ESE HOSPITAL SAN JOSE DE SAN BERNARDO DEL VIENTO","ANALISTA CONCILIACIONES",3125547250,"JCRAMIREZ@FAMISANAR.COM.CO","JENNYFFER ALEXANDRA SARMIENTO","JUAN RAMIREZ, MICHEL MALAGON , CRISTIAN RIVERA","CÓRDOBA","SAN BERNARDO DEL VIENTO",{"$f":"+BASE_ANALISTA[[#This Row],[nombredelresponsable]]","v":"JENNYFFER ALEXANDRA SARMIENTO"},"11001","73547"]
[900593974,"HEALTH CENTER IPS S.A.S","ANALISTA CONCILIACIONES",3125547250,"JCRAMIREZ@FAMISANAR.COM.CO","JENNYFFER ALEXANDRA SARMIENTO","JUAN RAMIREZ, MICHEL MALAGON , CRISTIAN RIVERA","VALLE DEL CAUCA","CALI",{"$f":"+BASE_ANALISTA[[#This Row],[nombredelresponsable]]","v":"JENNYFFER ALEXANDRA SARMIENTO"},"11001","76001"]
[806010788,"HOSPITAL LOCAL MARIA LA BAJA ESE","ANALISTA CONCILIACIONES",3125547250,"JCRAMIREZ@FAMISANAR.COM.CO","JENNYFFER ALEXANDRA SARMIENTO","JUAN RAMIREZ, MICHEL MALAGON , CRISTIAN RIVERA",{"$error":"#N/A"},{"$error":"#N/A"},{"$f":"+BASE_ANALISTA[[#This Row],[nombredelresponsable]]","v":"JENNYFFER ALEXANDRA SARMIENTO"},"11001","13001"]
[890201397,"ASOCIACION SANTANDERENA PRO NIÑO RETARDO MENTAL","ANALISTA CONCILIACIONES",3125547250,"JCRAMIREZ@FAMISANAR.COM.CO","JUAN CARLOS","JUAN RAMIREZ, MICHEL MALAGON , CRISTIAN RIVERA","SANTANDER","BUCARAMANGA",{"$f":"+BASE_ANALISTA[[#This Row],[nombredelresponsable]]","v":"JUAN CARLOS"},"11001","18029"]
[900541158,"ENLACE-DOS S.A.S","ANALISTA CONCILIACIONES",3125547250,"JCRAMIREZ@FAMISANAR.COM.CO","JUAN CARLOS","JUAN RAMIREZ, MICHEL MALAGON , CRISTIAN RIVERA","META","VILLAVICENCIO",{"$f":"+BASE_ANALISTA[[#This Row],[nombredelresponsable]]","v":"JUAN CARLOS"},"11001","20001"]
[806008270,"E.S.E. HOSPITAL LOCAL SANTA ROSA DE LIMA","ANALISTA CONCILIACIONES",3125547250,"JCRAMIREZ@FAMISANAR.COM.CO","JUAN CARLOS","JUAN RAMIREZ, MICHEL MALAGON , CRISTIAN RIVERA","BOLIVAR","SANTA ROSA",{"$f":"+BASE_ANALISTA[[#This Row],[nombredelresponsable]]","v":"JUAN CARLOS"},"11001","20570"]
[802009806,"ese hospital local de malambo","ANALISTA CONCILIACIONES",3125547250,"JCRAMIREZ@FAMISANAR.COM.CO","JUAN CARLOS","JUAN RAMIREZ, MICHEL MALAGON , CRISTIAN RIVERA","ATLÁNTICO","MALAMBO",{"$f":"+BASE_ANALISTA[[#This Row],[nombredelresponsable]]","v":"JUAN CARLOS"},"11001","73043"]
[810000912,"CENTRO DE SALUD NORCASIA","ANALISTA CONCILIACIONES",3125547250,"JCRAMIREZ@FAMISANAR.COM.CO","JUAN CARLOS","JUAN RAMIREZ, MICHEL MALAGON , CRISTIAN RIVERA","CALDAS","NORCASIA",{"$f":"+BASE_ANALISTA[[#This Row],[nombredelresponsable]]","v":"JUAN CARLOS"},"11001","13468"]
[900146010,"EMPRESA SOCIAL DEL ESTADO NORTE 1 E.S.E","ANALISTA CONCILIACIONES",3125547250,"JCRAMIREZ@FAMISANAR.COM.CO","JENNYFFER ALEXANDRA SARMIENTO","JUAN RAMIREZ, MICHEL MALAGON , CRISTIAN RIVERA","CAUCA","BUENOS AIRES",{"$f":"+BASE_ANALISTA[[#This Row],[nombredelresponsable]]","v":"JENNYFFER ALEXANDRA SARMIENTO"},"11001","44001"]
[813002940,"ESE MARIA AUXILIADORA DE GARZON","ANALISTA CONCILIACIONES",3125547250,"JCRAMIREZ@FAMISANAR.COM.CO","JENNYFFER ALEXANDRA SARMIENTO","JUAN RAMIREZ, MICHEL MALAGON , CRISTIAN RIVERA","HUILA","GARZON",{"$f":"+BASE_ANALISTA[[#This Row],[nombredelresponsable]]","v":"JENNYFFER ALEXANDRA SARMIENTO"},"11001","47245"]
[800217198,"ONCOMEDIC LIMITADA  ONCOMEDIC LTDA","ANALISTA CONCILIACIONES",3125547250,"JCRAMIREZ@FAMISANAR.COM.CO","JENNYFFER ALEXANDRA SARMIENTO","JUAN RAMIREZ, MICHEL MALAGON , CRISTIAN RIVERA","TOLIMA ","IBAGUE",{"$f":"+BASE_ANALISTA[[#This Row],[nombredelresponsable]]","v":"JENNYFFER ALEXANDRA SARMIENTO"},"11001","25175"]
[800193490,"E.S.E HOSPITAL SANTA ANA NIVEL I","ANALISTA CONCILIACIONES",3125547250,"JCRAMIREZ@FAMISANAR.COM.CO","JENNYFFER ALEXANDRA SARMIENTO","JUAN RAMIREZ, MICHEL MALAGON , CRISTIAN RIVERA","TOLIMA ","FALAN",{"$f":"+BASE_ANALISTA[[#This Row],[nombredelresponsable]]","v":"JENNYFFER ALEXANDRA SARMIENTO"},"11001","41770"]
[824005609,"ASISTENCIA MEDICA INMEDIATA AMEDI S.A.S","ANALISTA CONCILIACIONES",3125547250,"JCRAMIREZ@FAMISANAR.COM.CO","JENNYFFER ALEXANDRA SARMIENTO","JUAN RAMIREZ, MICHEL MALAGON , CRISTIAN RIVERA","CESAR","VALLEDUPAR",{"$f":"+BASE_ANALISTA[[#This Row],[nombredelresponsable]]","v":"JENNYFFER ALEXANDRA SARMIENTO"},"11001","41807"]
[890801517,"ESE HOSPITAL SANTA TERESITA","ANALISTA CONCILIACIONES",3125547250,"JCRAMIREZ@FAMISANAR.COM.CO","JUAN CARLOS","JUAN RAMIREZ, MICHEL MALAGON , CRISTIAN RIVERA","CALDAS","PÁCORA",{"$f":"+BASE_ANALISTA[[#This Row],[nombredelresponsable]]","v":"JUAN CARLOS"},"11001","19698"]
[804008770,"ESE HOSPITAL SAN MARTIN LA BELLEZA","ANALISTA CONCILIACIONES",3125547250,"JCRAMIREZ@FAMISANAR.COM.CO","JUAN CARLOS","JUAN RAMIREZ, MICHEL MALAGON , CRISTIAN RIVERA","SANTANDER","LA BELLEZA",{"$f":"+BASE_ANALISTA[[#This Row],[nombredelresponsable]]","v":"JUAN CARLOS"},"11001","20001"]
[846001620,"ESE SAN GABRIEL ARCANGEL","ANALISTA CONCILIACIONES",3125547250,"JCRAMIREZ@FAMISANAR.COM.CO","JENNYFFER ALEXANDRA SARMIENTO","JUAN RAMIREZ, MICHEL MALAGON , CRISTIAN RIVERA","PUTUMAYO","VILLAGARZON",{"$f":"+BASE_ANALISTA[[#This Row],[nombredelresponsable]]","v":"JENNYFFER ALEXANDRA SARMIENTO"},"11001","86865"]
[816005003,"EMPRESA SOCIAL DEL ESTADO SALUD PEREIRA","ANALISTA CONCILIACIONES",3125547250,"JCRAMIREZ@FAMISANAR.COM.CO","JENNYFFER ALEXANDRA SARMIENTO","JUAN RAMIREZ, MICHEL MALAGON , CRISTIAN RIVERA","RISARALDA","PEREIRA",{"$f":"+BASE_ANALISTA[[#This Row],[nombredelresponsable]]","v":"JENNYFFER ALEXANDRA SARMIENTO"},"11001","73349"]
[901133184,"ENDOCIENCIA SAS","ANALISTA CONCILIACIONES",3125547250,"JCRAMIREZ@FAMISANAR.COM.CO","JENNYFFER ALEXANDRA SARMIENTO","JUAN RAMIREZ, MICHEL MALAGON , CRISTIAN RIVERA","CUNDINAMARCA","BOGOTA D.C",{"$f":"+BASE_ANALISTA[[#This Row],[nombredelresponsable]]","v":"JENNYFFER ALEXANDRA SARMIENTO"},"11001","85001"]
[802025301,"IPS CENTRO DE ATENCION PULMONAR CAP LTDA","ANALISTA CONCILIACIONES",3125547250,"JCRAMIREZ@FAMISANAR.COM.CO","JUAN CARLOS","JUAN RAMIREZ, MICHEL MALAGON , CRISTIAN RIVERA","ATLÁNTICO","BARRANQUILLA",{"$f":"+BASE_ANALISTA[[#This Row],[nombredelresponsable]]","v":"JUAN CARLOS"},"11001","20001"]
[900622320,"GASTROKIDS SAS","ANALISTA CONCILIACIONES",3125547250,"JCRAMIREZ@FAMISANAR.COM.CO","JUAN CARLOS","JUAN RAMIREZ, MICHEL MALAGON , CRISTIAN RIVERA","CALDAS","MANIZALEZ",{"$f":"+BASE_ANALISTA[[#This Row],[nombredelresponsable]]","v":"JUAN CARLOS"},"11001","15757"]
[891380054,"FUNDACION HOSPITAL SAN JOSE DE BUGA","ANALISTA CONCILIACIONES",3125547250,"JCRAMIREZ@FAMISANAR.COM.CO","JHON VARGAS","JUAN RAMIREZ, MICHEL MALAGON , CRISTIAN RIVERA","VALLE DEL CAUCA","GUADALAJARA DE BUGA",{"$f":"+BASE_ANALISTA[[#This Row],[nombredelresponsable]]","v":"JHON VARGAS"},"11001","76111"]
[804004037,"GAMANUCLEAR LTDA","ANALISTA CONCILIACIONES",3125547250,"JCRAMIREZ@FAMISANAR.COM.CO","JUAN CARLOS","JUAN RAMIREZ, MICHEL MALAGON , CRISTIAN RIVERA","SANTANDER","BUCARAMANGA",{"$f":"+BASE_ANALISTA[[#This Row],[nombredelresponsable]]","v":"JUAN CARLOS"},"11001","15600"]
[900077520,"ESE HOSPITAL LOCAL SAN CARLOS DE GUAROA","ANALISTA CONCILIACIONES",3125547250,"JCRAMIREZ@FAMISANAR.COM.CO","JUAN CARLOS","JUAN RAMIREZ, MICHEL MALAGON , CRISTIAN RIVERA","META","SAN CARLOS DE GUAROA",{"$f":"+BASE_ANALISTA[[#This Row],[nombredelresponsable]]","v":"JUAN CARLOS"},"11001","76122"]
[900412444,"ORTHOHAND S.A.S","ANALISTA CONCILIACIONES",3125547250,"JCRAMIREZ@FAMISANAR.COM.CO","JHON VARGAS","JUAN RAMIREZ, MICHEL MALAGON , CRISTIAN RIVERA","ANTIOQUIA","MEDELLÍN",{"$f":"+BASE_ANALISTA[[#This Row],[nombredelresponsable]]","v":"JHON VARGAS"},"11001","15001"]
[824000462,"E.S.E. HOSPITAL JOSE ANTONIO SOCARRAS SANCHEZ","ANALISTA CONCILIACIONES",3125547250,"JCRAMIREZ@FAMISANAR.COM.CO","JHON VARGAS","JUAN RAMIREZ, MICHEL MALAGON , CRISTIAN RIVERA","CESAR","MANAURE BALCON DEL CESAR",{"$f":"+BASE_ANALISTA[[#This Row],[nombredelresponsable]]","v":"JHON VARGAS"},"11001","08634"]
[812003455,"EMPRESA SOCIAL DEL ESTADO CAMU MOÑITOS","ANALISTA CONCILIACIONES",3125547250,"JCRAMIREZ@FAMISANAR.COM.CO","JHON VARGAS","JUAN RAMIREZ, MICHEL MALAGON , CRISTIAN RIVERA","CÓRDOBA","MOÑITOS",{"$f":"+BASE_ANALISTA[[#This Row],[nombredelresponsable]]","v":"JHON VARGAS"},"11001","25612"]
[846001669,"E.S.E HOSPITAL ALCIDES JIMENEZ","ANALISTA CONCILIACIONES",3125547250,"JCRAMIREZ@FAMISANAR.COM.CO","JHON VARGAS","JUAN RAMIREZ, MICHEL MALAGON , CRISTIAN RIVERA","PUTUMAYO","PUERTO CAICEDO",{"$f":"+BASE_ANALISTA[[#This Row],[nombredelresponsable]]","v":"JHON VARGAS"},"11001","63130"]
[900280908,"CENIC S.A.S.","ANALISTA CONCILIACIONES",3125547250,"JCRAMIREZ@FAMISANAR.COM.CO","JHON VARGAS","JUAN RAMIREZ, MICHEL MALAGON , CRISTIAN RIVERA","CESAR","VALLEDUPAR",{"$f":"+BASE_ANALISTA[[#This Row],[nombredelresponsable]]","v":"JHON VARGAS"},"11001","15332"]
[890801758,"ESE HOSPITAL SAN LORENZO","ANALISTA CONCILIACIONES",3125547250,"JCRAMIREZ@FAMISANAR.COM.CO","JUAN CARLOS","JUAN RAMIREZ, MICHEL MALAGON , CRISTIAN RIVERA","CALDAS","SUPÍA",{"$f":"+BASE_ANALISTA[[#This Row],[nombredelresponsable]]","v":"JUAN CARLOS"},"11001","13001"]
[820003850,"ESE SANTIAGO DE TUNJA","ANALISTA CONCILIACIONES",3125547250,"JCRAMIREZ@FAMISANAR.COM.CO","JHON VARGAS","JUAN RAMIREZ, MICHEL MALAGON , CRISTIAN RIVERA","BOYACÁ","TUNJA",{"$f":"+BASE_ANALISTA[[#This Row],[nombredelresponsable]]","v":"JHON VARGAS"},"11001","20787"]
[900520772,"ARMONY CLINICA DE ESTÉTICA Y CIRUGIA PLÁSTICA S.A.S","ANALISTA CONCILIACIONES",3125547250,"JCRAMIREZ@FAMISANAR.COM.CO","JUAN CARLOS","JUAN RAMIREZ, MICHEL MALAGON , CRISTIAN RIVERA","CALDAS","LA DORADA",{"$f":"+BASE_ANALISTA[[#This Row],[nombredelresponsable]]","v":"JUAN CARLOS"},"11001","13001"]
[844001287,"Empresa Social del Estado Hospital Local de Tauramena","ANALISTA CONCILIACIONES",3125547250,"JCRAMIREZ@FAMISANAR.COM.CO","JHON VARGAS","JUAN RAMIREZ, MICHEL MALAGON , CRISTIAN RIVERA","CASANARE","TAURAMENA",{"$f":"+BASE_ANALISTA[[#This Row],[nombredelresponsable]]","v":"JHON VARGAS"},"11001","20710"]
[900223749,"FUNDACION UNIDAD DE CUIDADOS INTENSIVOS DOÑA PILAR","ANALISTA CONCILIACIONES",3125547250,"JCRAMIREZ@FAMISANAR.COM.CO","JUAN CARLOS","JUAN RAMIREZ, MICHEL MALAGON , CRISTIAN RIVERA","BOLIVAR","CARTAGENA",{"$f":"+BASE_ANALISTA[[#This Row],[nombredelresponsable]]","v":"JUAN CARLOS"},"11001","76233"]
[891409981,"CLINICA LOS ROSALES S.A","ANALISTA CONCILIACIONES",3125547250,"JCRAMIREZ@FAMISANAR.COM.CO","JHON VARGAS","JUAN RAMIREZ, MICHEL MALAGON , CRISTIAN RIVERA","RISARALDA","PEREIRA",{"$f":"+BASE_ANALISTA[[#This Row],[nombredelresponsable]]","v":"JHON VARGAS"},"11001","68255"]
[812005726,"EMPRES SOCIAL DEL ESTADO CAMU EL AMPARO","ANALISTA CONCILIACIONES",3125547250,"JCRAMIREZ@FAMISANAR.COM.CO","JHON VARGAS","JUAN RAMIREZ, MICHEL MALAGON , CRISTIAN RIVERA","CÓRDOBA","MONTERÍA",{"$f":"+BASE_ANALISTA[[#This Row],[nombredelresponsable]]","v":"JHON VARGAS"},"11001","20001"]
[800163519,"HOSPITAL SAN JUAN DE DIOS DE ANZOATEGUI","ANALISTA CONCILIACIONES",3125547250,"JCRAMIREZ@FAMISANAR.COM.CO","JHON VARGAS","JUAN RAMIREZ, MICHEL MALAGON , CRISTIAN RIVERA","TOLIMA ","ANZOATEGUI",{"$f":"+BASE_ANALISTA[[#This Row],[nombredelresponsable]]","v":"JHON VARGAS"},"11001","41298"]
[809005249,"HOSPIATAL SAN SEBASTIAN  DE PIEDRAS TOLIMA","ANALISTA CONCILIACIONES",3125547250,"JCRAMIREZ@FAMISANAR.COM.CO","JHON VARGAS","JUAN RAMIREZ, MICHEL MALAGON , CRISTIAN RIVERA","TOLIMA ","PIEDRAS",{"$f":"+BASE_ANALISTA[[#This Row],[nombredelresponsable]]","v":"JHON VARGAS"},"11001","18094"]
[805027337,"RED DE SALUD DEL ORIENTE","ANALISTA CONCILIACIONES",3125547250,"JCRAMIREZ@FAMISANAR.COM.CO","JHON VARGAS","JUAN RAMIREZ, MICHEL MALAGON , CRISTIAN RIVERA","VALLE DEL CAUCA","CALI",{"$f":"+BASE_ANALISTA[[#This Row],[nombredelresponsable]]","v":"JHON VARGAS"},"11001","08832"]
[891855847,"SOCIEDAD CLINICA CASANARE LTDA","ANALISTA CONCILIACIONES",3125547250,"JCRAMIREZ@FAMISANAR.COM.CO","JHON VARGAS","JUAN RAMIREZ, MICHEL MALAGON , CRISTIAN RIVERA","CASANARE","YOPAL",{"$f":"+BASE_ANALISTA[[#This Row],[nombredelresponsable]]","v":"JHON VARGAS"},"11001","47001"]
[900237812,"PREVICARE LTDA","ANALISTA CONCILIACIONES",3125547250,"JCRAMIREZ@FAMISANAR.COM.CO","JHON VARGAS","JUAN RAMIREZ, MICHEL MALAGON , CRISTIAN RIVERA","MAGDALENA","SANTA MARTA",{"$f":"+BASE_ANALISTA[[#This Row],[nombredelresponsable]]","v":"JHON VARGAS"},"11001","50001"]
[800128191,"PLANSALUD LTDA","ANALISTA CONCILIACIONES",3125547250,"JCRAMIREZ@FAMISANAR.COM.CO","JHON VARGAS","JUAN RAMIREZ, MICHEL MALAGON , CRISTIAN RIVERA","CUNDINAMARCA","VILLA DE SAN DIEGO DE UBATE",{"$f":"+BASE_ANALISTA[[#This Row],[nombredelresponsable]]","v":"JHON VARGAS"},"11001","05660"]
[800138311,"ESE HOSPITAL NUESTRA SEÑORA DEL CARMEN","ANALISTA CONCILIACIONES",3125547250,"JCRAMIREZ@FAMISANAR.COM.CO","JHON VARGAS","JUAN RAMIREZ, MICHEL MALAGON , CRISTIAN RIVERA","ANTIOQUIA","BAGRE",{"$f":"+BASE_ANALISTA[[#This Row],[nombredelresponsable]]","v":"JHON VARGAS"},"11001","20001"]
[830512886,"DENTISTETIC LTDA","ANALISTA CONCILIACIONES",3125547250,"JCRAMIREZ@FAMISANAR.COM.CO","JHON VARGAS","JUAN RAMIREZ, MICHEL MALAGON , CRISTIAN RIVERA","BOLIVAR","CARTAGENA",{"$f":"+BASE_ANALISTA[[#This Row],[nombredelresponsable]]","v":"JHON VARGAS"},"11001","73001"]
[816000810,"UNIDAD OFTALMOLOGICA LASER SA","ANALISTA CONCILIACIONES",3125547250,"JCRAMIREZ@FAMISANAR.COM.CO","JHON VARGAS","JUAN RAMIREZ, MICHEL MALAGON , CRISTIAN RIVERA","RISARALDA","PEREIRA",{"$f":"+BASE_ANALISTA[[#This Row],[nombredelresponsable]]","v":"JHON VARGAS"},"11001","47001"]
[824002672,"HOSPITAL CAMILO VILLAZON PUMAREJO","ANALISTA CONCILIACIONES",3125547250,"JCRAMIREZ@FAMISANAR.COM.CO","JHON VARGAS","JUAN RAMIREZ, MICHEL MALAGON , CRISTIAN RIVERA","CESAR","PUEBLO BELLO",{"$f":"+BASE_ANALISTA[[#This Row],[nombredelresponsable]]","v":"JHON VARGAS"},"11001","08421"]
[890982134,"E.S.E. HOSPITAL PEDRO NEL CARDONA","ANALISTA CONCILIACIONES",3125547250,"JCRAMIREZ@FAMISANAR.COM.CO","JHON VARGAS","JUAN RAMIREZ, MICHEL MALAGON , CRISTIAN RIVERA","ANTIOQUIA","ARBOLETES",{"$f":"+BASE_ANALISTA[[#This Row],[nombredelresponsable]]","v":"JHON VARGAS"},"11001","68276"]
[900317865,"IPS MARIA DEL MAR S.A.S.","ANALISTA CONCILIACIONES",3125547250,"JCRAMIREZ@FAMISANAR.COM.CO","JHON VARGAS","JUAN RAMIREZ, MICHEL MALAGON , CRISTIAN RIVERA","ATLÁNTICO","JUAN DE ACOSTA",{"$f":"+BASE_ANALISTA[[#This Row],[nombredelresponsable]]","v":"JHON VARGAS"},"11001","47001"]
[806007257,"ESE HOSPITAL LOCAL SANTA MARIA","ANALISTA CONCILIACIONES",3125547250,"JCRAMIREZ@FAMISANAR.COM.CO","JHON VARGAS","JUAN RAMIREZ, MICHEL MALAGON , CRISTIAN RIVERA","BOLIVAR","SANTA CRUZ DE MOMPOX",{"$f":"+BASE_ANALISTA[[#This Row],[nombredelresponsable]]","v":"JHON VARGAS"},"11001","19780"]
[812001520,"ESE CAMU PUEBLO NUEVO","ANALISTA CONCILIACIONES",3125547250,"JCRAMIREZ@FAMISANAR.COM.CO","JHON VARGAS","JUAN RAMIREZ, MICHEL MALAGON , CRISTIAN RIVERA","CÓRDOBA","PUEBLO NUEVO",{"$f":"+BASE_ANALISTA[[#This Row],[nombredelresponsable]]","v":"JHON VARGAS"},"11001","44420"]
[800004808,"CLINICA SANTA CLARA LTDA","ANALISTA CONCILIACIONES",3125547250,"JCRAMIREZ@FAMISANAR.COM.CO","JHON VARGAS","JUAN RAMIREZ, MICHEL MALAGON , CRISTIAN RIVERA","RISARALDA","SANTA ROSA DE CABAL",{"$f":"+BASE_ANALISTA[[#This Row],[nombredelresponsable]]","v":"JHON VARGAS"},"11001","20001"]
[890801274,"ESE MUNICIPAL HOSPITAL SAN CAYETANO DE MARQUETALIA","ANALISTA CONCILIACIONES",3125547250,"JCRAMIREZ@FAMISANAR.COM.CO","JHON VARGAS","JUAN RAMIREZ, MICHEL MALAGON , CRISTIAN RIVERA","CALDAS","MARQUETALIA",{"$f":"+BASE_ANALISTA[[#This Row],[nombredelresponsable]]","v":"JHON VARGAS"},"11001","08001"]
[891180198,"EMPRESA SOCIAL DEL ESTADO HOSPITAL MUNICIPAL SAN ANTONIO","ANALISTA CONCILIACIONES",3125547250,"JCRAMIREZ@FAMISANAR.COM.CO","JHON VARGAS","JUAN RAMIREZ, MICHEL MALAGON , CRISTIAN RIVERA","HUILA","TIMANA",{"$f":"+BASE_ANALISTA[[#This Row],[nombredelresponsable]]","v":"JHON VARGAS"},"11001","13001"]
[900182762,"CENTRO CARDIOVASCULAR ARISTIDES SOTOMAYOR SANTA LUCIA SOCIEDAD POR ACCIONES SIMPLIFICADAS S.A.S IPS","ANALISTA CONCILIACIONES",3125547250,"JCRAMIREZ@FAMISANAR.COM.CO","JHON VARGAS","JUAN RAMIREZ, MICHEL MALAGON , CRISTIAN RIVERA","BOLIVAR","CARTAGENA",{"$f":"+BASE_ANALISTA[[#This Row],[nombredelresponsable]]","v":"JHON VARGAS"},"11001","68001"]
[890801495,"Clinica San Juan de Dios Manizales","ANALISTA CONCILIACIONES",3125547250,"JCRAMIREZ@FAMISANAR.COM.CO","JHON VARGAS","JUAN RAMIREZ, MICHEL MALAGON , CRISTIAN RIVERA","CALDAS","MANIZALES",{"$f":"+BASE_ANALISTA[[#This Row],[nombredelresponsable]]","v":"JHON VARGAS"},"11001","47245"]
[900005955,"EVALUAMOS IPS LTDA.","ANALISTA CONCILIACIONES",3125547250,"JCRAMIREZ@FAMISANAR.COM.CO","JHON VARGAS","JUAN RAMIREZ, MICHEL MALAGON , CRISTIAN RIVERA","CÓRDOBA","MONTERÍA",{"$f":"+BASE_ANALISTA[[#This Row],[nombredelresponsable]]","v":"JHON VARGAS"},"11001","19100"]
[900699315,"UIM S.A.S","ANALISTA CONCILIACIONES",3125547250,"JCRAMIREZ@FAMISANAR.COM.CO","JHON VARGAS","JUAN RAMIREZ, MICHEL MALAGON , CRISTIAN RIVERA","CESAR","VALLEDUPAR",{"$f":"+BASE_ANALISTA[[#This Row],[nombredelresponsable]]","v":"JHON VARGAS"},"11001","08001"]
[891411663,"EMPRESA SOCIAL DEL ESTADO HOSPITAL SANTA MONICA","ANALISTA CONCILIACIONES",3125547250,"JCRAMIREZ@FAMISANAR.COM.CO","JHON VARGAS","JUAN RAMIREZ, MICHEL MALAGON , CRISTIAN RIVERA","RISARALDA","DOSQUEBRADAS",{"$f":"+BASE_ANALISTA[[#This Row],[nombredelresponsable]]","v":"JHON VARGAS"},"11001","15001"]
[846000471,"E.S.E HOSPITAL SAGRADO CORAZON DE JESUS  LA HORMIGA","ANALISTA CONCILIACIONES",3125547250,"JCRAMIREZ@FAMISANAR.COM.CO","JHON VARGAS","JUAN RAMIREZ, MICHEL MALAGON , CRISTIAN RIVERA","PUTUMAYO","VALLE DEL GUAMUEZ",{"$f":"+BASE_ANALISTA[[#This Row],[nombredelresponsable]]","v":"JHON VARGAS"},"11001","13873"]
[900807053,"UNIDAD DE GASTROENTEROLOGIA PEDIATRICA DEL CESAR S.A.S.","ANALISTA CONCILIACIONES",3125547250,"JCRAMIREZ@FAMISANAR.COM.CO","JHON VARGAS","JUAN RAMIREZ, MICHEL MALAGON , CRISTIAN RIVERA","CESAR","VALLEDUPAR",{"$f":"+BASE_ANALISTA[[#This Row],[nombredelresponsable]]","v":"JHON VARGAS"},"11001","68575"]
[901101871,"CLINICA DE NIÑOS IPS SAS","ANALISTA CONCILIACIONES",3125547250,"JCRAMIREZ@FAMISANAR.COM.CO","JHON VARGAS","JUAN RAMIREZ, MICHEL MALAGON , CRISTIAN RIVERA","CÓRDOBA","MONTERIA",{"$f":"+BASE_ANALISTA[[#This Row],[nombredelresponsable]]","v":"JHON VARGAS"},"11001","13001"]
[802003081,"E.S.E HOSPITAL MUNICIPAL DE SABANAGRANDE","ANALISTA CONCILIACIONES",3125547250,"JCRAMIREZ@FAMISANAR.COM.CO","JHON VARGAS","JUAN RAMIREZ, MICHEL MALAGON , CRISTIAN RIVERA","ATLÁNTICO","SABANAGRANDE",{"$f":"+BASE_ANALISTA[[#This Row],[nombredelresponsable]]","v":"JHON VARGAS"},"11001","08296"]
[900008882,"CENTRO DE MOVIMIENTO EJERCICIO Y REHABILITACION SAS","ANALISTA CONCILIACIONES",3125547250,"JCRAMIREZ@FAMISANAR.COM.CO","JHON VARGAS","JUAN RAMIREZ, MICHEL MALAGON , CRISTIAN RIVERA","BOLIVAR","CARTAGENA",{"$f":"+BASE_ANALISTA[[#This Row],[nombredelresponsable]]","v":"JHON VARGAS"},"11001","25175"]
[812001423,"ESE CAMU SANTA TERESITA DE LORICA CORDOBA","ANALISTA CONCILIACIONES",3125547250,"JCRAMIREZ@FAMISANAR.COM.CO","JHON VARGAS","JUAN RAMIREZ, MICHEL MALAGON , CRISTIAN RIVERA","CÓRDOBA","LORICA",{"$f":"+BASE_ANALISTA[[#This Row],[nombredelresponsable]]","v":"JHON VARGAS"},"11001","52001"]
[890103025,"EMPRESA SOCIAL DEL ESTADO HOSPITAL LOCAL DE LURUACO","ANALISTA CONCILIACIONES",3125547250,"JCRAMIREZ@FAMISANAR.COM.CO","JHON VARGAS","JUAN RAMIREZ, MICHEL MALAGON , CRISTIAN RIVERA","ATLÁNTICO","LURUACO",{"$f":"+BASE_ANALISTA[[#This Row],[nombredelresponsable]]","v":"JHON VARGAS"},"11001","63470"]
[881862576,"e.s.e hospital sagrado corazon de jesus de socha","ANALISTA CONCILIACIONES",3125547250,"JCRAMIREZ@FAMISANAR.COM.CO","JHON VARGAS","JUAN RAMIREZ, MICHEL MALAGON , CRISTIAN RIVERA","BOYACÁ","SOCHA",{"$f":"+BASE_ANALISTA[[#This Row],[nombredelresponsable]]","v":"JHON VARGAS"},"11001","25843"]
[891900356,"ESE HOSPITAL SANTANDER","ANALISTA CONCILIACIONES",3125547250,"JCRAMIREZ@FAMISANAR.COM.CO","JHON VARGAS","JUAN RAMIREZ, MICHEL MALAGON , CRISTIAN RIVERA","VALLE DEL CAUCA","CAICEDONIA",{"$f":"+BASE_ANALISTA[[#This Row],[nombredelresponsable]]","v":"JHON VARGAS"},"11001","68147"]
[900949608,"CENTRO ESPECIALIZADO EN IMAGENES MAMARIAS S.A.S","ANALISTA CONCILIACIONES",3125547250,"JCRAMIREZ@FAMISANAR.COM.CO","JHON VARGAS","JUAN RAMIREZ, MICHEL MALAGON , CRISTIAN RIVERA","CESAR","VALLEDUPAR",{"$f":"+BASE_ANALISTA[[#This Row],[nombredelresponsable]]","v":"JHON VARGAS"},"11001","08001"]
[900058218,"ESE CENTRO DE SALUD DE RICAURTE","ANALISTA CONCILIACIONES",3125547250,"JCRAMIREZ@FAMISANAR.COM.CO","JHON VARGAS","JUAN RAMIREZ, MICHEL MALAGON , CRISTIAN RIVERA","CUNDINAMARCA","RICAURTE",{"$f":"+BASE_ANALISTA[[#This Row],[nombredelresponsable]]","v":"JHON VARGAS"},"11001","41020"]
[890100275,"CLINICA DEL CARIBE S.A.","ANALISTA CONCILIACIONES",3125547250,"JCRAMIREZ@FAMISANAR.COM.CO","JHON VARGAS","JUAN RAMIREZ, MICHEL MALAGON , CRISTIAN RIVERA","ATLÁNTICO","BARRANQUILLA",{"$f":"+BASE_ANALISTA[[#This Row],[nombredelresponsable]]","v":"JHON VARGAS"},"11001","08001"]
[820000886,"E.S.E. CENTRO DE SALUD SAN ANTONIO DE LA PARED","ANALISTA CONCILIACIONES",3125547250,"JCRAMIREZ@FAMISANAR.COM.CO","JHON VARGAS","JUAN RAMIREZ, MICHEL MALAGON , CRISTIAN RIVERA","BOYACÁ","RAQUIRA",{"$f":"+BASE_ANALISTA[[#This Row],[nombredelresponsable]]","v":"JHON VARGAS"},"11001","08001"]
[890300513,"CLINICA DE OCCIDENTE S.A.","ANALISTA CONCILIACIONES",3125547250,"JCRAMIREZ@FAMISANAR.COM.CO","JHON VARGAS","JUAN RAMIREZ, MICHEL MALAGON , CRISTIAN RIVERA","VALLE DEL CAUCA","CALI",{"$f":"+BASE_ANALISTA[[#This Row],[nombredelresponsable]]","v":"JHON VARGAS"},"11001","70221"]
[900193988,"UROCLINICA DE CORDOBA SAS","ANALISTA CONCILIACIONES",3125547250,"JCRAMIREZ@FAMISANAR.COM.CO","JHON VARGAS","JUAN RAMIREZ, MICHEL MALAGON , CRISTIAN RIVERA","CÓRDOBA","MONTERIA",{"$f":"+BASE_ANALISTA[[#This Row],[nombredelresponsable]]","v":"JHON VARGAS"},"11001","73347"]
[820002306,"MEDICINA NUCLEAR DE BOYACA LTDA","ANALISTA CONCILIACIONES",3125547250,"JCRAMIREZ@FAMISANAR.COM.CO","JHON VARGAS","JUAN RAMIREZ, MICHEL MALAGON , CRISTIAN RIVERA","BOYACÁ","TUNJA",{"$f":"+BASE_ANALISTA[[#This Row],[nombredelresponsable]]","v":"JHON VARGAS"},"11001","08606"]
[900277630,"CLINICA MARYBAU LTDA","ANALISTA CONCILIACIONES",3125547250,"JCRAMIREZ@FAMISANAR.COM.CO","JHON VARGAS","JUAN RAMIREZ, MICHEL MALAGON , CRISTIAN RIVERA","CESAR","EL PASO",{"$f":"+BASE_ANALISTA[[#This Row],[nombredelresponsable]]","v":"JHON VARGAS"},"11001","25867"]
[860078062,"UNIFISIO LTDA","ANALISTA CONCILIACIONES",3125547250,"JCRAMIREZ@FAMISANAR.COM.CO","JHON VARGAS","JUAN RAMIREZ, MICHEL MALAGON , CRISTIAN RIVERA","CUNDINAMARCA","BOGOTÁ D.C",{"$f":"+BASE_ANALISTA[[#This Row],[nombredelresponsable]]","v":"JHON VARGAS"},"11001","44430"]
[890000600,"ESE HOSPITAL LA MISERICORDIA","ANALISTA CONCILIACIONES",3125547250,"JCRAMIREZ@FAMISANAR.COM.CO","JHON VARGAS","JUAN RAMIREZ, MICHEL MALAGON , CRISTIAN RIVERA","QUINDÍO","CALARCA",{"$f":"+BASE_ANALISTA[[#This Row],[nombredelresponsable]]","v":"JHON VARGAS"},"11001","68001"]
[900268120,"SALUS GLOBAL PARTNERS GC S.A.S SIGLA SALUS GP S.A.S","ANALISTA CONCILIACIONES",3125547250,"JCRAMIREZ@FAMISANAR.COM.CO","JHON VARGAS","JUAN RAMIREZ, MICHEL MALAGON , CRISTIAN RIVERA","CUNDINAMARCA","BOGOTÁ D.C",{"$f":"+BASE_ANALISTA[[#This Row],[nombredelresponsable]]","v":"JHON VARGAS"},"11001","20001"]
[900428503,"CENTRO DE REHABILITACION PULMONAR INTEGRAL S.A.S","ANALISTA CONCILIACIONES",3125547250,"JCRAMIREZ@FAMISANAR.COM.CO","JHON VARGAS","JUAN RAMIREZ, MICHEL MALAGON , CRISTIAN RIVERA","BOLIVAR","CARTAGENA",{"$f":"+BASE_ANALISTA[[#This Row],[nombredelresponsable]]","v":"JHON VARGAS"},"11001","73268"]
[890305496,"HOSPITAL LOCAL JOSE RUFINO VIVAS ESE","ANALISTA CONCILIACIONES",3125547250,"JCRAMIREZ@FAMISANAR.COM.CO","JHON VARGAS","JUAN RAMIREZ, MICHEL MALAGON , CRISTIAN RIVERA","VALLE DEL CAUCA","DAGUA",{"$f":"+BASE_ANALISTA[[#This Row],[nombredelresponsable]]","v":"JHON VARGAS"},"11001","15238"]
[804005555,"EMPRESA SOCIAL DEL ESTADO HOSPITAL SANTO DOMINGO SAVIO","ANALISTA CONCILIACIONES",3125547250,"JCRAMIREZ@FAMISANAR.COM.CO","JHON VARGAS","JUAN RAMIREZ, MICHEL MALAGON , CRISTIAN RIVERA","SANTANDER","EL PLAYON",{"$f":"+BASE_ANALISTA[[#This Row],[nombredelresponsable]]","v":"JHON VARGAS"},"11001","70001"]
[825000620,"ESE HOSPITAL NUESTRA SEÑORA DEL CARMEN","ANALISTA CONCILIACIONES",3125547250,"JCRAMIREZ@FAMISANAR.COM.CO","JHON VARGAS","JUAN RAMIREZ, MICHEL MALAGON , CRISTIAN RIVERA","LA GUAJIRA","HATONUEVO",{"$f":"+BASE_ANALISTA[[#This Row],[nombredelresponsable]]","v":"JHON VARGAS"},"11001","20295"]
[900211477,"ESE RAFAEL TOVAR POVEDA","ANALISTA CONCILIACIONES",3125547250,"JCRAMIREZ@FAMISANAR.COM.CO","JHON VARGAS","JUAN RAMIREZ, MICHEL MALAGON , CRISTIAN RIVERA","CAQUETÁ","BELEN DE LOS ANDAQUIES",{"$f":"+BASE_ANALISTA[[#This Row],[nombredelresponsable]]","v":"JHON VARGAS"},"11001","15842"]
[802009463,"ESE CENTRO DE SALUD DE TUBARA","ANALISTA CONCILIACIONES",3125547250,"JCRAMIREZ@FAMISANAR.COM.CO","JHON VARGAS","JUAN RAMIREZ, MICHEL MALAGON , CRISTIAN RIVERA","ATLÁNTICO","TUBARA",{"$f":"+BASE_ANALISTA[[#This Row],[nombredelresponsable]]","v":"JHON VARGAS"},"11001","15804"]
[900292488,"INSTITUTO DE OSTEOPOROSIS DE LOS LLANOS LTDA","ANALISTA CONCILIACIONES",3125547250,"JCRAMIREZ@FAMISANAR.COM.CO","JHON VARGAS","JUAN RAMIREZ, MICHEL MALAGON , CRISTIAN RIVERA","META","VILLAVICENCIO",{"$f":"+BASE_ANALISTA[[#This Row],[nombredelresponsable]]","v":"JHON VARGAS"},"11001","41306"]
[890939936,"Sociedad Medica Rionegro Clinica Somer","ANALISTA CONCILIACIONES",3125547250,"JCRAMIREZ@FAMISANAR.COM.CO","JHON VARGAS","JUAN RAMIREZ, MICHEL MALAGON , CRISTIAN RIVERA","ANTIOQUIA","RIONEGRO",{"$f":"+BASE_ANALISTA[[#This Row],[nombredelresponsable]]","v":"JHON VARGAS"},"11001","70265"]
[800210891,"Resonancia Imbanaco","ANALISTA CONCILIACIONES",3125547250,"JCRAMIREZ@FAMISANAR.COM.CO","JHON VARGAS","JUAN RAMIREZ, MICHEL MALAGON , CRISTIAN RIVERA","VALLE DEL CAUCA","CALI",{"$f":"+BASE_ANALISTA[[#This Row],[nombredelresponsable]]","v":"JHON VARGAS"},"11001","18029"]
[819005499,"LITOPRADO SAS","ANALISTA CONCILIACIONES",3125547250,"JCRAMIREZ@FAMISANAR.COM.CO","JHON VARGAS","JUAN RAMIREZ, MICHEL MALAGON , CRISTIAN RIVERA","MAGDALENA","SANTA MARTA",{"$f":"+BASE_ANALISTA[[#This Row],[nombredelresponsable]]","v":"JHON VARGAS"},"11001","20250"]
[823000624,"ESE HOSPITAL LOCAL NUESTRA SEÑORA DEL SOCORRO","ANALISTA CONCILIACIONES",3125547250,"JCRAMIREZ@FAMISANAR.COM.CO","JHON VARGAS","JUAN RAMIREZ, MICHEL MALAGON , CRISTIAN RIVERA","SUCRE","SAN LUIS DE SINCE",{"$f":"+BASE_ANALISTA[[#This Row],[nombredelresponsable]]","v":"JHON VARGAS"},"11001","68686"]
[809005452,"HOSPITAL SANTA ROSA DE LIMA E.S.E.","ANALISTA CONCILIACIONES",3125547250,"JCRAMIREZ@FAMISANAR.COM.CO","JHON VARGAS","JUAN RAMIREZ, MICHEL MALAGON , CRISTIAN RIVERA","TOLIMA ","SUAREZ",{"$f":"+BASE_ANALISTA[[#This Row],[nombredelresponsable]]","v":"JHON VARGAS"},"11001","73001"]
[812001219,"ESE SAN JORGE DE AYAPEL","ANALISTA CONCILIACIONES",3125547250,"JCRAMIREZ@FAMISANAR.COM.CO","JHON VARGAS","JUAN RAMIREZ, MICHEL MALAGON , CRISTIAN RIVERA","CÓRDOBA","AYAPEL",{"$f":"+BASE_ANALISTA[[#This Row],[nombredelresponsable]]","v":"JHON VARGAS"},"11001","68001"]
[825001119,"HOSPITAL DONALDO SAUL MORON MANJARREZ","ANALISTA CONCILIACIONES",3125547250,"JCRAMIREZ@FAMISANAR.COM.CO","JHON VARGAS","JUAN RAMIREZ, MICHEL MALAGON , CRISTIAN RIVERA","LA GUAJIRA","LA JAGUA DEL PILAR",{"$f":"+BASE_ANALISTA[[#This Row],[nombredelresponsable]]","v":"JHON VARGAS"},"11001","08001"]
[819004070,"ESE ALEJANDRO PROSPERO REVEREND","ANALISTA CONCILIACIONES",3125547250,"JCRAMIREZ@FAMISANAR.COM.CO","JHON VARGAS","JUAN RAMIREZ, MICHEL MALAGON , CRISTIAN RIVERA","MAGDALENA","SANTA MARTA",{"$f":"+BASE_ANALISTA[[#This Row],[nombredelresponsable]]","v":"JHON VARGAS"},"11001","18001"]
[800194328,"EMPRESA SOCIAL DEL ESTADO HOSPITAL SAN BARTOLOME DEL MUNICIPIO DE CAPITANEJO","ANALISTA CONCILIACIONES",3125547250,"JCRAMIREZ@FAMISANAR.COM.CO","JHON VARGAS","JUAN RAMIREZ, MICHEL MALAGON , CRISTIAN RIVERA","SANTANDER","CAPITANEJO",{"$f":"+BASE_ANALISTA[[#This Row],[nombredelresponsable]]","v":"JHON VARGAS"},"11001","41396"]
[826000107,"SERVICIOS MEDICOS ESPECIALIZADOS EL LAGUITO S.A. LAGOTAC S.A.","ANALISTA CONCILIACIONES",3125547250,"JCRAMIREZ@FAMISANAR.COM.CO","JHON VARGAS","JUAN RAMIREZ, MICHEL MALAGON , CRISTIAN RIVERA","BOYACÁ","SOGAMOSO",{"$f":"+BASE_ANALISTA[[#This Row],[nombredelresponsable]]","v":"JHON VARGAS"},"11001","47001"]
[802006728,"ESE HOSPITAL NIÑO JESUS DE BARRANQUILLA","ANALISTA CONCILIACIONES",3125547250,"JCRAMIREZ@FAMISANAR.COM.CO","JHON VARGAS","JUAN RAMIREZ, MICHEL MALAGON , CRISTIAN RIVERA","ATLÁNTICO","BARRANQUILLA",{"$f":"+BASE_ANALISTA[[#This Row],[nombredelresponsable]]","v":"JHON VARGAS"},"11001","44378"]
[900094475,"ESE METRCEDES TELLEZ DE PRADILLA","ANALISTA CONCILIACIONES",3125547250,"JCRAMIREZ@FAMISANAR.COM.CO","JHON VARGAS","JUAN RAMIREZ, MICHEL MALAGON , CRISTIAN RIVERA","CUNDINAMARCA","VIANI",{"$f":"+BASE_ANALISTA[[#This Row],[nombredelresponsable]]","v":"JHON VARGAS"},"11001","73067"]
[800080586,"E.S.E.HOSPITAL SAN JUAN DE DIOS DE SEGOVIA","ANALISTA CONCILIACIONES",3125547250,"JCRAMIREZ@FAMISANAR.COM.CO","JHON VARGAS","JUAN RAMIREZ, MICHEL MALAGON , CRISTIAN RIVERA","ANTIOQUIA","SEGOVIA",{"$f":"+BASE_ANALISTA[[#This Row],[nombredelresponsable]]","v":"JHON VARGAS"},"11001","08001"]
[900231731,"INTERNACION DOMICILIARIA BARRAZA LTDA","ANALISTA CONCILIACIONES",3125547250,"JCRAMIREZ@FAMISANAR.COM.CO","JHON VARGAS","JUAN RAMIREZ, MICHEL MALAGON , CRISTIAN RIVERA","ATLÁNTICO","BARRANQUILLA",{"$f":"+BASE_ANALISTA[[#This Row],[nombredelresponsable]]","v":"JHON VARGAS"},"11001","70742"]
[819004280,"ESE SAMUEL VILLANUEVA VALEST","ANALISTA CONCILIACIONES",3125547250,"JCRAMIREZ@FAMISANAR.COM.CO","JHON VARGAS","JUAN RAMIREZ, MICHEL MALAGON , CRISTIAN RIVERA","MAGDALENA","EL BANCO",{"$f":"+BASE_ANALISTA[[#This Row],[nombredelresponsable]]","v":"JHON VARGAS"},"11001","13001"]
[802007798,"ESE CENTRO DE SALUD DE GALAPA-ATLANTICO","ANALISTA CONCILIACIONES",3125547250,"JCRAMIREZ@FAMISANAR.COM.CO","JHON VARGAS","JUAN RAMIREZ, MICHEL MALAGON , CRISTIAN RIVERA","ATLÁNTICO","GALAPA",{"$f":"+BASE_ANALISTA[[#This Row],[nombredelresponsable]]","v":"JHON VARGAS"},"11001","68573"]
[804003072,"ESE HOSPITAL LOCAL DE BOLIVAR SANTANDER","ANALISTA CONCILIACIONES",3125547250,"JCRAMIREZ@FAMISANAR.COM.CO","JHON VARGAS","JUAN RAMIREZ, MICHEL MALAGON , CRISTIAN RIVERA","SANTANDER","BOLIVAR",{"$f":"+BASE_ANALISTA[[#This Row],[nombredelresponsable]]","v":"JHON VARGAS"},"11001","68167"]
[890985603,"EMPRESA SOCIAL DEL ESTADO HOSPITAL SAN SEBASTIÁN DE URABÁ","ANALISTA CONCILIACIONES",3125547250,"JCRAMIREZ@FAMISANAR.COM.CO","JHON VARGAS","JUAN RAMIREZ, MICHEL MALAGON , CRISTIAN RIVERA","ANTIOQUIA","NECOCLÍ",{"$f":"+BASE_ANALISTA[[#This Row],[nombredelresponsable]]","v":"JHON VARGAS"},"11001","47001"]
[890201724,"E.S.E EDMUNDO GERMAN ARIAS DUARTE","ANALISTA CONCILIACIONES",3125547250,"JCRAMIREZ@FAMISANAR.COM.CO","JHON VARGAS","JUAN RAMIREZ, MICHEL MALAGON , CRISTIAN RIVERA","SANTANDER","PUERTO WILCHES",{"$f":"+BASE_ANALISTA[[#This Row],[nombredelresponsable]]","v":"JHON VARGAS"},"11001","13836"]
[890703266,"HOSPITAL NUESTRA SEÑORA DE LOURDES","ANALISTA CONCILIACIONES",3125547250,"JCRAMIREZ@FAMISANAR.COM.CO","JHON VARGAS","JUAN RAMIREZ, MICHEL MALAGON , CRISTIAN RIVERA","TOLIMA ","ATACO",{"$f":"+BASE_ANALISTA[[#This Row],[nombredelresponsable]]","v":"JHON VARGAS"},"11001","68001"]
[812000300,"EMPRESA SOCIAL DEL ESTADO HOSPITAL SAGRADO CORAZON DE JESUS","ANALISTA CONCILIACIONES",3125547250,"JCRAMIREZ@FAMISANAR.COM.CO","JHON VARGAS","JUAN RAMIREZ, MICHEL MALAGON , CRISTIAN RIVERA","CÓRDOBA","VALENCIA",{"$f":"+BASE_ANALISTA[[#This Row],[nombredelresponsable]]","v":"JHON VARGAS"},"11001","70708"]
[830128856,"CORPORACION IPS CORVESALUD COODONTOLOGOS","ANALISTA CONCILIACIONES",3125547250,"JCRAMIREZ@FAMISANAR.COM.CO","JHON VARGAS","JUAN RAMIREZ, MICHEL MALAGON , CRISTIAN RIVERA","AMAZONIA","LETICIA",{"$f":"+BASE_ANALISTA[[#This Row],[nombredelresponsable]]","v":"JHON VARGAS"},"11001","15001"]
[890000400,"HOSPITAL SAN VICENTE EMPRESA SOCIAL DEL ESTADO","ANALISTA CONCILIACIONES",3125547250,"JCRAMIREZ@FAMISANAR.COM.CO","JHON VARGAS","JUAN RAMIREZ, MICHEL MALAGON , CRISTIAN RIVERA","QUINDÍO","MONTENEGRO",{"$f":"+BASE_ANALISTA[[#This Row],[nombredelresponsable]]","v":"JHON VARGAS"},"11001","25224"]
[805003605,"ONCOLOGOS ASOCIADOS DE IMBANACO S.A.","ANALISTA CONCILIACIONES",3125547250,"JCRAMIREZ@FAMISANAR.COM.CO","JHON VARGAS","JUAN RAMIREZ, MICHEL MALAGON , CRISTIAN RIVERA","VALLE DEL CAUCA","CALI",{"$f":"+BASE_ANALISTA[[#This Row],[nombredelresponsable]]","v":"JHON VARGAS"},"11001","76001"]
[900395846,"SERVICIOS VIVIR S.A.S","ANALISTA CONCILIACIONES",3125547250,"JCRAMIREZ@FAMISANAR.COM.CO","JHON VARGAS","JUAN RAMIREZ, MICHEL MALAGON , CRISTIAN RIVERA","NORTE DE SANTANDER","CÚCUTA",{"$f":"+BASE_ANALISTA[[#This Row],[nombredelresponsable]]","v":"JHON VARGAS"},"11001","25269"]
[890001006,"ESE Hospital Sagrado Corazon de Jesus","ANALISTA CONCILIACIONES",3125547250,"JCRAMIREZ@FAMISANAR.COM.CO","JHON VARGAS","JUAN RAMIREZ, MICHEL MALAGON , CRISTIAN RIVERA","QUINDÍO","QUIMBAYA",{"$f":"+BASE_ANALISTA[[#This Row],[nombredelresponsable]]","v":"JHON VARGAS"},"11001","15001"]
[900091143,"EMPRESA SOCIAL DE ESTADO PASTO SALUD","ANALISTA CONCILIACIONES",3125547250,"JCRAMIREZ@FAMISANAR.COM.CO","JHON VARGAS","JUAN RAMIREZ, MICHEL MALAGON , CRISTIAN RIVERA","NARIÑO","PASTO",{"$f":"+BASE_ANALISTA[[#This Row],[nombredelresponsable]]","v":"JHON VARGAS"},"11001","76275"]
[900007860,"UNIDAD DE SEGUIMIENTO DEL RECIEN NACIDO DE ALTO RIESGO I.P.S. LIMITADA","ANALISTA CONCILIACIONES",3125547250,"JCRAMIREZ@FAMISANAR.COM.CO","JHON VARGAS","JUAN RAMIREZ, MICHEL MALAGON , CRISTIAN RIVERA","CÓRDOBA","MONTERÍA",{"$f":"+BASE_ANALISTA[[#This Row],[nombredelresponsable]]","v":"JHON VARGAS"},"11001","73319"]
[890801719,"Empresa Social del Estado Hospital Local San Juan de Dios","ANALISTA CONCILIACIONES",3125547250,"JCRAMIREZ@FAMISANAR.COM.CO","JHON VARGAS","JUAN RAMIREZ, MICHEL MALAGON , CRISTIAN RIVERA","CALDAS","PENSILVANIA",{"$f":"+BASE_ANALISTA[[#This Row],[nombredelresponsable]]","v":"JHON VARGAS"},"11001","44560"]
[900343345,"UNIDAD DE SALUD Y CUIDADOS DE ALTOS RIESGOS JAP LTDA","ANALISTA CONCILIACIONES",3125547250,"JCRAMIREZ@FAMISANAR.COM.CO","JHON VARGAS","JUAN RAMIREZ, MICHEL MALAGON , CRISTIAN RIVERA","CALDAS","DORADA",{"$f":"+BASE_ANALISTA[[#This Row],[nombredelresponsable]]","v":"JHON VARGAS"},"11001","08001"]
[812002958,"CLINICA LA TRINIDAD LTDA","ANALISTA CONCILIACIONES",3125547250,"JCRAMIREZ@FAMISANAR.COM.CO","JHON VARGAS","JUAN RAMIREZ, MICHEL MALAGON , CRISTIAN RIVERA","CÓRDOBA","LORICA",{"$f":"+BASE_ANALISTA[[#This Row],[nombredelresponsable]]","v":"JHON VARGAS"},"11001","76318"]
[900577773,"IPS CLINICA PROVIDENCIA SAS","ANALISTA CONCILIACIONES",3125547250,"JCRAMIREZ@FAMISANAR.COM.CO","JHON VARGAS","JUAN RAMIREZ, MICHEL MALAGON , CRISTIAN RIVERA","ANTIOQUIA","CAUCASIA",{"$f":"+BASE_ANALISTA[[#This Row],[nombredelresponsable]]","v":"JHON VARGAS"},"11001","68001"]
[813007875,"E.S.E. HOSPITAL MUNICIPAL NUESTRA SEÑORA DE GUADALUPE","ANALISTA CONCILIACIONES",3125547250,"JCRAMIREZ@FAMISANAR.COM.CO","JHON VARGAS","JUAN RAMIREZ, MICHEL MALAGON , CRISTIAN RIVERA","HUILA","GUADALUPE",{"$f":"+BASE_ANALISTA[[#This Row],[nombredelresponsable]]","v":"JHON VARGAS"},"11001","50001"]
[823004895,"UNIDAD MEDICA INTEGRAL DEL SAN JORGE LTDA","ANALISTA CONCILIACIONES",3125547250,"JCRAMIREZ@FAMISANAR.COM.CO","JHON VARGAS","JUAN RAMIREZ, MICHEL MALAGON , CRISTIAN RIVERA","SUCRE","SAN MARCOS",{"$f":"+BASE_ANALISTA[[#This Row],[nombredelresponsable]]","v":"JHON VARGAS"},"11001","08001"]
[900553185,"CENTRO  NEUROREHABILITACIÓN VALIENTES IPS LTDA","ANALISTA CONCILIACIONES",3125547250,"JCRAMIREZ@FAMISANAR.COM.CO","JHON VARGAS","JUAN RAMIREZ, MICHEL MALAGON , CRISTIAN RIVERA","ATLÁNTICO","BARRANQUILLA",{"$f":"+BASE_ANALISTA[[#This Row],[nombredelresponsable]]","v":"JHON VARGAS"},"11001","68013"]
[800244287,"TYC INVERSIONES S.A","ANALISTA CONCILIACIONES",3125547250,"JCRAMIREZ@FAMISANAR.COM.CO","JHON VARGAS","JUAN RAMIREZ, MICHEL MALAGON , CRISTIAN RIVERA","MAGDALENA","SANTA MARTA",{"$f":"+BASE_ANALISTA[[#This Row],[nombredelresponsable]]","v":"JHON VARGAS"},"11001","73408"]
[890700907,"HOSPITAL SAN ANTONIO E.S.E","ANALISTA CONCILIACIONES",3125547250,"JCRAMIREZ@FAMISANAR.COM.CO","JHON VARGAS","JUAN RAMIREZ, MICHEL MALAGON , CRISTIAN RIVERA","TOLIMA ","HERVEO",{"$f":"+BASE_ANALISTA[[#This Row],[nombredelresponsable]]","v":"JHON VARGAS"},"11001","76041"]
[823001035,"ESE CENTRO DE SALUD SAN JOSE I NIVEL","ANALISTA CONCILIACIONES",3125547250,"JCRAMIREZ@FAMISANAR.COM.CO","JHON VARGAS","JUAN RAMIREZ, MICHEL MALAGON , CRISTIAN RIVERA","SUCRE","SAN MARCOS",{"$f":"+BASE_ANALISTA[[#This Row],[nombredelresponsable]]","v":"JHON VARGAS"},"11001","47058"]
[891900367,"HOSPITAL GONZALO CONTRERAS ESE","ANALISTA CONCILIACIONES",3125547250,"JCRAMIREZ@FAMISANAR.COM.CO","JHON VARGAS","JUAN RAMIREZ, MICHEL MALAGON , CRISTIAN RIVERA","VALLE DEL CAUCA","LA UNION",{"$f":"+BASE_ANALISTA[[#This Row],[nombredelresponsable]]","v":"JHON VARGAS"},"11001","25307"]
[890801035,"ESE HOSPITAL SAN JOSE DE AGUADAS","ANALISTA CONCILIACIONES",3125547250,"JCRAMIREZ@FAMISANAR.COM.CO","JHON VARGAS","JUAN RAMIREZ, MICHEL MALAGON , CRISTIAN RIVERA","CALDAS","AGUADAS",{"$f":"+BASE_ANALISTA[[#This Row],[nombredelresponsable]]","v":"JHON VARGAS"},"11001","05628"]
[802001292,"E.S.E. HOSPITAL DE REPELON","ANALISTA CONCILIACIONES",3125547250,"JCRAMIREZ@FAMISANAR.COM.CO","JHON VARGAS","JUAN RAMIREZ, MICHEL MALAGON , CRISTIAN RIVERA","ATLÁNTICO","REPELON",{"$f":"+BASE_ANALISTA[[#This Row],[nombredelresponsable]]","v":"JHON VARGAS"},"11001","15632"]
[860021072,"FUNDACIÓN PARA EL NIÑO SORDO ICAL","ANALISTA CONCILIACIONES",3125547250,"JCRAMIREZ@FAMISANAR.COM.CO","JHON VARGAS","JUAN RAMIREZ, MICHEL MALAGON , CRISTIAN RIVERA","CUNDINAMARCA","BOGOTÁ D.C",{"$f":"+BASE_ANALISTA[[#This Row],[nombredelresponsable]]","v":"JHON VARGAS"},"11001","08001"]
[901048592,"MG GASTRO S.A.S.","ANALISTA CONCILIACIONES",3125547250,"JCRAMIREZ@FAMISANAR.COM.CO","JHON VARGAS","JUAN RAMIREZ, MICHEL MALAGON , CRISTIAN RIVERA","TOLIMA ","ESPINAL",{"$f":"+BASE_ANALISTA[[#This Row],[nombredelresponsable]]","v":"JHON VARGAS"},"11001","25307"]
[900907330,"CLINICA ARENAS VALLEDUPAR SAS","ANALISTA CONCILIACIONES",3125547250,"JCRAMIREZ@FAMISANAR.COM.CO","JHON VARGAS","JUAN RAMIREZ, MICHEL MALAGON , CRISTIAN RIVERA","CESAR","VALLEDUPAR",{"$f":"+BASE_ANALISTA[[#This Row],[nombredelresponsable]]","v":"JHON VARGAS"},"11001","41483"]
[820003550,"EMPRESA SOCIAL DEL ESTADO CENTRO DE SALUD BUENAVISTA - BOYACA","ANALISTA CONCILIACIONES",3125547250,"JCRAMIREZ@FAMISANAR.COM.CO","JHON VARGAS","JUAN RAMIREZ, MICHEL MALAGON , CRISTIAN RIVERA","BOYACÁ","BUENAVISTA",{"$f":"+BASE_ANALISTA[[#This Row],[nombredelresponsable]]","v":"JHON VARGAS"},"11001","68276"]
[892300387,"ESE HOSPITAL OLAYA HERRERA","ANALISTA CONCILIACIONES",3125547250,"JCRAMIREZ@FAMISANAR.COM.CO","JHON VARGAS","JUAN RAMIREZ, MICHEL MALAGON , CRISTIAN RIVERA","CESAR","GAMARRA",{"$f":"+BASE_ANALISTA[[#This Row],[nombredelresponsable]]","v":"JHON VARGAS"},"11001","76001"]
[890980732,"ESE HOSPITAL GABRIEL PELAEZ MONTOYA","ANALISTA CONCILIACIONES",3125547250,"JCRAMIREZ@FAMISANAR.COM.CO","JHON VARGAS","JUAN RAMIREZ, MICHEL MALAGON , CRISTIAN RIVERA","ANTIOQUIA","JARDÍN",{"$f":"+BASE_ANALISTA[[#This Row],[nombredelresponsable]]","v":"JHON VARGAS"},"11001","68079"]
[809008823,"MEDISALUD I.P.S. LIMITADA SERVICIOS MEDICOS EN SALUD LIMITADA","ANALISTA CONCILIACIONES",3125547250,"JCRAMIREZ@FAMISANAR.COM.CO","JHON VARGAS","JUAN RAMIREZ, MICHEL MALAGON , CRISTIAN RIVERA","TOLIMA ","LIBANO",{"$f":"+BASE_ANALISTA[[#This Row],[nombredelresponsable]]","v":"JHON VARGAS"},"11001","68001"]
[804009658,"EMPRESA SOCIAL DEL ESTADO BLANCA ALICIA HERNANDEZ","ANALISTA CONCILIACIONES",3125547250,"JCRAMIREZ@FAMISANAR.COM.CO","JHON VARGAS","JUAN RAMIREZ, MICHEL MALAGON , CRISTIAN RIVERA","SANTANDER","ALBANIA",{"$f":"+BASE_ANALISTA[[#This Row],[nombredelresponsable]]","v":"JHON VARGAS"},"11001","15816"]
[820003782,"EMPRESA SOCIAL DEL ESTADO CENTRO DE SALUD SAN RAFAEL DE UMBITA","ANALISTA CONCILIACIONES",3125547250,"JCRAMIREZ@FAMISANAR.COM.CO","JHON VARGAS","JUAN RAMIREZ, MICHEL MALAGON , CRISTIAN RIVERA","BOYACÁ","UMBITA",{"$f":"+BASE_ANALISTA[[#This Row],[nombredelresponsable]]","v":"JHON VARGAS"},"11001","63594"]
[860043998,"OPTICENTRO INTERNACIONAL S.A.S.","ANALISTA CONCILIACIONES",3125547250,"JCRAMIREZ@FAMISANAR.COM.CO","JHON VARGAS","JUAN RAMIREZ, MICHEL MALAGON , CRISTIAN RIVERA","CUNDINAMARCA","BOGOTÁ D.C",{"$f":"+BASE_ANALISTA[[#This Row],[nombredelresponsable]]","v":"JHON VARGAS"},"11001","19743"]
[820002657,"ESE GUSTAVO ROMERO HERNADEZ DE TIBANA","ANALISTA CONCILIACIONES",3125547250,"JCRAMIREZ@FAMISANAR.COM.CO","JHON VARGAS","JUAN RAMIREZ, MICHEL MALAGON , CRISTIAN RIVERA","BOYACÁ","TIBANA",{"$f":"+BASE_ANALISTA[[#This Row],[nombredelresponsable]]","v":"JHON VARGAS"},"11001","86573"]
[891180065,"ESE HOSPITAL SAN ANTONIO GIGANTE HUILA","ANALISTA CONCILIACIONES",3125547250,"JCRAMIREZ@FAMISANAR.COM.CO","JHON VARGAS","JUAN RAMIREZ, MICHEL MALAGON , CRISTIAN RIVERA","HUILA","GIGANTE",{"$f":"+BASE_ANALISTA[[#This Row],[nombredelresponsable]]","v":"JHON VARGAS"},"11001","15759"]
[900390423,"PROMOTORA CLÍNICA ZONA FRANCA DE URABA S.A.S.","ANALISTA CONCILIACIONES",3125547250,"JCRAMIREZ@FAMISANAR.COM.CO","JHON VARGAS","JUAN RAMIREZ, MICHEL MALAGON , CRISTIAN RIVERA","ANTIOQUIA","URABA",{"$f":"+BASE_ANALISTA[[#This Row],[nombredelresponsable]]","v":"JHON VARGAS"},"11001","15790"]
[890907241,"E.S.E HOSPITAL LA MERCED","ANALISTA CONCILIACIONES",3125547250,"JCRAMIREZ@FAMISANAR.COM.CO","JHON VARGAS","JUAN RAMIREZ, MICHEL MALAGON , CRISTIAN RIVERA","ANTIOQUIA","CIUDAD BOLÍVAR",{"$f":"+BASE_ANALISTA[[#This Row],[nombredelresponsable]]","v":"JHON VARGAS"},"11001","13268"]
[900186802,"ESE HOSPITAL NUESTRA SEÑORA DE GUADALUPE - Santander","ANALISTA CONCILIACIONES",3125547250,"JCRAMIREZ@FAMISANAR.COM.CO","JHON VARGAS","JUAN RAMIREZ, MICHEL MALAGON , CRISTIAN RIVERA","SANTANDER","GUADALUPE",{"$f":"+BASE_ANALISTA[[#This Row],[nombredelresponsable]]","v":"JHON VARGAS"},"11001","08001"]
[813010996,"ESE HOSPITAL SAN JOSE DE ISNOS","ANALISTA CONCILIACIONES",3125547250,"JCRAMIREZ@FAMISANAR.COM.CO","JHON VARGAS","JUAN RAMIREZ, MICHEL MALAGON , CRISTIAN RIVERA","HUILA","ISNOS",{"$f":"+BASE_ANALISTA[[#This Row],[nombredelresponsable]]","v":"JHON VARGAS"},"11001","76001"]
[846002309,"ESE HOSPITAL FRONTERIZO LA DORADA","ANALISTA CONCILIACIONES",3125547250,"JCRAMIREZ@FAMISANAR.COM.CO","JHON VARGAS","JUAN RAMIREZ, MICHEL MALAGON , CRISTIAN RIVERA","PUTUMAYO","SAN MIGUEL",{"$f":"+BASE_ANALISTA[[#This Row],[nombredelresponsable]]","v":"JHON VARGAS"},"11001","08001"]
[809010402,"OPTICAS ORSOVISION SAS","ANALISTA CONCILIACIONES",3125547250,"JCRAMIREZ@FAMISANAR.COM.CO","JHON VARGAS","JUAN RAMIREZ, MICHEL MALAGON , CRISTIAN RIVERA","TOLIMA ","IBAGUE",{"$f":"+BASE_ANALISTA[[#This Row],[nombredelresponsable]]","v":"JHON VARGAS"},"11001","68682"]
[813004018,"ESE MIGUEL BARRETO LOPEZ","ANALISTA CONCILIACIONES",3125547250,"JCRAMIREZ@FAMISANAR.COM.CO","JHON VARGAS","JUAN RAMIREZ, MICHEL MALAGON , CRISTIAN RIVERA","HUILA","TELLO",{"$f":"+BASE_ANALISTA[[#This Row],[nombredelresponsable]]","v":"JHON VARGAS"},"11001","68001"]
[900202978,"AVANZA IPS LIMITADA","ANALISTA CONCILIACIONES",3125547250,"JCRAMIREZ@FAMISANAR.COM.CO","JHON VARGAS","JUAN RAMIREZ, MICHEL MALAGON , CRISTIAN RIVERA","ATLÁNTICO","BARRANQUILLA",{"$f":"+BASE_ANALISTA[[#This Row],[nombredelresponsable]]","v":"JHON VARGAS"},"11001","08001"]
[890982091,"E.S.E. HOSPITAL SAN RAFAEL DE SAN LUIS","ANALISTA CONCILIACIONES",3125547250,"JCRAMIREZ@FAMISANAR.COM.CO","JHON VARGAS","JUAN RAMIREZ, MICHEL MALAGON , CRISTIAN RIVERA","ANTIOQUIA","SAN LUIS",{"$f":"+BASE_ANALISTA[[#This Row],[nombredelresponsable]]","v":"JHON VARGAS"},"11001","41359"]
[800190884,"Clinica Antioquia S.A","ANALISTA CONCILIACIONES",3125547250,"JCRAMIREZ@FAMISANAR.COM.CO","JHON VARGAS","JUAN RAMIREZ, MICHEL MALAGON , CRISTIAN RIVERA","ANTIOQUIA","ITAGUI",{"$f":"+BASE_ANALISTA[[#This Row],[nombredelresponsable]]","v":"JHON VARGAS"},"11001","41872"]
[900367891,"S.O.S AMBULACIAS IPS S.A.S","ANALISTA CONCILIACIONES",3125547250,"JCRAMIREZ@FAMISANAR.COM.CO","JHON VARGAS","JUAN RAMIREZ, MICHEL MALAGON , CRISTIAN RIVERA","SANTANDER","BUCARAMANGA",{"$f":"+BASE_ANALISTA[[#This Row],[nombredelresponsable]]","v":"JHON VARGAS"},"11001","68001"]
[807004631,"E.S.E. HOSPITAL JORGE CRISTO SAHIUM","ANALISTA CONCILIACIONES",3125547250,"JCRAMIREZ@FAMISANAR.COM.CO","JHON VARGAS","JUAN RAMIREZ, MICHEL MALAGON , CRISTIAN RIVERA","NORTE DE SANTANDER","VILLA DEL ROSARIO",{"$f":"+BASE_ANALISTA[[#This Row],[nombredelresponsable]]","v":"JHON VARGAS"},"11001","47001"]
[804008792,"FORPRESALUD I.P.S. SAS","ANALISTA CONCILIACIONES",3125547250,"JCRAMIREZ@FAMISANAR.COM.CO","JHON VARGAS","JUAN RAMIREZ, MICHEL MALAGON , CRISTIAN RIVERA","SANTANDER","PUERTO WILCHES",{"$f":"+BASE_ANALISTA[[#This Row],[nombredelresponsable]]","v":"JHON VARGAS"},"11001","13001"]
[813009143,"SALUDCOOP CLINICA SANTA ISABEL LTDA","ANALISTA CONCILIACIONES",3125547250,"JCRAMIREZ@FAMISANAR.COM.CO","JHON VARGAS","JUAN RAMIREZ, MICHEL MALAGON , CRISTIAN RIVERA","CAQUETÁ","FLORENCIA",{"$f":"+BASE_ANALISTA[[#This Row],[nombredelresponsable]]","v":"JHON VARGAS"},"11001","68669"]
[813002872,"ESE SAN SEBASTIAN DE LA PLATA","ANALISTA CONCILIACIONES",3125547250,"JCRAMIREZ@FAMISANAR.COM.CO","JHON VARGAS","JUAN RAMIREZ, MICHEL MALAGON , CRISTIAN RIVERA","HUILA","LA PLATA",{"$f":"+BASE_ANALISTA[[#This Row],[nombredelresponsable]]","v":"JHON VARGAS"},"11001","08001"]
[890700901,"Hospital San Vicente de Paul ESE","ANALISTA CONCILIACIONES",3125547250,"JCRAMIREZ@FAMISANAR.COM.CO","JHON VARGAS","JUAN RAMIREZ, MICHEL MALAGON , CRISTIAN RIVERA","TOLIMA ","FRESNO",{"$f":"+BASE_ANALISTA[[#This Row],[nombredelresponsable]]","v":"JHON VARGAS"},"11001","76001"]
[900483559,"DUETICA SAS","ANALISTA CONCILIACIONES",3125547250,"JCRAMIREZ@FAMISANAR.COM.CO","JHON VARGAS","JUAN RAMIREZ, MICHEL MALAGON , CRISTIAN RIVERA","BOLIVAR","CARTAGENA",{"$f":"+BASE_ANALISTA[[#This Row],[nombredelresponsable]]","v":"JHON VARGAS"},"11001","52001"]
[812005130,"ESPECIALISTAS ASOCIADOS S.A.","ANALISTA CONCILIACIONES",3125547250,"JCRAMIREZ@FAMISANAR.COM.CO","JHON VARGAS","JUAN RAMIREZ, MICHEL MALAGON , CRISTIAN RIVERA","CÓRDOBA","MONTERÍA",{"$f":"+BASE_ANALISTA[[#This Row],[nombredelresponsable]]","v":"JHON VARGAS"},"11001","13549"]
[900565721,"CARDIODINAMIA DEL CARIBE SAS","ANALISTA CONCILIACIONES",3125547250,"JCRAMIREZ@FAMISANAR.COM.CO","JHON VARGAS","JUAN RAMIREZ, MICHEL MALAGON , CRISTIAN RIVERA","BOLIVAR","CARTAGENA",{"$f":"+BASE_ANALISTA[[#This Row],[nombredelresponsable]]","v":"JHON VARGAS"},"11001","13001"]
[891408918,"ESE HOSPITAL SAN JOSE","ANALISTA CONCILIACIONES",3125547250,"JCRAMIREZ@FAMISANAR.COM.CO","JHON VARGAS","JUAN RAMIREZ, MICHEL MALAGON , CRISTIAN RIVERA","RISARALDA","BELEN DE UMBRIA",{"$f":"+BASE_ANALISTA[[#This Row],[nombredelresponsable]]","v":"JHON VARGAS"},"11001","44001"]
[829003945,"ESE CENTRO DE SALUD DE PUERTO PARRA","ANALISTA CONCILIACIONES",3125547250,"JCRAMIREZ@FAMISANAR.COM.CO","JHON VARGAS","JUAN RAMIREZ, MICHEL MALAGON , CRISTIAN RIVERA","SANTANDER","PUERTO PARRA",{"$f":"+BASE_ANALISTA[[#This Row],[nombredelresponsable]]","v":"JHON VARGAS"},"11001","68770"]
[900192428,"ESE HOSPITAL LUIS CARLOS GALAN SARMIENTO","ANALISTA CONCILIACIONES",3125547250,"JCRAMIREZ@FAMISANAR.COM.CO","JHON VARGAS","JUAN RAMIREZ, MICHEL MALAGON , CRISTIAN RIVERA","SANTANDER","CHARALA",{"$f":"+BASE_ANALISTA[[#This Row],[nombredelresponsable]]","v":"JHON VARGAS"},"11001","68324"]
[819001505,"CARDIOSTRESS LTDA","ANALISTA CONCILIACIONES",3125547250,"JCRAMIREZ@FAMISANAR.COM.CO","JHON VARGAS","JUAN RAMIREZ, MICHEL MALAGON , CRISTIAN RIVERA","MAGDALENA","SANTA MARTA",{"$f":"+BASE_ANALISTA[[#This Row],[nombredelresponsable]]","v":"JHON VARGAS"},"11001","50001"]
[800051998,"CLINICA DE OFTALMOLOGIA SANDIEGO","ANALISTA CONCILIACIONES",3125547250,"JCRAMIREZ@FAMISANAR.COM.CO","JHON VARGAS","JUAN RAMIREZ, MICHEL MALAGON , CRISTIAN RIVERA","ANTIOQUIA","MEDELLÍN",{"$f":"+BASE_ANALISTA[[#This Row],[nombredelresponsable]]","v":"JHON VARGAS"},"11001","68264"]
[890202002,"E.S.E. HOSPITAL INTEGRADO SAN JUAN DE DIOS DE BARICHARA","ANALISTA CONCILIACIONES",3125547250,"JCRAMIREZ@FAMISANAR.COM.CO","JHON VARGAS","JUAN RAMIREZ, MICHEL MALAGON , CRISTIAN RIVERA","SANTANDER","BARICHARA",{"$f":"+BASE_ANALISTA[[#This Row],[nombredelresponsable]]","v":"JHON VARGAS"},"11001","68190"]
[807000280,"SOCIEDAD CLINICA PAMPLONA LTDA.","ANALISTA CONCILIACIONES",3125547250,"JCRAMIREZ@FAMISANAR.COM.CO","JHON VARGAS","JUAN RAMIREZ, MICHEL MALAGON , CRISTIAN RIVERA","NORTE DE SANTANDER","CUCUTA",{"$f":"+BASE_ANALISTA[[#This Row],[nombredelresponsable]]","v":"JHON VARGAS"},"11001","19807"]
[900500653,"CAD VIDA IPS SAS","ANALISTA CONCILIACIONES",3125547250,"JCRAMIREZ@FAMISANAR.COM.CO","JHON VARGAS","JUAN RAMIREZ, MICHEL MALAGON , CRISTIAN RIVERA","BOLIVAR","TURBACO",{"$f":"+BASE_ANALISTA[[#This Row],[nombredelresponsable]]","v":"JHON VARGAS"},"11001","44855"]
[890204672,"HOSPITAL INTEGRADO SAN JOAQUIN","ANALISTA CONCILIACIONES",3125547250,"JCRAMIREZ@FAMISANAR.COM.CO","JHON VARGAS","JUAN RAMIREZ, MICHEL MALAGON , CRISTIAN RIVERA","SANTANDER","SAN JOAQUIN",{"$f":"+BASE_ANALISTA[[#This Row],[nombredelresponsable]]","v":"JHON VARGAS"},"11001","13001"]
[900038926,"PROMOTORA MEDICA Y ODONTOLOGICA DE ANTIOQUIA S.A","ANALISTA CONCILIACIONES",3125547250,"JCRAMIREZ@FAMISANAR.COM.CO","JHON VARGAS","JUAN RAMIREZ, MICHEL MALAGON , CRISTIAN RIVERA","COLOMBIA","COLOMBIA",{"$f":"+BASE_ANALISTA[[#This Row],[nombredelresponsable]]","v":"JHON VARGAS"},"11001","44090"]
[800191101,"ESE HOSPITAL SAN VICENTE DE PAUL CALDAS","ANALISTA CONCILIACIONES",3125547250,"JCRAMIREZ@FAMISANAR.COM.CO","JHON VARGAS","JUAN RAMIREZ, MICHEL MALAGON , CRISTIAN RIVERA","CALDAS","ANSERMA",{"$f":"+BASE_ANALISTA[[#This Row],[nombredelresponsable]]","v":"JHON VARGAS"},"11001","20011"]
[900747689,"RADIOLOGIA MAXILOFACIAL SAS","ANALISTA CONCILIACIONES",3125547250,"JCRAMIREZ@FAMISANAR.COM.CO","JHON VARGAS","JUAN RAMIREZ, MICHEL MALAGON , CRISTIAN RIVERA","SANTANDER","BUCARAMANGA",{"$f":"+BASE_ANALISTA[[#This Row],[nombredelresponsable]]","v":"JHON VARGAS"},"11001","15047"]
[891480036,"Hospital San Vicente de Paúl","ANALISTA CONCILIACIONES",3125547250,"JCRAMIREZ@FAMISANAR.COM.CO","JHON VARGAS","JUAN RAMIREZ, MICHEL MALAGON , CRISTIAN RIVERA","RISARALDA","SANTA ROSA DE CABAL",{"$f":"+BASE_ANALISTA[[#This Row],[nombredelresponsable]]","v":"JHON VARGAS"},"11001","68001"]
[832010240,"ESECENTRODESALUDCUCUNUBA","ANALISTA CONCILIACIONES",3125547250,"JCRAMIREZ@FAMISANAR.COM.CO","JHON VARGAS","JUAN RAMIREZ, MICHEL MALAGON , CRISTIAN RIVERA","CUNDINAMARCA","CUCUNUBA",{"$f":"+BASE_ANALISTA[[#This Row],[nombredelresponsable]]","v":"JHON VARGAS"},"11001","13001"]
[800150497,"HOSPITALFRANCISCOCANOSSA","ANALISTA CONCILIACIONES",3125547250,"JCRAMIREZ@FAMISANAR.COM.CO","JHON VARGAS","JUAN RAMIREZ, MICHEL MALAGON , CRISTIAN RIVERA","CESAR","PELAYA",{"$f":"+BASE_ANALISTA[[#This Row],[nombredelresponsable]]","v":"JHON VARGAS"},"11001","15466"]
[830094312,"VISUAL POINT SAS","ANALISTA CONCILIACIONES",3125547250,"JCRAMIREZ@FAMISANAR.COM.CO","JHON VARGAS","JUAN RAMIREZ, MICHEL MALAGON , CRISTIAN RIVERA","CUNDINAMARCA","MADRID",{"$f":"+BASE_ANALISTA[[#This Row],[nombredelresponsable]]","v":"JHON VARGAS"},"11001","68081"]
[830500908,"CENTRO DIABETES CARDIOVASCULAR IPS LTDA","ANALISTA CONCILIACIONES",3125547250,"JCRAMIREZ@FAMISANAR.COM.CO","JHON VARGAS","JUAN RAMIREZ, MICHEL MALAGON , CRISTIAN RIVERA","ATLÁNTICO","BARRANQUILLA",{"$f":"+BASE_ANALISTA[[#This Row],[nombredelresponsable]]","v":"JHON VARGAS"},"11001","25743"]
[890903777,"SOCIEDAD MEDICA ANTIOQUEÑA S.A - CLÍNICA SOMA","ANALISTA CONCILIACIONES",3125547250,"JCRAMIREZ@FAMISANAR.COM.CO","JHON VARGAS","JUAN RAMIREZ, MICHEL MALAGON , CRISTIAN RIVERA","ANTIOQUIA","MEDELLÍN",{"$f":"+BASE_ANALISTA[[#This Row],[nombredelresponsable]]","v":"JHON VARGAS"},"11001","08558"]
[820003435,"ESE CENTRO DAE SALUD DE TOGUI","ANALISTA CONCILIACIONES",3125547250,"JCRAMIREZ@FAMISANAR.COM.CO","JHON VARGAS","JUAN RAMIREZ, MICHEL MALAGON , CRISTIAN RIVERA","BOYACÁ","TOGUI",{"$f":"+BASE_ANALISTA[[#This Row],[nombredelresponsable]]","v":"JHON VARGAS"},"11001","25175"]
[820003401,"ESE CENTRO DE SALUD SAN MIGUEL DE SEMA","ANALISTA CONCILIACIONES",3125547250,"JCRAMIREZ@FAMISANAR.COM.CO","JHON VARGAS","JUAN RAMIREZ, MICHEL MALAGON , CRISTIAN RIVERA","BOYACÁ","TUNJA",{"$f":"+BASE_ANALISTA[[#This Row],[nombredelresponsable]]","v":"JHON VARGAS"},"11001","25175"]
[830118704,"CLINICAS ODONTOLOGICAS COODONTOLOGOS","ANALISTA CONCILIACIONES",3125547250,"JCRAMIREZ@FAMISANAR.COM.CO","JHON VARGAS","JUAN RAMIREZ, MICHEL MALAGON , CRISTIAN RIVERA","CUNDINAMARCA","BOGOTA D.C",{"$f":"+BASE_ANALISTA[[#This Row],[nombredelresponsable]]","v":"JHON VARGAS"},"11001","08573"]
[800199976,"GERMAN PABLO SANDOVAL AUDIOFON S.A.S","ANALISTA CONCILIACIONES",3125547250,"JCRAMIREZ@FAMISANAR.COM.CO","JHON VARGAS","JUAN RAMIREZ, MICHEL MALAGON , CRISTIAN RIVERA","SANTANDER","FLORIDABLANCA",{"$f":"+BASE_ANALISTA[[#This Row],[nombredelresponsable]]","v":"JHON VARGAS"},"11001","41660"]
[900951033,"CLINICA CRISTO REY CALI S.A.S","ANALISTA CONCILIACIONES",3125547250,"JCRAMIREZ@FAMISANAR.COM.CO","JHON VARGAS","JUAN RAMIREZ, MICHEL MALAGON , CRISTIAN RIVERA","VALLE DEL CAUCA","CALI",{"$f":"+BASE_ANALISTA[[#This Row],[nombredelresponsable]]","v":"JHON VARGAS"},"11001","47551"]
[800213942,"E.S.E. HOSPITAL SANTA CRUZ DE URUMITA","ANALISTA CONCILIACIONES",3125547250,"JCRAMIREZ@FAMISANAR.COM.CO","JHON VARGAS","JUAN RAMIREZ, MICHEL MALAGON , CRISTIAN RIVERA","LA GUAJIRA","URUMITA",{"$f":"+BASE_ANALISTA[[#This Row],[nombredelresponsable]]","v":"JHON VARGAS"},"11001","70001"]
[890981817,"ESE HOSPITAL LA INMACULADA","ANALISTA CONCILIACIONES",3125547250,"JCRAMIREZ@FAMISANAR.COM.CO","JHON VARGAS","JUAN RAMIREZ, MICHEL MALAGON , CRISTIAN RIVERA","ANTIOQUIA","GUATAPE",{"$f":"+BASE_ANALISTA[[#This Row],[nombredelresponsable]]","v":"JHON VARGAS"},"11001","68745"]
[891380055,"HOSPITAL BENJAMIN BARNEY GASCA","ANALISTA CONCILIACIONES",3125547250,"JCRAMIREZ@FAMISANAR.COM.CO","JHON VARGAS","JUAN RAMIREZ, MICHEL MALAGON , CRISTIAN RIVERA","VALLE DEL CAUCA","FLORIDA",{"$f":"+BASE_ANALISTA[[#This Row],[nombredelresponsable]]","v":"JHON VARGAS"},"11001","76834"]
[890981268,"EMPRESA SOCIAL DEL ESTADO HOSPITAL LA ANUNCIACION","ANALISTA CONCILIACIONES",3125547250,"JCRAMIREZ@FAMISANAR.COM.CO","JHON VARGAS","JUAN RAMIREZ, MICHEL MALAGON , CRISTIAN RIVERA","ANTIOQUIA","MUTATA",{"$f":"+BASE_ANALISTA[[#This Row],[nombredelresponsable]]","v":"JHON VARGAS"},"11001","08001"]
[800044967,"ASSBASALUD ESE","ANALISTA CONCILIACIONES",3125547250,"JCRAMIREZ@FAMISANAR.COM.CO","JHON VARGAS","JUAN RAMIREZ, MICHEL MALAGON , CRISTIAN RIVERA","CALDAS","MANIZALES",{"$f":"+BASE_ANALISTA[[#This Row],[nombredelresponsable]]","v":"JHON VARGAS"},"11001","08001"]
[825000147,"EMPRESA SOCIAL DEL ESTADO HSPITAL ARMANDO PABON LOPEZ","ANALISTA CONCILIACIONES",3125547250,"JCRAMIREZ@FAMISANAR.COM.CO","JHON VARGAS","JUAN RAMIREZ, MICHEL MALAGON , CRISTIAN RIVERA","LA GUAJIRA","MANAURE",{"$f":"+BASE_ANALISTA[[#This Row],[nombredelresponsable]]","v":"JHON VARGAS"},"11001","08560"]
[812002993,"ESE CAMU TOMAS CIPRIANO DIZ","ANALISTA CONCILIACIONES",3125547250,"JCRAMIREZ@FAMISANAR.COM.CO","JHON VARGAS","JUAN RAMIREZ, MICHEL MALAGON , CRISTIAN RIVERA","CÓRDOBA","SAN ANTERO",{"$f":"+BASE_ANALISTA[[#This Row],[nombredelresponsable]]","v":"JHON VARGAS"},"11001","47001"]
[891380046,"HOSPITAL SAN ROQUE E.S.E. DEL MUNICIPIO DE GUACARI, VALLE","ANALISTA CONCILIACIONES",3125547250,"JCRAMIREZ@FAMISANAR.COM.CO","JHON VARGAS","JUAN RAMIREZ, MICHEL MALAGON , CRISTIAN RIVERA","VALLE DEL CAUCA","GUACARI",{"$f":"+BASE_ANALISTA[[#This Row],[nombredelresponsable]]","v":"JHON VARGAS"},"11001","41244"]
[890208104,"CLINICA METROPOLITANA DE BUCARAMANGA SA","ANALISTA CONCILIACIONES",3125547250,"JCRAMIREZ@FAMISANAR.COM.CO","JHON VARGAS","JUAN RAMIREZ, MICHEL MALAGON , CRISTIAN RIVERA","SANTANDER","BUCARAMANGA",{"$f":"+BASE_ANALISTA[[#This Row],[nombredelresponsable]]","v":"JHON VARGAS"},"11001","52203"]
[822000327,"COOPERATIVA DE UROLOGOS DEL META Y LA ORINOQUIA CUMO","ANALISTA CONCILIACIONES",3125547250,"JCRAMIREZ@FAMISANAR.COM.CO","JHON VARGAS","JUAN RAMIREZ, MICHEL MALAGON , CRISTIAN RIVERA","META","VILLAVICENCIO",{"$f":"+BASE_ANALISTA[[#This Row],[nombredelresponsable]]","v":"JHON VARGAS"},"11001","76001"]
[890802036,"EMPRESA SOCIAL DEL ESTADO HOSPITAL SAN MARCOS","ANALISTA CONCILIACIONES",3125547250,"JCRAMIREZ@FAMISANAR.COM.CO","JHON VARGAS","JUAN RAMIREZ, MICHEL MALAGON , CRISTIAN RIVERA","CALDAS","CHINCHINÁ",{"$f":"+BASE_ANALISTA[[#This Row],[nombredelresponsable]]","v":"JHON VARGAS"},"11001","73870"]
[890206257,"PATOLOGIA Y CITOLOGIA SAS","ANALISTA CONCILIACIONES",3125547250,"JCRAMIREZ@FAMISANAR.COM.CO","JHON VARGAS","JUAN RAMIREZ, MICHEL MALAGON , CRISTIAN RIVERA","SANTANDER","BUCARAMANGA",{"$f":"+BASE_ANALISTA[[#This Row],[nombredelresponsable]]","v":"JHON VARGAS"},"11001","47798"]
[800116719,"HOSPITAL ESPECIALIZADO GRANJA INTEGRAL","ANALISTA CONCILIACIONES",3125547250,"JCRAMIREZ@FAMISANAR.COM.CO","JENNYFFER ALEXANDRA SARMIENTO","JUAN RAMIREZ, MICHEL MALAGON , CRISTIAN RIVERA","TOLIMA ","LERIDA",{"$f":"+BASE_ANALISTA[[#This Row],[nombredelresponsable]]","v":"JENNYFFER ALEXANDRA SARMIENTO"},"11001","47053"]
[891900446,"HOSPITAL SANTA ANA DE LOS CABALLEROS E.S.E","ANALISTA CONCILIACIONES",3125547250,"JCRAMIREZ@FAMISANAR.COM.CO","JENNYFFER ALEXANDRA SARMIENTO","JUAN RAMIREZ, MICHEL MALAGON , CRISTIAN RIVERA","VALLE DEL CAUCA","ANSERMANUEVO",{"$f":"+BASE_ANALISTA[[#This Row],[nombredelresponsable]]","v":"JENNYFFER ALEXANDRA SARMIENTO"},"11001","52001"]
[819001107,"ESE HOSPITAL ALEJANDRO MAESTRE SIERRA","ANALISTA CONCILIACIONES",3125547250,"JCRAMIREZ@FAMISANAR.COM.CO","JENNYFFER ALEXANDRA SARMIENTO","JUAN RAMIREZ, MICHEL MALAGON , CRISTIAN RIVERA","MAGDALENA","ARIGUANI",{"$f":"+BASE_ANALISTA[[#This Row],[nombredelresponsable]]","v":"JENNYFFER ALEXANDRA SARMIENTO"},"11001","13001"]
[891855719,"ESE HOSPITAL SAN JOSE EL COCUY","ANALISTA CONCILIACIONES",3125547250,"JCRAMIREZ@FAMISANAR.COM.CO","JENNYFFER ALEXANDRA SARMIENTO","JUAN RAMIREZ, MICHEL MALAGON , CRISTIAN RIVERA","BOYACÁ","EL COCUY",{"$f":"+BASE_ANALISTA[[#This Row],[nombredelresponsable]]","v":"JENNYFFER ALEXANDRA SARMIENTO"},"11001","68081"]
[900231725,"centro rehafis e.u","ANALISTA CONCILIACIONES",3125547250,"JCRAMIREZ@FAMISANAR.COM.CO","JENNYFFER ALEXANDRA SARMIENTO","JUAN RAMIREZ, MICHEL MALAGON , CRISTIAN RIVERA","ATLÁNTICO","SABANALARGA",{"$f":"+BASE_ANALISTA[[#This Row],[nombredelresponsable]]","v":"JENNYFFER ALEXANDRA SARMIENTO"},"11001","08001"]
[813011465,"E.S.E HOSPITAL LUIS ANTONIO  MOJICA","ANALISTA CONCILIACIONES",3125547250,"JCRAMIREZ@FAMISANAR.COM.CO","JENNYFFER ALEXANDRA SARMIENTO","JUAN RAMIREZ, MICHEL MALAGON , CRISTIAN RIVERA","HUILA","NATAGA",{"$f":"+BASE_ANALISTA[[#This Row],[nombredelresponsable]]","v":"JENNYFFER ALEXANDRA SARMIENTO"},"11001","08001"]
[820003431,"EMPRESA SOCIAL DEL ESTADO  CENTRO DE SALUD SAN VICENTE FERRER SABOYA -BOYACA","ANALISTA CONCILIACIONES",3125547250,"JCRAMIREZ@FAMISANAR.COM.CO","JENNYFFER ALEXANDRA SARMIENTO","JUAN RAMIREZ, MICHEL MALAGON , CRISTIAN RIVERA","BOYACÁ","SABOYA",{"$f":"+BASE_ANALISTA[[#This Row],[nombredelresponsable]]","v":"JENNYFFER ALEXANDRA SARMIENTO"},"11001","15001"]
[900077667,"PROTEGER MEDICA LTDA","ANALISTA CONCILIACIONES",3125547250,"JCRAMIREZ@FAMISANAR.COM.CO","JENNYFFER ALEXANDRA SARMIENTO","JUAN RAMIREZ, MICHEL MALAGON , CRISTIAN RIVERA","SANTANDER","BUCARAMANGA",{"$f":"+BASE_ANALISTA[[#This Row],[nombredelresponsable]]","v":"JENNYFFER ALEXANDRA SARMIENTO"},"11001","19532"]
[807008827,"ESE HOSPITAL REGIONAL SURORIENTAL DE CHINACOTA","ANALISTA CONCILIACIONES",3125547250,"JCRAMIREZ@FAMISANAR.COM.CO","JENNYFFER ALEXANDRA SARMIENTO","JUAN RAMIREZ, MICHEL MALAGON , CRISTIAN RIVERA","NORTE DE SANTANDER","CHINÁCOTA",{"$f":"+BASE_ANALISTA[[#This Row],[nombredelresponsable]]","v":"JENNYFFER ALEXANDRA SARMIENTO"},"11001","18592"]
[890399020,"Fundacion Clinica Infantil Club Noel","ANALISTA CONCILIACIONES",3125547250,"JCRAMIREZ@FAMISANAR.COM.CO","JENNYFFER ALEXANDRA SARMIENTO","JUAN RAMIREZ, MICHEL MALAGON , CRISTIAN RIVERA","VALLE DEL CAUCA","CALI",{"$f":"+BASE_ANALISTA[[#This Row],[nombredelresponsable]]","v":"JENNYFFER ALEXANDRA SARMIENTO"},"11001","19256"]
[900646332,"REHABILITACION NEUROLOGICA INFANTIL AVANZADA S.A.S.","ANALISTA CONCILIACIONES",3125547250,"JCRAMIREZ@FAMISANAR.COM.CO","JENNYFFER ALEXANDRA SARMIENTO","JUAN RAMIREZ, MICHEL MALAGON , CRISTIAN RIVERA","SANTANDER","BUCARAMANGA",{"$f":"+BASE_ANALISTA[[#This Row],[nombredelresponsable]]","v":"JENNYFFER ALEXANDRA SARMIENTO"},"11001","08001"]
[819002025,"E.S.E. HOSPITAL SANTANDER HERRERA","ANALISTA CONCILIACIONES",3125547250,"JCRAMIREZ@FAMISANAR.COM.CO","JENNYFFER ALEXANDRA SARMIENTO","JUAN RAMIREZ, MICHEL MALAGON , CRISTIAN RIVERA","MAGDALENA","PIVIJAY",{"$f":"+BASE_ANALISTA[[#This Row],[nombredelresponsable]]","v":"JENNYFFER ALEXANDRA SARMIENTO"},"11001","73001"]
[900211804,"GAMASCAN LTDA","ANALISTA CONCILIACIONES",3125547250,"JCRAMIREZ@FAMISANAR.COM.CO","JENNYFFER ALEXANDRA SARMIENTO","JUAN RAMIREZ, MICHEL MALAGON , CRISTIAN RIVERA","BOLIVAR","CARTAGENA",{"$f":"+BASE_ANALISTA[[#This Row],[nombredelresponsable]]","v":"JENNYFFER ALEXANDRA SARMIENTO"},"11001","15776"]
[900130671,"CAD PSICOTERAPEUTICO Y REEDUCATIVO SAN RAFAEL SAS","ANALISTA CONCILIACIONES",3125547250,"JCRAMIREZ@FAMISANAR.COM.CO","JENNYFFER ALEXANDRA SARMIENTO","JUAN RAMIREZ, MICHEL MALAGON , CRISTIAN RIVERA","CUNDINAMARCA","CHIA",{"$f":"+BASE_ANALISTA[[#This Row],[nombredelresponsable]]","v":"JENNYFFER ALEXANDRA SARMIENTO"},"11001","08001"]
[846000678,"E.S.E HOSPITAL MARÍA ANGELINES","ANALISTA CONCILIACIONES",3125547250,"JCRAMIREZ@FAMISANAR.COM.CO","JENNYFFER ALEXANDRA SARMIENTO","JUAN RAMIREZ, MICHEL MALAGON , CRISTIAN RIVERA","PUTUMAYO","PUERTO LEGUIZAMO",{"$f":"+BASE_ANALISTA[[#This Row],[nombredelresponsable]]","v":"JENNYFFER ALEXANDRA SARMIENTO"},"11001","15001"]
[800194627,"ESE Hospital San Jose de Belalcazar","ANALISTA CONCILIACIONES",3125547250,"JCRAMIREZ@FAMISANAR.COM.CO","JENNYFFER ALEXANDRA SARMIENTO","JUAN RAMIREZ, MICHEL MALAGON , CRISTIAN RIVERA","CALDAS","BELALCÁZAR",{"$f":"+BASE_ANALISTA[[#This Row],[nombredelresponsable]]","v":"JENNYFFER ALEXANDRA SARMIENTO"},"11001","19001"]
[817000162,"CABILO DE GUAMBIA HOSPITAL MAMA DOMINGA","ANALISTA CONCILIACIONES",3125547250,"JCRAMIREZ@FAMISANAR.COM.CO","JENNYFFER ALEXANDRA SARMIENTO","JUAN RAMIREZ, MICHEL MALAGON , CRISTIAN RIVERA","CAUCA","SILVIA",{"$f":"+BASE_ANALISTA[[#This Row],[nombredelresponsable]]","v":"JENNYFFER ALEXANDRA SARMIENTO"},"11001","68444"]
[826002694,"ESE CENTRO DE SALUD NUESTRA SEÑORA DEL ROSARIO DE TASCO","ANALISTA CONCILIACIONES",3125547250,"JCRAMIREZ@FAMISANAR.COM.CO","JENNYFFER ALEXANDRA SARMIENTO","JUAN RAMIREZ, MICHEL MALAGON , CRISTIAN RIVERA","BOYACÁ","TASCO",{"$f":"+BASE_ANALISTA[[#This Row],[nombredelresponsable]]","v":"JENNYFFER ALEXANDRA SARMIENTO"},"11001","41791"]
[900000615,"ESE CENTRO DE SALUD EL PEÑON","ANALISTA CONCILIACIONES",3125547250,"JCRAMIREZ@FAMISANAR.COM.CO","JENNYFFER ALEXANDRA SARMIENTO","JUAN RAMIREZ, MICHEL MALAGON , CRISTIAN RIVERA","SANTANDER","EL PENON",{"$f":"+BASE_ANALISTA[[#This Row],[nombredelresponsable]]","v":"JENNYFFER ALEXANDRA SARMIENTO"},"11001","41013"]
[800048954,"Clinica Versalles S.A.","ANALISTA CONCILIACIONES",3125547250,"JCRAMIREZ@FAMISANAR.COM.CO","JENNYFFER ALEXANDRA SARMIENTO","JUAN RAMIREZ, MICHEL MALAGON , CRISTIAN RIVERA","VALLE DEL CAUCA","CALI",{"$f":"+BASE_ANALISTA[[#This Row],[nombredelresponsable]]","v":"JENNYFFER ALEXANDRA SARMIENTO"},"11001","68001"]
[829000940,"ESE HOSPITAL LOCAL SAN PABLO","ANALISTA CONCILIACIONES",3125547250,"JCRAMIREZ@FAMISANAR.COM.CO","JENNYFFER ALEXANDRA SARMIENTO","JUAN RAMIREZ, MICHEL MALAGON , CRISTIAN RIVERA","BOLIVAR","SAN PABLO",{"$f":"+BASE_ANALISTA[[#This Row],[nombredelresponsable]]","v":"JENNYFFER ALEXANDRA SARMIENTO"},"11001","73854"]
[806006753,"ESE HOSPITAL JOSE RUDECINDO LOPEZ PARODI","ANALISTA CONCILIACIONES",3125547250,"JCRAMIREZ@FAMISANAR.COM.CO","JENNYFFER ALEXANDRA SARMIENTO","JUAN RAMIREZ, MICHEL MALAGON , CRISTIAN RIVERA","BOLIVAR","BARRANCO DE LOBA",{"$f":"+BASE_ANALISTA[[#This Row],[nombredelresponsable]]","v":"JENNYFFER ALEXANDRA SARMIENTO"},"11001","47001"]
[891900438,"HOSPITAL SAN VICENTE DE PAUL E.S.E","ANALISTA CONCILIACIONES",3125547250,"JCRAMIREZ@FAMISANAR.COM.CO","JENNYFFER ALEXANDRA SARMIENTO","JUAN RAMIREZ, MICHEL MALAGON , CRISTIAN RIVERA","VALLE DEL CAUCA","ALCALA",{"$f":"+BASE_ANALISTA[[#This Row],[nombredelresponsable]]","v":"JENNYFFER ALEXANDRA SARMIENTO"},"11001","19397"]
[900077651,"UNIDAD DE GASTROENTEROLOGIA, NUTRICION Y ENDOSCOPIA PEDRIATRICA S.A.S","ANALISTA CONCILIACIONES",3125547250,"JCRAMIREZ@FAMISANAR.COM.CO","JENNYFFER ALEXANDRA SARMIENTO","JUAN RAMIREZ, MICHEL MALAGON , CRISTIAN RIVERA","SANTANDER","BUCARAMANGA",{"$f":"+BASE_ANALISTA[[#This Row],[nombredelresponsable]]","v":"JENNYFFER ALEXANDRA SARMIENTO"},"11001","08001"]
[826002718,"ESE SOCIAL DEL ESTADO CENTRO DE SALUD PAZ DE RIO","ANALISTA CONCILIACIONES",3125547250,"JCRAMIREZ@FAMISANAR.COM.CO","JENNYFFER ALEXANDRA SARMIENTO","JUAN RAMIREZ, MICHEL MALAGON , CRISTIAN RIVERA","BOYACÁ","PAZ DE RIO",{"$f":"+BASE_ANALISTA[[#This Row],[nombredelresponsable]]","v":"JENNYFFER ALEXANDRA SARMIENTO"},"11001","19821"]
[890802978,"ESE Hospital San Jose de Viterbo","ANALISTA CONCILIACIONES",3125547250,"JCRAMIREZ@FAMISANAR.COM.CO","JENNYFFER ALEXANDRA SARMIENTO","JUAN RAMIREZ, MICHEL MALAGON , CRISTIAN RIVERA","CALDAS","VITERBO",{"$f":"+BASE_ANALISTA[[#This Row],[nombredelresponsable]]","v":"JENNYFFER ALEXANDRA SARMIENTO"},"11001","20178"]
[900155383,"SUMINISTROS INTEGRALES MAURO SERGIO SAS","ANALISTA CONCILIACIONES",3125547250,"JCRAMIREZ@FAMISANAR.COM.CO","JENNYFFER ALEXANDRA SARMIENTO","JUAN RAMIREZ, MICHEL MALAGON , CRISTIAN RIVERA","BOLIVAR","CARTAGENA",{"$f":"+BASE_ANALISTA[[#This Row],[nombredelresponsable]]","v":"JENNYFFER ALEXANDRA SARMIENTO"},"11001","68673"]
[804006936,"EMPRESA SOCIAL DEL ESTADO CLINICA GUANE","ANALISTA CONCILIACIONES",3125547250,"JCRAMIREZ@FAMISANAR.COM.CO","JENNYFFER ALEXANDRA SARMIENTO","JUAN RAMIREZ, MICHEL MALAGON , CRISTIAN RIVERA","SANTANDER","FLORIDABLANCA",{"$f":"+BASE_ANALISTA[[#This Row],[nombredelresponsable]]","v":"JENNYFFER ALEXANDRA SARMIENTO"},"11001","08849"]
[890203222,"E.S.E HOSPITALSAN JOSE","ANALISTA CONCILIACIONES",3125547250,"JCRAMIREZ@FAMISANAR.COM.CO","JENNYFFER ALEXANDRA SARMIENTO","JUAN RAMIREZ, MICHEL MALAGON , CRISTIAN RIVERA","SANTANDER","SAN ANDRES",{"$f":"+BASE_ANALISTA[[#This Row],[nombredelresponsable]]","v":"JENNYFFER ALEXANDRA SARMIENTO"},"11001","08141"]
[805027261,"red de salud del centro ESE","ANALISTA CONCILIACIONES",3125547250,"JCRAMIREZ@FAMISANAR.COM.CO","JENNYFFER ALEXANDRA SARMIENTO","JUAN RAMIREZ, MICHEL MALAGON , CRISTIAN RIVERA","VALLE DEL CAUCA","CALI",{"$f":"+BASE_ANALISTA[[#This Row],[nombredelresponsable]]","v":"JENNYFFER ALEXANDRA SARMIENTO"},"11001","76892"]
[812001846,"E.S.E CAMU PUERTO ESCONDIDO","ANALISTA CONCILIACIONES",3125547250,"JCRAMIREZ@FAMISANAR.COM.CO","JENNYFFER ALEXANDRA SARMIENTO","JUAN RAMIREZ, MICHEL MALAGON , CRISTIAN RIVERA","CÓRDOBA","PUERTO ESCONDIDO",{"$f":"+BASE_ANALISTA[[#This Row],[nombredelresponsable]]","v":"JENNYFFER ALEXANDRA SARMIENTO"},"11001","47460"]
[806007343,"ESE HOSPITAL SAN NICOLAS DE TOLENTINO","ANALISTA CONCILIACIONES",3125547250,"JCRAMIREZ@FAMISANAR.COM.CO","JENNYFFER ALEXANDRA SARMIENTO","JUAN RAMIREZ, MICHEL MALAGON , CRISTIAN RIVERA","BOLIVAR","PINILLOS",{"$f":"+BASE_ANALISTA[[#This Row],[nombredelresponsable]]","v":"JENNYFFER ALEXANDRA SARMIENTO"},"11001","08549"]
[890000905,"ESE HOSPITAL PIO X LA Tebaida","ANALISTA CONCILIACIONES",3125547250,"JCRAMIREZ@FAMISANAR.COM.CO","JENNYFFER ALEXANDRA SARMIENTO","JUAN RAMIREZ, MICHEL MALAGON , CRISTIAN RIVERA","QUINDÍO","LA TEBAIDA",{"$f":"+BASE_ANALISTA[[#This Row],[nombredelresponsable]]","v":"JENNYFFER ALEXANDRA SARMIENTO"},"11001","47001"]
[890203373,"ESE HOSPITAL CAICEDO Y FLOREZ","ANALISTA CONCILIACIONES",3125547250,"JCRAMIREZ@FAMISANAR.COM.CO","JENNYFFER ALEXANDRA SARMIENTO","JUAN RAMIREZ, MICHEL MALAGON , CRISTIAN RIVERA","SANTANDER","SUAITA",{"$f":"+BASE_ANALISTA[[#This Row],[nombredelresponsable]]","v":"JENNYFFER ALEXANDRA SARMIENTO"},"11001","15185"]
[804010394,"E.S.E. SAN JOSE DE GUAVATA","ANALISTA CONCILIACIONES",3125547250,"JCRAMIREZ@FAMISANAR.COM.CO","JENNYFFER ALEXANDRA SARMIENTO","JUAN RAMIREZ, MICHEL MALAGON , CRISTIAN RIVERA","SANTANDER","GUAVATA",{"$f":"+BASE_ANALISTA[[#This Row],[nombredelresponsable]]","v":"JENNYFFER ALEXANDRA SARMIENTO"},"11001","86001"]
[817000999,"CENTRO DE SALUD TIMBIO ESE","ANALISTA CONCILIACIONES",3125547250,"JCRAMIREZ@FAMISANAR.COM.CO","CLAUDIA  PAEZ","JUAN RAMIREZ, MICHEL MALAGON , CRISTIAN RIVERA","CAUCA","TIMBIO",{"$f":"+BASE_ANALISTA[[#This Row],[nombredelresponsable]]","v":"CLAUDIA  PAEZ"},"11001","76616"]
[804015007,"EMPRESA SOCIAL DEL ESTADO CENTRO DE SALUD ENCINO","ANALISTA CONCILIACIONES",3125547250,"JCRAMIREZ@FAMISANAR.COM.CO","CLAUDIA  PAEZ","JUAN RAMIREZ, MICHEL MALAGON , CRISTIAN RIVERA","SANTANDER","ENCINO",{"$f":"+BASE_ANALISTA[[#This Row],[nombredelresponsable]]","v":"CLAUDIA  PAEZ"},"11001","15837"]
[804008809,"CLINICA SAN JOSE IPS","ANALISTA CONCILIACIONES",3125547250,"JCRAMIREZ@FAMISANAR.COM.CO","CLAUDIA  PAEZ","JUAN RAMIREZ, MICHEL MALAGON , CRISTIAN RIVERA","SANTANDER","CIMITARRA",{"$f":"+BASE_ANALISTA[[#This Row],[nombredelresponsable]]","v":"CLAUDIA  PAEZ"},"11001","68502"]
[800152970,"HOSPITAL REGIONAL MIRAFLORES ESE NIVEL II","ANALISTA CONCILIACIONES",3125547250,"JCRAMIREZ@FAMISANAR.COM.CO","CLAUDIA  PAEZ","JUAN RAMIREZ, MICHEL MALAGON , CRISTIAN RIVERA","BOYACÁ","MIRAFLORES",{"$f":"+BASE_ANALISTA[[#This Row],[nombredelresponsable]]","v":"CLAUDIA  PAEZ"},"11001","63302"]
[825001037,"E.S.E. HOSPITAL SANTA TERESA DE JESUS DE AVILA","ANALISTA CONCILIACIONES",3125547250,"JCRAMIREZ@FAMISANAR.COM.CO","CLAUDIA  PAEZ","JUAN RAMIREZ, MICHEL MALAGON , CRISTIAN RIVERA","LA GUAJIRA","DIBULLA",{"$f":"+BASE_ANALISTA[[#This Row],[nombredelresponsable]]","v":"CLAUDIA  PAEZ"},"11001","68001"]
[800123106,"HOSPITAL VENANCIO DIAZ DIAZ DE SABANETA","ANALISTA CONCILIACIONES",3125547250,"JCRAMIREZ@FAMISANAR.COM.CO","CLAUDIA  PAEZ","JUAN RAMIREZ, MICHEL MALAGON , CRISTIAN RIVERA","ANTIOQUIA","SABANETA",{"$f":"+BASE_ANALISTA[[#This Row],[nombredelresponsable]]","v":"CLAUDIA  PAEZ"},"11001","76036"]
[800138011,"EMPRESA SOCIAL DEL ESTADO HOSPITAL LA MISERICORDIA","ANALISTA CONCILIACIONES",3125547250,"JCRAMIREZ@FAMISANAR.COM.CO","CLAUDIA  PAEZ","JUAN RAMIREZ, MICHEL MALAGON , CRISTIAN RIVERA","ANTIOQUIA","NECHÍ",{"$f":"+BASE_ANALISTA[[#This Row],[nombredelresponsable]]","v":"CLAUDIA  PAEZ"},"11001","68533"]
[901242654,"HOSPITAL M.E. PATARROYO IPS S.A.S.","ANALISTA CONCILIACIONES",3125547250,"JCRAMIREZ@FAMISANAR.COM.CO","CLAUDIA  PAEZ","JUAN RAMIREZ, MICHEL MALAGON , CRISTIAN RIVERA","GUAINIA","INIRIDA",{"$f":"+BASE_ANALISTA[[#This Row],[nombredelresponsable]]","v":"CLAUDIA  PAEZ"},"11001","63401"]
[891855492,"EMPRESA SOCIAL DEL ESTADO SALUD AQUITANIA","ANALISTA CONCILIACIONES",3125547250,"JCRAMIREZ@FAMISANAR.COM.CO","CLAUDIA  PAEZ","JUAN RAMIREZ, MICHEL MALAGON , CRISTIAN RIVERA","BOYACÁ","AQUITANIA",{"$f":"+BASE_ANALISTA[[#This Row],[nombredelresponsable]]","v":"CLAUDIA  PAEZ"},"11001","44098"]
[826002777,"ESE HOSPITAL LAS MERCEDES DE MONGUI","ANALISTA CONCILIACIONES",3125547250,"JCRAMIREZ@FAMISANAR.COM.CO","CLAUDIA  PAEZ","JUAN RAMIREZ, MICHEL MALAGON , CRISTIAN RIVERA","BOYACÁ","MONGUI",{"$f":"+BASE_ANALISTA[[#This Row],[nombredelresponsable]]","v":"CLAUDIA  PAEZ"},"11001","41524"]
[844001355,"Hospital de Aguazul Juan Hernando Urrego ESE","ANALISTA CONCILIACIONES",3125547250,"JCRAMIREZ@FAMISANAR.COM.CO","CLAUDIA  PAEZ","JUAN RAMIREZ, MICHEL MALAGON , CRISTIAN RIVERA","CASANARE","AGUAZUL",{"$f":"+BASE_ANALISTA[[#This Row],[nombredelresponsable]]","v":"CLAUDIA  PAEZ"},"11001","85010"]
[802004549,"ESE CENTRO DE SALUD DE POLONUEVO","ANALISTA CONCILIACIONES",3125547250,"JCRAMIREZ@FAMISANAR.COM.CO","CLAUDIA  PAEZ","JUAN RAMIREZ, MICHEL MALAGON , CRISTIAN RIVERA","ATLÁNTICO","POLONUEVO",{"$f":"+BASE_ANALISTA[[#This Row],[nombredelresponsable]]","v":"CLAUDIA  PAEZ"},"11001","13001"]
[800146637,"OBGYN SAS","ANALISTA CONCILIACIONES",3125547250,"JCRAMIREZ@FAMISANAR.COM.CO","CLAUDIA  PAEZ","JUAN RAMIREZ, MICHEL MALAGON , CRISTIAN RIVERA","CUNDINAMARCA","CHIA",{"$f":"+BASE_ANALISTA[[#This Row],[nombredelresponsable]]","v":"CLAUDIA  PAEZ"},"11001","47268"]
[832006431,"ASOCIACIO DE PROFESIONALES CLINIMEDIC Y SALUD OCUPACIONAL LTDA","ANALISTA CONCILIACIONES",3125547250,"JCRAMIREZ@FAMISANAR.COM.CO","CLAUDIA  PAEZ","JUAN RAMIREZ, MICHEL MALAGON , CRISTIAN RIVERA","CUNDINAMARCA","CHIA",{"$f":"+BASE_ANALISTA[[#This Row],[nombredelresponsable]]","v":"CLAUDIA  PAEZ"},"11001","68001"]
[890103406,"ESE HOSPITAL DE PUERTO COLOMBIA","ANALISTA CONCILIACIONES",3125547250,"JCRAMIREZ@FAMISANAR.COM.CO","CLAUDIA  PAEZ","JUAN RAMIREZ, MICHEL MALAGON , CRISTIAN RIVERA","ATLÁNTICO","PUERTO COLOMBIA",{"$f":"+BASE_ANALISTA[[#This Row],[nombredelresponsable]]","v":"CLAUDIA  PAEZ"},"11001","68575"]
[813012833,"ESE HSOPITAL NUESTRA SEÑORA DE LAS MERCEDES DE SALADOBLANCO","ANALISTA CONCILIACIONES",3125547250,"JCRAMIREZ@FAMISANAR.COM.CO","CLAUDIA  PAEZ","JUAN RAMIREZ, MICHEL MALAGON , CRISTIAN RIVERA","HUILA","SALADOBLANCO",{"$f":"+BASE_ANALISTA[[#This Row],[nombredelresponsable]]","v":"CLAUDIA  PAEZ"},"11001","15109"]
[900164285,"CLINICA SAN MARTIN BARRANQUILLA LTDA","ANALISTA CONCILIACIONES",3125547250,"JCRAMIREZ@FAMISANAR.COM.CO","CLAUDIA  PAEZ","JUAN RAMIREZ, MICHEL MALAGON , CRISTIAN RIVERA","ATLÁNTICO","BARRANQUILLA",{"$f":"+BASE_ANALISTA[[#This Row],[nombredelresponsable]]","v":"CLAUDIA  PAEZ"},"11001","68051"]
[800012323,"INSTITUTO DEL SISTEMA NERVIOSO DEL ORIENTE S.A. ISNOR S.A.","ANALISTA CONCILIACIONES",3125547250,"JCRAMIREZ@FAMISANAR.COM.CO","CLAUDIA  PAEZ","JUAN RAMIREZ, MICHEL MALAGON , CRISTIAN RIVERA","SANTANDER","BUCARAMANGA",{"$f":"+BASE_ANALISTA[[#This Row],[nombredelresponsable]]","v":"CLAUDIA  PAEZ"},"11001","08001"]
[802009195,"E.S.E HOSPITAL DE PONEDERA","ANALISTA CONCILIACIONES",3125547250,"JCRAMIREZ@FAMISANAR.COM.CO","CLAUDIA  PAEZ","JUAN RAMIREZ, MICHEL MALAGON , CRISTIAN RIVERA","ATLÁNTICO","PONEDERA",{"$f":"+BASE_ANALISTA[[#This Row],[nombredelresponsable]]","v":"CLAUDIA  PAEZ"},"11001","25290"]
[812003739,"CUPOSALUD I.P.S. S.A.S.","ANALISTA CONCILIACIONES",3125547250,"JCRAMIREZ@FAMISANAR.COM.CO","CLAUDIA  PAEZ","JUAN RAMIREZ, MICHEL MALAGON , CRISTIAN RIVERA","SUCRE","SINCELEJO",{"$f":"+BASE_ANALISTA[[#This Row],[nombredelresponsable]]","v":"CLAUDIA  PAEZ"},"11001","19573"]
[802023546,"OTOCEN SAS","ANALISTA CONCILIACIONES",3125547250,"JCRAMIREZ@FAMISANAR.COM.CO","ROSEMBERG ANDRES MUÑOZ ","JUAN RAMIREZ, MICHEL MALAGON , CRISTIAN RIVERA","ATLÁNTICO","BARRANQUILLA",{"$f":"+BASE_ANALISTA[[#This Row],[nombredelresponsable]]","v":"ROSEMBERG ANDRES MUÑOZ "},"11001","70001"]
[890802218,"Hospital San Vicente de Paul Aranzazu Caldas","ANALISTA CONCILIACIONES",3125547250,"JCRAMIREZ@FAMISANAR.COM.CO","ROSEMBERG ANDRES MUÑOZ ","JUAN RAMIREZ, MICHEL MALAGON , CRISTIAN RIVERA","CALDAS","ARANZAZU",{"$f":"+BASE_ANALISTA[[#This Row],[nombredelresponsable]]","v":"ROSEMBERG ANDRES MUÑOZ "},"11001","52207"]
[890203887,"ESE HOSPITAL INTEGRADO SAN ROQUE","ANALISTA CONCILIACIONES",3125547250,"JCRAMIREZ@FAMISANAR.COM.CO","ROSEMBERG ANDRES MUÑOZ ","JUAN RAMIREZ, MICHEL MALAGON , CRISTIAN RIVERA","SANTANDER","SIMACOTA",{"$f":"+BASE_ANALISTA[[#This Row],[nombredelresponsable]]","v":"ROSEMBERG ANDRES MUÑOZ "},"11001","63190"]
[800191916,"CLINICA SAN FRANCISCO S.A.","ANALISTA CONCILIACIONES",3125547250,"JCRAMIREZ@FAMISANAR.COM.CO","ROSEMBERG ANDRES MUÑOZ ","JUAN RAMIREZ, MICHEL MALAGON , CRISTIAN RIVERA","VALLE DEL CAUCA","TULUA",{"$f":"+BASE_ANALISTA[[#This Row],[nombredelresponsable]]","v":"ROSEMBERG ANDRES MUÑOZ "},"11001","15001"]
[891180091,"ESE SAN FRANCISCO DE ASIS","ANALISTA CONCILIACIONES",3125547250,"JCRAMIREZ@FAMISANAR.COM.CO","ROSEMBERG ANDRES MUÑOZ ","JUAN RAMIREZ, MICHEL MALAGON , CRISTIAN RIVERA","HUILA","PALERMO",{"$f":"+BASE_ANALISTA[[#This Row],[nombredelresponsable]]","v":"ROSEMBERG ANDRES MUÑOZ "},"11001","20001"]
[900138480,"FUNDACIÓN INTEGRAL DE SALUD FISA","ANALISTA CONCILIACIONES",3125547250,"JCRAMIREZ@FAMISANAR.COM.CO","ROSEMBERG ANDRES MUÑOZ ","JUAN RAMIREZ, MICHEL MALAGON , CRISTIAN RIVERA","ATLÁNTICO","BARRANQUILLA",{"$f":"+BASE_ANALISTA[[#This Row],[nombredelresponsable]]","v":"ROSEMBERG ANDRES MUÑOZ "},"11001","15403"]
[813011502,"ESE HOSPITAL MUNICIPAL  SAN  FRANCISCO  DE  ASIS  ELIAS","ANALISTA CONCILIACIONES",3125547250,"JCRAMIREZ@FAMISANAR.COM.CO","ROSEMBERG ANDRES MUÑOZ ","JUAN RAMIREZ, MICHEL MALAGON , CRISTIAN RIVERA","HUILA","ELIAS",{"$f":"+BASE_ANALISTA[[#This Row],[nombredelresponsable]]","v":"ROSEMBERG ANDRES MUÑOZ "},"11001","73686"]
[819001512,"DENSIMAG LTDA","ANALISTA CONCILIACIONES",3125547250,"JCRAMIREZ@FAMISANAR.COM.CO","ROSEMBERG ANDRES MUÑOZ ","JUAN RAMIREZ, MICHEL MALAGON , CRISTIAN RIVERA","MAGDALENA","SANTA MARTA",{"$f":"+BASE_ANALISTA[[#This Row],[nombredelresponsable]]","v":"ROSEMBERG ANDRES MUÑOZ "},"11001","76001"]
[891201845,"HOSPITAL PIO XII","ANALISTA CONCILIACIONES",3125547250,"JCRAMIREZ@FAMISANAR.COM.CO","ROSEMBERG ANDRES MUÑOZ ","JUAN RAMIREZ, MICHEL MALAGON , CRISTIAN RIVERA","PUTUMAYO","COLON",{"$f":"+BASE_ANALISTA[[#This Row],[nombredelresponsable]]","v":"ROSEMBERG ANDRES MUÑOZ "},"11001","68001"]
[800016647,"ASOCIACION NUCLEAR DIAGNOSTICA LTDA","ANALISTA CONCILIACIONES",3125547250,"JCRAMIREZ@FAMISANAR.COM.CO","ROSEMBERG ANDRES MUÑOZ ","JUAN RAMIREZ, MICHEL MALAGON , CRISTIAN RIVERA","CUNDINAMARCA","BOGOTÁ D.C",{"$f":"+BASE_ANALISTA[[#This Row],[nombredelresponsable]]","v":"ROSEMBERG ANDRES MUÑOZ "},"11001","41518"]
[890704505,"HOSPITAL ISMAEL PERDOMO E.S.E","ANALISTA CONCILIACIONES",3125547250,"JCRAMIREZ@FAMISANAR.COM.CO","ROSEMBERG ANDRES MUÑOZ ","JUAN RAMIREZ, MICHEL MALAGON , CRISTIAN RIVERA","TOLIMA ","VILLAHERMOSA",{"$f":"+BASE_ANALISTA[[#This Row],[nombredelresponsable]]","v":"ROSEMBERG ANDRES MUÑOZ "},"11001","20001"]
[900146471,"EMPRESA SOCIAL DEL ESTADO CENTRO 2","ANALISTA CONCILIACIONES",3125547250,"JCRAMIREZ@FAMISANAR.COM.CO","ROSEMBERG ANDRES MUÑOZ ","JUAN RAMIREZ, MICHEL MALAGON , CRISTIAN RIVERA","CAUCA","ROSAS",{"$f":"+BASE_ANALISTA[[#This Row],[nombredelresponsable]]","v":"ROSEMBERG ANDRES MUÑOZ "},"11001","20001"]
[860006626,"OFTALMOS S.A","ANALISTA CONCILIACIONES",3125547250,"JCRAMIREZ@FAMISANAR.COM.CO","ROSEMBERG ANDRES MUÑOZ ","JUAN RAMIREZ, MICHEL MALAGON , CRISTIAN RIVERA","CUNDINAMARCA","BOGOTÁ D.C",{"$f":"+BASE_ANALISTA[[#This Row],[nombredelresponsable]]","v":"ROSEMBERG ANDRES MUÑOZ "},"11001","05315"]
[819001302,"ESE HOSPITAL LOCAL DE TENERIFE","ANALISTA CONCILIACIONES",3125547250,"JCRAMIREZ@FAMISANAR.COM.CO","ROSEMBERG ANDRES MUÑOZ ","JUAN RAMIREZ, MICHEL MALAGON , CRISTIAN RIVERA","MAGDALENA","TENERIFE",{"$f":"+BASE_ANALISTA[[#This Row],[nombredelresponsable]]","v":"ROSEMBERG ANDRES MUÑOZ "},"11001","68001"]
[819001712,"ESE LUISA SANTIAGA MARQUEZ IGUARAN","ANALISTA CONCILIACIONES",3125547250,"JCRAMIREZ@FAMISANAR.COM.CO","ROSEMBERG ANDRES MUÑOZ ","JUAN RAMIREZ, MICHEL MALAGON , CRISTIAN RIVERA","MAGDALENA","ARACATACA",{"$f":"+BASE_ANALISTA[[#This Row],[nombredelresponsable]]","v":"ROSEMBERG ANDRES MUÑOZ "},"11001","68001"]
[820003876,"E.S.E. CENTRO DE SALUD SANTO ECCEHOMO","ANALISTA CONCILIACIONES",3125547250,"JCRAMIREZ@FAMISANAR.COM.CO","ROSEMBERG ANDRES MUÑOZ ","JUAN RAMIREZ, MICHEL MALAGON , CRISTIAN RIVERA","BOYACÁ","SUTAMARCHAN",{"$f":"+BASE_ANALISTA[[#This Row],[nombredelresponsable]]","v":"ROSEMBERG ANDRES MUÑOZ "},"11001","68132"]
[800149026,"Instituto de Cancerología S.A.","ANALISTA CONCILIACIONES",3125547250,"JCRAMIREZ@FAMISANAR.COM.CO","ROSEMBERG ANDRES MUÑOZ ","JUAN RAMIREZ, MICHEL MALAGON , CRISTIAN RIVERA","ANTIOQUIA","MEDELLÍN",{"$f":"+BASE_ANALISTA[[#This Row],[nombredelresponsable]]","v":"ROSEMBERG ANDRES MUÑOZ "},"11001","63272"]
[890984156,"CENTRO DE INVESTIGACIONES MÉDICAS DE ANTIOQUIA  CIMA","ANALISTA CONCILIACIONES",3125547250,"JCRAMIREZ@FAMISANAR.COM.CO","ROSEMBERG ANDRES MUÑOZ ","JUAN RAMIREZ, MICHEL MALAGON , CRISTIAN RIVERA","ANTIOQUIA","MEDELLÍN",{"$f":"+BASE_ANALISTA[[#This Row],[nombredelresponsable]]","v":"ROSEMBERG ANDRES MUÑOZ "},"11001","68418"]
[806004548,"CENTRO MEDICO CRECER LTDA","ANALISTA CONCILIACIONES",3125547250,"JCRAMIREZ@FAMISANAR.COM.CO","ROSEMBERG ANDRES MUÑOZ ","JUAN RAMIREZ, MICHEL MALAGON , CRISTIAN RIVERA","BOLIVAR","CARTAGENA",{"$f":"+BASE_ANALISTA[[#This Row],[nombredelresponsable]]","v":"ROSEMBERG ANDRES MUÑOZ "},"11001","68686"]
[824005694,"CENTRO REGIONAL DE ONCOLOGIA S.A.S","ANALISTA CONCILIACIONES",3125547250,"JCRAMIREZ@FAMISANAR.COM.CO","ROSEMBERG ANDRES MUÑOZ ","JUAN RAMIREZ, MICHEL MALAGON , CRISTIAN RIVERA","CESAR","VALLEDUPAR",{"$f":"+BASE_ANALISTA[[#This Row],[nombredelresponsable]]","v":"ROSEMBERG ANDRES MUÑOZ "},"11001","41001"]
[890200106,"CAJASAN - Caja Santandereana de Subsidio Familiar","ANALISTA CONCILIACIONES",3125547250,"JCRAMIREZ@FAMISANAR.COM.CO","ROSEMBERG ANDRES MUÑOZ ","JUAN RAMIREZ, MICHEL MALAGON , CRISTIAN RIVERA","SANTANDER","BARRANCABERMEJA",{"$f":"+BASE_ANALISTA[[#This Row],[nombredelresponsable]]","v":"ROSEMBERG ANDRES MUÑOZ "},"11001","52838"]
[802013492,"CENTRO DE ENFERMEDADES MAMARIAS DEL CARIBE LTDA","ANALISTA CONCILIACIONES",3125547250,"JCRAMIREZ@FAMISANAR.COM.CO","ROSEMBERG ANDRES MUÑOZ ","JUAN RAMIREZ, MICHEL MALAGON , CRISTIAN RIVERA","ATLÁNTICO","BARRANQUILLA",{"$f":"+BASE_ANALISTA[[#This Row],[nombredelresponsable]]","v":"ROSEMBERG ANDRES MUÑOZ "},"11001","15001"]
[900619741,"ASOCIACIÓN CESARENCE DE NEUROCIRUGÍA","ANALISTA CONCILIACIONES",3125547250,"JCRAMIREZ@FAMISANAR.COM.CO","ROSEMBERG ANDRES MUÑOZ ","JUAN RAMIREZ, MICHEL MALAGON , CRISTIAN RIVERA","CESAR","VALLEDUPAR",{"$f":"+BASE_ANALISTA[[#This Row],[nombredelresponsable]]","v":"ROSEMBERG ANDRES MUÑOZ "},"11001","19142"]
[900617858,"Neurocountry Portoazul SAS","ANALISTA CONCILIACIONES",3125547250,"JCRAMIREZ@FAMISANAR.COM.CO","ROSEMBERG ANDRES MUÑOZ ","JUAN RAMIREZ, MICHEL MALAGON , CRISTIAN RIVERA","ATLÁNTICO","BARRANQUILLA",{"$f":"+BASE_ANALISTA[[#This Row],[nombredelresponsable]]","v":"ROSEMBERG ANDRES MUÑOZ "},"11001","47555"]
[890980727,"ESE HOSPITAL SAN RAFAEL DE GIRARDOTA","ANALISTA CONCILIACIONES",3125547250,"JCRAMIREZ@FAMISANAR.COM.CO","ROSEMBERG ANDRES MUÑOZ ","JUAN RAMIREZ, MICHEL MALAGON , CRISTIAN RIVERA","ANTIOQUIA","GIRARDOTA",{"$f":"+BASE_ANALISTA[[#This Row],[nombredelresponsable]]","v":"ROSEMBERG ANDRES MUÑOZ "},"11001","25645"]
[900061048,"hospital puerto rico ese","ANALISTA CONCILIACIONES",3125547250,"JCRAMIREZ@FAMISANAR.COM.CO","ROSEMBERG ANDRES MUÑOZ ","JUAN RAMIREZ, MICHEL MALAGON , CRISTIAN RIVERA","META","PUERTO RICO",{"$f":"+BASE_ANALISTA[[#This Row],[nombredelresponsable]]","v":"ROSEMBERG ANDRES MUÑOZ "},"11001","05400"]
[800125276,"HOSPITAL INTEGRADO NUESTRA SEÑORA DE LOS REMEDIOS","ANALISTA CONCILIACIONES",3125547250,"JCRAMIREZ@FAMISANAR.COM.CO","ROSEMBERG ANDRES MUÑOZ ","JUAN RAMIREZ, MICHEL MALAGON , CRISTIAN RIVERA","VALLE DEL CAUCA","CALI",{"$f":"+BASE_ANALISTA[[#This Row],[nombredelresponsable]]","v":"ROSEMBERG ANDRES MUÑOZ "},"11001","47460"]
[891500736,"E.S.E HOSPITAL NIVEL 1 EL BORDO","ANALISTA CONCILIACIONES",3125547250,"JCRAMIREZ@FAMISANAR.COM.CO","ROSEMBERG ANDRES MUÑOZ ","JUAN RAMIREZ, MICHEL MALAGON , CRISTIAN RIVERA","CAUCA","PATIA",{"$f":"+BASE_ANALISTA[[#This Row],[nombredelresponsable]]","v":"ROSEMBERG ANDRES MUÑOZ "},"11001","13001"]
[900153346,"CENTRO HOSPITAL SAN LUIS E.S.E","ANALISTA CONCILIACIONES",3125547250,"JCRAMIREZ@FAMISANAR.COM.CO","ROSEMBERG ANDRES MUÑOZ ","JUAN RAMIREZ, MICHEL MALAGON , CRISTIAN RIVERA","NARIÑO","EL TAMBO",{"$f":"+BASE_ANALISTA[[#This Row],[nombredelresponsable]]","v":"ROSEMBERG ANDRES MUÑOZ "},"11001","05206"]
[812005369,"E.A.T. CENTRO MEDICO SANTA MARIA IPS","ANALISTA CONCILIACIONES",3125547250,"JCRAMIREZ@FAMISANAR.COM.CO","ROSEMBERG ANDRES MUÑOZ ","JUAN RAMIREZ, MICHEL MALAGON , CRISTIAN RIVERA","CÓRDOBA","SAHAGÚN",{"$f":"+BASE_ANALISTA[[#This Row],[nombredelresponsable]]","v":"ROSEMBERG ANDRES MUÑOZ "},"11001","08758"]
[820004962,"SERVICIO DE AMBULANCIA INMEDIATO MEDIC LTDA","ANALISTA CONCILIACIONES",3125547250,"JCRAMIREZ@FAMISANAR.COM.CO","ROSEMBERG ANDRES MUÑOZ ","JUAN RAMIREZ, MICHEL MALAGON , CRISTIAN RIVERA","BOYACÁ","TUNJA",{"$f":"+BASE_ANALISTA[[#This Row],[nombredelresponsable]]","v":"ROSEMBERG ANDRES MUÑOZ "},"11001","47001"]
[800036400,"CLINICA IBAGUE S.A.","ANALISTA CONCILIACIONES",3125547250,"JCRAMIREZ@FAMISANAR.COM.CO","ROSEMBERG ANDRES MUÑOZ ","JUAN RAMIREZ, MICHEL MALAGON , CRISTIAN RIVERA","TOLIMA ","IBAGUE",{"$f":"+BASE_ANALISTA[[#This Row],[nombredelresponsable]]","v":"ROSEMBERG ANDRES MUÑOZ "},"11001","15001"]
[812003726,"ESE CENTRO DE SALUD COTORRA","ANALISTA CONCILIACIONES",3125547250,"JCRAMIREZ@FAMISANAR.COM.CO","ROSEMBERG ANDRES MUÑOZ ","JUAN RAMIREZ, MICHEL MALAGON , CRISTIAN RIVERA","CÓRDOBA","COTORRA",{"$f":"+BASE_ANALISTA[[#This Row],[nombredelresponsable]]","v":"ROSEMBERG ANDRES MUÑOZ "},"11001","25817"]
[890906346,"ESE HOSPITAL SAN FERNANDO AMAGÁ","ANALISTA CONCILIACIONES",3125547250,"JCRAMIREZ@FAMISANAR.COM.CO","ROSEMBERG ANDRES MUÑOZ ","JUAN RAMIREZ, MICHEL MALAGON , CRISTIAN RIVERA","ANTIOQUIA","AMAGÁ",{"$f":"+BASE_ANALISTA[[#This Row],[nombredelresponsable]]","v":"ROSEMBERG ANDRES MUÑOZ "},"11001","08001"]
[890906211,"ese hospital municipal san roque","ANALISTA CONCILIACIONES",3125547250,"JCRAMIREZ@FAMISANAR.COM.CO","ROSEMBERG ANDRES MUÑOZ ","JUAN RAMIREZ, MICHEL MALAGON , CRISTIAN RIVERA","ANTIOQUIA","SAN ROQUE",{"$f":"+BASE_ANALISTA[[#This Row],[nombredelresponsable]]","v":"ROSEMBERG ANDRES MUÑOZ "},"11001","08001"]
[891900732,"E.S.E Hospital Kennedy E.S.E","ANALISTA CONCILIACIONES",3125547250,"JCRAMIREZ@FAMISANAR.COM.CO","ROSEMBERG ANDRES MUÑOZ ","JUAN RAMIREZ, MICHEL MALAGON , CRISTIAN RIVERA","VALLE DEL CAUCA","RIOFRIO",{"$f":"+BASE_ANALISTA[[#This Row],[nombredelresponsable]]","v":"ROSEMBERG ANDRES MUÑOZ "},"11001","08001"]
[900446032,"ASOCIACION DE PROFESIONALES ANESTESIOLOGOS PERMANENTES","ANALISTA CONCILIACIONES",3125547250,"JCRAMIREZ@FAMISANAR.COM.CO","ROSEMBERG ANDRES MUÑOZ ","JUAN RAMIREZ, MICHEL MALAGON , CRISTIAN RIVERA","ATLÁNTICO","BARRANQUILLA",{"$f":"+BASE_ANALISTA[[#This Row],[nombredelresponsable]]","v":"ROSEMBERG ANDRES MUÑOZ "},"11001","15572"]
[890981561,"E.S.E. HOSPITAL SAN VICENTE DE PAUL-SAN CARLOS ANTIOQUIA","ANALISTA CONCILIACIONES",3125547250,"JCRAMIREZ@FAMISANAR.COM.CO","ROSEMBERG ANDRES MUÑOZ ","JUAN RAMIREZ, MICHEL MALAGON , CRISTIAN RIVERA","ANTIOQUIA","SAN CARLOS",{"$f":"+BASE_ANALISTA[[#This Row],[nombredelresponsable]]","v":"ROSEMBERG ANDRES MUÑOZ "},"11001","52356"]
[809008576,"SALUD 24 HORAS LTDA","ANALISTA CONCILIACIONES",3125547250,"JCRAMIREZ@FAMISANAR.COM.CO","ROSEMBERG ANDRES MUÑOZ ","JUAN RAMIREZ, MICHEL MALAGON , CRISTIAN RIVERA","TOLIMA ","IBAGUÉ",{"$f":"+BASE_ANALISTA[[#This Row],[nombredelresponsable]]","v":"ROSEMBERG ANDRES MUÑOZ "},"11001","20001"]
[809000383,"HOSPITAL LOCAL VITO FASAEL GUTIERREZ PEDRAZA E.S.E.","ANALISTA CONCILIACIONES",3125547250,"JCRAMIREZ@FAMISANAR.COM.CO","ROSEMBERG ANDRES MUÑOZ ","JUAN RAMIREZ, MICHEL MALAGON , CRISTIAN RIVERA","TOLIMA ","VALLE DE SAN JUAN",{"$f":"+BASE_ANALISTA[[#This Row],[nombredelresponsable]]","v":"ROSEMBERG ANDRES MUÑOZ "},"11001","41799"]
[817003166,"CLINICA LA ESTANCIA","ANALISTA CONCILIACIONES",3125547250,"JCRAMIREZ@FAMISANAR.COM.CO","ROSEMBERG ANDRES MUÑOZ ","JUAN RAMIREZ, MICHEL MALAGON , CRISTIAN RIVERA","CAUCA","POPAYAN",{"$f":"+BASE_ANALISTA[[#This Row],[nombredelresponsable]]","v":"ROSEMBERG ANDRES MUÑOZ "},"11001","15238"]
[890210222,"ESE HOSPITAL SAN RAFAEL DE MATANZA","ANALISTA CONCILIACIONES",3125547250,"JCRAMIREZ@FAMISANAR.COM.CO","ROSEMBERG ANDRES MUÑOZ ","JUAN RAMIREZ, MICHEL MALAGON , CRISTIAN RIVERA","SANTANDER","MATANZA",{"$f":"+BASE_ANALISTA[[#This Row],[nombredelresponsable]]","v":"ROSEMBERG ANDRES MUÑOZ "},"11001","20001"]
[891180232,"ESE HOSPITAL SAN ANTONIO DE TARQUI","ANALISTA CONCILIACIONES",3125547250,"JCRAMIREZ@FAMISANAR.COM.CO","ROSEMBERG ANDRES MUÑOZ ","JUAN RAMIREZ, MICHEL MALAGON , CRISTIAN RIVERA","HUILA","TARQUI",{"$f":"+BASE_ANALISTA[[#This Row],[nombredelresponsable]]","v":"ROSEMBERG ANDRES MUÑOZ "},"11001","13212"]
[813001653,"HOSPITAL MUNICIPAL ALGECIRAS","ANALISTA CONCILIACIONES",3125547250,"JCRAMIREZ@FAMISANAR.COM.CO","ROSEMBERG ANDRES MUÑOZ ","JUAN RAMIREZ, MICHEL MALAGON , CRISTIAN RIVERA","HUILA","ALGECIRAS",{"$f":"+BASE_ANALISTA[[#This Row],[nombredelresponsable]]","v":"ROSEMBERG ANDRES MUÑOZ "},"11001","76001"]
[846003357,"ESE HOSPITAL JORGE JULIO GUZMAN","ANALISTA CONCILIACIONES",3125547250,"JCRAMIREZ@FAMISANAR.COM.CO","ROSEMBERG ANDRES MUÑOZ ","JUAN RAMIREZ, MICHEL MALAGON , CRISTIAN RIVERA","PUTUMAYO","PUTUMAYO",{"$f":"+BASE_ANALISTA[[#This Row],[nombredelresponsable]]","v":"ROSEMBERG ANDRES MUÑOZ "},"11001","68327"]
[891180147,"EMPRESA SOCIAL DEL ESTADO HOSPITAL MUNICIPAL SAN ANTONIO","ANALISTA CONCILIACIONES",3125547250,"JCRAMIREZ@FAMISANAR.COM.CO","ROSEMBERG ANDRES MUÑOZ ","JUAN RAMIREZ, MICHEL MALAGON , CRISTIAN RIVERA","HUILA","AGRADO",{"$f":"+BASE_ANALISTA[[#This Row],[nombredelresponsable]]","v":"ROSEMBERG ANDRES MUÑOZ "},"11001","13001"]
[900408220,"NUEVA CLINICA SAGRADO CORAZON SAS","ANALISTA CONCILIACIONES",3125547250,"JCRAMIREZ@FAMISANAR.COM.CO","ROSEMBERG ANDRES MUÑOZ ","JUAN RAMIREZ, MICHEL MALAGON , CRISTIAN RIVERA","ANTIOQUIA","MEDELLÍN",{"$f":"+BASE_ANALISTA[[#This Row],[nombredelresponsable]]","v":"ROSEMBERG ANDRES MUÑOZ "},"11001","15367"]
[900520293,"FUNDACION UNION VIDA","ANALISTA CONCILIACIONES",3125547250,"JCRAMIREZ@FAMISANAR.COM.CO","ROSEMBERG ANDRES MUÑOZ ","JUAN RAMIREZ, MICHEL MALAGON , CRISTIAN RIVERA","CHOCÓ","QUIBDO",{"$f":"+BASE_ANALISTA[[#This Row],[nombredelresponsable]]","v":"ROSEMBERG ANDRES MUÑOZ "},"11001","18001"]
[900211998,"AQUASALUD E.U","ANALISTA CONCILIACIONES",3125547250,"JCRAMIREZ@FAMISANAR.COM.CO","ROSEMBERG ANDRES MUÑOZ ","JUAN RAMIREZ, MICHEL MALAGON , CRISTIAN RIVERA","SANTANDER","BUCARAMANGA",{"$f":"+BASE_ANALISTA[[#This Row],[nombredelresponsable]]","v":"ROSEMBERG ANDRES MUÑOZ "},"11001","76020"]
[900145572,"EMPRESA SOCIAL DEL ESTADO SURORIENTE ESE","ANALISTA CONCILIACIONES",3125547250,"JCRAMIREZ@FAMISANAR.COM.CO","ROSEMBERG ANDRES MUÑOZ ","JUAN RAMIREZ, MICHEL MALAGON , CRISTIAN RIVERA","CAUCA","LA VEGA",{"$f":"+BASE_ANALISTA[[#This Row],[nombredelresponsable]]","v":"ROSEMBERG ANDRES MUÑOZ "},"11001","44110"]
[900423126,"FUNDACION CLINICA MATERNO INFANTIL ADELA DE CHAR","ANALISTA CONCILIACIONES",3125547250,"JCRAMIREZ@FAMISANAR.COM.CO","ROSEMBERG ANDRES MUÑOZ ","JUAN RAMIREZ, MICHEL MALAGON , CRISTIAN RIVERA","ATLÁNTICO","BARRANQUILLA",{"$f":"+BASE_ANALISTA[[#This Row],[nombredelresponsable]]","v":"ROSEMBERG ANDRES MUÑOZ "},"11001","68655"]
[900052148,"CXAYUCE JXUT ESE","ANALISTA CONCILIACIONES",3125547250,"JCRAMIREZ@FAMISANAR.COM.CO","ROSEMBERG ANDRES MUÑOZ ","JUAN RAMIREZ, MICHEL MALAGON , CRISTIAN RIVERA","CAUCA","TORIBIO",{"$f":"+BASE_ANALISTA[[#This Row],[nombredelresponsable]]","v":"ROSEMBERG ANDRES MUÑOZ "},"11001","50001"]
[900141467,"SALUD RENAL S.A.","ANALISTA CONCILIACIONES",3125547250,"JCRAMIREZ@FAMISANAR.COM.CO","ROSEMBERG ANDRES MUÑOZ ","JUAN RAMIREZ, MICHEL MALAGON , CRISTIAN RIVERA","ARAUCA","ARAUCA",{"$f":"+BASE_ANALISTA[[#This Row],[nombredelresponsable]]","v":"ROSEMBERG ANDRES MUÑOZ "},"11001","52323"]
[800197601,"ANGIOGRAFIA DE OCCDIENTE SA","ANALISTA CONCILIACIONES",3125547250,"JCRAMIREZ@FAMISANAR.COM.CO","ROSEMBERG ANDRES MUÑOZ ","JUAN RAMIREZ, MICHEL MALAGON , CRISTIAN RIVERA","CAUCA","POPAYÁN",{"$f":"+BASE_ANALISTA[[#This Row],[nombredelresponsable]]","v":"ROSEMBERG ANDRES MUÑOZ "},"11001","76001"]
[804015069,"E.S.E. SAN BENITO","ANALISTA CONCILIACIONES",3125547250,"JCRAMIREZ@FAMISANAR.COM.CO","ROSEMBERG ANDRES MUÑOZ ","JUAN RAMIREZ, MICHEL MALAGON , CRISTIAN RIVERA","SANTANDER","SAN BENITO",{"$f":"+BASE_ANALISTA[[#This Row],[nombredelresponsable]]","v":"ROSEMBERG ANDRES MUÑOZ "},"11001","20001"]
[890938774,"CLINICA DEL PRADO","ANALISTA CONCILIACIONES",3125547250,"JCRAMIREZ@FAMISANAR.COM.CO","ROSEMBERG ANDRES MUÑOZ ","JUAN RAMIREZ, MICHEL MALAGON , CRISTIAN RIVERA","ANTIOQUIA","MEDELLÍN",{"$f":"+BASE_ANALISTA[[#This Row],[nombredelresponsable]]","v":"ROSEMBERG ANDRES MUÑOZ "},"11001","76001"]
[900274166,"CENTRO DE EXCELENCIA PARA EL MANEJO DE LA DIABETES S.A.S","ANALISTA CONCILIACIONES",3125547250,"JCRAMIREZ@FAMISANAR.COM.CO","ROSEMBERG ANDRES MUÑOZ ","JUAN RAMIREZ, MICHEL MALAGON , CRISTIAN RIVERA","CUNDINAMARCA","BOGOTA D.C",{"$f":"+BASE_ANALISTA[[#This Row],[nombredelresponsable]]","v":"ROSEMBERG ANDRES MUÑOZ "},"11001","68820"]
[891180039,"ESE HOSPITAL DEL ROSARIO DE CAMPOALEGRE","ANALISTA CONCILIACIONES",3125547250,"JCRAMIREZ@FAMISANAR.COM.CO","ROSEMBERG ANDRES MUÑOZ ","JUAN RAMIREZ, MICHEL MALAGON , CRISTIAN RIVERA","HUILA","CAMPOALEGRE",{"$f":"+BASE_ANALISTA[[#This Row],[nombredelresponsable]]","v":"ROSEMBERG ANDRES MUÑOZ "},"11001","23168"]
[802009049,"ESE CENTRO DE SALUD DE USIACURI","ANALISTA CONCILIACIONES",3125547250,"JCRAMIREZ@FAMISANAR.COM.CO","ROSEMBERG ANDRES MUÑOZ ","JUAN RAMIREZ, MICHEL MALAGON , CRISTIAN RIVERA","ATLÁNTICO","USIACURI",{"$f":"+BASE_ANALISTA[[#This Row],[nombredelresponsable]]","v":"ROSEMBERG ANDRES MUÑOZ "},"11001","52585"]
[891900390,"HOSPITAL SAN VICENTE FERRER ESE","ANALISTA CONCILIACIONES",3125547250,"JCRAMIREZ@FAMISANAR.COM.CO","ROSEMBERG ANDRES MUÑOZ ","JUAN RAMIREZ, MICHEL MALAGON , CRISTIAN RIVERA","VALLE DEL CAUCA","ANDALUCIA",{"$f":"+BASE_ANALISTA[[#This Row],[nombredelresponsable]]","v":"ROSEMBERG ANDRES MUÑOZ "},"11001","73152"]
[891380184,"ESE HOSPITAL LOCAL DE CANDELARIA","ANALISTA CONCILIACIONES",3125547250,"JCRAMIREZ@FAMISANAR.COM.CO","ROSEMBERG ANDRES MUÑOZ ","JUAN RAMIREZ, MICHEL MALAGON , CRISTIAN RIVERA","VALLE DEL CAUCA","CANDELARIA",{"$f":"+BASE_ANALISTA[[#This Row],[nombredelresponsable]]","v":"ROSEMBERG ANDRES MUÑOZ "},"11001","15759"]
[800030924,"HOSPITAL LA BUENA ESPERANZA DE YUMBO","ANALISTA CONCILIACIONES",3125547250,"JCRAMIREZ@FAMISANAR.COM.CO","ROSEMBERG ANDRES MUÑOZ ","JUAN RAMIREZ, MICHEL MALAGON , CRISTIAN RIVERA","VALLE DEL CAUCA","YUMBO",{"$f":"+BASE_ANALISTA[[#This Row],[nombredelresponsable]]","v":"ROSEMBERG ANDRES MUÑOZ "},"11001","73001"]
[802007650,"ESE HOSPITAL VERA JUDITH IMITOLA VILLANUEVA PIOJO","ANALISTA CONCILIACIONES",3125547250,"JCRAMIREZ@FAMISANAR.COM.CO","ROSEMBERG ANDRES MUÑOZ ","JUAN RAMIREZ, MICHEL MALAGON , CRISTIAN RIVERA","ATLÁNTICO","PIOJO",{"$f":"+BASE_ANALISTA[[#This Row],[nombredelresponsable]]","v":"ROSEMBERG ANDRES MUÑOZ "},"11001","20001"]
[812002836,"ESE CAMU DEL PRADO","ANALISTA CONCILIACIONES",3125547250,"JCRAMIREZ@FAMISANAR.COM.CO","ROSEMBERG ANDRES MUÑOZ ","JUAN RAMIREZ, MICHEL MALAGON , CRISTIAN RIVERA","CÓRDOBA","EL PRADO",{"$f":"+BASE_ANALISTA[[#This Row],[nombredelresponsable]]","v":"ROSEMBERG ANDRES MUÑOZ "},"11001","76001"]
[900897204,"SOCIEDAD DE CIRUGIA OCULAR CARIBE S.A.S","ANALISTA CONCILIACIONES",3125547250,"JCRAMIREZ@FAMISANAR.COM.CO","ROSEMBERG ANDRES MUÑOZ ","JUAN RAMIREZ, MICHEL MALAGON , CRISTIAN RIVERA","MAGDALENA","SANTA MARTA",{"$f":"+BASE_ANALISTA[[#This Row],[nombredelresponsable]]","v":"ROSEMBERG ANDRES MUÑOZ "},"11001","47001"]
[899999025,"SOCIEDAD NACIONAL DE LA CRUZ ROJA COLOMBIANA","ANALISTA CONCILIACIONES",3125547250,"JCRAMIREZ@FAMISANAR.COM.CO","ROSEMBERG ANDRES MUÑOZ ","JUAN RAMIREZ, MICHEL MALAGON , CRISTIAN RIVERA","CUNDINAMARCA","BOGOTÁ D.C",{"$f":"+BASE_ANALISTA[[#This Row],[nombredelresponsable]]","v":"ROSEMBERG ANDRES MUÑOZ "},"11001","20001"]
[901049161,"ING CLINICAL CENTER SAS","ANALISTA CONCILIACIONES",3125547250,"JCRAMIREZ@FAMISANAR.COM.CO","ROSEMBERG ANDRES MUÑOZ ","JUAN RAMIREZ, MICHEL MALAGON , CRISTIAN RIVERA","CUNDINAMARCA","BOGOTA",{"$f":"+BASE_ANALISTA[[#This Row],[nombredelresponsable]]","v":"ROSEMBERG ANDRES MUÑOZ "},"11001","08001"]
[820003580,"EMPRESA SOCIAL DEL ESTADO CENTRO DE SALUD DE CHITARAQUE","ANALISTA CONCILIACIONES",3125547250,"JCRAMIREZ@FAMISANAR.COM.CO","ROSEMBERG ANDRES MUÑOZ ","JUAN RAMIREZ, MICHEL MALAGON , CRISTIAN RIVERA","BOYACÁ","CHITARAQUE",{"$f":"+BASE_ANALISTA[[#This Row],[nombredelresponsable]]","v":"ROSEMBERG ANDRES MUÑOZ "},"11001","68081"]
[890200965,"ESE HOSPITAL INTEGARDO SAN VICENTE DE PAUL","ANALISTA CONCILIACIONES",3125547250,"JCRAMIREZ@FAMISANAR.COM.CO","ROSEMBERG ANDRES MUÑOZ ","JUAN RAMIREZ, MICHEL MALAGON , CRISTIAN RIVERA","SANTANDER","ONZAGA",{"$f":"+BASE_ANALISTA[[#This Row],[nombredelresponsable]]","v":"ROSEMBERG ANDRES MUÑOZ "},"11001","08001"]
[890000448,"HOSPITAL SAN VICENTE DE PAUL","ANALISTA CONCILIACIONES",3125547250,"JCRAMIREZ@FAMISANAR.COM.CO","ROSEMBERG ANDRES MUÑOZ ","JUAN RAMIREZ, MICHEL MALAGON , CRISTIAN RIVERA","QUINDÍO","GENOVA",{"$f":"+BASE_ANALISTA[[#This Row],[nombredelresponsable]]","v":"ROSEMBERG ANDRES MUÑOZ "},"11001","20614"]
[800014884,"Ese hospital hector abad gomez","ANALISTA CONCILIACIONES",3125547250,"JCRAMIREZ@FAMISANAR.COM.CO","ROSEMBERG ANDRES MUÑOZ ","JUAN RAMIREZ, MICHEL MALAGON , CRISTIAN RIVERA","ANTIOQUIA","YONDÓ",{"$f":"+BASE_ANALISTA[[#This Row],[nombredelresponsable]]","v":"ROSEMBERG ANDRES MUÑOZ "},"11001","44001"]
[804014835,"ESE CENTRO DE SALUD MUNICIPIO DE PARAMO","ANALISTA CONCILIACIONES",3125547250,"JCRAMIREZ@FAMISANAR.COM.CO","ROSEMBERG ANDRES MUÑOZ ","JUAN RAMIREZ, MICHEL MALAGON , CRISTIAN RIVERA","SANTANDER","PARAMO",{"$f":"+BASE_ANALISTA[[#This Row],[nombredelresponsable]]","v":"ROSEMBERG ANDRES MUÑOZ "},"11001","47001"]
[890980444,"EMPRESA SOCIAL DEL ESTADO HOSPITAL SAN ANTONIO CISNEROS","ANALISTA CONCILIACIONES",3125547250,"JCRAMIREZ@FAMISANAR.COM.CO","ROSEMBERG ANDRES MUÑOZ ","JUAN RAMIREZ, MICHEL MALAGON , CRISTIAN RIVERA","ANTIOQUIA","CISNEROS",{"$f":"+BASE_ANALISTA[[#This Row],[nombredelresponsable]]","v":"ROSEMBERG ANDRES MUÑOZ "},"11001","20001"]
[900190473,"IPS MUNICIPAL IPIALES ESE","ANALISTA CONCILIACIONES",3125547250,"JCRAMIREZ@FAMISANAR.COM.CO","ROSEMBERG ANDRES MUÑOZ ","JUAN RAMIREZ, MICHEL MALAGON , CRISTIAN RIVERA","NARIÑO","IPIALES",{"$f":"+BASE_ANALISTA[[#This Row],[nombredelresponsable]]","v":"ROSEMBERG ANDRES MUÑOZ "},"11001","41668"]
[825000834,"HOSPITAL SANTA RITA DE CASSIA","ANALISTA CONCILIACIONES",3125547250,"JCRAMIREZ@FAMISANAR.COM.CO","ROSEMBERG ANDRES MUÑOZ ","JUAN RAMIREZ, MICHEL MALAGON , CRISTIAN RIVERA","LA GUAJIRA","DISTRACCION",{"$f":"+BASE_ANALISTA[[#This Row],[nombredelresponsable]]","v":"ROSEMBERG ANDRES MUÑOZ "},"11001","41001"]
[900431550,"CLINICA LA VICTORIA S.A.S.","ANALISTA CONCILIACIONES",3125547250,"JCRAMIREZ@FAMISANAR.COM.CO","ROSEMBERG ANDRES MUÑOZ ","JUAN RAMIREZ, MICHEL MALAGON , CRISTIAN RIVERA","ATLÁNTICO","BARRANQUILLA",{"$f":"+BASE_ANALISTA[[#This Row],[nombredelresponsable]]","v":"ROSEMBERG ANDRES MUÑOZ "},"11001","15377"]
[806013944,"IMAGENES Y RADIOLOGIA LTDA","ANALISTA CONCILIACIONES",3125547250,"JCRAMIREZ@FAMISANAR.COM.CO","ROSEMBERG ANDRES MUÑOZ ","JUAN RAMIREZ, MICHEL MALAGON , CRISTIAN RIVERA","BOLIVAR","CARTAGENA",{"$f":"+BASE_ANALISTA[[#This Row],[nombredelresponsable]]","v":"ROSEMBERG ANDRES MUÑOZ "},"11001","15244"]
[890980997,"ESE HOSPITAL MARIA AUXILIADORA","ANALISTA CONCILIACIONES",3125547250,"JCRAMIREZ@FAMISANAR.COM.CO","ROSEMBERG ANDRES MUÑOZ ","JUAN RAMIREZ, MICHEL MALAGON , CRISTIAN RIVERA","ANTIOQUIA","CHIGORODÓ",{"$f":"+BASE_ANALISTA[[#This Row],[nombredelresponsable]]","v":"ROSEMBERG ANDRES MUÑOZ "},"11001","08001"]
[890906966,"ESE HOSPITAL MARCO A. CARDONA MACEO ANTIOQUIA","ANALISTA CONCILIACIONES",3125547250,"JCRAMIREZ@FAMISANAR.COM.CO","ROSEMBERG ANDRES MUÑOZ ","JUAN RAMIREZ, MICHEL MALAGON , CRISTIAN RIVERA","ANTIOQUIA","MACEO",{"$f":"+BASE_ANALISTA[[#This Row],[nombredelresponsable]]","v":"ROSEMBERG ANDRES MUÑOZ "},"11001","25612"]
[819001796,"EMPRESA SOCIAL DEL ESTADO HOSPITAL LOCAL DE EL RETEN","ANALISTA CONCILIACIONES",3125547250,"JCRAMIREZ@FAMISANAR.COM.CO","ROSEMBERG ANDRES MUÑOZ ","JUAN RAMIREZ, MICHEL MALAGON , CRISTIAN RIVERA","MAGDALENA","EL RETEN",{"$f":"+BASE_ANALISTA[[#This Row],[nombredelresponsable]]","v":"ROSEMBERG ANDRES MUÑOZ "},"11001","76250"]
[900330752,"FUNDACION FOSUNAB","ANALISTA CONCILIACIONES",3125547250,"JCRAMIREZ@FAMISANAR.COM.CO","ROSEMBERG ANDRES MUÑOZ ","JUAN RAMIREZ, MICHEL MALAGON , CRISTIAN RIVERA","SANTANDER","BUCARAMANGA",{"$f":"+BASE_ANALISTA[[#This Row],[nombredelresponsable]]","v":"ROSEMBERG ANDRES MUÑOZ "},"11001","08001"]
[807004352,"E.S.E IMSALUD","ANALISTA CONCILIACIONES",3125547250,"JCRAMIREZ@FAMISANAR.COM.CO","ROSEMBERG ANDRES MUÑOZ ","JUAN RAMIREZ, MICHEL MALAGON , CRISTIAN RIVERA","NORTE DE SANTANDER","CUCUTA",{"$f":"+BASE_ANALISTA[[#This Row],[nombredelresponsable]]","v":"ROSEMBERG ANDRES MUÑOZ "},"11001","20001"]
[900475557,"FISIOMEDICAL CENTER","ANALISTA CONCILIACIONES",3125547250,"JCRAMIREZ@FAMISANAR.COM.CO","ROSEMBERG ANDRES MUÑOZ ","JUAN RAMIREZ, MICHEL MALAGON , CRISTIAN RIVERA","CUNDINAMARCA","BOGOTÁ D.C",{"$f":"+BASE_ANALISTA[[#This Row],[nombredelresponsable]]","v":"ROSEMBERG ANDRES MUÑOZ "},"11001","41349"]
[800209710,"HOSPITAL BOSA II NIVEL","ANALISTA CONCILIACIONES",3125547250,"JCRAMIREZ@FAMISANAR.COM.CO","ROSEMBERG ANDRES MUÑOZ ","JUAN RAMIREZ, MICHEL MALAGON , CRISTIAN RIVERA","CUNDINAMARCA","BOGOTÁ D.C",{"$f":"+BASE_ANALISTA[[#This Row],[nombredelresponsable]]","v":"ROSEMBERG ANDRES MUÑOZ "},"11001","20175"]
[805013881,"FUNDACION SALUD HOMBRE","ANALISTA CONCILIACIONES",3125547250,"JCRAMIREZ@FAMISANAR.COM.CO","ROSEMBERG ANDRES MUÑOZ ","JUAN RAMIREZ, MICHEL MALAGON , CRISTIAN RIVERA","VALLE DEL CAUCA","CALI",{"$f":"+BASE_ANALISTA[[#This Row],[nombredelresponsable]]","v":"ROSEMBERG ANDRES MUÑOZ "},"11001","85001"]
[800193904,"E.S.E HOSPITAL JUAN PABLO II","ANALISTA CONCILIACIONES",3125547250,"JCRAMIREZ@FAMISANAR.COM.CO","ROSEMBERG ANDRES MUÑOZ ","JUAN RAMIREZ, MICHEL MALAGON , CRISTIAN RIVERA","SANTANDER","ARATOCA",{"$f":"+BASE_ANALISTA[[#This Row],[nombredelresponsable]]","v":"ROSEMBERG ANDRES MUÑOZ "},"11001","95001"]
[900349259,"ALIANZA MEDICA INTEGRAR SAS","ANALISTA CONCILIACIONES",3125547250,"JCRAMIREZ@FAMISANAR.COM.CO","ROSEMBERG ANDRES MUÑOZ ","JUAN RAMIREZ, MICHEL MALAGON , CRISTIAN RIVERA","CUNDINAMARCA","FUSAGASUGA",{"$f":"+BASE_ANALISTA[[#This Row],[nombredelresponsable]]","v":"ROSEMBERG ANDRES MUÑOZ "},"11001","68211"]
[892400736,"SERVICIO MEDICO LTDA","ANALISTA CONCILIACIONES",3125547250,"JCRAMIREZ@FAMISANAR.COM.CO","ROSEMBERG ANDRES MUÑOZ ","JUAN RAMIREZ, MICHEL MALAGON , CRISTIAN RIVERA","SAN ANDRES","SAN ANDRÉS",{"$f":"+BASE_ANALISTA[[#This Row],[nombredelresponsable]]","v":"ROSEMBERG ANDRES MUÑOZ "},"11001","68307"]
[900146438,"EMPRESA SOCIAL DEL ESTADO NORTE 3 - ESE","ANALISTA CONCILIACIONES",3125547250,"JCRAMIREZ@FAMISANAR.COM.CO","ROSEMBERG ANDRES MUÑOZ ","JUAN RAMIREZ, MICHEL MALAGON , CRISTIAN RIVERA","CAUCA","PUERTO TEJADA",{"$f":"+BASE_ANALISTA[[#This Row],[nombredelresponsable]]","v":"ROSEMBERG ANDRES MUÑOZ "},"11001","68679"]
[814006732,"CENTRO DE SALUD CONSACA","ANALISTA CONCILIACIONES",3125547250,"JCRAMIREZ@FAMISANAR.COM.CO","ROSEMBERG ANDRES MUÑOZ ","JUAN RAMIREZ, MICHEL MALAGON , CRISTIAN RIVERA","NARIÑO","CONSACA",{"$f":"+BASE_ANALISTA[[#This Row],[nombredelresponsable]]","v":"ROSEMBERG ANDRES MUÑOZ "},"11001","76001"]
[823002991,"CLINICA SALUD SOCIAL S.A.S","ANALISTA CONCILIACIONES",3125547250,"JCRAMIREZ@FAMISANAR.COM.CO","ROSEMBERG ANDRES MUÑOZ ","JUAN RAMIREZ, MICHEL MALAGON , CRISTIAN RIVERA","SUCRE","SINCELEJO",{"$f":"+BASE_ANALISTA[[#This Row],[nombredelresponsable]]","v":"ROSEMBERG ANDRES MUÑOZ "},"11001","13873"]
[891901123,"E.S.E.HOSPITAL SANTA CRUZ","ANALISTA CONCILIACIONES",3125547250,"JCRAMIREZ@FAMISANAR.COM.CO","ROSEMBERG ANDRES MUÑOZ ","JUAN RAMIREZ, MICHEL MALAGON , CRISTIAN RIVERA","VALLE DEL CAUCA","TRUJILLO",{"$f":"+BASE_ANALISTA[[#This Row],[nombredelresponsable]]","v":"ROSEMBERG ANDRES MUÑOZ "},"11001","20001"]
[900625803,"IPS REHABILITAMOS SAS","ANALISTA CONCILIACIONES",3125547250,"JCRAMIREZ@FAMISANAR.COM.CO","ROSEMBERG ANDRES MUÑOZ ","JUAN RAMIREZ, MICHEL MALAGON , CRISTIAN RIVERA","ATLÁNTICO","BARRANQUILLA",{"$f":"+BASE_ANALISTA[[#This Row],[nombredelresponsable]]","v":"ROSEMBERG ANDRES MUÑOZ "},"11001","44001"]
[890000671,"HOSPITAL SAN VICENTE DE PAUL E.S.E. CIRCASIA Q.","ANALISTA CONCILIACIONES",3125547250,"JCRAMIREZ@FAMISANAR.COM.CO","ROSEMBERG ANDRES MUÑOZ ","JUAN RAMIREZ, MICHEL MALAGON , CRISTIAN RIVERA","QUINDÍO","CIRCASIA",{"$f":"+BASE_ANALISTA[[#This Row],[nombredelresponsable]]","v":"ROSEMBERG ANDRES MUÑOZ "},"11001","76520"]
[823002044,"EMPRESA SOCIAL DEL ESTADO CENTRO DE SALUD MAJAGUAL","ANALISTA CONCILIACIONES",3125547250,"JCRAMIREZ@FAMISANAR.COM.CO","ROSEMBERG ANDRES MUÑOZ ","JUAN RAMIREZ, MICHEL MALAGON , CRISTIAN RIVERA","SUCRE","MAJAGUAL",{"$f":"+BASE_ANALISTA[[#This Row],[nombredelresponsable]]","v":"ROSEMBERG ANDRES MUÑOZ "},"11001","15664"]
[900432928,"UNIDAD FONOAUDIOLOGICA INTEGRAL REHABILISER IPS","ANALISTA CONCILIACIONES",3125547250,"JCRAMIREZ@FAMISANAR.COM.CO","ROSEMBERG ANDRES MUÑOZ ","JUAN RAMIREZ, MICHEL MALAGON , CRISTIAN RIVERA","CESAR","VALLEDUPAR",{"$f":"+BASE_ANALISTA[[#This Row],[nombredelresponsable]]","v":"ROSEMBERG ANDRES MUÑOZ "},"11001","41797"]
[891412126,"ESE Hospital San Vicente de PaUl de MistratO","ANALISTA CONCILIACIONES",3125547250,"JCRAMIREZ@FAMISANAR.COM.CO","ROSEMBERG ANDRES MUÑOZ ","JUAN RAMIREZ, MICHEL MALAGON , CRISTIAN RIVERA","RISARALDA","MISTRATÓ",{"$f":"+BASE_ANALISTA[[#This Row],[nombredelresponsable]]","v":"ROSEMBERG ANDRES MUÑOZ "},"11001","68266"]
[826002202,"EMPRESA SOCIAL DEL ESTADO CENTRO DE SALUD LA UVITA","ANALISTA CONCILIACIONES",3125547250,"JCRAMIREZ@FAMISANAR.COM.CO","ROSEMBERG ANDRES MUÑOZ ","JUAN RAMIREZ, MICHEL MALAGON , CRISTIAN RIVERA","BOYACÁ","LA UVITA",{"$f":"+BASE_ANALISTA[[#This Row],[nombredelresponsable]]","v":"ROSEMBERG ANDRES MUÑOZ "},"11001","15087"]
[805027289,"RED DE SALUD DE LADERA","ANALISTA CONCILIACIONES",3125547250,"JCRAMIREZ@FAMISANAR.COM.CO","ROSEMBERG ANDRES MUÑOZ ","JUAN RAMIREZ, MICHEL MALAGON , CRISTIAN RIVERA","VALLE DEL CAUCA","CALI",{"$f":"+BASE_ANALISTA[[#This Row],[nombredelresponsable]]","v":"ROSEMBERG ANDRES MUÑOZ "},"11001","52317"]
[813011027,"ESE Santa Rosa de Lima","ANALISTA CONCILIACIONES",3125547250,"JCRAMIREZ@FAMISANAR.COM.CO","ROSEMBERG ANDRES MUÑOZ ","JUAN RAMIREZ, MICHEL MALAGON , CRISTIAN RIVERA","HUILA","PAICOL",{"$f":"+BASE_ANALISTA[[#This Row],[nombredelresponsable]]","v":"ROSEMBERG ANDRES MUÑOZ "},"11001","25489"]
[900931777,"CENTRO DE REHABILITACION Y ELECTRODIAGNOSTICO S.A.S ","ANALISTA CONCILIACIONES",3125547250,"JCRAMIREZ@FAMISANAR.COM.CO","ROSEMBERG ANDRES MUÑOZ ","JUAN RAMIREZ, MICHEL MALAGON , CRISTIAN RIVERA","CESAR","VALLEDUPAR",{"$f":"+BASE_ANALISTA[[#This Row],[nombredelresponsable]]","v":"ROSEMBERG ANDRES MUÑOZ "},"11001","19548"]
[890801235,"HOSPITAL SAN RAFAEL DE RISARALDA CALDAS","ANALISTA CONCILIACIONES",3125547250,"JCRAMIREZ@FAMISANAR.COM.CO","ROSEMBERG ANDRES MUÑOZ ","JUAN RAMIREZ, MICHEL MALAGON , CRISTIAN RIVERA","CALDAS","RISARALDA",{"$f":"+BASE_ANALISTA[[#This Row],[nombredelresponsable]]","v":"ROSEMBERG ANDRES MUÑOZ "},"11001","73236"]
[804011439,"ESE HOSPITAL SAN ANTONIO DE CALIFORNIA","ANALISTA CONCILIACIONES",3125547250,"JCRAMIREZ@FAMISANAR.COM.CO","ROSEMBERG ANDRES MUÑOZ ","JUAN RAMIREZ, MICHEL MALAGON , CRISTIAN RIVERA","SANTANDER","CALIFORNIA",{"$f":"+BASE_ANALISTA[[#This Row],[nombredelresponsable]]","v":"ROSEMBERG ANDRES MUÑOZ "},"11001","19100"]
[890983738,"ESE HOSPITAL DEL MUNICIPIO SAN VICENTE","ANALISTA CONCILIACIONES",3125547250,"JCRAMIREZ@FAMISANAR.COM.CO","ROSEMBERG ANDRES MUÑOZ ","JUAN RAMIREZ, MICHEL MALAGON , CRISTIAN RIVERA","ANTIOQUIA","SAN VICENTE",{"$f":"+BASE_ANALISTA[[#This Row],[nombredelresponsable]]","v":"ROSEMBERG ANDRES MUÑOZ "},"11001","08001"]
[890980752,"HOSPITAL SAN JUAN DE DIOS DE MARINILLA","ANALISTA CONCILIACIONES",3125547250,"JCRAMIREZ@FAMISANAR.COM.CO","ROSEMBERG ANDRES MUÑOZ ","JUAN RAMIREZ, MICHEL MALAGON , CRISTIAN RIVERA","ANTIOQUIA","MARINILLA",{"$f":"+BASE_ANALISTA[[#This Row],[nombredelresponsable]]","v":"ROSEMBERG ANDRES MUÑOZ "},"11001","20550"]
[890001098,"HOSPITAL SAN VICENTE DE PAUL E.S.E.","ANALISTA CONCILIACIONES",3125547250,"JCRAMIREZ@FAMISANAR.COM.CO","ROSEMBERG ANDRES MUÑOZ ","JUAN RAMIREZ, MICHEL MALAGON , CRISTIAN RIVERA","QUINDÍO","FILANDIA",{"$f":"+BASE_ANALISTA[[#This Row],[nombredelresponsable]]","v":"ROSEMBERG ANDRES MUÑOZ "},"11001","52687"]
[900005067,"E.S.E Nuestra Señora de Las Nieves","ANALISTA CONCILIACIONES",3125547250,"JCRAMIREZ@FAMISANAR.COM.CO","ROSEMBERG ANDRES MUÑOZ ","JUAN RAMIREZ, MICHEL MALAGON , CRISTIAN RIVERA","SANTANDER","LOS SANTOS",{"$f":"+BASE_ANALISTA[[#This Row],[nombredelresponsable]]","v":"ROSEMBERG ANDRES MUÑOZ "},"11001","76377"]
[900714155,"NUEVO HOSPITAL MANUEL ELKIN PATARROYO","ANALISTA CONCILIACIONES",3125547250,"JCRAMIREZ@FAMISANAR.COM.CO","ROSEMBERG ANDRES MUÑOZ ","JUAN RAMIREZ, MICHEL MALAGON , CRISTIAN RIVERA","CUNDINAMARCA","BOGOTÁ D.C",{"$f":"+BASE_ANALISTA[[#This Row],[nombredelresponsable]]","v":"ROSEMBERG ANDRES MUÑOZ "},"11001","52573"]
[804017401,"ESE CENTRO DE SALUD SAN MIGUEL","ANALISTA CONCILIACIONES",3125547250,"JCRAMIREZ@FAMISANAR.COM.CO","ROSEMBERG ANDRES MUÑOZ ","JUAN RAMIREZ, MICHEL MALAGON , CRISTIAN RIVERA","SANTANDER","SAN MIGUEL",{"$f":"+BASE_ANALISTA[[#This Row],[nombredelresponsable]]","v":"ROSEMBERG ANDRES MUÑOZ "},"11001","76622"]
[900198799,"PUNTO VIDA IPS LTDA","ANALISTA CONCILIACIONES",3125547250,"JCRAMIREZ@FAMISANAR.COM.CO","ROSEMBERG ANDRES MUÑOZ ","JUAN RAMIREZ, MICHEL MALAGON , CRISTIAN RIVERA","BOYACÁ","TUNJA",{"$f":"+BASE_ANALISTA[[#This Row],[nombredelresponsable]]","v":"ROSEMBERG ANDRES MUÑOZ "},"11001","73001"]
[812001332,"ESE SAN ANDRES APOSTOL","ANALISTA CONCILIACIONES",3125547250,"JCRAMIREZ@FAMISANAR.COM.CO","ROSEMBERG ANDRES MUÑOZ ","JUAN RAMIREZ, MICHEL MALAGON , CRISTIAN RIVERA","CÓRDOBA","SOTAVENTO",{"$f":"+BASE_ANALISTA[[#This Row],[nombredelresponsable]]","v":"ROSEMBERG ANDRES MUÑOZ "},"11001","73349"]
[900146006,"EMPRESA SOCIAL DEL ESTADO NORTE 2 E.S.E.","ANALISTA CONCILIACIONES",3125547250,"JCRAMIREZ@FAMISANAR.COM.CO","ROSEMBERG ANDRES MUÑOZ ","JUAN RAMIREZ, MICHEL MALAGON , CRISTIAN RIVERA","CAUCA","CALOTO",{"$f":"+BASE_ANALISTA[[#This Row],[nombredelresponsable]]","v":"ROSEMBERG ANDRES MUÑOZ "},"11001","73001"]
[890801160,"HNAS DE LA CARIDAD DOMINICAS DE LA PRESENTACION DE LA SANTISIMA VIRGEN","ANALISTA CONCILIACIONES",3125547250,"JCRAMIREZ@FAMISANAR.COM.CO","ROSEMBERG ANDRES MUÑOZ ","JUAN RAMIREZ, MICHEL MALAGON , CRISTIAN RIVERA","CALDAS","MANIZALES",{"$f":"+BASE_ANALISTA[[#This Row],[nombredelresponsable]]","v":"ROSEMBERG ANDRES MUÑOZ "},"11001","73461"]
[824000986,"CARBOSALUD LTDA","ANALISTA CONCILIACIONES",3125547250,"JCRAMIREZ@FAMISANAR.COM.CO","ROSEMBERG ANDRES MUÑOZ ","JUAN RAMIREZ, MICHEL MALAGON , CRISTIAN RIVERA","ATLÁNTICO","BARRANQUILLA",{"$f":"+BASE_ANALISTA[[#This Row],[nombredelresponsable]]","v":"ROSEMBERG ANDRES MUÑOZ "},"11001","52418"]
[900593091,"DR OCTAVIO MANJARREZ MISSAT","ANALISTA CONCILIACIONES",3125547250,"JCRAMIREZ@FAMISANAR.COM.CO","ROSEMBERG ANDRES MUÑOZ ","JUAN RAMIREZ, MICHEL MALAGON , CRISTIAN RIVERA","CESAR","VALLEDUPAR",{"$f":"+BASE_ANALISTA[[#This Row],[nombredelresponsable]]","v":"ROSEMBERG ANDRES MUÑOZ "},"11001","08001"]
[807008824,"ESE Hospital Regional Centro","ANALISTA CONCILIACIONES",3125547250,"JCRAMIREZ@FAMISANAR.COM.CO","ROSEMBERG ANDRES MUÑOZ ","JUAN RAMIREZ, MICHEL MALAGON , CRISTIAN RIVERA","NORTE DE SANTANDER","GRAMALOTE",{"$f":"+BASE_ANALISTA[[#This Row],[nombredelresponsable]]","v":"ROSEMBERG ANDRES MUÑOZ "},"11001","70708"]
[819004318,"ESE HOSPITAL LOCAL NUEVA GRANADA","ANALISTA CONCILIACIONES",3125547250,"JCRAMIREZ@FAMISANAR.COM.CO","ROSEMBERG ANDRES MUÑOZ ","JUAN RAMIREZ, MICHEL MALAGON , CRISTIAN RIVERA","MAGDALENA","NUEVA GRANADA",{"$f":"+BASE_ANALISTA[[#This Row],[nombredelresponsable]]","v":"ROSEMBERG ANDRES MUÑOZ "},"11001","08436"]
[890102129,"FUNDACION MARIO SANTO DOMINGO","ANALISTA CONCILIACIONES",3125547250,"JCRAMIREZ@FAMISANAR.COM.CO","ROSEMBERG ANDRES MUÑOZ ","JUAN RAMIREZ, MICHEL MALAGON , CRISTIAN RIVERA","BOLIVAR","CARTAGENA",{"$f":"+BASE_ANALISTA[[#This Row],[nombredelresponsable]]","v":"ROSEMBERG ANDRES MUÑOZ "},"11001","68001"]
[890981108,"ESE HOSPITAL SAN JUAN DE DIOS DE COCORNA","ANALISTA CONCILIACIONES",3125547250,"JCRAMIREZ@FAMISANAR.COM.CO","ROSEMBERG ANDRES MUÑOZ ","JUAN RAMIREZ, MICHEL MALAGON , CRISTIAN RIVERA","ANTIOQUIA","COCORNÁ",{"$f":"+BASE_ANALISTA[[#This Row],[nombredelresponsable]]","v":"ROSEMBERG ANDRES MUÑOZ "},"11001","52001"]
[900442081,"centro de estimulacion rehabilitacion y aprendizaje sol de esperanza sas","ANALISTA CONCILIACIONES",3125547250,"JCRAMIREZ@FAMISANAR.COM.CO","ROSEMBERG ANDRES MUÑOZ ","JUAN RAMIREZ, MICHEL MALAGON , CRISTIAN RIVERA","SANTANDER","BUCARAMANGA",{"$f":"+BASE_ANALISTA[[#This Row],[nombredelresponsable]]","v":"ROSEMBERG ANDRES MUÑOZ "},"11001","68001"]
[891180190,"ESE HOSPITAL NUESTRA SEÑORA DE FATIMA","ANALISTA CONCILIACIONES",3125547250,"JCRAMIREZ@FAMISANAR.COM.CO","ROSEMBERG ANDRES MUÑOZ ","JUAN RAMIREZ, MICHEL MALAGON , CRISTIAN RIVERA","HUILA","SUAZA",{"$f":"+BASE_ANALISTA[[#This Row],[nombredelresponsable]]","v":"ROSEMBERG ANDRES MUÑOZ "},"11001","52356"]
[820003409,"CLINISONRIA CLINICAS ODONTOLOGICAS E.U","ANALISTA CONCILIACIONES",3125547250,"JCRAMIREZ@FAMISANAR.COM.CO","ROSEMBERG ANDRES MUÑOZ ","JUAN RAMIREZ, MICHEL MALAGON , CRISTIAN RIVERA","BOYACÁ","TUNJA",{"$f":"+BASE_ANALISTA[[#This Row],[nombredelresponsable]]","v":"ROSEMBERG ANDRES MUÑOZ "},"11001","41551"]
[900145581,"EMPRESA SOCIAL DEL ESTADO E.S.E CENTRO 1","ANALISTA CONCILIACIONES",3125547250,"JCRAMIREZ@FAMISANAR.COM.CO","ROSEMBERG ANDRES MUÑOZ ","JUAN RAMIREZ, MICHEL MALAGON , CRISTIAN RIVERA","CAUCA","PIENDAMO - TUNIA",{"$f":"+BASE_ANALISTA[[#This Row],[nombredelresponsable]]","v":"ROSEMBERG ANDRES MUÑOZ "},"11001","19001"]
[890115670,"CORPORACION CENTRO SAN CAMILO","ANALISTA CONCILIACIONES",3125547250,"JCRAMIREZ@FAMISANAR.COM.CO","ROSEMBERG ANDRES MUÑOZ ","JUAN RAMIREZ, MICHEL MALAGON , CRISTIAN RIVERA","ATLÁNTICO","BARRANQUILLA",{"$f":"+BASE_ANALISTA[[#This Row],[nombredelresponsable]]","v":"ROSEMBERG ANDRES MUÑOZ "},"11001","63690"]
[830075323,"EQUILIBRIO LTDA","ANALISTA CONCILIACIONES",3125547250,"JCRAMIREZ@FAMISANAR.COM.CO","ROSEMBERG ANDRES MUÑOZ ","JUAN RAMIREZ, MICHEL MALAGON , CRISTIAN RIVERA","CUNDINAMARCA","BOGOTÁ D.C",{"$f":"+BASE_ANALISTA[[#This Row],[nombredelresponsable]]","v":"ROSEMBERG ANDRES MUÑOZ "},"11001","20750"]
[901153838,"NEUMOCESAR S.A.S.","ANALISTA CONCILIACIONES",3125547250,"JCRAMIREZ@FAMISANAR.COM.CO","ROSEMBERG ANDRES MUÑOZ ","JUAN RAMIREZ, MICHEL MALAGON , CRISTIAN RIVERA","CESAR","VALLEDUPAR",{"$f":"+BASE_ANALISTA[[#This Row],[nombredelresponsable]]","v":"ROSEMBERG ANDRES MUÑOZ "},"11001","76109"]
[900165663,"GENEVIDA LTDA","ANALISTA CONCILIACIONES",3125547250,"JCRAMIREZ@FAMISANAR.COM.CO","ROSEMBERG ANDRES MUÑOZ ","JUAN RAMIREZ, MICHEL MALAGON , CRISTIAN RIVERA","CESAR","VALLEDUPAR",{"$f":"+BASE_ANALISTA[[#This Row],[nombredelresponsable]]","v":"ROSEMBERG ANDRES MUÑOZ "},"11001","20001"]
[900498069,"CLINICA REGIONAL DE ESPECIALISTAS SINAIS VITAIS SAS","ANALISTA CONCILIACIONES",3125547250,"JCRAMIREZ@FAMISANAR.COM.CO","ROSEMBERG ANDRES MUÑOZ ","JUAN RAMIREZ, MICHEL MALAGON , CRISTIAN RIVERA","CESAR","BOSCONIA",{"$f":"+BASE_ANALISTA[[#This Row],[nombredelresponsable]]","v":"ROSEMBERG ANDRES MUÑOZ "},"11001","70215"]
[890001605,"E.S.E HOSPITAL SAN ROQUE","ANALISTA CONCILIACIONES",3125547250,"JCRAMIREZ@FAMISANAR.COM.CO","ROSEMBERG ANDRES MUÑOZ ","JUAN RAMIREZ, MICHEL MALAGON , CRISTIAN RIVERA","QUINDÍO","CORDOBA",{"$f":"+BASE_ANALISTA[[#This Row],[nombredelresponsable]]","v":"ROSEMBERG ANDRES MUÑOZ "},"11001","76834"]
[890980949,"ESE HOSPITAL SANTA MARGARITA","ANALISTA CONCILIACIONES",3125547250,"JCRAMIREZ@FAMISANAR.COM.CO","ROSEMBERG ANDRES MUÑOZ ","JUAN RAMIREZ, MICHEL MALAGON , CRISTIAN RIVERA","ANTIOQUIA","COPACABANA",{"$f":"+BASE_ANALISTA[[#This Row],[nombredelresponsable]]","v":"ROSEMBERG ANDRES MUÑOZ "},"11001","76001"]
[890980326,"EMPRESA SOCIAL DEL ESTADO HOSPITAL SAN JUAN DE DIOS  EL SANTUARIO","ANALISTA CONCILIACIONES",3125547250,"JCRAMIREZ@FAMISANAR.COM.CO","ROSEMBERG ANDRES MUÑOZ ","JUAN RAMIREZ, MICHEL MALAGON , CRISTIAN RIVERA","ANTIOQUIA","EL SANTUARIO",{"$f":"+BASE_ANALISTA[[#This Row],[nombredelresponsable]]","v":"ROSEMBERG ANDRES MUÑOZ "},"11001","52287"]
[800067605,"CENTRO CARDIOLOGICO DE BOGOTA LTDA","ANALISTA CONCILIACIONES",3125547250,"JCRAMIREZ@FAMISANAR.COM.CO","ROSEMBERG ANDRES MUÑOZ ","JUAN RAMIREZ, MICHEL MALAGON , CRISTIAN RIVERA","CUNDINAMARCA","BOGOTÁ D.C",{"$f":"+BASE_ANALISTA[[#This Row],[nombredelresponsable]]","v":"ROSEMBERG ANDRES MUÑOZ "},"11001","44430"]
[823001901,"ESE CENTRO DE SALUD INMACULADA CONCEPCION","ANALISTA CONCILIACIONES",3125547250,"JCRAMIREZ@FAMISANAR.COM.CO","ROSEMBERG ANDRES MUÑOZ ","JUAN RAMIREZ, MICHEL MALAGON , CRISTIAN RIVERA","SUCRE","GALERAS",{"$f":"+BASE_ANALISTA[[#This Row],[nombredelresponsable]]","v":"ROSEMBERG ANDRES MUÑOZ "},"11001","70717"]
[804015164,"E.S.E. CENTRO DE SALUD SAN ROQUE","ANALISTA CONCILIACIONES",3125547250,"JCRAMIREZ@FAMISANAR.COM.CO","ROSEMBERG ANDRES MUÑOZ ","JUAN RAMIREZ, MICHEL MALAGON , CRISTIAN RIVERA","SANTANDER","GUEPSA",{"$f":"+BASE_ANALISTA[[#This Row],[nombredelresponsable]]","v":"ROSEMBERG ANDRES MUÑOZ "},"11001","41885"]
[890801944,"ESE HOSPITAL DEPARTAMENTAL SAN ANTONIO DE VILLAMARIA CADLAS","ANALISTA CONCILIACIONES",3125547250,"JCRAMIREZ@FAMISANAR.COM.CO","ROSEMBERG ANDRES MUÑOZ ","JUAN RAMIREZ, MICHEL MALAGON , CRISTIAN RIVERA","CALDAS","VILLAMARÍA",{"$f":"+BASE_ANALISTA[[#This Row],[nombredelresponsable]]","v":"ROSEMBERG ANDRES MUÑOZ "},"11001","68162"]
[820003337,"EMPRESA SOCIAL DEL ESTADO CENTRO DE SALUD JENESANO","ANALISTA CONCILIACIONES",3125547250,"JCRAMIREZ@FAMISANAR.COM.CO","ROSEMBERG ANDRES MUÑOZ ","JUAN RAMIREZ, MICHEL MALAGON , CRISTIAN RIVERA","BOYACÁ","JENESANO",{"$f":"+BASE_ANALISTA[[#This Row],[nombredelresponsable]]","v":"ROSEMBERG ANDRES MUÑOZ "},"11001","70001"]
[901249947,"CORPORACION HOSPITAL SAN JUAN DE DIOS UNIREMINGTON SANTA ROSA DE OSOS","ANALISTA CONCILIACIONES",3125547250,"JCRAMIREZ@FAMISANAR.COM.CO","ROSEMBERG ANDRES MUÑOZ ","JUAN RAMIREZ, MICHEL MALAGON , CRISTIAN RIVERA","ANTIOQUIA","SANTA ROSA DE OSOS",{"$f":"+BASE_ANALISTA[[#This Row],[nombredelresponsable]]","v":"ROSEMBERG ANDRES MUÑOZ "},"11001","76497"]
[828000386,"EMPRESA SOCIAL DEL ESTADO HOSPITAL COMUNAL LAS MALVINAS","ANALISTA CONCILIACIONES",3125547250,"JCRAMIREZ@FAMISANAR.COM.CO","ROSEMBERG ANDRES MUÑOZ ","JUAN RAMIREZ, MICHEL MALAGON , CRISTIAN RIVERA","CAQUETÁ","FLORENCIA",{"$f":"+BASE_ANALISTA[[#This Row],[nombredelresponsable]]","v":"ROSEMBERG ANDRES MUÑOZ "},"11001","08001"]
[800149169,"IPS CLINICA JOSE A RIVAS S.A.","ANALISTA CONCILIACIONES",3125547250,"JCRAMIREZ@FAMISANAR.COM.CO","ROSEMBERG ANDRES MUÑOZ ","JUAN RAMIREZ, MICHEL MALAGON , CRISTIAN RIVERA","CUNDINAMARCA","BOGOTÁ D.C",{"$f":"+BASE_ANALISTA[[#This Row],[nombredelresponsable]]","v":"ROSEMBERG ANDRES MUÑOZ "},"11001","25126"]
[800213121,"CENTRO CLINICO CARVAJAL LIMITADA","ANALISTA CONCILIACIONES",3125547250,"JCRAMIREZ@FAMISANAR.COM.CO","ROSEMBERG ANDRES MUÑOZ ","JUAN RAMIREZ, MICHEL MALAGON , CRISTIAN RIVERA","SANTANDER","SABANA DE TORRES",{"$f":"+BASE_ANALISTA[[#This Row],[nombredelresponsable]]","v":"ROSEMBERG ANDRES MUÑOZ "},"11001","73411"]
[824004330,"MEDICINA NUCLEAR S.A.","ANALISTA CONCILIACIONES",3125547250,"JCRAMIREZ@FAMISANAR.COM.CO","ROSEMBERG ANDRES MUÑOZ ","JUAN RAMIREZ, MICHEL MALAGON , CRISTIAN RIVERA","CESAR","VALLEDUPAR",{"$f":"+BASE_ANALISTA[[#This Row],[nombredelresponsable]]","v":"ROSEMBERG ANDRES MUÑOZ "},"11001","73024"]
[807004665,"ESE HOSPITAL JUAN LUIS LONDOÑO","ANALISTA CONCILIACIONES",3125547250,"JCRAMIREZ@FAMISANAR.COM.CO","ROSEMBERG ANDRES MUÑOZ ","JUAN RAMIREZ, MICHEL MALAGON , CRISTIAN RIVERA","NORTE DE SANTANDER","EL ZULIA",{"$f":"+BASE_ANALISTA[[#This Row],[nombredelresponsable]]","v":"ROSEMBERG ANDRES MUÑOZ "},"11001","44001"]
[830111502,"Fundación Cepytin","ANALISTA CONCILIACIONES",3125547250,"JCRAMIREZ@FAMISANAR.COM.CO","ROSEMBERG ANDRES MUÑOZ ","JUAN RAMIREZ, MICHEL MALAGON , CRISTIAN RIVERA","CUNDINAMARCA","BOGOTÁ D.C",{"$f":"+BASE_ANALISTA[[#This Row],[nombredelresponsable]]","v":"ROSEMBERG ANDRES MUÑOZ "},"11001","52320"]
[814001594,"CENTRO DE SALUD SEÑOR DE LOS MILAGROS DE GUALMATAN","ANALISTA CONCILIACIONES",3125547250,"JCRAMIREZ@FAMISANAR.COM.CO","ROSEMBERG ANDRES MUÑOZ ","JUAN RAMIREZ, MICHEL MALAGON , CRISTIAN RIVERA","NARIÑO","GUALMATAN",{"$f":"+BASE_ANALISTA[[#This Row],[nombredelresponsable]]","v":"ROSEMBERG ANDRES MUÑOZ "},"11001","41357"]
[811013792,"E.S.E. HOSPITAL ANTONIO ROLDAN BETANCUR","ANALISTA CONCILIACIONES",3125547250,"JCRAMIREZ@FAMISANAR.COM.CO","ROSEMBERG ANDRES MUÑOZ ","JUAN RAMIREZ, MICHEL MALAGON , CRISTIAN RIVERA","ANTIOQUIA","APARTADO",{"$f":"+BASE_ANALISTA[[#This Row],[nombredelresponsable]]","v":"ROSEMBERG ANDRES MUÑOZ "},"11001","20001"]
[900363673,"SINERGIA GLOBAL EN SALUD SAS - NEIVA","ANALISTA CONCILIACIONES",3125547250,"JCRAMIREZ@FAMISANAR.COM.CO","ROSEMBERG ANDRES MUÑOZ ","JUAN RAMIREZ, MICHEL MALAGON , CRISTIAN RIVERA","VALLE DEL CAUCA","CALI",{"$f":"+BASE_ANALISTA[[#This Row],[nombredelresponsable]]","v":"ROSEMBERG ANDRES MUÑOZ "},"11001","50001"]
[804005695,"ESE SAN ISIDRO DEL MUNICIPIO DE TONA","ANALISTA CONCILIACIONES",3125547250,"JCRAMIREZ@FAMISANAR.COM.CO","ROSEMBERG ANDRES MUÑOZ ","JUAN RAMIREZ, MICHEL MALAGON , CRISTIAN RIVERA","SANTANDER","TONA",{"$f":"+BASE_ANALISTA[[#This Row],[nombredelresponsable]]","v":"ROSEMBERG ANDRES MUÑOZ "},"11001","15238"]
[830145128,"ENLACE LAB LTDA","ANALISTA CONCILIACIONES",3125547250,"JCRAMIREZ@FAMISANAR.COM.CO","ROSEMBERG ANDRES MUÑOZ ","JUAN RAMIREZ, MICHEL MALAGON , CRISTIAN RIVERA","CUNDINAMARCA","BOGOTÁ D.C",{"$f":"+BASE_ANALISTA[[#This Row],[nombredelresponsable]]","v":"ROSEMBERG ANDRES MUÑOZ "},"11001","13670"]
[890204581,"ESE HOSPITAL SAN ROQUE CHIMA","ANALISTA CONCILIACIONES",3125547250,"JCRAMIREZ@FAMISANAR.COM.CO","ROSEMBERG ANDRES MUÑOZ ","JUAN RAMIREZ, MICHEL MALAGON , CRISTIAN RIVERA","SANTANDER","CHIMA",{"$f":"+BASE_ANALISTA[[#This Row],[nombredelresponsable]]","v":"ROSEMBERG ANDRES MUÑOZ "},"11001","68464"]
[900224057,"FUNDACION INSTITUTO DE ALTA TECNOLOGIA MEDICA DE ANTIOQUIA IATM","ANALISTA CONCILIACIONES",3125547250,"JCRAMIREZ@FAMISANAR.COM.CO","ROSEMBERG ANDRES MUÑOZ ","JUAN RAMIREZ, MICHEL MALAGON , CRISTIAN RIVERA","ANTIOQUIA","MEDELLÍN",{"$f":"+BASE_ANALISTA[[#This Row],[nombredelresponsable]]","v":"ROSEMBERG ANDRES MUÑOZ "},"11001","20011"]
[814006654,"CENTRO DE SALUD SAN  JUAN BAUTISTA DE PUPIALES ESE","ANALISTA CONCILIACIONES",3125547250,"JCRAMIREZ@FAMISANAR.COM.CO","ROSEMBERG ANDRES MUÑOZ ","JUAN RAMIREZ, MICHEL MALAGON , CRISTIAN RIVERA","NARIÑO","PUPIALES",{"$f":"+BASE_ANALISTA[[#This Row],[nombredelresponsable]]","v":"ROSEMBERG ANDRES MUÑOZ "},"11001","41078"]
[830507712,"FUNDACION APRENDER A VIVIR","ANALISTA CONCILIACIONES",3125547250,"JCRAMIREZ@FAMISANAR.COM.CO","ROSEMBERG ANDRES MUÑOZ ","JUAN RAMIREZ, MICHEL MALAGON , CRISTIAN RIVERA","CUNDINAMARCA","BOGOTÁ D.C",{"$f":"+BASE_ANALISTA[[#This Row],[nombredelresponsable]]","v":"ROSEMBERG ANDRES MUÑOZ "},"11001","68001"]
[800031724,"HOSPITAL SANTO DOMINGO E.S.E","ANALISTA CONCILIACIONES",3125547250,"JCRAMIREZ@FAMISANAR.COM.CO","ROSEMBERG ANDRES MUÑOZ ","JUAN RAMIREZ, MICHEL MALAGON , CRISTIAN RIVERA","TOLIMA ","CASABIANCA",{"$f":"+BASE_ANALISTA[[#This Row],[nombredelresponsable]]","v":"ROSEMBERG ANDRES MUÑOZ "},"11001","50001"]
[890980866,"Empresa Social del Estado Hospital San Roque","ANALISTA CONCILIACIONES",3125547250,"JCRAMIREZ@FAMISANAR.COM.CO","ROSEMBERG ANDRES MUÑOZ ","JUAN RAMIREZ, MICHEL MALAGON , CRISTIAN RIVERA","ANTIOQUIA","LA UNIÓN",{"$f":"+BASE_ANALISTA[[#This Row],[nombredelresponsable]]","v":"ROSEMBERG ANDRES MUÑOZ "},"11001","25307"]
[826000923,"SALUD SOGAMOSO ESE","ANALISTA CONCILIACIONES",3125547250,"JCRAMIREZ@FAMISANAR.COM.CO","ROSEMBERG ANDRES MUÑOZ ","JUAN RAMIREZ, MICHEL MALAGON , CRISTIAN RIVERA","BOYACÁ","SOGAMOSO",{"$f":"+BASE_ANALISTA[[#This Row],[nombredelresponsable]]","v":"ROSEMBERG ANDRES MUÑOZ "},"11001","41615"]
[813011515,"ESE HOSPITAL LOCAL MUNICIPAL DEL HOBO","ANALISTA CONCILIACIONES",3125547250,"JCRAMIREZ@FAMISANAR.COM.CO","ROSEMBERG ANDRES MUÑOZ ","JUAN RAMIREZ, MICHEL MALAGON , CRISTIAN RIVERA","HUILA","HOBO",{"$f":"+BASE_ANALISTA[[#This Row],[nombredelresponsable]]","v":"ROSEMBERG ANDRES MUÑOZ "},"11001","20770"]
[890802223,"ESE HOSPITAL SAN BERNARDO","ANALISTA CONCILIACIONES",3125547250,"JCRAMIREZ@FAMISANAR.COM.CO","ROSEMBERG ANDRES MUÑOZ ","JUAN RAMIREZ, MICHEL MALAGON , CRISTIAN RIVERA","CALDAS","FILADELFIA",{"$f":"+BASE_ANALISTA[[#This Row],[nombredelresponsable]]","v":"ROSEMBERG ANDRES MUÑOZ "},"11001","76520"]
[816007943,"CORPORACION IPS EJE CAFETERO","ANALISTA CONCILIACIONES",3125547250,"JCRAMIREZ@FAMISANAR.COM.CO","ROSEMBERG ANDRES MUÑOZ ","JUAN RAMIREZ, MICHEL MALAGON , CRISTIAN RIVERA","CALDAS","MANIZALES",{"$f":"+BASE_ANALISTA[[#This Row],[nombredelresponsable]]","v":"ROSEMBERG ANDRES MUÑOZ "},"11001","19318"]
[890905193,"EMPRESA SOCIAL DEL ESTADO HOSPITAL SAN VICENTE DE PAUL BARBOSA","ANALISTA CONCILIACIONES",3125547250,"JCRAMIREZ@FAMISANAR.COM.CO","ROSEMBERG ANDRES MUÑOZ ","JUAN RAMIREZ, MICHEL MALAGON , CRISTIAN RIVERA","ANTIOQUIA","BARBOSA",{"$f":"+BASE_ANALISTA[[#This Row],[nombredelresponsable]]","v":"ROSEMBERG ANDRES MUÑOZ "},"11001","41801"]
[824000449,"ESE HOSPITAL LOCAL DE RIO DE ORO","ANALISTA CONCILIACIONES",3125547250,"JCRAMIREZ@FAMISANAR.COM.CO","ROSEMBERG ANDRES MUÑOZ ","JUAN RAMIREZ, MICHEL MALAGON , CRISTIAN RIVERA","CESAR","RIO DE ORO",{"$f":"+BASE_ANALISTA[[#This Row],[nombredelresponsable]]","v":"ROSEMBERG ANDRES MUÑOZ "},"11001","76113"]
[900492815,"UNIDAD MATERNO INFANTIL TALAPUIN S.A.S","ANALISTA CONCILIACIONES",3125547250,"JCRAMIREZ@FAMISANAR.COM.CO","ROSEMBERG ANDRES MUÑOZ ","JUAN RAMIREZ, MICHEL MALAGON , CRISTIAN RIVERA","LA GUAJIRA","TALAPULIN",{"$f":"+BASE_ANALISTA[[#This Row],[nombredelresponsable]]","v":"ROSEMBERG ANDRES MUÑOZ "},"11001","15401"]
[900314301,"SALUD VITAL DEL HUILA SAS","ANALISTA CONCILIACIONES",3125547250,"JCRAMIREZ@FAMISANAR.COM.CO","ROSEMBERG ANDRES MUÑOZ ","JUAN RAMIREZ, MICHEL MALAGON , CRISTIAN RIVERA","HUILA","NEIVA",{"$f":"+BASE_ANALISTA[[#This Row],[nombredelresponsable]]","v":"ROSEMBERG ANDRES MUÑOZ "},"11001","47001"]
[900205591,"INSTITUCION PRESTADORA DE SERVICIOS DE SALUD INDIGENA MANEXKA IPS","ANALISTA CONCILIACIONES",3125547250,"JCRAMIREZ@FAMISANAR.COM.CO","JULIO BOLIVAR ","JUAN RAMIREZ, MICHEL MALAGON , CRISTIAN RIVERA","CÓRDOBA","SOTAVENTO",{"$f":"+BASE_ANALISTA[[#This Row],[nombredelresponsable]]","v":"JULIO BOLIVAR "},"11001","47001"]
[901133091,"UNIDAD DE ATENCIÓN INTEGRAL SEMBRANDO ESPERANZA S.A.S","ANALISTA CONCILIACIONES",3125547250,"JCRAMIREZ@FAMISANAR.COM.CO","JULIO BOLIVAR ","JUAN RAMIREZ, MICHEL MALAGON , CRISTIAN RIVERA","MAGDALENA","SANTA MARTA",{"$f":"+BASE_ANALISTA[[#This Row],[nombredelresponsable]]","v":"JULIO BOLIVAR "},"11001","68229"]
[824005343,"CENTRO PARA LA PROMOCION PREVENCION Y REHABILITACION INTEGRAL E.A.T. CENPRI","ANALISTA CONCILIACIONES",3125547250,"JCRAMIREZ@FAMISANAR.COM.CO","JULIO BOLIVAR ","JUAN RAMIREZ, MICHEL MALAGON , CRISTIAN RIVERA","CESAR","VALLEDUPAR",{"$f":"+BASE_ANALISTA[[#This Row],[nombredelresponsable]]","v":"JULIO BOLIVAR "},"11001","15001"]
[891180113,"EMPRESA SOCIAL DEL ESTADO HOSPITAL ARSENIO REPIZO VANEGAS","ANALISTA CONCILIACIONES",3125547250,"JCRAMIREZ@FAMISANAR.COM.CO","JULIO BOLIVAR ","JUAN RAMIREZ, MICHEL MALAGON , CRISTIAN RIVERA","HUILA","SAN AGUSTIN",{"$f":"+BASE_ANALISTA[[#This Row],[nombredelresponsable]]","v":"JULIO BOLIVAR "},"11001","73001"]
[805027338,"RED DE SALUD SUR ORIENTE","ANALISTA CONCILIACIONES",3125547250,"JCRAMIREZ@FAMISANAR.COM.CO","JULIO BOLIVAR ","JUAN RAMIREZ, MICHEL MALAGON , CRISTIAN RIVERA","VALLE DEL CAUCA","CALI",{"$f":"+BASE_ANALISTA[[#This Row],[nombredelresponsable]]","v":"JULIO BOLIVAR "},"11001","20001"]
[890801989,"HOSPITAL DEPARTAMENTAL SAN JUAN DE DIOS","ANALISTA CONCILIACIONES",3125547250,"JCRAMIREZ@FAMISANAR.COM.CO","JULIO BOLIVAR ","JUAN RAMIREZ, MICHEL MALAGON , CRISTIAN RIVERA","CALDAS","RIOSUCIO",{"$f":"+BASE_ANALISTA[[#This Row],[nombredelresponsable]]","v":"JULIO BOLIVAR "},"11001","20383"]
[826002687,"ESE CENTRO DE SALUD LABRANZAGRANDE","ANALISTA CONCILIACIONES",3125547250,"JCRAMIREZ@FAMISANAR.COM.CO","JULIO BOLIVAR ","JUAN RAMIREZ, MICHEL MALAGON , CRISTIAN RIVERA","BOYACÁ","LABRANZAGRANDE",{"$f":"+BASE_ANALISTA[[#This Row],[nombredelresponsable]]","v":"JULIO BOLIVAR "},"11001","76869"]
[890113431,"CEDIUL SA","ANALISTA CONCILIACIONES",3125547250,"JCRAMIREZ@FAMISANAR.COM.CO","JULIO BOLIVAR ","JUAN RAMIREZ, MICHEL MALAGON , CRISTIAN RIVERA","ATLÁNTICO","BARRANQUILLA",{"$f":"+BASE_ANALISTA[[#This Row],[nombredelresponsable]]","v":"JULIO BOLIVAR "},"11001","08001"]
[900121152,"HOSPITAL RICAURTE E.S.E","ANALISTA CONCILIACIONES",3125547250,"JCRAMIREZ@FAMISANAR.COM.CO","JULIO BOLIVAR ","JUAN RAMIREZ, MICHEL MALAGON , CRISTIAN RIVERA","NARIÑO","RICAURTE",{"$f":"+BASE_ANALISTA[[#This Row],[nombredelresponsable]]","v":"JULIO BOLIVAR "},"11001","76828"]
[891901296,"HOSPITAL SANTA LUCIA","ANALISTA CONCILIACIONES",3125547250,"JCRAMIREZ@FAMISANAR.COM.CO","JULIO BOLIVAR ","JUAN RAMIREZ, MICHEL MALAGON , CRISTIAN RIVERA","VALLE DEL CAUCA","EL DOVIO",{"$f":"+BASE_ANALISTA[[#This Row],[nombredelresponsable]]","v":"JULIO BOLIVAR "},"11001","73268"]
[900736567,"CLINICA DEL DOLOR REGION CARIBE S.A.S.","ANALISTA CONCILIACIONES",3125547250,"JCRAMIREZ@FAMISANAR.COM.CO","JULIO BOLIVAR ","JUAN RAMIREZ, MICHEL MALAGON , CRISTIAN RIVERA","ATLÁNTICO","BARRANQUILLA",{"$f":"+BASE_ANALISTA[[#This Row],[nombredelresponsable]]","v":"JULIO BOLIVAR "},"11001","52036"]
[892300179,"ESE HOSPITAL INMACULADA CONCEPCION","ANALISTA CONCILIACIONES",3125547250,"JCRAMIREZ@FAMISANAR.COM.CO","JULIO BOLIVAR ","JUAN RAMIREZ, MICHEL MALAGON , CRISTIAN RIVERA","CESAR","CHIMICHAGUA",{"$f":"+BASE_ANALISTA[[#This Row],[nombredelresponsable]]","v":"JULIO BOLIVAR "},"11001","76890"]
[807008842,"ESE HOSPITAL REGIONAL NOROCCIDENTAL","ANALISTA CONCILIACIONES",3125547250,"JCRAMIREZ@FAMISANAR.COM.CO","JULIO BOLIVAR ","JUAN RAMIREZ, MICHEL MALAGON , CRISTIAN RIVERA","NORTE DE SANTANDER","ABREGO",{"$f":"+BASE_ANALISTA[[#This Row],[nombredelresponsable]]","v":"JULIO BOLIVAR "},"11001","68001"]
[844002258,"SERVICIO CARDIOLOGICO DEL LLANO E.U - CAJICA","ANALISTA CONCILIACIONES",3125547250,"JCRAMIREZ@FAMISANAR.COM.CO","JULIO BOLIVAR ","JUAN RAMIREZ, MICHEL MALAGON , CRISTIAN RIVERA","CASANARE","YOPAL",{"$f":"+BASE_ANALISTA[[#This Row],[nombredelresponsable]]","v":"JULIO BOLIVAR "},"11001","08001"]
[822006051,"EMPRESA SOCIAL DEL ESTADO - RED DE SERVICIOS DE SALUD DE PRIMER NIVEL","ANALISTA CONCILIACIONES",3125547250,"JCRAMIREZ@FAMISANAR.COM.CO","JULIO BOLIVAR ","JUAN RAMIREZ, MICHEL MALAGON , CRISTIAN RIVERA","GUAVIARE","SAN JOSE DEL GUAVIARE",{"$f":"+BASE_ANALISTA[[#This Row],[nombredelresponsable]]","v":"JULIO BOLIVAR "},"11001","05059"]
[890205335,"Sanatorio de Contratación E.S.E.","ANALISTA CONCILIACIONES",3125547250,"JCRAMIREZ@FAMISANAR.COM.CO","JULIO BOLIVAR ","JUAN RAMIREZ, MICHEL MALAGON , CRISTIAN RIVERA","SANTANDER","CONTRATACION",{"$f":"+BASE_ANALISTA[[#This Row],[nombredelresponsable]]","v":"JULIO BOLIVAR "},"11001","13042"]
[800215758,"CLINICA SANTA CRUZ DE LA LOMA SA","ANALISTA CONCILIACIONES",3125547250,"JCRAMIREZ@FAMISANAR.COM.CO","JULIO BOLIVAR ","JUAN RAMIREZ, MICHEL MALAGON , CRISTIAN RIVERA","SANTANDER","SAN GIL",{"$f":"+BASE_ANALISTA[[#This Row],[nombredelresponsable]]","v":"JULIO BOLIVAR "},"11001","76126"]
[891103889,"E.S.E. HOSPITAL SANTA TERESA","ANALISTA CONCILIACIONES",3125547250,"JCRAMIREZ@FAMISANAR.COM.CO","JULIO BOLIVAR ","JUAN RAMIREZ, MICHEL MALAGON , CRISTIAN RIVERA","HUILA","TESALIA",{"$f":"+BASE_ANALISTA[[#This Row],[nombredelresponsable]]","v":"JULIO BOLIVAR "},"11001","47288"]
[804005182,"ESE CENTRO DE SALUD CAMILO RUEDA DE VILLANUEVA","ANALISTA CONCILIACIONES",3125547250,"JCRAMIREZ@FAMISANAR.COM.CO","JULIO BOLIVAR ","JUAN RAMIREZ, MICHEL MALAGON , CRISTIAN RIVERA","SANTANDER","VILLANUEVA",{"$f":"+BASE_ANALISTA[[#This Row],[nombredelresponsable]]","v":"JULIO BOLIVAR "},"11001","52051"]
[825003080,"UNIDAD DE CUIDADOS INTENSIVOS RENACER LTDA","ANALISTA CONCILIACIONES",3125547250,"JCRAMIREZ@FAMISANAR.COM.CO","JULIO BOLIVAR ","JUAN RAMIREZ, MICHEL MALAGON , CRISTIAN RIVERA","LA GUAJIRA","RIOHACHA",{"$f":"+BASE_ANALISTA[[#This Row],[nombredelresponsable]]","v":"JULIO BOLIVAR "},"11001","15001"]
[891300047,"Clinica Palmira s.a.","ANALISTA CONCILIACIONES",3125547250,"JCRAMIREZ@FAMISANAR.COM.CO","JULIO BOLIVAR ","JUAN RAMIREZ, MICHEL MALAGON , CRISTIAN RIVERA","VALLE DEL CAUCA","PALMIRA",{"$f":"+BASE_ANALISTA[[#This Row],[nombredelresponsable]]","v":"JULIO BOLIVAR "},"11001","68179"]
[810001159,"HOSPITAL SAN JOSE DE CALDAS","ANALISTA CONCILIACIONES",3125547250,"JCRAMIREZ@FAMISANAR.COM.CO","JULIO BOLIVAR ","JUAN RAMIREZ, MICHEL MALAGON , CRISTIAN RIVERA","CALDAS","SAN JOSÉ",{"$f":"+BASE_ANALISTA[[#This Row],[nombredelresponsable]]","v":"JULIO BOLIVAR "},"11001","15425"]
[820003360,"ESE CENTRO DE SALUD SAN JOSE DE PARE","ANALISTA CONCILIACIONES",3125547250,"JCRAMIREZ@FAMISANAR.COM.CO","JULIO BOLIVAR ","JUAN RAMIREZ, MICHEL MALAGON , CRISTIAN RIVERA","BOYACÁ","SAN JOSE DE PARE",{"$f":"+BASE_ANALISTA[[#This Row],[nombredelresponsable]]","v":"JULIO BOLIVAR "},"11001","18150"]
[826002660,"E.S.E CENTRO DE SALUD NUESTRA SEÑORA DE BELEN","ANALISTA CONCILIACIONES",3125547250,"JCRAMIREZ@FAMISANAR.COM.CO","JULIO BOLIVAR ","JUAN RAMIREZ, MICHEL MALAGON , CRISTIAN RIVERA","BOYACÁ","BELEN",{"$f":"+BASE_ANALISTA[[#This Row],[nombredelresponsable]]","v":"JULIO BOLIVAR "},"11001","15690"]
[837000286,"Hospital Guachucal","ANALISTA CONCILIACIONES",3125547250,"JCRAMIREZ@FAMISANAR.COM.CO","JULIO BOLIVAR ","JUAN RAMIREZ, MICHEL MALAGON , CRISTIAN RIVERA","NARIÑO","GUACHUCAL",{"$f":"+BASE_ANALISTA[[#This Row],[nombredelresponsable]]","v":"JULIO BOLIVAR "},"11001","52683"]
[890981848,"E.S.E. HOSPITAL SAN LUIS BELTRAN","ANALISTA CONCILIACIONES",3125547250,"JCRAMIREZ@FAMISANAR.COM.CO","JULIO BOLIVAR ","JUAN RAMIREZ, MICHEL MALAGON , CRISTIAN RIVERA","ANTIOQUIA","SAN JERÓNIMO",{"$f":"+BASE_ANALISTA[[#This Row],[nombredelresponsable]]","v":"JULIO BOLIVAR "},"11001","15808"]
[890700568,"HOSPITAL SAN RAFAEL","ANALISTA CONCILIACIONES",3125547250,"JCRAMIREZ@FAMISANAR.COM.CO","JULIO BOLIVAR ","JUAN RAMIREZ, MICHEL MALAGON , CRISTIAN RIVERA","TOLIMA ","DOLORES",{"$f":"+BASE_ANALISTA[[#This Row],[nombredelresponsable]]","v":"JULIO BOLIVAR "},"11001","08001"]
[832009187,"ESE CENTRO DE SALUD SAN JOSE NIMAIMA","ANALISTA CONCILIACIONES",3125547250,"JCRAMIREZ@FAMISANAR.COM.CO","JULIO BOLIVAR ","JUAN RAMIREZ, MICHEL MALAGON , CRISTIAN RIVERA","CUNDINAMARCA","NIMAIMA",{"$f":"+BASE_ANALISTA[[#This Row],[nombredelresponsable]]","v":"JULIO BOLIVAR "},"11001","08001"]
[891900414,"HOSPITAL SANTA ANA E.S.E","ANALISTA CONCILIACIONES",3125547250,"JCRAMIREZ@FAMISANAR.COM.CO","JULIO BOLIVAR ","JUAN RAMIREZ, MICHEL MALAGON , CRISTIAN RIVERA","VALLE DEL CAUCA","BOLIVAR",{"$f":"+BASE_ANALISTA[[#This Row],[nombredelresponsable]]","v":"JULIO BOLIVAR "},"11001","19622"]
[800160400,"Hospital Santa Margarita ESE","ANALISTA CONCILIACIONES",3125547250,"JCRAMIREZ@FAMISANAR.COM.CO","JULIO BOLIVAR ","JUAN RAMIREZ, MICHEL MALAGON , CRISTIAN RIVERA","VALLE DEL CAUCA","LA CUMBRE",{"$f":"+BASE_ANALISTA[[#This Row],[nombredelresponsable]]","v":"JULIO BOLIVAR "},"11001","25307"]
[814003370,"CENTRO HOSPITAL NUESTRO SEÑOR DE LA DIVINA MISERICORDIA PUERRES  E.S.E","ANALISTA CONCILIACIONES",3125547250,"JCRAMIREZ@FAMISANAR.COM.CO","JULIO BOLIVAR ","JUAN RAMIREZ, MICHEL MALAGON , CRISTIAN RIVERA","NARIÑO","PUERRES",{"$f":"+BASE_ANALISTA[[#This Row],[nombredelresponsable]]","v":"JULIO BOLIVAR "},"11001","19256"]
[891900441,"Hospital Departamental San Rafael","ANALISTA CONCILIACIONES",3125547250,"JCRAMIREZ@FAMISANAR.COM.CO","JULIO BOLIVAR ","JUAN RAMIREZ, MICHEL MALAGON , CRISTIAN RIVERA","VALLE DEL CAUCA","ZARZAL",{"$f":"+BASE_ANALISTA[[#This Row],[nombredelresponsable]]","v":"JULIO BOLIVAR "},"11001","68468"]
[891900343,"HOSPITAL DEPARTAMENTAL SAN ANTONIO E.S.E.","ANALISTA CONCILIACIONES",3125547250,"JCRAMIREZ@FAMISANAR.COM.CO","JULIO BOLIVAR ","JUAN RAMIREZ, MICHEL MALAGON , CRISTIAN RIVERA","VALLE DEL CAUCA","ROLDANILLO",{"$f":"+BASE_ANALISTA[[#This Row],[nombredelresponsable]]","v":"JULIO BOLIVAR "},"11001","76823"]
[890907297,"ESE HOSPITAL SAN JUAN DE DIOS DE CONCORDIA","ANALISTA CONCILIACIONES",3125547250,"JCRAMIREZ@FAMISANAR.COM.CO","JULIO BOLIVAR ","JUAN RAMIREZ, MICHEL MALAGON , CRISTIAN RIVERA","ANTIOQUIA","CONCORDIA",{"$f":"+BASE_ANALISTA[[#This Row],[nombredelresponsable]]","v":"JULIO BOLIVAR "},"11001","47001"]
[800130480,"CENTRO DE MEDICINA NUCLEAR DEL TOLIMA","ANALISTA CONCILIACIONES",3125547250,"JCRAMIREZ@FAMISANAR.COM.CO","JULIO BOLIVAR ","JUAN RAMIREZ, MICHEL MALAGON , CRISTIAN RIVERA","TOLIMA","IBAGUE",{"$f":"+BASE_ANALISTA[[#This Row],[nombredelresponsable]]","v":"JULIO BOLIVAR "},"11001","15001"]
[860352078,"CENTRO DE TERAPIA OCUPACIONAL LIMITADA","ANALISTA CONCILIACIONES",3125547250,"JCRAMIREZ@FAMISANAR.COM.CO","JULIO BOLIVAR ","JUAN RAMIREZ, MICHEL MALAGON , CRISTIAN RIVERA","CUNDINAMARCA","BOGOTÁ D.C",{"$f":"+BASE_ANALISTA[[#This Row],[nombredelresponsable]]","v":"JULIO BOLIVAR "},"11001","73001"]
[890204659,"ESE HOSPITAL SAN PEDRO CLAVER MOGOTES","ANALISTA CONCILIACIONES",3125547250,"JCRAMIREZ@FAMISANAR.COM.CO","JULIO BOLIVAR ","JUAN RAMIREZ, MICHEL MALAGON , CRISTIAN RIVERA","SANTANDER","MOGOTES",{"$f":"+BASE_ANALISTA[[#This Row],[nombredelresponsable]]","v":"JULIO BOLIVAR "},"11001","63548"]
[891409017,"Empresa Social del Estado Hospital SAn Vicente de Paul","ANALISTA CONCILIACIONES",3125547250,"JCRAMIREZ@FAMISANAR.COM.CO","JULIO BOLIVAR ","JUAN RAMIREZ, MICHEL MALAGON , CRISTIAN RIVERA","RISARALDA","APIA",{"$f":"+BASE_ANALISTA[[#This Row],[nombredelresponsable]]","v":"JULIO BOLIVAR "},"11001","41206"]
[809001159,"HOSPITAL RAMON MARIA ARANA","ANALISTA CONCILIACIONES",3125547250,"JCRAMIREZ@FAMISANAR.COM.CO","JULIO BOLIVAR ","JUAN RAMIREZ, MICHEL MALAGON , CRISTIAN RIVERA","TOLIMA ","MURILLO",{"$f":"+BASE_ANALISTA[[#This Row],[nombredelresponsable]]","v":"JULIO BOLIVAR "},"11001","68209"]
[900142446,"E.S.E. CENTRO DE SALUD LOS ANDES","ANALISTA CONCILIACIONES",3125547250,"JCRAMIREZ@FAMISANAR.COM.CO","JULIO BOLIVAR ","JUAN RAMIREZ, MICHEL MALAGON , CRISTIAN RIVERA","NARIÑO","LOS ANDES",{"$f":"+BASE_ANALISTA[[#This Row],[nombredelresponsable]]","v":"JULIO BOLIVAR "},"11001","76001"]
[830027158,"riesgo de fractura sa","ANALISTA CONCILIACIONES",3125547250,"JCRAMIREZ@FAMISANAR.COM.CO","JULIO BOLIVAR ","JUAN RAMIREZ, MICHEL MALAGON , CRISTIAN RIVERA","CUNDINAMARCA","BOGOTÁ D.C",{"$f":"+BASE_ANALISTA[[#This Row],[nombredelresponsable]]","v":"JULIO BOLIVAR "},"11001","50606"]
[900594442,"AMVIF-ASISTENCIA MEDICA VITAL EN FAMILIA IPS SAS","ANALISTA CONCILIACIONES",3125547250,"JCRAMIREZ@FAMISANAR.COM.CO","JULIO BOLIVAR ","JUAN RAMIREZ, MICHEL MALAGON , CRISTIAN RIVERA","ATLÁNTICO","BARRANQUILLA",{"$f":"+BASE_ANALISTA[[#This Row],[nombredelresponsable]]","v":"JULIO BOLIVAR "},"11001","08001"]
[807004393,"E.S.E HOSPITAL LOCAL DE LOS PATIOS","ANALISTA CONCILIACIONES",3125547250,"JCRAMIREZ@FAMISANAR.COM.CO","JULIO BOLIVAR ","JUAN RAMIREZ, MICHEL MALAGON , CRISTIAN RIVERA","NORTE DE SANTANDER","LOS PATIOS",{"$f":"+BASE_ANALISTA[[#This Row],[nombredelresponsable]]","v":"JULIO BOLIVAR "},"11001","13001"]
[800133887,"Empresa Social del Estado Hospital San Francisco de Asís","ANALISTA CONCILIACIONES",3125547250,"JCRAMIREZ@FAMISANAR.COM.CO","JULIO BOLIVAR ","JUAN RAMIREZ, MICHEL MALAGON , CRISTIAN RIVERA","CHOCÓ","QUIBDÓ",{"$f":"+BASE_ANALISTA[[#This Row],[nombredelresponsable]]","v":"JULIO BOLIVAR "},"11001","05059"]
[890801026,"HOSPITAL DEPARTAMENTAL FELIPE SUAREZ E.S.E","ANALISTA CONCILIACIONES",3125547250,"JCRAMIREZ@FAMISANAR.COM.CO","JULIO BOLIVAR ","JUAN RAMIREZ, MICHEL MALAGON , CRISTIAN RIVERA","CALDAS","SALAMINA",{"$f":"+BASE_ANALISTA[[#This Row],[nombredelresponsable]]","v":"JULIO BOLIVAR "},"11001","08001"]
[804015127,"ESE DE OCAMONTE-SANTANDER","ANALISTA CONCILIACIONES",3125547250,"JCRAMIREZ@FAMISANAR.COM.CO","JULIO BOLIVAR ","JUAN RAMIREZ, MICHEL MALAGON , CRISTIAN RIVERA","SANTANDER","BUCARAMANGA",{"$f":"+BASE_ANALISTA[[#This Row],[nombredelresponsable]]","v":"JULIO BOLIVAR "},"11001","76001"]
[813005295,"EMPRESA SOCIAL DEL ESTADO MUNICIPAL MANUEL CASTRO TOVAR","ANALISTA CONCILIACIONES",3125547250,"JCRAMIREZ@FAMISANAR.COM.CO","JULIO BOLIVAR ","JUAN RAMIREZ, MICHEL MALAGON , CRISTIAN RIVERA","HUILA","PITALITO",{"$f":"+BASE_ANALISTA[[#This Row],[nombredelresponsable]]","v":"JULIO BOLIVAR "},"11001","68001"]
[900335691,"COMPAÑIA OPERADORA CLINICA HISPANOAMERICA SAS","ANALISTA CONCILIACIONES",3125547250,"JCRAMIREZ@FAMISANAR.COM.CO","JULIO BOLIVAR ","JUAN RAMIREZ, MICHEL MALAGON , CRISTIAN RIVERA","NARIÑO","PASTO",{"$f":"+BASE_ANALISTA[[#This Row],[nombredelresponsable]]","v":"JULIO BOLIVAR "},"11001","44847"]
[837000974,"SOCIEDAD LAS LAJAS LTDA","ANALISTA CONCILIACIONES",3125547250,"JCRAMIREZ@FAMISANAR.COM.CO","JULIO BOLIVAR ","JUAN RAMIREZ, MICHEL MALAGON , CRISTIAN RIVERA","NARIÑO","IPIALES",{"$f":"+BASE_ANALISTA[[#This Row],[nombredelresponsable]]","v":"JULIO BOLIVAR "},"11001","25372"]
[900025999,"SINERMED U.T","ANALISTA CONCILIACIONES",3125547250,"JCRAMIREZ@FAMISANAR.COM.CO","JULIO BOLIVAR ","JUAN RAMIREZ, MICHEL MALAGON , CRISTIAN RIVERA","SANTANDER","BUCARAMANGA",{"$f":"+BASE_ANALISTA[[#This Row],[nombredelresponsable]]","v":"JULIO BOLIVAR "},"11001","68001"]
[824000469,"HOSPITAL EL SOCORRO ESE","ANALISTA CONCILIACIONES",3125547250,"JCRAMIREZ@FAMISANAR.COM.CO","JULIO BOLIVAR ","JUAN RAMIREZ, MICHEL MALAGON , CRISTIAN RIVERA","CESAR","SAN DIEGO",{"$f":"+BASE_ANALISTA[[#This Row],[nombredelresponsable]]","v":"JULIO BOLIVAR "},"11001","76001"]
[891500182,"Caja de Compensacion familiar del Cauca","ANALISTA CONCILIACIONES",3125547250,"JCRAMIREZ@FAMISANAR.COM.CO","JULIO BOLIVAR ","JUAN RAMIREZ, MICHEL MALAGON , CRISTIAN RIVERA","CAUCA","POPAYAN",{"$f":"+BASE_ANALISTA[[#This Row],[nombredelresponsable]]","v":"JULIO BOLIVAR "},"11001","52001"]
[800134339,"Hospital San Vicente de Paul Salento","ANALISTA CONCILIACIONES",3125547250,"JCRAMIREZ@FAMISANAR.COM.CO","JULIO BOLIVAR ","JUAN RAMIREZ, MICHEL MALAGON , CRISTIAN RIVERA","QUINDÍO","SALENTO",{"$f":"+BASE_ANALISTA[[#This Row],[nombredelresponsable]]","v":"JULIO BOLIVAR "},"11001","25645"]
[900007679,"CENTRO VISUAL MODERNO E.U.","ANALISTA CONCILIACIONES",3125547250,"JCRAMIREZ@FAMISANAR.COM.CO","JULIO BOLIVAR ","JUAN RAMIREZ, MICHEL MALAGON , CRISTIAN RIVERA","CALDAS","MANIZALES",{"$f":"+BASE_ANALISTA[[#This Row],[nombredelresponsable]]","v":"JULIO BOLIVAR "},"11001","08758"]
[835000972,"HOSPITAL LUIS ABLANQUE DE LA PLATA","ANALISTA CONCILIACIONES",3125547250,"JCRAMIREZ@FAMISANAR.COM.CO","JULIO BOLIVAR ","JUAN RAMIREZ, MICHEL MALAGON , CRISTIAN RIVERA","VALLE DEL CAUCA","BUENAVENTURA",{"$f":"+BASE_ANALISTA[[#This Row],[nombredelresponsable]]","v":"JULIO BOLIVAR "},"11001","08001"]
[891401308,"ESE Hospital Nazareth","ANALISTA CONCILIACIONES",3125547250,"JCRAMIREZ@FAMISANAR.COM.CO","JULIO BOLIVAR ","JUAN RAMIREZ, MICHEL MALAGON , CRISTIAN RIVERA","RISARALDA","QUINCHÍA",{"$f":"+BASE_ANALISTA[[#This Row],[nombredelresponsable]]","v":"JULIO BOLIVAR "},"11001","85001"]
[824004729,"Centro de Investigaciones Microbiológicas del Cesar","ANALISTA CONCILIACIONES",3125547250,"JCRAMIREZ@FAMISANAR.COM.CO","JULIO BOLIVAR ","JUAN RAMIREZ, MICHEL MALAGON , CRISTIAN RIVERA","CESAR","VALLEDUPAR",{"$f":"+BASE_ANALISTA[[#This Row],[nombredelresponsable]]","v":"JULIO BOLIVAR "},"11001","15109"]
[900460322,"NUEVA CLINICA COROZAL S.A.S.","ANALISTA CONCILIACIONES",3125547250,"JCRAMIREZ@FAMISANAR.COM.CO","JULIO BOLIVAR ","JUAN RAMIREZ, MICHEL MALAGON , CRISTIAN RIVERA","SUCRE","COROZAL",{"$f":"+BASE_ANALISTA[[#This Row],[nombredelresponsable]]","v":"JULIO BOLIVAR "},"11001","08078"]
[800228215,"CENTRO DE ALTA TECNOLOGIA DIAGNOSTICA DEL EJE CAFETERO","ANALISTA CONCILIACIONES",3125547250,"JCRAMIREZ@FAMISANAR.COM.CO","JULIO BOLIVAR ","JUAN RAMIREZ, MICHEL MALAGON , CRISTIAN RIVERA","RISARALDA","PEREIRA",{"$f":"+BASE_ANALISTA[[#This Row],[nombredelresponsable]]","v":"JULIO BOLIVAR "},"11001","08001"]
[839000145,"ASOCIACION DE CABILDOS Y O AUTORIDADES TRADICIONALES DE LA GUAJIRA  ASOCABILDOS IPSI","ANALISTA CONCILIACIONES",3125547250,"JCRAMIREZ@FAMISANAR.COM.CO","JULIO BOLIVAR ","JUAN RAMIREZ, MICHEL MALAGON , CRISTIAN RIVERA","LA GUAJIRA","MAICAO",{"$f":"+BASE_ANALISTA[[#This Row],[nombredelresponsable]]","v":"JULIO BOLIVAR "},"11001","08001"]
[821000831,"ESE HOSPITAL RUBEN CRUZ VELEZ","ANALISTA CONCILIACIONES",3125547250,"JCRAMIREZ@FAMISANAR.COM.CO","JULIO BOLIVAR ","JUAN RAMIREZ, MICHEL MALAGON , CRISTIAN RIVERA","VALLE DEL CAUCA","TULUA",{"$f":"+BASE_ANALISTA[[#This Row],[nombredelresponsable]]","v":"JULIO BOLIVAR "},"11001","68500"]
[800218979,"Hospital San Vicente de Arauca","ANALISTA CONCILIACIONES",3125547250,"JCRAMIREZ@FAMISANAR.COM.CO","JULIO BOLIVAR ","JUAN RAMIREZ, MICHEL MALAGON , CRISTIAN RIVERA","ARAUCA","ARAUCA",{"$f":"+BASE_ANALISTA[[#This Row],[nombredelresponsable]]","v":"JULIO BOLIVAR "},"11001","68780"]
[891380103,"HOSPITAL SAN RAFAEL EMPRESA SOCIAL DEL ESTADO","ANALISTA CONCILIACIONES",3125547250,"JCRAMIREZ@FAMISANAR.COM.CO","JULIO BOLIVAR ","JUAN RAMIREZ, MICHEL MALAGON , CRISTIAN RIVERA","VALLE DEL CAUCA","CALI",{"$f":"+BASE_ANALISTA[[#This Row],[nombredelresponsable]]","v":"JULIO BOLIVAR "},"11001","68276"]
[900128655,"CENTRO DE SALUD FUNES EMPRESA SOCIAL DEL ESTADO","ANALISTA CONCILIACIONES",3125547250,"JCRAMIREZ@FAMISANAR.COM.CO","JULIO BOLIVAR ","JUAN RAMIREZ, MICHEL MALAGON , CRISTIAN RIVERA","NARIÑO","FUNES",{"$f":"+BASE_ANALISTA[[#This Row],[nombredelresponsable]]","v":"JULIO BOLIVAR "},"11001","68425"]
[900056175,"CENTRO MEDICO GUAYACANES IPS SAS","ANALISTA CONCILIACIONES",3125547250,"JCRAMIREZ@FAMISANAR.COM.CO","JULIO BOLIVAR ","JUAN RAMIREZ, MICHEL MALAGON , CRISTIAN RIVERA","CALDAS","MANIZALES",{"$f":"+BASE_ANALISTA[[#This Row],[nombredelresponsable]]","v":"JULIO BOLIVAR "},"11001","05679"]
[891301447,"HOSPITAL ULPIANO TASCON QUINTERO E.S.E.","ANALISTA CONCILIACIONES",3125547250,"JCRAMIREZ@FAMISANAR.COM.CO","JULIO BOLIVAR ","JUAN RAMIREZ, MICHEL MALAGON , CRISTIAN RIVERA","VALLE DEL CAUCA","SAN PEDRO",{"$f":"+BASE_ANALISTA[[#This Row],[nombredelresponsable]]","v":"JULIO BOLIVAR "},"11001","68271"]
[813003431,"ESE HOSPITAL LAURA PERDOMO DE GARCIA","ANALISTA CONCILIACIONES",3125547250,"JCRAMIREZ@FAMISANAR.COM.CO","JULIO BOLIVAR ","JUAN RAMIREZ, MICHEL MALAGON , CRISTIAN RIVERA","HUILA","YAGUARA",{"$f":"+BASE_ANALISTA[[#This Row],[nombredelresponsable]]","v":"JULIO BOLIVAR "},"11001","70670"]
[900071201,"KINETIKA REHABILITACION DEL MOVIMIENTO","ANALISTA CONCILIACIONES",3125547250,"JCRAMIREZ@FAMISANAR.COM.CO","JULIO BOLIVAR ","JUAN RAMIREZ, MICHEL MALAGON , CRISTIAN RIVERA","RISARALDA","PEREIRA",{"$f":"+BASE_ANALISTA[[#This Row],[nombredelresponsable]]","v":"JULIO BOLIVAR "},"11001","68755"]
[890985092,"ESE Hospital San Vicente de Paul","ANALISTA CONCILIACIONES",3125547250,"JCRAMIREZ@FAMISANAR.COM.CO","JULIO BOLIVAR ","JUAN RAMIREZ, MICHEL MALAGON , CRISTIAN RIVERA","ANTIOQUIA","REMEDIOS",{"$f":"+BASE_ANALISTA[[#This Row],[nombredelresponsable]]","v":"JULIO BOLIVAR "},"11001","68001"]
[891408747,"ESE Hospital San Jose Marsella","ANALISTA CONCILIACIONES",3125547250,"JCRAMIREZ@FAMISANAR.COM.CO","JULIO BOLIVAR ","JUAN RAMIREZ, MICHEL MALAGON , CRISTIAN RIVERA","RISARALDA","MARSELLA",{"$f":"+BASE_ANALISTA[[#This Row],[nombredelresponsable]]","v":"JULIO BOLIVAR "},"11001","68001"]
[804013228,"ESE HOSPITAL SAN ANTONIO DEL CERRITO","ANALISTA CONCILIACIONES",3125547250,"JCRAMIREZ@FAMISANAR.COM.CO","JULIO BOLIVAR ","JUAN RAMIREZ, MICHEL MALAGON , CRISTIAN RIVERA","SANTANDER","CERRITO",{"$f":"+BASE_ANALISTA[[#This Row],[nombredelresponsable]]","v":"JULIO BOLIVAR "},"11001","76001"]
[891901041,"HOSPITAL LOCAL DE OBANDO","ANALISTA CONCILIACIONES",3125547250,"JCRAMIREZ@FAMISANAR.COM.CO","JULIO BOLIVAR ","JUAN RAMIREZ, MICHEL MALAGON , CRISTIAN RIVERA","VALLE DEL CAUCA","OBANDO",{"$f":"+BASE_ANALISTA[[#This Row],[nombredelresponsable]]","v":"JULIO BOLIVAR "},"11001","76001"]
[802013835,"CLINICA ATENAS LTDA.","ANALISTA CONCILIACIONES",3125547250,"JCRAMIREZ@FAMISANAR.COM.CO","JULIO BOLIVAR ","JUAN RAMIREZ, MICHEL MALAGON , CRISTIAN RIVERA","ATLÁNTICO","BARRANQUILLA",{"$f":"+BASE_ANALISTA[[#This Row],[nombredelresponsable]]","v":"JULIO BOLIVAR "},"11001","13074"]
[800225057,"DIAGNOSTICO Y ASISTENCIA MEDICA S.A.  DINAMICA IPS","ANALISTA CONCILIACIONES",3125547250,"JCRAMIREZ@FAMISANAR.COM.CO","JULIO BOLIVAR ","JUAN RAMIREZ, MICHEL MALAGON , CRISTIAN RIVERA","ANTIOQUIA","MEDELLÍN",{"$f":"+BASE_ANALISTA[[#This Row],[nombredelresponsable]]","v":"JULIO BOLIVAR "},"11001","13473"]
[890981374,"FUNDACION INSTITUTO NEUROLOGICO DE COLOMBIA - INDEC","ANALISTA CONCILIACIONES",3125547250,"JCRAMIREZ@FAMISANAR.COM.CO","JULIO BOLIVAR ","JUAN RAMIREZ, MICHEL MALAGON , CRISTIAN RIVERA","ANTIOQUIA","MEDELLIN",{"$f":"+BASE_ANALISTA[[#This Row],[nombredelresponsable]]","v":"JULIO BOLIVAR "},"11001","13654"]
[900665930,"IPS PREVIMEDISALUD S.A.S.","ANALISTA CONCILIACIONES",3125547250,"JCRAMIREZ@FAMISANAR.COM.CO","JULIO BOLIVAR ","JUAN RAMIREZ, MICHEL MALAGON , CRISTIAN RIVERA","ATLÁNTICO","BARRANQUILLA",{"$f":"+BASE_ANALISTA[[#This Row],[nombredelresponsable]]","v":"JULIO BOLIVAR "},"11001","13001"]
[900769127,"MISION SALUD Y BIENESTAR S A S","ANALISTA CONCILIACIONES",3125547250,"JCRAMIREZ@FAMISANAR.COM.CO","JULIO BOLIVAR ","JUAN RAMIREZ, MICHEL MALAGON , CRISTIAN RIVERA","CUNDINAMARCA","CAJICA",{"$f":"+BASE_ANALISTA[[#This Row],[nombredelresponsable]]","v":"JULIO BOLIVAR "},"11001","73001"]
[800025221,"HOSPITAL SAN ISIDRO","ANALISTA CONCILIACIONES",3125547250,"JCRAMIREZ@FAMISANAR.COM.CO","JULIO BOLIVAR ","JUAN RAMIREZ, MICHEL MALAGON , CRISTIAN RIVERA","TOLIMA ","ALPUJARRA",{"$f":"+BASE_ANALISTA[[#This Row],[nombredelresponsable]]","v":"JULIO BOLIVAR "},"11001","41006"]
[814002021,"CENTRO HOSPITAL GUAITARILLA E.S.E.","ANALISTA CONCILIACIONES",3125547250,"JCRAMIREZ@FAMISANAR.COM.CO","JULIO BOLIVAR ","JUAN RAMIREZ, MICHEL MALAGON , CRISTIAN RIVERA","NARIÑO","GUAITARILLA",{"$f":"+BASE_ANALISTA[[#This Row],[nombredelresponsable]]","v":"JULIO BOLIVAR "},"11001","41001"]
[891103968,"ESE HOSPITAL MARIA AUXILIADORA DE IQUIRA","ANALISTA CONCILIACIONES",3125547250,"JCRAMIREZ@FAMISANAR.COM.CO","JULIO BOLIVAR ","JUAN RAMIREZ, MICHEL MALAGON , CRISTIAN RIVERA","HUILA","IQUIRA",{"$f":"+BASE_ANALISTA[[#This Row],[nombredelresponsable]]","v":"JULIO BOLIVAR "},"11001","17524"]
[890907279,"E.S.E HOSPITAL SAN JUAN DE DIOS EL CARMEN DE VIBORAL","ANALISTA CONCILIACIONES",3125547250,"JCRAMIREZ@FAMISANAR.COM.CO","JULIO BOLIVAR ","JUAN RAMIREZ, MICHEL MALAGON , CRISTIAN RIVERA","ANTIOQUIA","EL CARMEN DE VIBORAL",{"$f":"+BASE_ANALISTA[[#This Row],[nombredelresponsable]]","v":"JULIO BOLIVAR "},"11001","52227"]
[900470642,"MEDICAL DUARTE ZF SAS","ANALISTA CONCILIACIONES",3125547250,"JCRAMIREZ@FAMISANAR.COM.CO","JULIO BOLIVAR ","JUAN RAMIREZ, MICHEL MALAGON , CRISTIAN RIVERA","NORTE DE SANTANDER","CUCUTA",{"$f":"+BASE_ANALISTA[[#This Row],[nombredelresponsable]]","v":"JULIO BOLIVAR "},"11001","52001"]
[891200543,"HOSPITAL SAN CARLOS E.S.E. - NARIÑO","ANALISTA CONCILIACIONES",3125547250,"JCRAMIREZ@FAMISANAR.COM.CO","JULIO BOLIVAR ","JUAN RAMIREZ, MICHEL MALAGON , CRISTIAN RIVERA","NARIÑO","SAN PABLO",{"$f":"+BASE_ANALISTA[[#This Row],[nombredelresponsable]]","v":"JULIO BOLIVAR "},"11001","52001"]
[824000785,"HOSPITAL LOCAL DE AGUACHICA","ANALISTA CONCILIACIONES",3125547250,"JCRAMIREZ@FAMISANAR.COM.CO","JULIO BOLIVAR ","JUAN RAMIREZ, MICHEL MALAGON , CRISTIAN RIVERA","CESAR","AGUACHICA",{"$f":"+BASE_ANALISTA[[#This Row],[nombredelresponsable]]","v":"JULIO BOLIVAR "},"11001","52224"]
[891680047,"ESE HOPSITAL DEPARTAMENTAL SAN FRANCISCO DE ASIS DE QUIBDO","ANALISTA CONCILIACIONES",3125547250,"JCRAMIREZ@FAMISANAR.COM.CO","JULIO BOLIVAR ","JUAN RAMIREZ, MICHEL MALAGON , CRISTIAN RIVERA","CHOCÓ","QUIBDÓ",{"$f":"+BASE_ANALISTA[[#This Row],[nombredelresponsable]]","v":"JULIO BOLIVAR "},"11001","76111"]
[900135550,"MEDICAL GARE GLOBAL LTDA","ANALISTA CONCILIACIONES",3125547250,"JCRAMIREZ@FAMISANAR.COM.CO","JULIO BOLIVAR ","JUAN RAMIREZ, MICHEL MALAGON , CRISTIAN RIVERA","ATLÁNTICO","BARRANQUILLA",{"$f":"+BASE_ANALISTA[[#This Row],[nombredelresponsable]]","v":"JULIO BOLIVAR "},"11001","19001"]
[891180159,"EMPRESA SOCIAL DEL ESTADO HOSPITAL TULIA DURAN DE BORRERO","ANALISTA CONCILIACIONES",3125547250,"JCRAMIREZ@FAMISANAR.COM.CO","JULIO BOLIVAR ","JUAN RAMIREZ, MICHEL MALAGON , CRISTIAN RIVERA","HUILA","BARAYA",{"$f":"+BASE_ANALISTA[[#This Row],[nombredelresponsable]]","v":"JULIO BOLIVAR "},"11001","47707"]
[824000441,"HOSPITAL ALVARO RAMIREZ GONZALEZ","ANALISTA CONCILIACIONES",3125547250,"JCRAMIREZ@FAMISANAR.COM.CO","JULIO BOLIVAR ","JUAN RAMIREZ, MICHEL MALAGON , CRISTIAN RIVERA","CESAR","SAN MARTIN",{"$f":"+BASE_ANALISTA[[#This Row],[nombredelresponsable]]","v":"JULIO BOLIVAR "},"11001","47001"]
[890980765,"HOSPITAL SAN RAFAEL DE JERICO","ANALISTA CONCILIACIONES",3125547250,"JCRAMIREZ@FAMISANAR.COM.CO","JULIO BOLIVAR ","JUAN RAMIREZ, MICHEL MALAGON , CRISTIAN RIVERA","ANTIOQUIA","JERICO",{"$f":"+BASE_ANALISTA[[#This Row],[nombredelresponsable]]","v":"JULIO BOLIVAR "},"11001","47001"]
[813011566,"E.S.E. HOSPITAL PERPETUO SOCORRO","ANALISTA CONCILIACIONES",3125547250,"JCRAMIREZ@FAMISANAR.COM.CO","JULIO BOLIVAR ","JUAN RAMIREZ, MICHEL MALAGON , CRISTIAN RIVERA","HUILA","VILLAVIEJA",{"$f":"+BASE_ANALISTA[[#This Row],[nombredelresponsable]]","v":"JULIO BOLIVAR "},"11001","15001"]
[890500516,"COMFANORTE - CAJA DE COMPENSACION FAMILIAR DE NORTE DE SANTANDER","ANALISTA CONCILIACIONES",3125547250,"JCRAMIREZ@FAMISANAR.COM.CO","JULIO BOLIVAR ","JUAN RAMIREZ, MICHEL MALAGON , CRISTIAN RIVERA","NORTE DE SANTANDER","CÚCUTA",{"$f":"+BASE_ANALISTA[[#This Row],[nombredelresponsable]]","v":"JULIO BOLIVAR "},"11001","15761"]
[890984779,"ESE PRESBITERO EMIGDIO PALACIO","ANALISTA CONCILIACIONES",3125547250,"JCRAMIREZ@FAMISANAR.COM.CO","JULIO BOLIVAR ","JUAN RAMIREZ, MICHEL MALAGON , CRISTIAN RIVERA","ANTIOQUIA","ENTRERRIOS",{"$f":"+BASE_ANALISTA[[#This Row],[nombredelresponsable]]","v":"JULIO BOLIVAR "},"11001","15001"]
[812007194,"ONCOMEDICA SA","ANALISTA CONCILIACIONES",3125547250,"JCRAMIREZ@FAMISANAR.COM.CO","JULIO BOLIVAR ","JUAN RAMIREZ, MICHEL MALAGON , CRISTIAN RIVERA","CÓRDOBA","MONTERÍA",{"$f":"+BASE_ANALISTA[[#This Row],[nombredelresponsable]]","v":"JULIO BOLIVAR "},"11001","15531"]
[890312380,"E.S.E. HOSPITAL SAN JORGE","ANALISTA CONCILIACIONES",3125547250,"JCRAMIREZ@FAMISANAR.COM.CO","JULIO BOLIVAR ","JUAN RAMIREZ, MICHEL MALAGON , CRISTIAN RIVERA","VALLE DEL CAUCA","CALIMA",{"$f":"+BASE_ANALISTA[[#This Row],[nombredelresponsable]]","v":"JULIO BOLIVAR "},"11001","15572"]
[900614113,"VITALMEDIC & ASOCIADOS S.A.S.","ANALISTA CONCILIACIONES",3125547250,"JCRAMIREZ@FAMISANAR.COM.CO","JULIO BOLIVAR ","JUAN RAMIREZ, MICHEL MALAGON , CRISTIAN RIVERA","SANTANDER","BUCARAMANGA",{"$f":"+BASE_ANALISTA[[#This Row],[nombredelresponsable]]","v":"JULIO BOLIVAR "},"11001","15763"]
[800074996,"CLINICA DE CIRUGIA OCULAR LTDA","ANALISTA CONCILIACIONES",3125547250,"JCRAMIREZ@FAMISANAR.COM.CO","JULIO BOLIVAR ","JUAN RAMIREZ, MICHEL MALAGON , CRISTIAN RIVERA","META","VILLAVICENCIO",{"$f":"+BASE_ANALISTA[[#This Row],[nombredelresponsable]]","v":"JULIO BOLIVAR "},"11001","05107"]
[900319016,"CLINICA ODONTOLOGICA BOKAS S.A.","ANALISTA CONCILIACIONES",3125547250,"JCRAMIREZ@FAMISANAR.COM.CO","JULIO BOLIVAR ","JUAN RAMIREZ, MICHEL MALAGON , CRISTIAN RIVERA","CUNDINAMARCA","GIRARDOT",{"$f":"+BASE_ANALISTA[[#This Row],[nombredelresponsable]]","v":"JULIO BOLIVAR "},"11001","15832"]
[813002933,"ESE HOSPITAL DIVINO NIÑO","ANALISTA CONCILIACIONES",3125547250,"JCRAMIREZ@FAMISANAR.COM.CO","JULIO BOLIVAR ","JUAN RAMIREZ, MICHEL MALAGON , CRISTIAN RIVERA","HUILA","RIVERA",{"$f":"+BASE_ANALISTA[[#This Row],[nombredelresponsable]]","v":"JULIO BOLIVAR "},"11001","15104"]
[900699086,"Sociedad Operadora Clinica Palma Real S.A.S.","ANALISTA CONCILIACIONES",3125547250,"JCRAMIREZ@FAMISANAR.COM.CO","JULIO BOLIVAR ","JUAN RAMIREZ, MICHEL MALAGON , CRISTIAN RIVERA","VALLE DEL CAUCA","PALMIRA",{"$f":"+BASE_ANALISTA[[#This Row],[nombredelresponsable]]","v":"JULIO BOLIVAR "},"11001","15001"]
[900146012,"EMPRESA SOCIAL DEL ESTADO GUAPI ESE","ANALISTA CONCILIACIONES",3125547250,"JCRAMIREZ@FAMISANAR.COM.CO","JULIO BOLIVAR ","JUAN RAMIREZ, MICHEL MALAGON , CRISTIAN RIVERA","CAUCA","GUAPI",{"$f":"+BASE_ANALISTA[[#This Row],[nombredelresponsable]]","v":"JULIO BOLIVAR "},"11001","05400"]
[812001792,"E.S.E CAMU DE PURISIMA","ANALISTA CONCILIACIONES",3125547250,"JCRAMIREZ@FAMISANAR.COM.CO","JULIO BOLIVAR ","JUAN RAMIREZ, MICHEL MALAGON , CRISTIAN RIVERA","CÓRDOBA","PURISIMA",{"$f":"+BASE_ANALISTA[[#This Row],[nombredelresponsable]]","v":"JULIO BOLIVAR "},"11001","50001"]
[811017810,"ESE HOSPITAL DEL SUR GABRIEL JARAMILLO PIEDRAHITA","ANALISTA CONCILIACIONES",3125547250,"JCRAMIREZ@FAMISANAR.COM.CO","JULIO BOLIVAR ","JUAN RAMIREZ, MICHEL MALAGON , CRISTIAN RIVERA","ANTIOQUIA","ITAGUI",{"$f":"+BASE_ANALISTA[[#This Row],[nombredelresponsable]]","v":"JULIO BOLIVAR "},"11001","70508"]
[891900650,"hospital san bernabe","ANALISTA CONCILIACIONES",3125547250,"JCRAMIREZ@FAMISANAR.COM.CO","JULIO BOLIVAR ","JUAN RAMIREZ, MICHEL MALAGON , CRISTIAN RIVERA","VALLE DEL CAUCA","BUGALAGRANDE",{"$f":"+BASE_ANALISTA[[#This Row],[nombredelresponsable]]","v":"JULIO BOLIVAR "},"11001","70001"]
[891900481,"ESE HOSPITAL NUESTRA SEÑORA DE LOS SANTOS","ANALISTA CONCILIACIONES",3125547250,"JCRAMIREZ@FAMISANAR.COM.CO","JULIO BOLIVAR ","JUAN RAMIREZ, MICHEL MALAGON , CRISTIAN RIVERA","VALLE DEL CAUCA","LA VICTORIA",{"$f":"+BASE_ANALISTA[[#This Row],[nombredelresponsable]]","v":"JULIO BOLIVAR "},"11001","70429"]
[805017681,"GAMANUCLEAR LTDA","ANALISTA CONCILIACIONES",3125547250,"JCRAMIREZ@FAMISANAR.COM.CO","JULIO BOLIVAR ","JUAN RAMIREZ, MICHEL MALAGON , CRISTIAN RIVERA","VALLE DEL CAUCA","CALI",{"$f":"+BASE_ANALISTA[[#This Row],[nombredelresponsable]]","v":"JULIO BOLIVAR "},"11001","70473"]
[891410661,"ESE HOSPITAL SANTA ANA","ANALISTA CONCILIACIONES",3125547250,"JCRAMIREZ@FAMISANAR.COM.CO","JULIO BOLIVAR ","JUAN RAMIREZ, MICHEL MALAGON , CRISTIAN RIVERA","RISARALDA","GUÁTICA",{"$f":"+BASE_ANALISTA[[#This Row],[nombredelresponsable]]","v":"JULIO BOLIVAR "},"11001","70001"]
[900322910,"UNIDAD OTOACUSTICA DEL CARIBE S.A.S","ANALISTA CONCILIACIONES",3125547250,"JCRAMIREZ@FAMISANAR.COM.CO","JULIO BOLIVAR ","JUAN RAMIREZ, MICHEL MALAGON , CRISTIAN RIVERA","MAGDALENA","SANTA MARTA",{"$f":"+BASE_ANALISTA[[#This Row],[nombredelresponsable]]","v":"JULIO BOLIVAR "},"11001","20032"]
[890202066,"ESE HOSPITAL INTEGRADO SAN ROQUE DE CURITI","ANALISTA CONCILIACIONES",3125547250,"JCRAMIREZ@FAMISANAR.COM.CO","JULIO BOLIVAR ","JUAN RAMIREZ, MICHEL MALAGON , CRISTIAN RIVERA","SANTANDER","CURITI",{"$f":"+BASE_ANALISTA[[#This Row],[nombredelresponsable]]","v":"JULIO BOLIVAR "},"11001","20310"]
[890985660,"E.S.E HOSPITAL OSCAR EMIRO VERGARA CRUZ","ANALISTA CONCILIACIONES",3125547250,"JCRAMIREZ@FAMISANAR.COM.CO","JULIO BOLIVAR ","JUAN RAMIREZ, MICHEL MALAGON , CRISTIAN RIVERA","ANTIOQUIA","SAN PEDRO DE URABA",{"$f":"+BASE_ANALISTA[[#This Row],[nombredelresponsable]]","v":"JULIO BOLIVAR "},"11001","20001"]
[800230659,"PORSALUD LTDA","ANALISTA CONCILIACIONES",3125547250,"JCRAMIREZ@FAMISANAR.COM.CO","JULIO BOLIVAR ","JUAN RAMIREZ, MICHEL MALAGON , CRISTIAN RIVERA","CUNDINAMARCA","BOGOTÁ D.C",{"$f":"+BASE_ANALISTA[[#This Row],[nombredelresponsable]]","v":"JULIO BOLIVAR "},"11001","20001"]
[836000386,"IPS DEL MUNICIPIO DE CARTAGO","ANALISTA CONCILIACIONES",3125547250,"JCRAMIREZ@FAMISANAR.COM.CO","JULIO BOLIVAR ","JUAN RAMIREZ, MICHEL MALAGON , CRISTIAN RIVERA","VALLE DEL CAUCA","CARTAGO",{"$f":"+BASE_ANALISTA[[#This Row],[nombredelresponsable]]","v":"JULIO BOLIVAR "},"11001","15223"]
[820003638,"E.S.E. CENTRO DE SALUD SAN ANTONIO DE PADUA","ANALISTA CONCILIACIONES",3125547250,"JCRAMIREZ@FAMISANAR.COM.CO","JULIO BOLIVAR ","JUAN RAMIREZ, MICHEL MALAGON , CRISTIAN RIVERA","BOYACÁ","TUNJA",{"$f":"+BASE_ANALISTA[[#This Row],[nombredelresponsable]]","v":"JULIO BOLIVAR "},"11001","15537"]
[890480363,"CORPORACION DE SERVICIOS ASISTENCIALES DE LA DIOCESIS DE MAGANGUE","ANALISTA CONCILIACIONES",3125547250,"JCRAMIREZ@FAMISANAR.COM.CO","JULIO BOLIVAR ","JUAN RAMIREZ, MICHEL MALAGON , CRISTIAN RIVERA","BOLIVAR","MAGANGUÉ",{"$f":"+BASE_ANALISTA[[#This Row],[nombredelresponsable]]","v":"JULIO BOLIVAR "},"11001","15806"]
[900229664,"ODONSERVIS EU","ANALISTA CONCILIACIONES",3125547250,"JCRAMIREZ@FAMISANAR.COM.CO","JULIO BOLIVAR ","JUAN RAMIREZ, MICHEL MALAGON , CRISTIAN RIVERA","CESAR","VALLEDUPAR",{"$f":"+BASE_ANALISTA[[#This Row],[nombredelresponsable]]","v":"JULIO BOLIVAR "},"11001","18001"]
[892300343,"HOSPITAL SAN JOSE E.S.E - LA GLORIA","ANALISTA CONCILIACIONES",3125547250,"JCRAMIREZ@FAMISANAR.COM.CO","JULIO BOLIVAR ","JUAN RAMIREZ, MICHEL MALAGON , CRISTIAN RIVERA","CESAR","LA GLORIA",{"$f":"+BASE_ANALISTA[[#This Row],[nombredelresponsable]]","v":"JULIO BOLIVAR "},"11001","13670"]
[890307040,"HOSPITAL LOCAL DE VIJES ESE","ANALISTA CONCILIACIONES",3125547250,"JCRAMIREZ@FAMISANAR.COM.CO","JULIO BOLIVAR ","JUAN RAMIREZ, MICHEL MALAGON , CRISTIAN RIVERA","VALLE DEL CAUCA","VIJES",{"$f":"+BASE_ANALISTA[[#This Row],[nombredelresponsable]]","v":"JULIO BOLIVAR "},"11001","13001"]
[802021332,"CLINICA CENTRO S.A","ANALISTA CONCILIACIONES",3125547250,"JCRAMIREZ@FAMISANAR.COM.CO","JULIO BOLIVAR ","JUAN RAMIREZ, MICHEL MALAGON , CRISTIAN RIVERA","ATLÁNTICO","BARRANQUILLA",{"$f":"+BASE_ANALISTA[[#This Row],[nombredelresponsable]]","v":"JULIO BOLIVAR "},"11001","15001"]
[806007809,"ESE HOSPITAL LOCAL MANUELA PABUENA LOBO","ANALISTA CONCILIACIONES",3125547250,"JCRAMIREZ@FAMISANAR.COM.CO","JULIO BOLIVAR ","JUAN RAMIREZ, MICHEL MALAGON , CRISTIAN RIVERA","BOLIVAR","ARENAL",{"$f":"+BASE_ANALISTA[[#This Row],[nombredelresponsable]]","v":"JULIO BOLIVAR "},"11001","25430"]
[820002916,"E.S.E. CENTRO DE SALUD EDGAR ALONSO PULIDO SOLANO","ANALISTA CONCILIACIONES",3125547250,"JCRAMIREZ@FAMISANAR.COM.CO","JULIO BOLIVAR ","JUAN RAMIREZ, MICHEL MALAGON , CRISTIAN RIVERA","BOYACÁ","PAUNA",{"$f":"+BASE_ANALISTA[[#This Row],[nombredelresponsable]]","v":"JULIO BOLIVAR "},"11001","68167"]
[810001392,"E.S.E. HOSPITAL SAN ANTONIO","ANALISTA CONCILIACIONES",3125547250,"JCRAMIREZ@FAMISANAR.COM.CO","JULIO BOLIVAR ","JUAN RAMIREZ, MICHEL MALAGON , CRISTIAN RIVERA","CALDAS","MARMATO",{"$f":"+BASE_ANALISTA[[#This Row],[nombredelresponsable]]","v":"JULIO BOLIVAR "},"11001","52001"]
[900000410,"CENTRO DE SALUD ANCUYA E.S.E.","ANALISTA CONCILIACIONES",3125547250,"JCRAMIREZ@FAMISANAR.COM.CO","JULIO BOLIVAR ","JUAN RAMIREZ, MICHEL MALAGON , CRISTIAN RIVERA","NARIÑO","ANCUYA",{"$f":"+BASE_ANALISTA[[#This Row],[nombredelresponsable]]","v":"JULIO BOLIVAR "},"11001","08001"]
[891982129,"EMPRESA SOCIAL DEL ESTADO SAN JUAN DE DIOS VALDIVIA","ANALISTA CONCILIACIONES",3125547250,"JCRAMIREZ@FAMISANAR.COM.CO","JULIO BOLIVAR ","JUAN RAMIREZ, MICHEL MALAGON , CRISTIAN RIVERA","ANTIOQUIA","VALDIVIA",{"$f":"+BASE_ANALISTA[[#This Row],[nombredelresponsable]]","v":"JULIO BOLIVAR "},"11001","85410"]
[890309115,"ESE HOSPITAL LOCAL YOTOCO","ANALISTA CONCILIACIONES",3125547250,"JCRAMIREZ@FAMISANAR.COM.CO","JULIO BOLIVAR ","JUAN RAMIREZ, MICHEL MALAGON , CRISTIAN RIVERA","VALLE DEL CAUCA","YOTOCO",{"$f":"+BASE_ANALISTA[[#This Row],[nombredelresponsable]]","v":"JULIO BOLIVAR "},"11001","25754"]
[900190632,"UROPRADO S.A.S","ANALISTA CONCILIACIONES",3125547250,"JCRAMIREZ@FAMISANAR.COM.CO","JULIO BOLIVAR ","JUAN RAMIREZ, MICHEL MALAGON , CRISTIAN RIVERA","ATLÁNTICO","BARRANQUILLA",{"$f":"+BASE_ANALISTA[[#This Row],[nombredelresponsable]]","v":"JULIO BOLIVAR "},"11001","25754"]
[890980486,"ESE HOSPITAL SAN JUAN DE DIOS DEL PEÑOL","ANALISTA CONCILIACIONES",3125547250,"JCRAMIREZ@FAMISANAR.COM.CO","JULIO BOLIVAR ","JUAN RAMIREZ, MICHEL MALAGON , CRISTIAN RIVERA","ANTIOQUIA","PEÑOL",{"$f":"+BASE_ANALISTA[[#This Row],[nombredelresponsable]]","v":"JULIO BOLIVAR "},"11001","76147"]
[900135676,"E.S.E CENTRO DE SALUD SAN MIGUEL NARIÑO","ANALISTA CONCILIACIONES",3125547250,"JCRAMIREZ@FAMISANAR.COM.CO","JULIO BOLIVAR ","JUAN RAMIREZ, MICHEL MALAGON , CRISTIAN RIVERA","NARIÑO","ARBOLEDA",{"$f":"+BASE_ANALISTA[[#This Row],[nombredelresponsable]]","v":"JULIO BOLIVAR "},"11001","76147"]
[901143752,"MEDITAYRONA IPS S.A.S.","ANALISTA CONCILIACIONES",3125547250,"JCRAMIREZ@FAMISANAR.COM.CO","JULIO BOLIVAR ","JUAN RAMIREZ, MICHEL MALAGON , CRISTIAN RIVERA","MAGDALENA","SANTA MARTA",{"$f":"+BASE_ANALISTA[[#This Row],[nombredelresponsable]]","v":"JULIO BOLIVAR "},"11001","85001"]
[900559314,"OPENING LIFE S.A.S.- TUNJA","ANALISTA CONCILIACIONES",3125547250,"JCRAMIREZ@FAMISANAR.COM.CO","JULIO BOLIVAR ","JUAN RAMIREZ, MICHEL MALAGON , CRISTIAN RIVERA","BOYACÁ","TUNJA",{"$f":"+BASE_ANALISTA[[#This Row],[nombredelresponsable]]","v":"JULIO BOLIVAR "},"11001","25899"]
[820000857,"EMPRESA SOCIAL DEL ESTADO CENTRO DE SALUD MACANAL","ANALISTA CONCILIACIONES",3125547250,"JCRAMIREZ@FAMISANAR.COM.CO","JULIO BOLIVAR ","JUAN RAMIREZ, MICHEL MALAGON , CRISTIAN RIVERA","BOYACÁ","MACANAL",{"$f":"+BASE_ANALISTA[[#This Row],[nombredelresponsable]]","v":"JULIO BOLIVAR "},"11001","25175"]
[828002586,"Clínica Chaira LTDA IPS","ANALISTA CONCILIACIONES",3125547250,"JCRAMIREZ@FAMISANAR.COM.CO","JULIO BOLIVAR ","JUAN RAMIREZ, MICHEL MALAGON , CRISTIAN RIVERA","CAQUETÁ","CARTAGENA DEL CHAIRA",{"$f":"+BASE_ANALISTA[[#This Row],[nombredelresponsable]]","v":"JULIO BOLIVAR "},"11001","68001"]
[900214926,"CLINICA DE ESPECIALISTAS GUAJIRA SA","ANALISTA CONCILIACIONES",3125547250,"JCRAMIREZ@FAMISANAR.COM.CO","JULIO BOLIVAR ","JUAN RAMIREZ, MICHEL MALAGON , CRISTIAN RIVERA","LA GUAJIRA","MAICAO",{"$f":"+BASE_ANALISTA[[#This Row],[nombredelresponsable]]","v":"JULIO BOLIVAR "},"11001","68001"]
[813010024,"Empresa Social del Estado Nuestra Señora del Carmen","ANALISTA CONCILIACIONES",3125547250,"JCRAMIREZ@FAMISANAR.COM.CO","JULIO BOLIVAR ","JUAN RAMIREZ, MICHEL MALAGON , CRISTIAN RIVERA","HUILA","SANTA MARIA",{"$f":"+BASE_ANALISTA[[#This Row],[nombredelresponsable]]","v":"JULIO BOLIVAR "},"11001","68296"]
[891200248,"HOSPITAL CLARITA SANTOS E.S.E.","ANALISTA CONCILIACIONES",3125547250,"JCRAMIREZ@FAMISANAR.COM.CO","JULIO BOLIVAR ","JUAN RAMIREZ, MICHEL MALAGON , CRISTIAN RIVERA","NARIÑO","SANDONA",{"$f":"+BASE_ANALISTA[[#This Row],[nombredelresponsable]]","v":"JULIO BOLIVAR "},"11001","68318"]
[890980346,"E.S.E. HOSPITAL SAN JUAN DE DIOS DE TITIRIBI","ANALISTA CONCILIACIONES",3125547250,"JCRAMIREZ@FAMISANAR.COM.CO","JULIO BOLIVAR ","JUAN RAMIREZ, MICHEL MALAGON , CRISTIAN RIVERA","ANTIOQUIA","TITIRIBÍ",{"$f":"+BASE_ANALISTA[[#This Row],[nombredelresponsable]]","v":"JULIO BOLIVAR "},"11001","68855"]
[890981851,"EMPRESA SOCIAL DEL ESTADO HOSPITAL SAN JULIAN","ANALISTA CONCILIACIONES",3125547250,"JCRAMIREZ@FAMISANAR.COM.CO","JULIO BOLIVAR ","JUAN RAMIREZ, MICHEL MALAGON , CRISTIAN RIVERA","COLOMBIA","COLOMBIA",{"$f":"+BASE_ANALISTA[[#This Row],[nombredelresponsable]]","v":"JULIO BOLIVAR "},"11001","68001"]
[800247350,"Centro Dermatologico Federico Lleras Acosta Empresa Social del Estado","ANALISTA CONCILIACIONES",3125547250,"JCRAMIREZ@FAMISANAR.COM.CO","JULIO BOLIVAR ","JUAN RAMIREZ, MICHEL MALAGON , CRISTIAN RIVERA","CUNDINAMARCA","BOGOTÁ D.C",{"$f":"+BASE_ANALISTA[[#This Row],[nombredelresponsable]]","v":"JULIO BOLIVAR "},"11001","76001"]
[820003619,"ESE CENTRO DE SALUD SAN BLAS TINJACA","ANALISTA CONCILIACIONES",3125547250,"JCRAMIREZ@FAMISANAR.COM.CO","JULIO BOLIVAR ","JUAN RAMIREZ, MICHEL MALAGON , CRISTIAN RIVERA","BOYACÁ","TINJACA",{"$f":"+BASE_ANALISTA[[#This Row],[nombredelresponsable]]","v":"JULIO BOLIVAR "},"11001","76109"]
[800161687,"UNIDAD DE GASTROENTEROLOGIA Y ENDOSCOPIA DIGESTIVA S.A.UGASEND SA","ANALISTA CONCILIACIONES",3125547250,"JCRAMIREZ@FAMISANAR.COM.CO","JULIO BOLIVAR ","JUAN RAMIREZ, MICHEL MALAGON , CRISTIAN RIVERA","ATLÁNTICO","BARRANQUILLA",{"$f":"+BASE_ANALISTA[[#This Row],[nombredelresponsable]]","v":"JULIO BOLIVAR "},"11001","76892"]
[900849720,"CENTRO INTEGRAL DE SALUD SAN GABRIEL IPS","ANALISTA CONCILIACIONES",3125547250,"JCRAMIREZ@FAMISANAR.COM.CO","JULIO BOLIVAR ","JUAN RAMIREZ, MICHEL MALAGON , CRISTIAN RIVERA","ATLÁNTICO","BARRANQUILLA",{"$f":"+BASE_ANALISTA[[#This Row],[nombredelresponsable]]","v":"JULIO BOLIVAR "},"11001","73622"]
[891680065,"EMPRESA SOCIAL DEL ESTADO HOSPITAL SAN ROQUE - CHOCO","ANALISTA CONCILIACIONES",3125547250,"JCRAMIREZ@FAMISANAR.COM.CO","JULIO BOLIVAR ","JUAN RAMIREZ, MICHEL MALAGON , CRISTIAN RIVERA","CHOCÓ","CARMEN DE ATRATO",{"$f":"+BASE_ANALISTA[[#This Row],[nombredelresponsable]]","v":"JULIO BOLIVAR "},"11001","73001"]
[891501104,"EMPRESA SOCIAL DEL ESTADO HOSPITAL DE EL TAMBO CAUCA","ANALISTA CONCILIACIONES",3125547250,"JCRAMIREZ@FAMISANAR.COM.CO","JULIO BOLIVAR ","JUAN RAMIREZ, MICHEL MALAGON , CRISTIAN RIVERA","CAUCA","EL TAMBO",{"$f":"+BASE_ANALISTA[[#This Row],[nombredelresponsable]]","v":"JULIO BOLIVAR "},"11001","41001"]
[804014810,"ESE CENTRO DE SALUD MOLAGAVITA","ANALISTA CONCILIACIONES",3125547250,"JCRAMIREZ@FAMISANAR.COM.CO","JULIO BOLIVAR ","JUAN RAMIREZ, MICHEL MALAGON , CRISTIAN RIVERA","SANTANDER","MOLAGAVITA",{"$f":"+BASE_ANALISTA[[#This Row],[nombredelresponsable]]","v":"JULIO BOLIVAR "},"11001","52378"]
[891900361,"HOSPITAL SAGRADA FAMILIA E.S.E","ANALISTA CONCILIACIONES",3125547250,"JCRAMIREZ@FAMISANAR.COM.CO","JULIO BOLIVAR ","JUAN RAMIREZ, MICHEL MALAGON , CRISTIAN RIVERA","VALLE DEL CAUCA","TORO",{"$f":"+BASE_ANALISTA[[#This Row],[nombredelresponsable]]","v":"JULIO BOLIVAR "},"11001","76563"]
[900703272,"IPS SALVAR 24H SAS","ANALISTA CONCILIACIONES",3125547250,"JCRAMIREZ@FAMISANAR.COM.CO","JULIO BOLIVAR ","JUAN RAMIREZ, MICHEL MALAGON , CRISTIAN RIVERA","TOLIMA ","IBAGUE",{"$f":"+BASE_ANALISTA[[#This Row],[nombredelresponsable]]","v":"JULIO BOLIVAR "},"11001","76306"]
[890001824,"ESE HOSPITAL SANTA ANA","ANALISTA CONCILIACIONES",3125547250,"JCRAMIREZ@FAMISANAR.COM.CO","JULIO BOLIVAR ","JUAN RAMIREZ, MICHEL MALAGON , CRISTIAN RIVERA","QUINDÍO","PIJAO",{"$f":"+BASE_ANALISTA[[#This Row],[nombredelresponsable]]","v":"JULIO BOLIVAR "},"11001","15001"]
[813011706,"EMPRESA SOCIAL DEL ESTAO ANA SILVIA MALDONADO JIMENEZ","ANALISTA CONCILIACIONES",3125547250,"JCRAMIREZ@FAMISANAR.COM.CO","JULIO BOLIVAR ","JUAN RAMIREZ, MICHEL MALAGON , CRISTIAN RIVERA","HUILA","COLOMBIA",{"$f":"+BASE_ANALISTA[[#This Row],[nombredelresponsable]]","v":"JULIO BOLIVAR "},"11001","76246"]
[823000779,"ASOCIACION MEDICA HUMANA EAT","ANALISTA CONCILIACIONES",3125547250,"JCRAMIREZ@FAMISANAR.COM.CO","JULIO BOLIVAR ","JUAN RAMIREZ, MICHEL MALAGON , CRISTIAN RIVERA","SUCRE","OVEJAS",{"$f":"+BASE_ANALISTA[[#This Row],[nombredelresponsable]]","v":"JULIO BOLIVAR "},"11001","76243"]
[890905198,"ESE HOSPITAL SANTA MARIA","ANALISTA CONCILIACIONES",3125547250,"JCRAMIREZ@FAMISANAR.COM.CO","JULIO BOLIVAR ","JUAN RAMIREZ, MICHEL MALAGON , CRISTIAN RIVERA","ANTIOQUIA","SANTA BÁRBARA",{"$f":"+BASE_ANALISTA[[#This Row],[nombredelresponsable]]","v":"JULIO BOLIVAR "},"11001","76001"]
[890981182,"ESE HOSPITAL PADRE CLEMENTE GIRALDO","ANALISTA CONCILIACIONES",3125547250,"JCRAMIREZ@FAMISANAR.COM.CO","JULIO BOLIVAR ","JUAN RAMIREZ, MICHEL MALAGON , CRISTIAN RIVERA","ANTIOQUIA","GRANADA",{"$f":"+BASE_ANALISTA[[#This Row],[nombredelresponsable]]","v":"JULIO BOLIVAR "},"11001","50568"]
[891855439,"E.S.E HOSPITAL ANDRES GIRARDOT","ANALISTA CONCILIACIONES",3125547250,"JCRAMIREZ@FAMISANAR.COM.CO","JULIO BOLIVAR ","JUAN RAMIREZ, MICHEL MALAGON , CRISTIAN RIVERA","BOYACÁ","GUICAN DE LA SIERRA",{"$f":"+BASE_ANALISTA[[#This Row],[nombredelresponsable]]","v":"JULIO BOLIVAR "},"11001","19397"]
[890980784,"EMPRESA SOCIAL DEL ESTADO HOSPITAL SAN CARLOS","ANALISTA CONCILIACIONES",3125547250,"JCRAMIREZ@FAMISANAR.COM.CO","JULIO BOLIVAR ","JUAN RAMIREZ, MICHEL MALAGON , CRISTIAN RIVERA","ANTIOQUIA","CAÑASGORDAS",{"$f":"+BASE_ANALISTA[[#This Row],[nombredelresponsable]]","v":"JULIO BOLIVAR "},"11001","25845"]
[891901745,"HOSPITAL SAN JOSE ESE RESTREPO VALLE","ANALISTA CONCILIACIONES",3125547250,"JCRAMIREZ@FAMISANAR.COM.CO","JULIO BOLIVAR ","JUAN RAMIREZ, MICHEL MALAGON , CRISTIAN RIVERA","VALLE DEL CAUCA","RESTREPO",{"$f":"+BASE_ANALISTA[[#This Row],[nombredelresponsable]]","v":"JULIO BOLIVAR "},"11001","25224"]
[890980367,"ESE HOSPITAL SAN RAFAEL DE VENECIA","ANALISTA CONCILIACIONES",3125547250,"JCRAMIREZ@FAMISANAR.COM.CO","JULIO BOLIVAR ","JUAN RAMIREZ, MICHEL MALAGON , CRISTIAN RIVERA","ANTIOQUIA","VENECIA",{"$f":"+BASE_ANALISTA[[#This Row],[nombredelresponsable]]","v":"JULIO BOLIVAR "},"11001","05628"]
[890980840,"E.S.E Hospital San Juan de Dios","ANALISTA CONCILIACIONES",3125547250,"JCRAMIREZ@FAMISANAR.COM.CO","JULIO BOLIVAR ","JUAN RAMIREZ, MICHEL MALAGON , CRISTIAN RIVERA","ANTIOQUIA","ITUANGO",{"$f":"+BASE_ANALISTA[[#This Row],[nombredelresponsable]]","v":"JULIO BOLIVAR "},"11001","18001"]
[800219192,"CENTRO MEDICO DE ESPECIALISTAS C.M.E. S.A. -  CLINICA SANTILLANA","ANALISTA CONCILIACIONES",3125547250,"JCRAMIREZ@FAMISANAR.COM.CO","JULIO BOLIVAR ","JUAN RAMIREZ, MICHEL MALAGON , CRISTIAN RIVERA","CALDAS","MANIZALEZ",{"$f":"+BASE_ANALISTA[[#This Row],[nombredelresponsable]]","v":"JULIO BOLIVAR "},"11001","13001"]
[900360201,"CLINICA SAN FELIPE DE BARAJAS SAS","ANALISTA CONCILIACIONES",3125547250,"JCRAMIREZ@FAMISANAR.COM.CO","JULIO BOLIVAR ","JUAN RAMIREZ, MICHEL MALAGON , CRISTIAN RIVERA","BOLIVAR","CARTAGENA",{"$f":"+BASE_ANALISTA[[#This Row],[nombredelresponsable]]","v":"JULIO BOLIVAR "},"11001","20001"]
[860015905,"CLINICA NUESTRA SEÑORA DE LA PAZ","ANALISTA CONCILIACIONES",3213013857,"DSANTUARIO@FAMISANAR.COM.CO","DIANA SANTUARIO","DIANA SANTUARIO, MARTHA CETINA","COLOMBIA","COLOMBIA",{"$f":"+BASE_ANALISTA[[#This Row],[nombredelresponsable]]","v":"DIANA SANTUARIO"},"11001","50001"]
[900098476,"FUNDACION HOSPITAL INFANTIL UNIVERSITARIO DE SAN JOSE","ANALISTA CONCILIACIONES",3213013857,"DSANTUARIO@FAMISANAR.COM.CO","DIANA SANTUARIO","DIANA SANTUARIO, MARTHA CETINA","COLOMBIA","COLOMBIA",{"$f":"+BASE_ANALISTA[[#This Row],[nombredelresponsable]]","v":"DIANA SANTUARIO"},"11001","13001"]
[899999092,"INSTITUTO NACIONAL DE CANCEROLOGIA ESE","ANALISTA CONCILIACIONES",3213013857,"DSANTUARIO@FAMISANAR.COM.CO","DIANA SANTUARIO","DIANA SANTUARIO, MARTHA CETINA","COLOMBIA","COLOMBIA",{"$f":"+BASE_ANALISTA[[#This Row],[nombredelresponsable]]","v":"DIANA SANTUARIO"},"11001","25269"]
[800200789,"CLÍNICA CHÍA S.A.","ANALISTA CONCILIACIONES",3213013857,"DSANTUARIO@FAMISANAR.COM.CO","DIANA SANTUARIO","DIANA SANTUARIO, MARTHA CETINA","COLOMBIA","COLOMBIA",{"$f":"+BASE_ANALISTA[[#This Row],[nombredelresponsable]]","v":"DIANA SANTUARIO"},"11001","70001"]
[899999151,"ESE Hospital San Rafael de Facatativa","ANALISTA CONCILIACIONES",3213013857,"DSANTUARIO@FAMISANAR.COM.CO","DIANA SANTUARIO","DIANA SANTUARIO, MARTHA CETINA","COLOMBIA","COLOMBIA",{"$f":"+BASE_ANALISTA[[#This Row],[nombredelresponsable]]","v":"DIANA SANTUARIO"},"11001","68001"]
[800094898,"CLINICA LA MERCED BARRANQUILLA S.A.S.","ANALISTA CONCILIACIONES",3213013857,"DSANTUARIO@FAMISANAR.COM.CO","DIANA SANTUARIO","DIANA SANTUARIO, MARTHA CETINA","ATLÁNTICO","BARRANQUILLA",{"$f":"+BASE_ANALISTA[[#This Row],[nombredelresponsable]]","v":"DIANA SANTUARIO"},"11001","20001"]
[890701033,"HOSPITAL SAN RAFAEL ESE ESPINAL TOLIMA","ANALISTA CONCILIACIONES",3213013857,"DSANTUARIO@FAMISANAR.COM.CO","DIANA SANTUARIO","DIANA SANTUARIO, MARTHA CETINA","TOLIMA","ESPINAL",{"$f":"+BASE_ANALISTA[[#This Row],[nombredelresponsable]]","v":"DIANA SANTUARIO"},"11001","68001"]
[900291018,"Clinica Los Nogales S.A.S","ANALISTA CONCILIACIONES",3213013857,"DSANTUARIO@FAMISANAR.COM.CO","DIANA SANTUARIO","DIANA SANTUARIO, MARTHA CETINA","COLOMBIA","COLOMBIA",{"$f":"+BASE_ANALISTA[[#This Row],[nombredelresponsable]]","v":"DIANA SANTUARIO"},"11001","68001"]
[890680033,"E.S.E HOSPITAL MARCO FELIPE AFANADOR","ANALISTA CONCILIACIONES",3213013857,"DSANTUARIO@FAMISANAR.COM.CO","DIANA SANTUARIO","DIANA SANTUARIO, MARTHA CETINA","CUNDINAMARCA","TOCAIMA",{"$f":"+BASE_ANALISTA[[#This Row],[nombredelresponsable]]","v":"DIANA SANTUARIO"},"11001","50001"]
[890102768,"CLINICA GENERAL DEL NORTE","ANALISTA CONCILIACIONES",3213013857,"DSANTUARIO@FAMISANAR.COM.CO","DIANA SANTUARIO","DIANA SANTUARIO, MARTHA CETINA","COLOMBIA","COLOMBIA",{"$f":"+BASE_ANALISTA[[#This Row],[nombredelresponsable]]","v":"DIANA SANTUARIO"},"11001","15299"]
[800179966,"CLINICA REINA CATALINA Y CIA LTDA","ANALISTA CONCILIACIONES",3213013857,"DSANTUARIO@FAMISANAR.COM.CO","DIANA SANTUARIO","DIANA SANTUARIO, MARTHA CETINA","ATLÁNTICO","BARRANQUILLA",{"$f":"+BASE_ANALISTA[[#This Row],[nombredelresponsable]]","v":"DIANA SANTUARIO"},"11001","68001"]
[900065988,"VITAL LIFE SAS","ANALISTA CONCILIACIONES",3213013857,"DSANTUARIO@FAMISANAR.COM.CO","DIANA SANTUARIO","DIANA SANTUARIO, MARTHA CETINA","COLOMBIA","COLOMBIA",{"$f":"+BASE_ANALISTA[[#This Row],[nombredelresponsable]]","v":"DIANA SANTUARIO"},"11001","70001"]
[900305406,"E.A.T MULTIASISTIR IPS","ANALISTA CONCILIACIONES",3213013857,"DSANTUARIO@FAMISANAR.COM.CO","DIANA SANTUARIO","DIANA SANTUARIO, MARTHA CETINA","CUNDINAMARCA","FUSAGASUGA",{"$f":"+BASE_ANALISTA[[#This Row],[nombredelresponsable]]","v":"DIANA SANTUARIO"},"11001","15299"]
[900110259,"BIOMOLECULAR DIAGNOSTICA LTDA","ANALISTA CONCILIACIONES",3213013857,"DSANTUARIO@FAMISANAR.COM.CO","DIANA SANTUARIO","DIANA SANTUARIO, MARTHA CETINA","CUNDINAMARCA","BOGOTÁ D.C",{"$f":"+BASE_ANALISTA[[#This Row],[nombredelresponsable]]","v":"DIANA SANTUARIO"},"11001","13001"]
[830058292,"UROBOSQUE S.A.","ANALISTA CONCILIACIONES",3213013857,"DSANTUARIO@FAMISANAR.COM.CO","DIANA SANTUARIO","DIANA SANTUARIO, MARTHA CETINA","COLOMBIA","COLOMBIA",{"$f":"+BASE_ANALISTA[[#This Row],[nombredelresponsable]]","v":"DIANA SANTUARIO"},"11001","52786"]
[900328323,"Miocardio SAS","ANALISTA CONCILIACIONES",3213013857,"DSANTUARIO@FAMISANAR.COM.CO","DIANA SANTUARIO","DIANA SANTUARIO, MARTHA CETINA","CUNDINAMARCA","BOGOTÁ D.C",{"$f":"+BASE_ANALISTA[[#This Row],[nombredelresponsable]]","v":"DIANA SANTUARIO"},"11001","25175"]
[802020128,"INVERCLINICAS S.A.","ANALISTA CONCILIACIONES",3213013857,"DSANTUARIO@FAMISANAR.COM.CO","DIANA SANTUARIO","DIANA SANTUARIO, MARTHA CETINA","ATLÁNTICO","BARRANQUILLA",{"$f":"+BASE_ANALISTA[[#This Row],[nombredelresponsable]]","v":"DIANA SANTUARIO"},"11001","52240"]
[900545277,"OFTALMOVER S.A.S","ANALISTA CONCILIACIONES",3213013857,"DSANTUARIO@FAMISANAR.COM.CO","DIANA SANTUARIO","DIANA SANTUARIO, MARTHA CETINA","COLOMBIA","COLOMBIA",{"$f":"+BASE_ANALISTA[[#This Row],[nombredelresponsable]]","v":"DIANA SANTUARIO"},"11001","25649"]
[860009555,"E.S.E. HOSPITAL  SANTA  MATILDE  DE MADRID","ANALISTA CONCILIACIONES",3213013857,"DSANTUARIO@FAMISANAR.COM.CO","DIANA SANTUARIO","DIANA SANTUARIO, MARTHA CETINA","CUNDINAMARCA","MADRID",{"$f":"+BASE_ANALISTA[[#This Row],[nombredelresponsable]]","v":"DIANA SANTUARIO"},"11001","08001"]
[900741253,"AVANZAR IPS REHABILITACION Y HABILITACION SAS","ANALISTA CONCILIACIONES",3213013857,"DSANTUARIO@FAMISANAR.COM.CO","DIANA SANTUARIO","DIANA SANTUARIO, MARTHA CETINA","CUNDINAMARCA","BOGOTÁ D.C",{"$f":"+BASE_ANALISTA[[#This Row],[nombredelresponsable]]","v":"DIANA SANTUARIO"},"11001","20621"]
[800006850,"ESE HOSPITAL MARIO GAITAN YANGUAS","ANALISTA CONCILIACIONES",3213013857,"DSANTUARIO@FAMISANAR.COM.CO","DIANA SANTUARIO","DIANA SANTUARIO, MARTHA CETINA","CUNDINAMARCA","SOACHA",{"$f":"+BASE_ANALISTA[[#This Row],[nombredelresponsable]]","v":"DIANA SANTUARIO"},"11001","52110"]
[860010783,"CONGREGACION DE SANTA CATALINA DE SIENA CLINICA NUEVA","ANALISTA CONCILIACIONES",3213013857,"DSANTUARIO@FAMISANAR.COM.CO","DIANA SANTUARIO","DIANA SANTUARIO, MARTHA CETINA","CUNDINAMARCA","BOGOTÁ D.C",{"$f":"+BASE_ANALISTA[[#This Row],[nombredelresponsable]]","v":"DIANA SANTUARIO"},"11001","70001"]
[832001465,"ESE HOSPITAL SAN ANTONIO DE ANOLAIMA","ANALISTA CONCILIACIONES",3213013857,"DSANTUARIO@FAMISANAR.COM.CO","DIANA SANTUARIO","DIANA SANTUARIO, MARTHA CETINA","CUNDINAMARCA","ANOLAIMA",{"$f":"+BASE_ANALISTA[[#This Row],[nombredelresponsable]]","v":"DIANA SANTUARIO"},"11001","68001"]
[860400547,"SOCIEDAD DE ENFERMERAS PROFESIONALES","ANALISTA CONCILIACIONES",3213013857,"DSANTUARIO@FAMISANAR.COM.CO","DIANA SANTUARIO","DIANA SANTUARIO, MARTHA CETINA","COLOMBIA","COLOMBIA",{"$f":"+BASE_ANALISTA[[#This Row],[nombredelresponsable]]","v":"DIANA SANTUARIO"},"11001","70001"]
[900124020,"CENTRO MEDICO PROVINSALUD IPS LTDA","ANALISTA CONCILIACIONES",3213013857,"DSANTUARIO@FAMISANAR.COM.CO","DIANA SANTUARIO","DIANA SANTUARIO, MARTHA CETINA","COLOMBIA","COLOMBIA",{"$f":"+BASE_ANALISTA[[#This Row],[nombredelresponsable]]","v":"DIANA SANTUARIO"},"11001","44001"]
[900002780,"FUNDACION CAMPBELL","ANALISTA CONCILIACIONES",3213013857,"DSANTUARIO@FAMISANAR.COM.CO","DIANA SANTUARIO","DIANA SANTUARIO, MARTHA CETINA","ATLÁNTICO","BARRANQUILLA",{"$f":"+BASE_ANALISTA[[#This Row],[nombredelresponsable]]","v":"DIANA SANTUARIO"},"11001","52381"]
[800153488,"CENTRO DE ENFERMEDADES MAMARIAS LTDA","ANALISTA CONCILIACIONES",3213013857,"DSANTUARIO@FAMISANAR.COM.CO","DIANA SANTUARIO","DIANA SANTUARIO, MARTHA CETINA","CUNDINAMARCA","BOGOTÁ D.C",{"$f":"+BASE_ANALISTA[[#This Row],[nombredelresponsable]]","v":"DIANA SANTUARIO"},"11001","73001"]
[832002436,"EMPRESA SOCIAL DEL ESTADO PROFESOR JORGE CAVELIER","ANALISTA CONCILIACIONES",3213013857,"DSANTUARIO@FAMISANAR.COM.CO","DIANA SANTUARIO","DIANA SANTUARIO, MARTHA CETINA","CUNDINAMARCA","CAJICA",{"$f":"+BASE_ANALISTA[[#This Row],[nombredelresponsable]]","v":"DIANA SANTUARIO"},"11001","20001"]
[900434413,"AYUDA CLINICA SAS","ANALISTA CONCILIACIONES",3213013857,"DSANTUARIO@FAMISANAR.COM.CO","DIANA SANTUARIO","DIANA SANTUARIO, MARTHA CETINA","COLOMBIA","COLOMBIA",{"$f":"+BASE_ANALISTA[[#This Row],[nombredelresponsable]]","v":"DIANA SANTUARIO"},"11001","70820"]
[808003500,"HOSPITAL ISMAEL SILVA ESE","ANALISTA CONCILIACIONES",3213013857,"DSANTUARIO@FAMISANAR.COM.CO","DIANA SANTUARIO","DIANA SANTUARIO, MARTHA CETINA","CUNDINAMARCA","SILVANIA",{"$f":"+BASE_ANALISTA[[#This Row],[nombredelresponsable]]","v":"DIANA SANTUARIO"},"11001","13001"]
[900135240,"IPS CENTRO MEDICO SANTA MARIA LIMITADA","ANALISTA CONCILIACIONES",3213013857,"DSANTUARIO@FAMISANAR.COM.CO","DIANA SANTUARIO","DIANA SANTUARIO, MARTHA CETINA","CUNDINAMARCA","LA VEGA",{"$f":"+BASE_ANALISTA[[#This Row],[nombredelresponsable]]","v":"DIANA SANTUARIO"},"11001","68001"]
[900248882,"Clínica Portoazul S.A.","ANALISTA CONCILIACIONES",3213013857,"DSANTUARIO@FAMISANAR.COM.CO","DIANA SANTUARIO","DIANA SANTUARIO, MARTHA CETINA","COLOMBIA","COLOMBIA",{"$f":"+BASE_ANALISTA[[#This Row],[nombredelresponsable]]","v":"DIANA SANTUARIO"},"11001","08001"]
[800183943,"CLINICA SANTA MARIA SAS","ANALISTA CONCILIACIONES",3213013857,"DSANTUARIO@FAMISANAR.COM.CO","DIANA SANTUARIO","DIANA SANTUARIO, MARTHA CETINA","SUCRE","SINCELEJO",{"$f":"+BASE_ANALISTA[[#This Row],[nombredelresponsable]]","v":"DIANA SANTUARIO"},"11001","68001"]
[802009783,"CLINICA SAN RAFAEL LTDA","ANALISTA CONCILIACIONES",3213013857,"DSANTUARIO@FAMISANAR.COM.CO","DIANA SANTUARIO","DIANA SANTUARIO, MARTHA CETINA","ATLÁNTICO","SABANALARGA",{"$f":"+BASE_ANALISTA[[#This Row],[nombredelresponsable]]","v":"DIANA SANTUARIO"},"11001","76111"]
[860040094,"Oxigenos de Colombia Ltda","ANALISTA CONCILIACIONES",3213013857,"DSANTUARIO@FAMISANAR.COM.CO","DIANA SANTUARIO","DIANA SANTUARIO, MARTHA CETINA","COLOMBIA","COLOMBIA",{"$f":"+BASE_ANALISTA[[#This Row],[nombredelresponsable]]","v":"DIANA SANTUARIO"},"11001","73001"]
[802010728,"UROCENTRO LTDA","ANALISTA CONCILIACIONES",3213013857,"DSANTUARIO@FAMISANAR.COM.CO","DIANA SANTUARIO","DIANA SANTUARIO, MARTHA CETINA","ATLÁNTICO","BARRANQUILLA",{"$f":"+BASE_ANALISTA[[#This Row],[nombredelresponsable]]","v":"DIANA SANTUARIO"},"11001","73001"]
[900264050,"SERVICIOS MEDICO QUIRURGICOS SAS","ANALISTA CONCILIACIONES",3213013857,"DSANTUARIO@FAMISANAR.COM.CO","DIANA SANTUARIO","DIANA SANTUARIO, MARTHA CETINA","ATLÁNTICO","BARRANQUILLA",{"$f":"+BASE_ANALISTA[[#This Row],[nombredelresponsable]]","v":"DIANA SANTUARIO"},"11001","73001"]
[800196433,"HOSPITAL SIMON BOLIVAR III NIVEL EMPRESA SOCIAL DEL ESTADO","ANALISTA CONCILIACIONES",3213013857,"DSANTUARIO@FAMISANAR.COM.CO","DIANA SANTUARIO","DIANA SANTUARIO, MARTHA CETINA","COLOMBIA","COLOMBIA",{"$f":"+BASE_ANALISTA[[#This Row],[nombredelresponsable]]","v":"DIANA SANTUARIO"},"11001","50001"]
[800112725,"FUNDACION OFTALMOLOGICA DEL CARIBE","ANALISTA CONCILIACIONES",3213013857,"DSANTUARIO@FAMISANAR.COM.CO","DIANA SANTUARIO","DIANA SANTUARIO, MARTHA CETINA","ATLÁNTICO","BARRANQUILLA",{"$f":"+BASE_ANALISTA[[#This Row],[nombredelresponsable]]","v":"DIANA SANTUARIO"},"11001","15759"]
[830023136,"LASER CENTER S.","ANALISTA CONCILIACIONES",3213013857,"DSANTUARIO@FAMISANAR.COM.CO","DIANA SANTUARIO","DIANA SANTUARIO, MARTHA CETINA","COLOMBIA","COLOMBIA",{"$f":"+BASE_ANALISTA[[#This Row],[nombredelresponsable]]","v":"DIANA SANTUARIO"},"11001","50001"]
[802016266,"INVERSIONES IMAGENES VITALES DE LA COSTA SA","ANALISTA CONCILIACIONES",3213013857,"DSANTUARIO@FAMISANAR.COM.CO","DIANA SANTUARIO","DIANA SANTUARIO, MARTHA CETINA","ATLÁNTICO","BARRANQUILLA",{"$f":"+BASE_ANALISTA[[#This Row],[nombredelresponsable]]","v":"DIANA SANTUARIO"},"11001","76001"]
[900081746,"FUNDACION GRUPO INTEGRA","ANALISTA CONCILIACIONES",3213013857,"DSANTUARIO@FAMISANAR.COM.CO","DIANA SANTUARIO","DIANA SANTUARIO, MARTHA CETINA","ATLÁNTICO","BARRANQUILLA",{"$f":"+BASE_ANALISTA[[#This Row],[nombredelresponsable]]","v":"DIANA SANTUARIO"},"11001","08001"]
[900465827,"CLINICA DE REHABILITACION INTEGRAL HOWARD GARDNER S.A.S","ANALISTA CONCILIACIONES",3213013857,"DSANTUARIO@FAMISANAR.COM.CO","DIANA SANTUARIO","DIANA SANTUARIO, MARTHA CETINA","CUNDINAMARCA","BOGOTÁ D.C",{"$f":"+BASE_ANALISTA[[#This Row],[nombredelresponsable]]","v":"DIANA SANTUARIO"},"11001","70001"]
[900103925,"ELECTROFISIATRIA SAS","ANALISTA CONCILIACIONES",3213013857,"DSANTUARIO@FAMISANAR.COM.CO","DIANA SANTUARIO","DIANA SANTUARIO, MARTHA CETINA","COLOMBIA","COLOMBIA",{"$f":"+BASE_ANALISTA[[#This Row],[nombredelresponsable]]","v":"DIANA SANTUARIO"},"11001","50001"]
[890100271,"asociacion clinica bautista","ANALISTA CONCILIACIONES",3213013857,"DSANTUARIO@FAMISANAR.COM.CO","DIANA SANTUARIO","DIANA SANTUARIO, MARTHA CETINA","ATLÁNTICO","BARRANQUILLA",{"$f":"+BASE_ANALISTA[[#This Row],[nombredelresponsable]]","v":"DIANA SANTUARIO"},"11001","13430"]
[800028332,"ENFETER S.A.","ANALISTA CONCILIACIONES",3213013857,"DSANTUARIO@FAMISANAR.COM.CO","DIANA SANTUARIO","DIANA SANTUARIO, MARTHA CETINA","COLOMBIA","COLOMBIA",{"$f":"+BASE_ANALISTA[[#This Row],[nombredelresponsable]]","v":"DIANA SANTUARIO"},"11001","05059"]
[900263740,"UNIPSALUD 2000 GUADUAS IPS LTDA","ANALISTA CONCILIACIONES",3213013857,"DSANTUARIO@FAMISANAR.COM.CO","DIANA SANTUARIO","DIANA SANTUARIO, MARTHA CETINA","TOLIMA","HONDA",{"$f":"+BASE_ANALISTA[[#This Row],[nombredelresponsable]]","v":"DIANA SANTUARIO"},"11001","41001"]
[830077688,"HOSPITAL ENGATIVA E.S.E.","ANALISTA CONCILIACIONES",3213013857,"DSANTUARIO@FAMISANAR.COM.CO","DIANA SANTUARIO","DIANA SANTUARIO, MARTHA CETINA","COLOMBIA","COLOMBIA",{"$f":"+BASE_ANALISTA[[#This Row],[nombredelresponsable]]","v":"DIANA SANTUARIO"},"11001","13001"]
[800175839,"ASOCIACION ACONIÑO","ANALISTA CONCILIACIONES",3213013857,"DSANTUARIO@FAMISANAR.COM.CO","DIANA SANTUARIO","DIANA SANTUARIO, MARTHA CETINA","CUNDINAMARCA","BOGOTÁ D.C",{"$f":"+BASE_ANALISTA[[#This Row],[nombredelresponsable]]","v":"DIANA SANTUARIO"},"11001","15001"]
[900485519,"inversiones sequoia colombia sas","ANALISTA CONCILIACIONES",3213013857,"DSANTUARIO@FAMISANAR.COM.CO","DIANA SANTUARIO","DIANA SANTUARIO, MARTHA CETINA","CUNDINAMARCA","BOGOTÁ D.C",{"$f":"+BASE_ANALISTA[[#This Row],[nombredelresponsable]]","v":"DIANA SANTUARIO"},"11001","13001"]
[800223876,"CENTRO DE INVESTIGACION E INFORMACION EN DEFICIENCIAS AUDITIVAS","ANALISTA CONCILIACIONES",3213013857,"DSANTUARIO@FAMISANAR.COM.CO","DIANA SANTUARIO","DIANA SANTUARIO, MARTHA CETINA","COLOMBIA","COLOMBIA",{"$f":"+BASE_ANALISTA[[#This Row],[nombredelresponsable]]","v":"DIANA SANTUARIO"},"11001","50001"]
[800098895,"UNIDAD DE MEDICINA PREVENTIVA Y RESOLUTIVA LTDA","ANALISTA CONCILIACIONES",3213013857,"DSANTUARIO@FAMISANAR.COM.CO","DIANA SANTUARIO","DIANA SANTUARIO, MARTHA CETINA","ATLÁNTICO","BARRANQUILLA",{"$f":"+BASE_ANALISTA[[#This Row],[nombredelresponsable]]","v":"DIANA SANTUARIO"},"11001","20060"]
[832004115,"Unidad Medica Villa De San Diego Orluz Ltda","ANALISTA CONCILIACIONES",3213013857,"DSANTUARIO@FAMISANAR.COM.CO","DIANA SANTUARIO","DIANA SANTUARIO, MARTHA CETINA","CUNDINAMARCA","VILLA DE SAN DIEGO DE UBATE",{"$f":"+BASE_ANALISTA[[#This Row],[nombredelresponsable]]","v":"DIANA SANTUARIO"},"11001","08001"]
[800216883,"HOSPITAL DE SUBA II NIVEL ESE","ANALISTA CONCILIACIONES",3213013857,"DSANTUARIO@FAMISANAR.COM.CO","DIANA SANTUARIO","DIANA SANTUARIO, MARTHA CETINA","COLOMBIA","COLOMBIA",{"$f":"+BASE_ANALISTA[[#This Row],[nombredelresponsable]]","v":"DIANA SANTUARIO"},"11001","08001"]
[830064212,"UMAF LIMITADA","ANALISTA CONCILIACIONES",3213013857,"DSANTUARIO@FAMISANAR.COM.CO","DIANA SANTUARIO","DIANA SANTUARIO, MARTHA CETINA","COLOMBIA","COLOMBIA",{"$f":"+BASE_ANALISTA[[#This Row],[nombredelresponsable]]","v":"DIANA SANTUARIO"},"11001","25290"]
[900234308,"GASTROMEDICALL LTDA","ANALISTA CONCILIACIONES",3213013857,"DSANTUARIO@FAMISANAR.COM.CO","DIANA SANTUARIO","DIANA SANTUARIO, MARTHA CETINA","CUNDINAMARCA","BOGOTÁ D.C",{"$f":"+BASE_ANALISTA[[#This Row],[nombredelresponsable]]","v":"DIANA SANTUARIO"},"11001","08001"]
[830001237,"ADOM Salud Domiciliaria","ANALISTA CONCILIACIONES",3213013857,"DSANTUARIO@FAMISANAR.COM.CO","DIANA SANTUARIO","DIANA SANTUARIO, MARTHA CETINA","CUNDINAMARCA","BOGOTÁ D.C",{"$f":"+BASE_ANALISTA[[#This Row],[nombredelresponsable]]","v":"DIANA SANTUARIO"},"11001","52001"]
[900959051,"SUBRED INTEGRADA DE SERVICIOS DE SALUD CENTRO ORIENTE E.S.E.","ANALISTA CONCILIACIONES",3162946361,"JCORONADO@FAMISANAR.COM.CO","JENNYFFER ALEXANDRA SARMIENTO","JENNYFFER ALEXANDRA SARMIENTO, SANDRA BAUTISTA ","COLOMBIA","COLOMBIA",{"$f":"+BASE_ANALISTA[[#This Row],[nombredelresponsable]]","v":"JENNYFFER ALEXANDRA SARMIENTO"},"11001","68001"]
[830099212,"CENTRO DE INVESTIGACIONES ONCOLOGICAS CLINICA SAN DIEGO SAS","ANALISTA CONCILIACIONES",3162946361,"JCORONADO@FAMISANAR.COM.CO","JENNYFFER ALEXANDRA SARMIENTO","JENNYFFER ALEXANDRA SARMIENTO, SANDRA BAUTISTA ","COLOMBIA","COLOMBIA",{"$f":"+BASE_ANALISTA[[#This Row],[nombredelresponsable]]","v":"JENNYFFER ALEXANDRA SARMIENTO"},"11001","76001"]
[900958564,"SUBRED INTEGRADA DE SERVICIOS DE SALUD SUR E.S.E.","ANALISTA CONCILIACIONES",3162946361,"JCORONADO@FAMISANAR.COM.CO","JENNYFFER ALEXANDRA SARMIENTO","JENNYFFER ALEXANDRA SARMIENTO, SANDRA BAUTISTA ","COLOMBIA","COLOMBIA",{"$f":"+BASE_ANALISTA[[#This Row],[nombredelresponsable]]","v":"JENNYFFER ALEXANDRA SARMIENTO"},"11001","13001"]
[900259421,"EMMANUEL INSTITUTO DE REHABILITACION Y HABILITACION INFANTIL SAS","ANALISTA CONCILIACIONES",3162946361,"JCORONADO@FAMISANAR.COM.CO","JENNYFFER ALEXANDRA SARMIENTO","JENNYFFER ALEXANDRA SARMIENTO, SANDRA BAUTISTA ","COLOMBIA","COLOMBIA",{"$f":"+BASE_ANALISTA[[#This Row],[nombredelresponsable]]","v":"JENNYFFER ALEXANDRA SARMIENTO"},"11001","52001"]
[805027743,"DUMIAN MEDICAL S A S","ANALISTA CONCILIACIONES",3162946361,"JCORONADO@FAMISANAR.COM.CO","JENNYFFER ALEXANDRA SARMIENTO","JENNYFFER ALEXANDRA SARMIENTO, SANDRA BAUTISTA ","COLOMBIA","COLOMBIA",{"$f":"+BASE_ANALISTA[[#This Row],[nombredelresponsable]]","v":"JENNYFFER ALEXANDRA SARMIENTO"},"11001","73001"]
[860015536,"Hospital Universitario San Ignacio","ANALISTA CONCILIACIONES",3162946361,"JCORONADO@FAMISANAR.COM.CO","JENNYFFER ALEXANDRA SARMIENTO","JENNYFFER ALEXANDRA SARMIENTO, SANDRA BAUTISTA ","COLOMBIA","COLOMBIA",{"$f":"+BASE_ANALISTA[[#This Row],[nombredelresponsable]]","v":"JENNYFFER ALEXANDRA SARMIENTO"},"11001","85001"]
[860509323,"UNIMEQ MEDICO QUIRURGICA DE ORL S.A.","ANALISTA CONCILIACIONES",3162946361,"JCORONADO@FAMISANAR.COM.CO","JENNYFFER ALEXANDRA SARMIENTO","JENNYFFER ALEXANDRA SARMIENTO, SANDRA BAUTISTA ","COLOMBIA","COLOMBIA",{"$f":"+BASE_ANALISTA[[#This Row],[nombredelresponsable]]","v":"JENNYFFER ALEXANDRA SARMIENTO"},"11001","76147"]
[800066001,"CENTRO MEDICO OFTALMOLIGO Y LABORATORIO CLINICO ANDRADE NARVAEZ SOCIEDAD POR ACCIONES SIMPLIFICADA","ANALISTA CONCILIACIONES",3162946361,"JCORONADO@FAMISANAR.COM.CO","JENNYFFER ALEXANDRA SARMIENTO","JENNYFFER ALEXANDRA SARMIENTO, SANDRA BAUTISTA ","COLOMBIA","COLOMBIA",{"$f":"+BASE_ANALISTA[[#This Row],[nombredelresponsable]]","v":"JENNYFFER ALEXANDRA SARMIENTO"},"11001","13001"]
[800210375,"PROCARDIO SERVICIOS INTEGRALES LTDA","ANALISTA CONCILIACIONES",3162946361,"JCORONADO@FAMISANAR.COM.CO","JENNYFFER ALEXANDRA SARMIENTO","JENNYFFER ALEXANDRA SARMIENTO, SANDRA BAUTISTA ","COLOMBIA","COLOMBIA",{"$f":"+BASE_ANALISTA[[#This Row],[nombredelresponsable]]","v":"JENNYFFER ALEXANDRA SARMIENTO"},"11001","08001"]
[890101994,"COMFAMILIAR ATLANTICO","ANALISTA CONCILIACIONES",3162946361,"JCORONADO@FAMISANAR.COM.CO","JENNYFFER ALEXANDRA SARMIENTO","JENNYFFER ALEXANDRA SARMIENTO, SANDRA BAUTISTA ","ATLÁNTICO","BARRANQUILLA",{"$f":"+BASE_ANALISTA[[#This Row],[nombredelresponsable]]","v":"JENNYFFER ALEXANDRA SARMIENTO"},"11001","50001"]
[890706833,"HOSPITAL FEDERICO LLERAS ACOSTA DE IBAGUE - TOLIMA E.S.E.","ANALISTA CONCILIACIONES",3162946361,"JCORONADO@FAMISANAR.COM.CO","JENNYFFER ALEXANDRA SARMIENTO","JENNYFFER ALEXANDRA SARMIENTO, SANDRA BAUTISTA ","TOLIMA","IBAGUE",{"$f":"+BASE_ANALISTA[[#This Row],[nombredelresponsable]]","v":"JENNYFFER ALEXANDRA SARMIENTO"},"11001","73001"]
[860035447,"E.S.E HOSPITAL SAN ANTONIO GUATAVITA","ANALISTA CONCILIACIONES",3162946361,"JCORONADO@FAMISANAR.COM.CO","JENNYFFER ALEXANDRA SARMIENTO","JENNYFFER ALEXANDRA SARMIENTO, SANDRA BAUTISTA ","CUNDINAMARCA","GUATAVITA",{"$f":"+BASE_ANALISTA[[#This Row],[nombredelresponsable]]","v":"JENNYFFER ALEXANDRA SARMIENTO"},"11001","68001"]
[900603116,"ASAD - ASISTENCIA EN SALUD DOMICILIARIA","ANALISTA CONCILIACIONES",3162946361,"JCORONADO@FAMISANAR.COM.CO","JENNYFFER ALEXANDRA SARMIENTO","JENNYFFER ALEXANDRA SARMIENTO, SANDRA BAUTISTA ","TOLIMA ","IBAGUE",{"$f":"+BASE_ANALISTA[[#This Row],[nombredelresponsable]]","v":"JENNYFFER ALEXANDRA SARMIENTO"},"11001","68001"]
[860007373,"FUNDACION HOSPITAL SAN CARLOS","ANALISTA CONCILIACIONES",3162946361,"JCORONADO@FAMISANAR.COM.CO","JENNYFFER ALEXANDRA SARMIENTO","JENNYFFER ALEXANDRA SARMIENTO, SANDRA BAUTISTA ","COLOMBIA","COLOMBIA",{"$f":"+BASE_ANALISTA[[#This Row],[nombredelresponsable]]","v":"JENNYFFER ALEXANDRA SARMIENTO"},"11001","68081"]
[860048656,"FUNDACION OFTALMOLOGICA NACIONAL","ANALISTA CONCILIACIONES",3162946361,"JCORONADO@FAMISANAR.COM.CO","JENNYFFER ALEXANDRA SARMIENTO","JENNYFFER ALEXANDRA SARMIENTO, SANDRA BAUTISTA ","CUNDINAMARCA","BOGOTÁ D.C",{"$f":"+BASE_ANALISTA[[#This Row],[nombredelresponsable]]","v":"JENNYFFER ALEXANDRA SARMIENTO"},"11001","68001"]
[890703630,"IPS   SOCIEDAD MEDICO QUIRURGICA DEL TOLIMA CLINICA TOLILMA SA","ANALISTA CONCILIACIONES",3162946361,"JCORONADO@FAMISANAR.COM.CO","JENNYFFER ALEXANDRA SARMIENTO","JENNYFFER ALEXANDRA SARMIENTO, SANDRA BAUTISTA ","TOLIMA","IBAGUE",{"$f":"+BASE_ANALISTA[[#This Row],[nombredelresponsable]]","v":"JENNYFFER ALEXANDRA SARMIENTO"},"11001","08001"]
[892000501,"HOSPITALDEPARTAMENTAL DE VILLAVICENCIO ESE","ANALISTA CONCILIACIONES",3162946361,"JCORONADO@FAMISANAR.COM.CO","JENNYFFER ALEXANDRA SARMIENTO","JENNYFFER ALEXANDRA SARMIENTO, SANDRA BAUTISTA ","COLOMBIA","COLOMBIA",{"$f":"+BASE_ANALISTA[[#This Row],[nombredelresponsable]]","v":"JENNYFFER ALEXANDRA SARMIENTO"},"11001","76001"]
[900785163,"SOCIEDAD MEDICA Y DIAGNOSTICO SAS  \"IPS MEDICARE SAS\"","ANALISTA CONCILIACIONES",3162946361,"JCORONADO@FAMISANAR.COM.CO","JENNYFFER ALEXANDRA SARMIENTO","JENNYFFER ALEXANDRA SARMIENTO, SANDRA BAUTISTA ","COLOMBIA","COLOMBIA",{"$f":"+BASE_ANALISTA[[#This Row],[nombredelresponsable]]","v":"JENNYFFER ALEXANDRA SARMIENTO"},"11001","20001"]
[860023878,"ESE DIVINO SALVADOR SOPO","ANALISTA CONCILIACIONES",3162946361,"JCORONADO@FAMISANAR.COM.CO","JENNYFFER ALEXANDRA SARMIENTO","JENNYFFER ALEXANDRA SARMIENTO, SANDRA BAUTISTA ","CUNDINAMARCA","SOPO",{"$f":"+BASE_ANALISTA[[#This Row],[nombredelresponsable]]","v":"JENNYFFER ALEXANDRA SARMIENTO"},"11001","08001"]
[800174375,"EMPRESA SOCIAL DEL ESTADO HOSPITAL SAN VICENTE DE PAUL DE FOMEQUE","ANALISTA CONCILIACIONES",3162946361,"JCORONADO@FAMISANAR.COM.CO","JENNYFFER ALEXANDRA SARMIENTO","JENNYFFER ALEXANDRA SARMIENTO, SANDRA BAUTISTA ","CUNDINAMARCA","FOMEQUE",{"$f":"+BASE_ANALISTA[[#This Row],[nombredelresponsable]]","v":"JENNYFFER ALEXANDRA SARMIENTO"},"11001","13001"]
[900450008,"Clinica VIVE Limitada","ANALISTA CONCILIACIONES",3162946361,"JCORONADO@FAMISANAR.COM.CO","JENNYFFER ALEXANDRA SARMIENTO","JENNYFFER ALEXANDRA SARMIENTO, SANDRA BAUTISTA ","META","VILLAVICENCIO",{"$f":"+BASE_ANALISTA[[#This Row],[nombredelresponsable]]","v":"JENNYFFER ALEXANDRA SARMIENTO"},"11001","15104"]
[890303461,"HOSPITAL UNIVERSITARIO DEL VALLE EVARISTO GARCIA E.S.E","ANALISTA CONCILIACIONES",3162946361,"JCORONADO@FAMISANAR.COM.CO","JENNYFFER ALEXANDRA SARMIENTO","JENNYFFER ALEXANDRA SARMIENTO, SANDRA BAUTISTA ","VALLE DEL CAUCA","CALI",{"$f":"+BASE_ANALISTA[[#This Row],[nombredelresponsable]]","v":"JENNYFFER ALEXANDRA SARMIENTO"},"11001","68001"]
[900138815,"UNIDAD MATERNO INFANTIL DEL TOLIMA S.A","ANALISTA CONCILIACIONES",3162946361,"JCORONADO@FAMISANAR.COM.CO","JENNYFFER ALEXANDRA SARMIENTO","JENNYFFER ALEXANDRA SARMIENTO, SANDRA BAUTISTA ","TOLIMA","IBAGUE",{"$f":"+BASE_ANALISTA[[#This Row],[nombredelresponsable]]","v":"JENNYFFER ALEXANDRA SARMIENTO"},"11001","68081"]
[860043211,"LIGA CONTRA EL CANCER SECCIONAL BOGOTA","ANALISTA CONCILIACIONES",3162946361,"JCORONADO@FAMISANAR.COM.CO","JENNYFFER ALEXANDRA SARMIENTO","JENNYFFER ALEXANDRA SARMIENTO, SANDRA BAUTISTA ","COLOMBIA","COLOMBIA",{"$f":"+BASE_ANALISTA[[#This Row],[nombredelresponsable]]","v":"JENNYFFER ALEXANDRA SARMIENTO"},"11001","73268"]
[900053354,"HORIZONTES ABA TERAPIA INTEGRAL LIMITADA","ANALISTA CONCILIACIONES",3162946361,"JCORONADO@FAMISANAR.COM.CO","JENNYFFER ALEXANDRA SARMIENTO","JENNYFFER ALEXANDRA SARMIENTO, SANDRA BAUTISTA ","CUNDINAMARCA","BOGOTÁ D.C",{"$f":"+BASE_ANALISTA[[#This Row],[nombredelresponsable]]","v":"JENNYFFER ALEXANDRA SARMIENTO"},"11001","68001"]
[900272582,"CLINICA SAN  JUAN BAUTISTA","ANALISTA CONCILIACIONES",3162946361,"JCORONADO@FAMISANAR.COM.CO","JENNYFFER ALEXANDRA SARMIENTO","JENNYFFER ALEXANDRA SARMIENTO, SANDRA BAUTISTA ","LA GUAJIRA","SAN JUAN DEL CESAR",{"$f":"+BASE_ANALISTA[[#This Row],[nombredelresponsable]]","v":"JENNYFFER ALEXANDRA SARMIENTO"},"11001","25269"]
[890324177,"Fundación Valle del Lili","ANALISTA CONCILIACIONES",3162946361,"JCORONADO@FAMISANAR.COM.CO","JENNYFFER ALEXANDRA SARMIENTO","JENNYFFER ALEXANDRA SARMIENTO, SANDRA BAUTISTA ","VALLE DEL CAUCA","CALI",{"$f":"+BASE_ANALISTA[[#This Row],[nombredelresponsable]]","v":"JENNYFFER ALEXANDRA SARMIENTO"},"11001","25269"]
[900661740,"SANTA SOFIA IPS ESPINAL S.A.S","ANALISTA CONCILIACIONES",3162946361,"JCORONADO@FAMISANAR.COM.CO","JENNYFFER ALEXANDRA SARMIENTO","JENNYFFER ALEXANDRA SARMIENTO, SANDRA BAUTISTA ","TOLIMA ","ESPINAL",{"$f":"+BASE_ANALISTA[[#This Row],[nombredelresponsable]]","v":"JENNYFFER ALEXANDRA SARMIENTO"},"11001","76001"]
[860015929,"ESE HOSPITAL SALAZAR DE VILLETA","ANALISTA CONCILIACIONES",3162946361,"JCORONADO@FAMISANAR.COM.CO","JENNYFFER ALEXANDRA SARMIENTO","JENNYFFER ALEXANDRA SARMIENTO, SANDRA BAUTISTA ","CUNDINAMARCA","VILLETA",{"$f":"+BASE_ANALISTA[[#This Row],[nombredelresponsable]]","v":"JENNYFFER ALEXANDRA SARMIENTO"},"11001","15537"]
[800255963,"CLINICA SAN JOSE LTDA","ANALISTA CONCILIACIONES",3162946361,"JCORONADO@FAMISANAR.COM.CO","JENNYFFER ALEXANDRA SARMIENTO","JENNYFFER ALEXANDRA SARMIENTO, SANDRA BAUTISTA ","SANTANDER","BARRANCABERMEJA",{"$f":"+BASE_ANALISTA[[#This Row],[nombredelresponsable]]","v":"JENNYFFER ALEXANDRA SARMIENTO"},"11001"]
[900124874,"PROJECTION LIFE COLOMBIA","ANALISTA CONCILIACIONES",3162946361,"JCORONADO@FAMISANAR.COM.CO","JENNYFFER ALEXANDRA SARMIENTO","JENNYFFER ALEXANDRA SARMIENTO, SANDRA BAUTISTA ","SANTANDER","BUCARAMANGA",{"$f":"+BASE_ANALISTA[[#This Row],[nombredelresponsable]]","v":"JENNYFFER ALEXANDRA SARMIENTO"},"11001"]
[890706067,"HOSPITAL SAN JOSE DE MARIQUITA","ANALISTA CONCILIACIONES",3162946361,"JCORONADO@FAMISANAR.COM.CO","JENNYFFER ALEXANDRA SARMIENTO","JENNYFFER ALEXANDRA SARMIENTO, SANDRA BAUTISTA ","TOLIMA","SAN SEBASTIAN DE MARIQUITA",{"$f":"+BASE_ANALISTA[[#This Row],[nombredelresponsable]]","v":"JENNYFFER ALEXANDRA SARMIENTO"},"11001"]
[890702369,"CENTRAL DE URGENCIAS LOUIS PASTEUR","ANALISTA CONCILIACIONES",3162946361,"JCORONADO@FAMISANAR.COM.CO","JENNYFFER ALEXANDRA SARMIENTO","JENNYFFER ALEXANDRA SARMIENTO, SANDRA BAUTISTA ","TOLIMA","MELGAR",{"$f":"+BASE_ANALISTA[[#This Row],[nombredelresponsable]]","v":"JENNYFFER ALEXANDRA SARMIENTO"},"11001"]
[900007922,"AUDIOMEDICA S.A.S","ANALISTA CONCILIACIONES",3162946361,"JCORONADO@FAMISANAR.COM.CO","JENNYFFER ALEXANDRA SARMIENTO","JENNYFFER ALEXANDRA SARMIENTO, SANDRA BAUTISTA ","SANTANDER","BUCARAMANGA",{"$f":"+BASE_ANALISTA[[#This Row],[nombredelresponsable]]","v":"JENNYFFER ALEXANDRA SARMIENTO"},"11001"]
[800127648,"HORUS GRUPO OFTALMOLÓGICO S.A.","ANALISTA CONCILIACIONES",3162946361,"JCORONADO@FAMISANAR.COM.CO","JENNYFFER ALEXANDRA SARMIENTO","JENNYFFER ALEXANDRA SARMIENTO, SANDRA BAUTISTA ","CUNDINAMARCA","BOGOTÁ D.C",{"$f":"+BASE_ANALISTA[[#This Row],[nombredelresponsable]]","v":"JENNYFFER ALEXANDRA SARMIENTO"},"11001"]
[800014918,"E.S.E. Hospital Universitario Erasmo Meoz","ANALISTA CONCILIACIONES",3162946361,"JCORONADO@FAMISANAR.COM.CO","JENNYFFER ALEXANDRA SARMIENTO","JENNYFFER ALEXANDRA SARMIENTO, SANDRA BAUTISTA ","COLOMBIA","COLOMBIA",{"$f":"+BASE_ANALISTA[[#This Row],[nombredelresponsable]]","v":"JENNYFFER ALEXANDRA SARMIENTO"},"11001"]
[860071892,"FUNDACION CENTRO DE ESTIMULACION NIVELACION Y DESARROLLO CEDESNID","ANALISTA CONCILIACIONES",3162946361,"JCORONADO@FAMISANAR.COM.CO","JENNYFFER ALEXANDRA SARMIENTO","JENNYFFER ALEXANDRA SARMIENTO, SANDRA BAUTISTA ","COLOMBIA","COLOMBIA",{"$f":"+BASE_ANALISTA[[#This Row],[nombredelresponsable]]","v":"JENNYFFER ALEXANDRA SARMIENTO"},"11001"]
[900550197,"CENTRO DE ESTIMULACION REHABILITACION SEMILLAS DE ESPERANZA","ANALISTA CONCILIACIONES",3162946361,"JCORONADO@FAMISANAR.COM.CO","JENNYFFER ALEXANDRA SARMIENTO","JENNYFFER ALEXANDRA SARMIENTO, SANDRA BAUTISTA ","CUNDINAMARCA","BOGOTÁ D.C",{"$f":"+BASE_ANALISTA[[#This Row],[nombredelresponsable]]","v":"JENNYFFER ALEXANDRA SARMIENTO"},"11001"]
[805023423,"SOCIEDAD CNSDR SA","ANALISTA CONCILIACIONES",3162946361,"JCORONADO@FAMISANAR.COM.CO","JENNYFFER ALEXANDRA SARMIENTO","JENNYFFER ALEXANDRA SARMIENTO, SANDRA BAUTISTA ","VALLE DEL CAUCA","CALI",{"$f":"+BASE_ANALISTA[[#This Row],[nombredelresponsable]]","v":"JENNYFFER ALEXANDRA SARMIENTO"},"11001"]
[890211722,"CLINICA SAN PABLO S.A.","ANALISTA CONCILIACIONES",3162946361,"JCORONADO@FAMISANAR.COM.CO","JENNYFFER ALEXANDRA SARMIENTO","JENNYFFER ALEXANDRA SARMIENTO, SANDRA BAUTISTA ","SANTANDER","BUCARAMANGA",{"$f":"+BASE_ANALISTA[[#This Row],[nombredelresponsable]]","v":"JENNYFFER ALEXANDRA SARMIENTO"},"11001"]
[860066191,"MEDICOS ASOCIADOS S.A.","ANALISTA CONCILIACIONES",3162946361,"JCORONADO@FAMISANAR.COM.CO","JENNYFFER ALEXANDRA SARMIENTO","JENNYFFER ALEXANDRA SARMIENTO, SANDRA BAUTISTA ","COLOMBIA","COLOMBIA",{"$f":"+BASE_ANALISTA[[#This Row],[nombredelresponsable]]","v":"JENNYFFER ALEXANDRA SARMIENTO"},"11001"]
[830027806,"CENTRO DE ENFERMEDADES DIGESTIVAS CIA LTDA","ANALISTA CONCILIACIONES",3162946361,"JCORONADO@FAMISANAR.COM.CO","JENNYFFER ALEXANDRA SARMIENTO","JENNYFFER ALEXANDRA SARMIENTO, SANDRA BAUTISTA ","CUNDINAMARCA","BOGOTÁ D.C",{"$f":"+BASE_ANALISTA[[#This Row],[nombredelresponsable]]","v":"JENNYFFER ALEXANDRA SARMIENTO"},"11001"]
[900239673,"CENTRO MEDICO SINAPSIS IPS S.A","ANALISTA CONCILIACIONES",3162946361,"JCORONADO@FAMISANAR.COM.CO","JENNYFFER ALEXANDRA SARMIENTO","JENNYFFER ALEXANDRA SARMIENTO, SANDRA BAUTISTA ","SANTANDER","BUCARAMANGA",{"$f":"+BASE_ANALISTA[[#This Row],[nombredelresponsable]]","v":"JENNYFFER ALEXANDRA SARMIENTO"},"11001"]
[860049972,"UNIDAD DE ORIENTACION Y ASISTENCIA MATERNA","ANALISTA CONCILIACIONES",3162946361,"JCORONADO@FAMISANAR.COM.CO","JENNYFFER ALEXANDRA SARMIENTO","JENNYFFER ALEXANDRA SARMIENTO, SANDRA BAUTISTA ","COLOMBIA","COLOMBIA",{"$f":"+BASE_ANALISTA[[#This Row],[nombredelresponsable]]","v":"JENNYFFER ALEXANDRA SARMIENTO"},"11001"]
[805006389,"HOSPITAL EN CASA S.A.","ANALISTA CONCILIACIONES",3162946361,"JCORONADO@FAMISANAR.COM.CO","JENNYFFER ALEXANDRA SARMIENTO","JENNYFFER ALEXANDRA SARMIENTO, SANDRA BAUTISTA ","VALLE DEL CAUCA","CALI",{"$f":"+BASE_ANALISTA[[#This Row],[nombredelresponsable]]","v":"JENNYFFER ALEXANDRA SARMIENTO"},"11001"]
[860074971,"AAAA ACADEMIA ABSCRITA A ASOCIACION DE ESPECIALISTAS SAS","ANALISTA CONCILIACIONES",3162946361,"JCORONADO@FAMISANAR.COM.CO","JENNYFFER ALEXANDRA SARMIENTO","JENNYFFER ALEXANDRA SARMIENTO, SANDRA BAUTISTA ","CUNDINAMARCA","BOGOTÁ D.C",{"$f":"+BASE_ANALISTA[[#This Row],[nombredelresponsable]]","v":"JENNYFFER ALEXANDRA SARMIENTO"},"11001"]
[832000029,"HOSPITAL HILARIO LUGO","ANALISTA CONCILIACIONES",3162946361,"JCORONADO@FAMISANAR.COM.CO","JENNYFFER ALEXANDRA SARMIENTO","JENNYFFER ALEXANDRA SARMIENTO, SANDRA BAUTISTA ","CUNDINAMARCA","SASAIMA",{"$f":"+BASE_ANALISTA[[#This Row],[nombredelresponsable]]","v":"JENNYFFER ALEXANDRA SARMIENTO"},"11001"]
[800196939,"Hospital Occidente de Kennedy III Nivel  ESE","ANALISTA CONCILIACIONES",3162946361,"JCORONADO@FAMISANAR.COM.CO","JENNYFFER ALEXANDRA SARMIENTO","JENNYFFER ALEXANDRA SARMIENTO, SANDRA BAUTISTA ","COLOMBIA","COLOMBIA",{"$f":"+BASE_ANALISTA[[#This Row],[nombredelresponsable]]","v":"JENNYFFER ALEXANDRA SARMIENTO"},"11001"]
[830077650,"HOSPITAL FONTIBON II NIVEL E.S.E","ANALISTA CONCILIACIONES",3162946361,"JCORONADO@FAMISANAR.COM.CO","JENNYFFER ALEXANDRA SARMIENTO","JENNYFFER ALEXANDRA SARMIENTO, SANDRA BAUTISTA ","COLOMBIA","COLOMBIA",{"$f":"+BASE_ANALISTA[[#This Row],[nombredelresponsable]]","v":"JENNYFFER ALEXANDRA SARMIENTO"},"11001"]
[860516579,"SUPERAR LTDA","ANALISTA CONCILIACIONES",3162946361,"JCORONADO@FAMISANAR.COM.CO","JENNYFFER ALEXANDRA SARMIENTO","JENNYFFER ALEXANDRA SARMIENTO, SANDRA BAUTISTA ","CUNDINAMARCA","BOGOTÁ D.C",{"$f":"+BASE_ANALISTA[[#This Row],[nombredelresponsable]]","v":"JENNYFFER ALEXANDRA SARMIENTO"},"11001"]
[805011262,"RTS S A S","ANALISTA CONCILIACIONES",3162946361,"JCORONADO@FAMISANAR.COM.CO","JENNYFFER ALEXANDRA SARMIENTO","JENNYFFER ALEXANDRA SARMIENTO, SANDRA BAUTISTA ","ANTIOQUIA","MEDELLÍN",{"$f":"+BASE_ANALISTA[[#This Row],[nombredelresponsable]]","v":"JENNYFFER ALEXANDRA SARMIENTO"},"11001"]
[830074717,"FUNDACION AMAR","ANALISTA CONCILIACIONES",3162946361,"JCORONADO@FAMISANAR.COM.CO","JENNYFFER ALEXANDRA SARMIENTO","JENNYFFER ALEXANDRA SARMIENTO, SANDRA BAUTISTA ","COLOMBIA","COLOMBIA",{"$f":"+BASE_ANALISTA[[#This Row],[nombredelresponsable]]","v":"JENNYFFER ALEXANDRA SARMIENTO"},"11001"]
[860039431,"FUNDACION PARA LA REHABILITACION DE ALCOHOLICOS Y ADICTOS - FUNDAR","ANALISTA CONCILIACIONES",3162946361,"JCORONADO@FAMISANAR.COM.CO","ROSEMBERG ANDRES MUÑOZ ","JENNYFFER ALEXANDRA SARMIENTO, SANDRA BAUTISTA ","COLOMBIA","COLOMBIA",{"$f":"+BASE_ANALISTA[[#This Row],[nombredelresponsable]]","v":"ROSEMBERG ANDRES MUÑOZ "},"11001"]
[860020188,"HOSPITAL SANTA CLARA ESE","ANALISTA CONCILIACIONES",3162946361,"JCORONADO@FAMISANAR.COM.CO","ROSEMBERG ANDRES MUÑOZ ","JENNYFFER ALEXANDRA SARMIENTO, SANDRA BAUTISTA ","COLOMBIA","COLOMBIA",{"$f":"+BASE_ANALISTA[[#This Row],[nombredelresponsable]]","v":"ROSEMBERG ANDRES MUÑOZ "},"11001"]
[800216303,"HOSPITAL SAN BLAS II NIVEL  E.S.E","ANALISTA CONCILIACIONES",3162946361,"JCORONADO@FAMISANAR.COM.CO","ROSEMBERG ANDRES MUÑOZ ","JENNYFFER ALEXANDRA SARMIENTO, SANDRA BAUTISTA ","COLOMBIA","COLOMBIA",{"$f":"+BASE_ANALISTA[[#This Row],[nombredelresponsable]]","v":"ROSEMBERG ANDRES MUÑOZ "},"11001"]
[800197177,"HOSPITAL LA VICTORIA III NIVEL EMPRESA SOCIAL DEL ESTADO","ANALISTA CONCILIACIONES",3162946361,"JCORONADO@FAMISANAR.COM.CO","ROSEMBERG ANDRES MUÑOZ ","JENNYFFER ALEXANDRA SARMIENTO, SANDRA BAUTISTA ","COLOMBIA","COLOMBIA",{"$f":"+BASE_ANALISTA[[#This Row],[nombredelresponsable]]","v":"ROSEMBERG ANDRES MUÑOZ "},"11001"]
[830037741,"FUNDACION ESENSA","ANALISTA CONCILIACIONES",3162946361,"JCORONADO@FAMISANAR.COM.CO","ROSEMBERG ANDRES MUÑOZ ","JENNYFFER ALEXANDRA SARMIENTO, SANDRA BAUTISTA ","COLOMBIA","COLOMBIA",{"$f":"+BASE_ANALISTA[[#This Row],[nombredelresponsable]]","v":"ROSEMBERG ANDRES MUÑOZ "},"11001"]
[860006656,"FUNDACION ABOD SHAIO","ANALISTA CONCILIACIONES",3114782491,"RMUNOZA@FAMISANAR.COM.CO","JHON VARGAS, ROSEMBERG ANDRES MUÑOZ ","JHON VARGAS, ROSEMBERG ANDRES MUÑOZ ","COLOMBIA","COLOMBIA",{"$f":"+BASE_ANALISTA[[#This Row],[nombredelresponsable]]","v":"JHON VARGAS, ROSEMBERG ANDRES MUÑOZ "},"11001"]
[830090073,"ASOCIACION DE AMIGOS CONTRA EL CANCER PROSEGUIR","ANALISTA CONCILIACIONES",3114782491,"RMUNOZA@FAMISANAR.COM.CO","JHON VARGAS, ROSEMBERG ANDRES MUÑOZ ","JHON VARGAS, ROSEMBERG ANDRES MUÑOZ ","COLOMBIA","COLOMBIA",{"$f":"+BASE_ANALISTA[[#This Row],[nombredelresponsable]]","v":"JHON VARGAS, ROSEMBERG ANDRES MUÑOZ "},"11001"]
[890680025,"ESE HOSPITAL SAN RAFAEL DE FUSAGASUGA","ANALISTA CONCILIACIONES",3114782491,"RMUNOZA@FAMISANAR.COM.CO","JHON VARGAS, ROSEMBERG ANDRES MUÑOZ ","JHON VARGAS, ROSEMBERG ANDRES MUÑOZ ","COLOMBIA","COLOMBIA",{"$f":"+BASE_ANALISTA[[#This Row],[nombredelresponsable]]","v":"JHON VARGAS, ROSEMBERG ANDRES MUÑOZ "},"11001"]
[900959048,"Subred Integrada de Salud Suroccidente E.S.E","ANALISTA CONCILIACIONES",3114782491,"RMUNOZA@FAMISANAR.COM.CO","JHON VARGAS, ROSEMBERG ANDRES MUÑOZ ","JHON VARGAS, ROSEMBERG ANDRES MUÑOZ ","COLOMBIA","COLOMBIA",{"$f":"+BASE_ANALISTA[[#This Row],[nombredelresponsable]]","v":"JHON VARGAS, ROSEMBERG ANDRES MUÑOZ "},"11001"]
[900529056,"MEDIFACA IPS S.A.S","ANALISTA CONCILIACIONES",3114782491,"RMUNOZA@FAMISANAR.COM.CO","JHON VARGAS, ROSEMBERG ANDRES MUÑOZ ","JHON VARGAS, ROSEMBERG ANDRES MUÑOZ ","CUNDINAMARCA","FACATATIVA",{"$f":"+BASE_ANALISTA[[#This Row],[nombredelresponsable]]","v":"JHON VARGAS, ROSEMBERG ANDRES MUÑOZ "},"11001"]
[900301238,"BOSTON MEDICAL CARE IPS SAS","ANALISTA CONCILIACIONES",3114782491,"RMUNOZA@FAMISANAR.COM.CO","JHON VARGAS, ROSEMBERG ANDRES MUÑOZ ","JHON VARGAS, ROSEMBERG ANDRES MUÑOZ ","COLOMBIA","COLOMBIA",{"$f":"+BASE_ANALISTA[[#This Row],[nombredelresponsable]]","v":"JHON VARGAS, ROSEMBERG ANDRES MUÑOZ "},"11001"]
[832001411,"ESE HOSPITAL SAN RAFAEL DE CAQUEZA","ANALISTA CONCILIACIONES",3114782491,"RMUNOZA@FAMISANAR.COM.CO","JHON VARGAS, ROSEMBERG ANDRES MUÑOZ ","JHON VARGAS, ROSEMBERG ANDRES MUÑOZ ","CUNDINAMARCA","CAQUEZA",{"$f":"+BASE_ANALISTA[[#This Row],[nombredelresponsable]]","v":"JHON VARGAS, ROSEMBERG ANDRES MUÑOZ "},"11001"]
[820005389,"E.S.E. HOSPITAL REGIONAL DE CHIQUINQUIRA","ANALISTA CONCILIACIONES",3114782491,"RMUNOZA@FAMISANAR.COM.CO","JHON VARGAS, ROSEMBERG ANDRES MUÑOZ ","JHON VARGAS, ROSEMBERG ANDRES MUÑOZ ","BOYACÁ","CHIQUINQUIRA",{"$f":"+BASE_ANALISTA[[#This Row],[nombredelresponsable]]","v":"JHON VARGAS, ROSEMBERG ANDRES MUÑOZ "},"11001"]
[900110940,"INVERSIONES LUCEDMARB S.A.","ANALISTA CONCILIACIONES",3114782491,"RMUNOZA@FAMISANAR.COM.CO","JHON VARGAS, ROSEMBERG ANDRES MUÑOZ ","JHON VARGAS, ROSEMBERG ANDRES MUÑOZ ","CUNDINAMARCA","SIBATE",{"$f":"+BASE_ANALISTA[[#This Row],[nombredelresponsable]]","v":"JHON VARGAS, ROSEMBERG ANDRES MUÑOZ "},"11001"]
[900004894,"HOSPITAL REGIONAL VALLE DE TENZA","ANALISTA CONCILIACIONES",3114782491,"RMUNOZA@FAMISANAR.COM.CO","JHON VARGAS, ROSEMBERG ANDRES MUÑOZ ","JHON VARGAS, ROSEMBERG ANDRES MUÑOZ ","BOYACÁ","GUATEQUE",{"$f":"+BASE_ANALISTA[[#This Row],[nombredelresponsable]]","v":"JHON VARGAS, ROSEMBERG ANDRES MUÑOZ "},"11001"]
[813001952,"CLINICA MEDILASER SA","ANALISTA CONCILIACIONES",3114782491,"RMUNOZA@FAMISANAR.COM.CO","JHON VARGAS, ROSEMBERG ANDRES MUÑOZ ","JHON VARGAS, ROSEMBERG ANDRES MUÑOZ ","BOYACA","TUNJA",{"$f":"+BASE_ANALISTA[[#This Row],[nombredelresponsable]]","v":"JHON VARGAS, ROSEMBERG ANDRES MUÑOZ "},"11001"]
[900328772,"CLINICA GENERAL DE LA 100 S.A.S.","ANALISTA CONCILIACIONES",3114782491,"RMUNOZA@FAMISANAR.COM.CO","JHON VARGAS, ROSEMBERG ANDRES MUÑOZ ","JHON VARGAS, ROSEMBERG ANDRES MUÑOZ ","COLOMBIA","COLOMBIA",{"$f":"+BASE_ANALISTA[[#This Row],[nombredelresponsable]]","v":"JHON VARGAS, ROSEMBERG ANDRES MUÑOZ "},"11001"]
[891856507,"SOCIEDAD CLINICA BOYACA LTDA","ANALISTA CONCILIACIONES",3114782491,"RMUNOZA@FAMISANAR.COM.CO","JHON VARGAS, ROSEMBERG ANDRES MUÑOZ ","JHON VARGAS, ROSEMBERG ANDRES MUÑOZ ","BOYACÁ","DUITAMA",{"$f":"+BASE_ANALISTA[[#This Row],[nombredelresponsable]]","v":"JHON VARGAS, ROSEMBERG ANDRES MUÑOZ "},"11001"]
[900013381,"SOCIEDAD MEDICA DE ESPECIALISTAS DIAGNOSTICO E IMAGENOLOGIA MEDSALUD LTDA","ANALISTA CONCILIACIONES",3114782491,"RMUNOZA@FAMISANAR.COM.CO","JHON VARGAS, ROSEMBERG ANDRES MUÑOZ ","JHON VARGAS, ROSEMBERG ANDRES MUÑOZ ","CUNDINAMARCA","FUSAGASUGA",{"$f":"+BASE_ANALISTA[[#This Row],[nombredelresponsable]]","v":"JHON VARGAS, ROSEMBERG ANDRES MUÑOZ "},"11001"]
[830100595,"Centro de Investigaciones del Sistema Nervioso, Grupo CISNE LTDA","ANALISTA CONCILIACIONES",3114782491,"RMUNOZA@FAMISANAR.COM.CO","JHON VARGAS, ROSEMBERG ANDRES MUÑOZ ","JHON VARGAS, ROSEMBERG ANDRES MUÑOZ ","COLOMBIA","COLOMBIA",{"$f":"+BASE_ANALISTA[[#This Row],[nombredelresponsable]]","v":"JHON VARGAS, ROSEMBERG ANDRES MUÑOZ "},"11001"]
[900807482,"EMPRESA SOCIAL DEL ESTADO HOSPITAL DE LA VEGA","ANALISTA CONCILIACIONES",3114782491,"RMUNOZA@FAMISANAR.COM.CO","JHON VARGAS, ROSEMBERG ANDRES MUÑOZ ","JHON VARGAS, ROSEMBERG ANDRES MUÑOZ ","CUNDINAMARCA","LA VEGA",{"$f":"+BASE_ANALISTA[[#This Row],[nombredelresponsable]]","v":"JHON VARGAS, ROSEMBERG ANDRES MUÑOZ "},"11001"]
[800099860,"EMPRESA SOCIAL DEL ESTADO HOSPITAL SAN RAFAEL DE PACHO","ANALISTA CONCILIACIONES",3114782491,"RMUNOZA@FAMISANAR.COM.CO","JHON VARGAS, ROSEMBERG ANDRES MUÑOZ ","JHON VARGAS, ROSEMBERG ANDRES MUÑOZ ","CUNDINAMARCA","PACHO",{"$f":"+BASE_ANALISTA[[#This Row],[nombredelresponsable]]","v":"JHON VARGAS, ROSEMBERG ANDRES MUÑOZ "},"11001"]
[891855039,"HOSPITAL REGIONAL DE SOGAMOSO E.S.E.","ANALISTA CONCILIACIONES",3114782491,"RMUNOZA@FAMISANAR.COM.CO","JHON VARGAS, ROSEMBERG ANDRES MUÑOZ ","JHON VARGAS, ROSEMBERG ANDRES MUÑOZ ","BOYACÁ","SOGAMOSO",{"$f":"+BASE_ANALISTA[[#This Row],[nombredelresponsable]]","v":"JHON VARGAS, ROSEMBERG ANDRES MUÑOZ "},"11001"]
[900750333,"ESE DEL ORDEN DEPARTAMENTAL HOSPITAL NUESTRA SEÑORA DE LAS MERCEDES DEL MUNICIPIO DE FUNZA","ANALISTA CONCILIACIONES",3114782491,"RMUNOZA@FAMISANAR.COM.CO","JHON VARGAS, ROSEMBERG ANDRES MUÑOZ ","JHON VARGAS, ROSEMBERG ANDRES MUÑOZ ","CUNDINAMARCA","FUNZA",{"$f":"+BASE_ANALISTA[[#This Row],[nombredelresponsable]]","v":"JHON VARGAS, ROSEMBERG ANDRES MUÑOZ "},"11001"]
[891855438,"E.S.E HOSPITAL REGIONAL DUITAMA","ANALISTA CONCILIACIONES",3114782491,"RMUNOZA@FAMISANAR.COM.CO","JHON VARGAS, ROSEMBERG ANDRES MUÑOZ ","JHON VARGAS, ROSEMBERG ANDRES MUÑOZ ","BOYACÁ","DUITAMA",{"$f":"+BASE_ANALISTA[[#This Row],[nombredelresponsable]]","v":"JHON VARGAS, ROSEMBERG ANDRES MUÑOZ "},"11001"]
[900218628,"CENTRO MEDICO SAN LUIS CLINICA QUIRURGICA S EN C","ANALISTA CONCILIACIONES",3114782491,"RMUNOZA@FAMISANAR.COM.CO","JHON VARGAS, ROSEMBERG ANDRES MUÑOZ ","JHON VARGAS, ROSEMBERG ANDRES MUÑOZ ","CUNDINAMARCA","CAJICA",{"$f":"+BASE_ANALISTA[[#This Row],[nombredelresponsable]]","v":"JHON VARGAS, ROSEMBERG ANDRES MUÑOZ "},"11001"]
[900355491,"LIMEQ SAS","ANALISTA CONCILIACIONES",3114782491,"RMUNOZA@FAMISANAR.COM.CO","JHON VARGAS, ROSEMBERG ANDRES MUÑOZ ","JHON VARGAS, ROSEMBERG ANDRES MUÑOZ ","BOYACÁ","TUNJA",{"$f":"+BASE_ANALISTA[[#This Row],[nombredelresponsable]]","v":"JHON VARGAS, ROSEMBERG ANDRES MUÑOZ "},"11001"]
[860020094,"ESE HOSPITAL NUESTRA SEÑORA DEL CARMEN DEL COLEGIO","ANALISTA CONCILIACIONES",3114782491,"RMUNOZA@FAMISANAR.COM.CO","JHON VARGAS, ROSEMBERG ANDRES MUÑOZ ","JHON VARGAS, ROSEMBERG ANDRES MUÑOZ ","CUNDINAMARCA","EL COLEGIO",{"$f":"+BASE_ANALISTA[[#This Row],[nombredelresponsable]]","v":"JHON VARGAS, ROSEMBERG ANDRES MUÑOZ "},"11001"]
[810000913,"EMPRESA SOCIAL DEL ESTADO HOSPITAL SAN FÉLIX","ANALISTA CONCILIACIONES",3114782491,"RMUNOZA@FAMISANAR.COM.CO","JHON VARGAS, ROSEMBERG ANDRES MUÑOZ ","JHON VARGAS, ROSEMBERG ANDRES MUÑOZ ","COLOMBIA","COLOMBIA",{"$f":"+BASE_ANALISTA[[#This Row],[nombredelresponsable]]","v":"JHON VARGAS, ROSEMBERG ANDRES MUÑOZ "},"11001"]
[800174851,"Sociedad Medico Quirurjica Nuestra Señora de Belen","ANALISTA CONCILIACIONES",3114782491,"RMUNOZA@FAMISANAR.COM.CO","JHON VARGAS, ROSEMBERG ANDRES MUÑOZ ","JHON VARGAS, ROSEMBERG ANDRES MUÑOZ ","CUNDINAMARCA","FUSAGASUGA",{"$f":"+BASE_ANALISTA[[#This Row],[nombredelresponsable]]","v":"JHON VARGAS, ROSEMBERG ANDRES MUÑOZ "},"11001"]
[891800231,"E.S.E Hospital San Rafael de Tunja","ANALISTA CONCILIACIONES",3114782491,"RMUNOZA@FAMISANAR.COM.CO","JHON VARGAS, ROSEMBERG ANDRES MUÑOZ ","JHON VARGAS, ROSEMBERG ANDRES MUÑOZ ","COLOMBIA","COLOMBIA",{"$f":"+BASE_ANALISTA[[#This Row],[nombredelresponsable]]","v":"JHON VARGAS, ROSEMBERG ANDRES MUÑOZ "},"11001"]
[891800570,"ESE. HOSPITAL JOSE CAYETANO VASQUEZ","ANALISTA CONCILIACIONES",3114782491,"RMUNOZA@FAMISANAR.COM.CO","JHON VARGAS, ROSEMBERG ANDRES MUÑOZ ","JHON VARGAS, ROSEMBERG ANDRES MUÑOZ ","BOYACÁ","PUERTO BOYACA",{"$f":"+BASE_ANALISTA[[#This Row],[nombredelresponsable]]","v":"JHON VARGAS, ROSEMBERG ANDRES MUÑOZ "},"11001"]
[830124110,"SALUD VITAL DE COLOMBIA IPS","ANALISTA CONCILIACIONES",3114782491,"RMUNOZA@FAMISANAR.COM.CO","JHON VARGAS, ROSEMBERG ANDRES MUÑOZ ","JHON VARGAS, ROSEMBERG ANDRES MUÑOZ ","BOYACÁ","DUITAMA",{"$f":"+BASE_ANALISTA[[#This Row],[nombredelresponsable]]","v":"JHON VARGAS, ROSEMBERG ANDRES MUÑOZ "},"11001"]
[860020283,"EMPRESA  SOCIAL DEL ESTADO HOSPITAL SAN JOSE DE GUADUAS","ANALISTA CONCILIACIONES",3114782491,"RMUNOZA@FAMISANAR.COM.CO","JHON VARGAS, ROSEMBERG ANDRES MUÑOZ ","JHON VARGAS, ROSEMBERG ANDRES MUÑOZ ","CUNDINAMARCA","GUADUAS",{"$f":"+BASE_ANALISTA[[#This Row],[nombredelresponsable]]","v":"JHON VARGAS, ROSEMBERG ANDRES MUÑOZ "},"11001"]
[891856161,"CLINICA EL LAGUITO S.A.","ANALISTA CONCILIACIONES",3114782491,"RMUNOZA@FAMISANAR.COM.CO","JHON VARGAS, ROSEMBERG ANDRES MUÑOZ ","JHON VARGAS, ROSEMBERG ANDRES MUÑOZ ","BOYACÁ","SOGAMOSO",{"$f":"+BASE_ANALISTA[[#This Row],[nombredelresponsable]]","v":"JHON VARGAS, ROSEMBERG ANDRES MUÑOZ "},"11001"]
[891855209,"ESE HOSPITAL SAN VICENTE DE PAÚL DE PAIPA","ANALISTA CONCILIACIONES",3114782491,"RMUNOZA@FAMISANAR.COM.CO","JHON VARGAS, ROSEMBERG ANDRES MUÑOZ ","JHON VARGAS, ROSEMBERG ANDRES MUÑOZ ","BOYACÁ","PAIPA",{"$f":"+BASE_ANALISTA[[#This Row],[nombredelresponsable]]","v":"JHON VARGAS, ROSEMBERG ANDRES MUÑOZ "},"11001"]
[826000261,"SERVICIOS INTEGRALES DE REHABILITACION EN BOYACA LIMITADA","ANALISTA CONCILIACIONES",3114782491,"RMUNOZA@FAMISANAR.COM.CO","JHON VARGAS, ROSEMBERG ANDRES MUÑOZ ","JHON VARGAS, ROSEMBERG ANDRES MUÑOZ ","BOYACÁ","SOGAMOSO",{"$f":"+BASE_ANALISTA[[#This Row],[nombredelresponsable]]","v":"JHON VARGAS, ROSEMBERG ANDRES MUÑOZ "},"11001"]
[860005114,"LINDE COLOMBIA S.A","ANALISTA CONCILIACIONES",3114782491,"RMUNOZA@FAMISANAR.COM.CO","JHON VARGAS, ROSEMBERG ANDRES MUÑOZ ","JHON VARGAS, ROSEMBERG ANDRES MUÑOZ ","COLOMBIA","COLOMBIA",{"$f":"+BASE_ANALISTA[[#This Row],[nombredelresponsable]]","v":"JHON VARGAS, ROSEMBERG ANDRES MUÑOZ "},"11001"]
[900010842,"CAN 2005 S EN C","ANALISTA CONCILIACIONES",3114782491,"RMUNOZA@FAMISANAR.COM.CO","JHON VARGAS, ROSEMBERG ANDRES MUÑOZ ","JHON VARGAS, ROSEMBERG ANDRES MUÑOZ ","CUNDINAMARCA","FACATATIVA",{"$f":"+BASE_ANALISTA[[#This Row],[nombredelresponsable]]","v":"JHON VARGAS, ROSEMBERG ANDRES MUÑOZ "},"11001"]
[832000290,"clinica de tenjo ltda","ANALISTA CONCILIACIONES",3114782491,"RMUNOZA@FAMISANAR.COM.CO","JHON VARGAS, ROSEMBERG ANDRES MUÑOZ ","JHON VARGAS, ROSEMBERG ANDRES MUÑOZ ","CUNDINAMARCA","TENJO",{"$f":"+BASE_ANALISTA[[#This Row],[nombredelresponsable]]","v":"JHON VARGAS, ROSEMBERG ANDRES MUÑOZ "},"11001"]
[891800906,"ESE HOSPITAL SAN FRANCISCO DE  VILLA  DE LEYVA","ANALISTA CONCILIACIONES",3114782491,"RMUNOZA@FAMISANAR.COM.CO","JHON VARGAS, ROSEMBERG ANDRES MUÑOZ ","JHON VARGAS, ROSEMBERG ANDRES MUÑOZ ","BOYACÁ","VILLA DE LEYVA",{"$f":"+BASE_ANALISTA[[#This Row],[nombredelresponsable]]","v":"JHON VARGAS, ROSEMBERG ANDRES MUÑOZ "},"11001"]
[820001277,"CENTRO DE CANCEROLOGIA DE BOYACA SAS","ANALISTA CONCILIACIONES",3114782491,"RMUNOZA@FAMISANAR.COM.CO","JHON VARGAS, ROSEMBERG ANDRES MUÑOZ ","JHON VARGAS, ROSEMBERG ANDRES MUÑOZ ","BOYACÁ","TUNJA",{"$f":"+BASE_ANALISTA[[#This Row],[nombredelresponsable]]","v":"JHON VARGAS, ROSEMBERG ANDRES MUÑOZ "},"11001"]
[900606427,"UNIDAD OFTALMOLOGICA DE ALTA TECNOLOGIA S.A.S","ANALISTA CONCILIACIONES",3114782491,"RMUNOZA@FAMISANAR.COM.CO","JHON VARGAS, ROSEMBERG ANDRES MUÑOZ ","JHON VARGAS, ROSEMBERG ANDRES MUÑOZ ","CUNDINAMARCA","GIRARDOT",{"$f":"+BASE_ANALISTA[[#This Row],[nombredelresponsable]]","v":"JHON VARGAS, ROSEMBERG ANDRES MUÑOZ "},"11001"]
[820001181,"ASORSALUD SM LTDA","ANALISTA CONCILIACIONES",3114782491,"RMUNOZA@FAMISANAR.COM.CO","JHON VARGAS, ROSEMBERG ANDRES MUÑOZ ","JHON VARGAS, ROSEMBERG ANDRES MUÑOZ ","BOYACÁ","TUNJA",{"$f":"+BASE_ANALISTA[[#This Row],[nombredelresponsable]]","v":"JHON VARGAS, ROSEMBERG ANDRES MUÑOZ "},"11001"]
[891800611,"EMPRESA SOCIAL DEL ESTADO HOSPITAL SAN ANTONIO DE SOATA","ANALISTA CONCILIACIONES",3114782491,"RMUNOZA@FAMISANAR.COM.CO","JHON VARGAS, ROSEMBERG ANDRES MUÑOZ ","JHON VARGAS, ROSEMBERG ANDRES MUÑOZ ","BOYACÁ","SOATA",{"$f":"+BASE_ANALISTA[[#This Row],[nombredelresponsable]]","v":"JHON VARGAS, ROSEMBERG ANDRES MUÑOZ "},"11001"]
[800214230,"MEDIAGNOSTICA TECMEDI S.A.S.","ANALISTA CONCILIACIONES",3114782491,"RMUNOZA@FAMISANAR.COM.CO","JHON VARGAS, ROSEMBERG ANDRES MUÑOZ ","JHON VARGAS, ROSEMBERG ANDRES MUÑOZ ","BOYACÁ","DUITAMA",{"$f":"+BASE_ANALISTA[[#This Row],[nombredelresponsable]]","v":"JHON VARGAS, ROSEMBERG ANDRES MUÑOZ "},"11001"]
[900109866,"ARCÁNGELES FUNDACIÓN PARA LA REHABILITACIÓN  INTEGRAL","ANALISTA CONCILIACIONES",3114782491,"RMUNOZA@FAMISANAR.COM.CO","JHON VARGAS, ROSEMBERG ANDRES MUÑOZ ","JHON VARGAS, ROSEMBERG ANDRES MUÑOZ ","COLOMBIA","COLOMBIA",{"$f":"+BASE_ANALISTA[[#This Row],[nombredelresponsable]]","v":"JHON VARGAS, ROSEMBERG ANDRES MUÑOZ "},"11001"]
[891800395,"HOSPITAL REGIONAL DE MONIQUIRA E.S.E","ANALISTA CONCILIACIONES",3114782491,"RMUNOZA@FAMISANAR.COM.CO","JHON VARGAS, ROSEMBERG ANDRES MUÑOZ ","JHON VARGAS, ROSEMBERG ANDRES MUÑOZ ","BOYACÁ","MONIQUIRA",{"$f":"+BASE_ANALISTA[[#This Row],[nombredelresponsable]]","v":"JHON VARGAS, ROSEMBERG ANDRES MUÑOZ "},"11001"]
[814003448,"Audiocom IPS SAS","ANALISTA CONCILIACIONES",3114782491,"RMUNOZA@FAMISANAR.COM.CO","JHON VARGAS, ROSEMBERG ANDRES MUÑOZ ","JHON VARGAS, ROSEMBERG ANDRES MUÑOZ ","CUNDINAMARCA","BOGOTÁ",{"$f":"+BASE_ANALISTA[[#This Row],[nombredelresponsable]]","v":"JHON VARGAS, ROSEMBERG ANDRES MUÑOZ "},"11001"]
[804013017,"CENTRO ONCOLOGICO LTDA","ANALISTA CONCILIACIONES",3114782491,"RMUNOZA@FAMISANAR.COM.CO","JHON VARGAS, ROSEMBERG ANDRES MUÑOZ ","JHON VARGAS, ROSEMBERG ANDRES MUÑOZ ","COLOMBIA","COLOMBIA",{"$f":"+BASE_ANALISTA[[#This Row],[nombredelresponsable]]","v":"JHON VARGAS, ROSEMBERG ANDRES MUÑOZ "},"11001"]
[899999161,"ESE Hospital Habacuc Calderon","ANALISTA CONCILIACIONES",3114782491,"RMUNOZA@FAMISANAR.COM.CO","JHON VARGAS, ROSEMBERG ANDRES MUÑOZ ","JHON VARGAS, ROSEMBERG ANDRES MUÑOZ ","CUNDINAMARCA","CARMEN DE CARUPA",{"$f":"+BASE_ANALISTA[[#This Row],[nombredelresponsable]]","v":"JHON VARGAS, ROSEMBERG ANDRES MUÑOZ "},"11001"]
[900308007,"PASSUS IPS TALLER PSICOMOTRIZ SAS","ANALISTA CONCILIACIONES",3114782491,"RMUNOZA@FAMISANAR.COM.CO","JHON VARGAS, ROSEMBERG ANDRES MUÑOZ ","JHON VARGAS, ROSEMBERG ANDRES MUÑOZ ","CUNDINAMARCA","BOGOTÁ D.C",{"$f":"+BASE_ANALISTA[[#This Row],[nombredelresponsable]]","v":"JHON VARGAS, ROSEMBERG ANDRES MUÑOZ "},"11001"]
[900180348,"ORTOPEDICA CHAPINERO E.U.","ANALISTA CONCILIACIONES",3114782491,"RMUNOZA@FAMISANAR.COM.CO","JHON VARGAS, ROSEMBERG ANDRES MUÑOZ ","JHON VARGAS, ROSEMBERG ANDRES MUÑOZ ","COLOMBIA","COLOMBIA",{"$f":"+BASE_ANALISTA[[#This Row],[nombredelresponsable]]","v":"JHON VARGAS, ROSEMBERG ANDRES MUÑOZ "},"11001"]
[900374337,"BIOMAB IPS SAS","ANALISTA CONCILIACIONES",3114782491,"RMUNOZA@FAMISANAR.COM.CO","JHON VARGAS, ROSEMBERG ANDRES MUÑOZ ","JHON VARGAS, ROSEMBERG ANDRES MUÑOZ ","CUNDINAMARCA","BOGOTÁ",{"$f":"+BASE_ANALISTA[[#This Row],[nombredelresponsable]]","v":"JHON VARGAS, ROSEMBERG ANDRES MUÑOZ "},"11001"]
[800085486,"CLINICA PARTENON LTDA","ANALISTA CONCILIACIONES",3114782491,"RMUNOZA@FAMISANAR.COM.CO","JHON VARGAS, ROSEMBERG ANDRES MUÑOZ ","JHON VARGAS, ROSEMBERG ANDRES MUÑOZ ","COLOMBIA","COLOMBIA",{"$f":"+BASE_ANALISTA[[#This Row],[nombredelresponsable]]","v":"JHON VARGAS, ROSEMBERG ANDRES MUÑOZ "},"11001"]
[830025643,"IMAGENES DIAGNOSTICAS CLINICAS S.A.","ANALISTA CONCILIACIONES",3114782491,"RMUNOZA@FAMISANAR.COM.CO","JHON VARGAS, ROSEMBERG ANDRES MUÑOZ ","JHON VARGAS, ROSEMBERG ANDRES MUÑOZ ","CUNDINAMARCA","GIRARDOT",{"$f":"+BASE_ANALISTA[[#This Row],[nombredelresponsable]]","v":"JHON VARGAS, ROSEMBERG ANDRES MUÑOZ "},"11001"]
[860013704,"GASES INDUSTRIALES DE COLOMBIA CRYOGAS SA","ANALISTA CONCILIACIONES",3114782491,"RMUNOZA@FAMISANAR.COM.CO","JHON VARGAS, ROSEMBERG ANDRES MUÑOZ ","JHON VARGAS, ROSEMBERG ANDRES MUÑOZ ","COLOMBIA","COLOMBIA",{"$f":"+BASE_ANALISTA[[#This Row],[nombredelresponsable]]","v":"JHON VARGAS, ROSEMBERG ANDRES MUÑOZ "},"11001"]
[891800023,"CLINICA TUNDAMA LTDA","ANALISTA CONCILIACIONES",3114782491,"RMUNOZA@FAMISANAR.COM.CO","JHON VARGAS, ROSEMBERG ANDRES MUÑOZ ","JHON VARGAS, ROSEMBERG ANDRES MUÑOZ ","BOYACÁ","DUITAMA",{"$f":"+BASE_ANALISTA[[#This Row],[nombredelresponsable]]","v":"JHON VARGAS, ROSEMBERG ANDRES MUÑOZ "},"11001"]
[900410792,"Clinica Pozo Donato de Tunja S.A.S.","ANALISTA CONCILIACIONES",3114782491,"RMUNOZA@FAMISANAR.COM.CO","JHON VARGAS, ROSEMBERG ANDRES MUÑOZ ","JHON VARGAS, ROSEMBERG ANDRES MUÑOZ ","BOYACA","TUNJA",{"$f":"+BASE_ANALISTA[[#This Row],[nombredelresponsable]]","v":"JHON VARGAS, ROSEMBERG ANDRES MUÑOZ "},"11001"]
[900809723,"SERVICIOS DE ATENCION DOMICILIARIA EN SALUD SAS","ANALISTA CONCILIACIONES",3114782491,"RMUNOZA@FAMISANAR.COM.CO","JHON VARGAS, ROSEMBERG ANDRES MUÑOZ ","JHON VARGAS, ROSEMBERG ANDRES MUÑOZ ","CUNDINAMARCA","BOGOTÁ",{"$f":"+BASE_ANALISTA[[#This Row],[nombredelresponsable]]","v":"JHON VARGAS, ROSEMBERG ANDRES MUÑOZ "},"11001"]
[832003868,"UNIDAD MEDICO QUIRURGICA Y ODONTOLOGICA SANTA CAROLINA SAS","ANALISTA CONCILIACIONES",3114782491,"RMUNOZA@FAMISANAR.COM.CO","JHON VARGAS, ROSEMBERG ANDRES MUÑOZ ","JHON VARGAS, ROSEMBERG ANDRES MUÑOZ ","CUNDINAMARCA","TOCANCIPA",{"$f":"+BASE_ANALISTA[[#This Row],[nombredelresponsable]]","v":"JHON VARGAS, ROSEMBERG ANDRES MUÑOZ "},"11001"]
[820002033,"CLINICA SANTA TERESA SA","ANALISTA CONCILIACIONES",3114782491,"RMUNOZA@FAMISANAR.COM.CO","JHON VARGAS, ROSEMBERG ANDRES MUÑOZ ","JHON VARGAS, ROSEMBERG ANDRES MUÑOZ ","BOYACÁ","TUNJA",{"$f":"+BASE_ANALISTA[[#This Row],[nombredelresponsable]]","v":"JHON VARGAS, ROSEMBERG ANDRES MUÑOZ "},"11001"]
[900971006,"SUBRED INTEGRADA DE SERVICIOS DE SALUD NORTE  E.S.E","ANALISTA CONCILIACIONES",3214435321,"JBOLIVAR@FAMISANAR.COM.CO","JULIO BOLIVAR ","SONIA AYALA , JULIO BOLIVAR ","COLOMBIA","COLOMBIA",{"$f":"+BASE_ANALISTA[[#This Row],[nombredelresponsable]]","v":"JULIO BOLIVAR "},"11001"]
[860037950,"FUNDACION SANTA FE DE BOGOTA","ANALISTA CONCILIACIONES",3214435321,"JBOLIVAR@FAMISANAR.COM.CO","JULIO BOLIVAR ","SONIA AYALA , JULIO BOLIVAR ","COLOMBIA","COLOMBIA",{"$f":"+BASE_ANALISTA[[#This Row],[nombredelresponsable]]","v":"JULIO BOLIVAR "},"11001"]
[900971406,"IPS ARCASALUD SAS","ANALISTA CONCILIACIONES",3214435321,"JBOLIVAR@FAMISANAR.COM.CO","JULIO BOLIVAR ","SONIA AYALA , JULIO BOLIVAR ","CUNDINAMARCA","BOGOTÁ D.C",{"$f":"+BASE_ANALISTA[[#This Row],[nombredelresponsable]]","v":"JULIO BOLIVAR "},"11001"]
[804014839,"INSTITUTO DEL CORAZON DE BUCARAMANGA S.A","ANALISTA CONCILIACIONES",3214435321,"JBOLIVAR@FAMISANAR.COM.CO","JULIO BOLIVAR ","SONIA AYALA , JULIO BOLIVAR ","SANTANDER","BUCARAMANGA",{"$f":"+BASE_ANALISTA[[#This Row],[nombredelresponsable]]","v":"JULIO BOLIVAR "},"11001"]
[900582598,"Administradora Clínica La Colina SAS","ANALISTA CONCILIACIONES",3214435321,"JBOLIVAR@FAMISANAR.COM.CO","JULIO BOLIVAR ","SONIA AYALA , JULIO BOLIVAR ","COLOMBIA","COLOMBIA",{"$f":"+BASE_ANALISTA[[#This Row],[nombredelresponsable]]","v":"JULIO BOLIVAR "},"11001"]
[890209698,"CLINICA CHICAMOCHA S.A.","ANALISTA CONCILIACIONES",3214435321,"JBOLIVAR@FAMISANAR.COM.CO","JULIO BOLIVAR ","SONIA AYALA , JULIO BOLIVAR ","COLOMBIA","COLOMBIA",{"$f":"+BASE_ANALISTA[[#This Row],[nombredelresponsable]]","v":"JULIO BOLIVAR "},"11001"]
[800247537,"CLINICA VASCULAR NAVARRA LTDA","ANALISTA CONCILIACIONES",3214435321,"JBOLIVAR@FAMISANAR.COM.CO","JULIO BOLIVAR ","SONIA AYALA , JULIO BOLIVAR ","COLOMBIA","COLOMBIA",{"$f":"+BASE_ANALISTA[[#This Row],[nombredelresponsable]]","v":"JULIO BOLIVAR "},"11001"]
[900006037,"EMPRESA SOCIAL DEL ESTADO HOSPITAL UNIVERSITARIO SANTANDER","ANALISTA CONCILIACIONES",3214435321,"JBOLIVAR@FAMISANAR.COM.CO","JULIO BOLIVAR ","SONIA AYALA , JULIO BOLIVAR ","SANTANDER","BUCARAMANGA",{"$f":"+BASE_ANALISTA[[#This Row],[nombredelresponsable]]","v":"JULIO BOLIVAR "},"11001"]
[900341526,"FUNDACION CARDIOVASCULAR DE COLOMBIA ZONA FRANCA S.A.S","ANALISTA CONCILIACIONES",3214435321,"JBOLIVAR@FAMISANAR.COM.CO","JULIO BOLIVAR ","SONIA AYALA , JULIO BOLIVAR ","SANTANDER","BUCARAMANGA",{"$f":"+BASE_ANALISTA[[#This Row],[nombredelresponsable]]","v":"JULIO BOLIVAR "},"11001"]
[900169609,"FUNDACION GENESIS DE COLOMBIA","ANALISTA CONCILIACIONES",3214435321,"JBOLIVAR@FAMISANAR.COM.CO","JULIO BOLIVAR ","SONIA AYALA , JULIO BOLIVAR ","COLOMBIA","COLOMBIA",{"$f":"+BASE_ANALISTA[[#This Row],[nombredelresponsable]]","v":"JULIO BOLIVAR "},"11001"]
[890205361,"FUNDACION OFTALMOLOGICA DE SANTANDER - FOSCAL","ANALISTA CONCILIACIONES",3214435321,"JBOLIVAR@FAMISANAR.COM.CO","JULIO BOLIVAR ","SONIA AYALA , JULIO BOLIVAR ","SANTANDER","FLORIDABLANCA",{"$f":"+BASE_ANALISTA[[#This Row],[nombredelresponsable]]","v":"JULIO BOLIVAR "},"11001"]
[899999163,"ESE HOSPITAL SAN FRANCISCO DE GACHETA","ANALISTA CONCILIACIONES",3214435321,"JBOLIVAR@FAMISANAR.COM.CO","JULIO BOLIVAR ","SONIA AYALA , JULIO BOLIVAR ","CUNDINAMARCA","GACHETA",{"$f":"+BASE_ANALISTA[[#This Row],[nombredelresponsable]]","v":"JULIO BOLIVAR "},"11001"]
[800233471,"SERVICIOS MEDICOS Y OFTALMOLOGICOS S.A.","ANALISTA CONCILIACIONES",3214435321,"JBOLIVAR@FAMISANAR.COM.CO","JULIO BOLIVAR ","SONIA AYALA , JULIO BOLIVAR ","COLOMBIA","COLOMBIA",{"$f":"+BASE_ANALISTA[[#This Row],[nombredelresponsable]]","v":"JULIO BOLIVAR "},"11001"]
[899999165,"E.S.E. HOSPITAL SAN JOSE LA PALMA CUNDINAMARCA","ANALISTA CONCILIACIONES",3214435321,"JBOLIVAR@FAMISANAR.COM.CO","JULIO BOLIVAR ","SONIA AYALA , JULIO BOLIVAR ","CUNDINAMARCA","LA PALMA",{"$f":"+BASE_ANALISTA[[#This Row],[nombredelresponsable]]","v":"JULIO BOLIVAR "},"11001"]
[900162712,"ACCION SALUD S.A. IPS","ANALISTA CONCILIACIONES",3214435321,"JBOLIVAR@FAMISANAR.COM.CO","JULIO BOLIVAR ","SONIA AYALA , JULIO BOLIVAR ","COLOMBIA","COLOMBIA",{"$f":"+BASE_ANALISTA[[#This Row],[nombredelresponsable]]","v":"JULIO BOLIVAR "},"11001"]
[830092718,"DIAGNOSTICOS E IMAGENES S.A.","ANALISTA CONCILIACIONES",3214435321,"JBOLIVAR@FAMISANAR.COM.CO","JULIO BOLIVAR ","SONIA AYALA , JULIO BOLIVAR ","COLOMBIA","COLOMBIA",{"$f":"+BASE_ANALISTA[[#This Row],[nombredelresponsable]]","v":"JULIO BOLIVAR "},"11001"]
[891408851,"ANALIZAR LABORATORIO CLINICO AUTOMATIZADO SAS","ANALISTA CONCILIACIONES",3214435321,"JBOLIVAR@FAMISANAR.COM.CO","JULIO BOLIVAR ","SONIA AYALA , JULIO BOLIVAR ","CUNDINAMARCA","CHIA",{"$f":"+BASE_ANALISTA[[#This Row],[nombredelresponsable]]","v":"JULIO BOLIVAR "},"11001"]
[900064250,"UNIDAD CLINICA SAN NICOLAS LTDA","ANALISTA CONCILIACIONES",3214435321,"JBOLIVAR@FAMISANAR.COM.CO","JULIO BOLIVAR ","SONIA AYALA , JULIO BOLIVAR ","SANTANDER","BARRANCABERMEJA",{"$f":"+BASE_ANALISTA[[#This Row],[nombredelresponsable]]","v":"JULIO BOLIVAR "},"11001"]
[800249700,"INSTITUTO NEUMOLOGICO DEL ORIENTE  S.A.","ANALISTA CONCILIACIONES",3214435321,"JBOLIVAR@FAMISANAR.COM.CO","JULIO BOLIVAR ","SONIA AYALA , JULIO BOLIVAR ","SANTANDER","BUCARAMANGA",{"$f":"+BASE_ANALISTA[[#This Row],[nombredelresponsable]]","v":"JULIO BOLIVAR "},"11001"]
[900496641,"CLINICOS PROGRAMAS DE ATENCION INTEGRAL SAS","ANALISTA CONCILIACIONES",3214435321,"JBOLIVAR@FAMISANAR.COM.CO","JULIO BOLIVAR ","SONIA AYALA , JULIO BOLIVAR ","CUNDINAMARCA","BOGOTÁ D.C",{"$f":"+BASE_ANALISTA[[#This Row],[nombredelresponsable]]","v":"JULIO BOLIVAR "},"11001"]
[800180553,"FUNDACION NEUMOLOGICA COLOMBIANA","ANALISTA CONCILIACIONES",3214435321,"JBOLIVAR@FAMISANAR.COM.CO","JULIO BOLIVAR ","SONIA AYALA , JULIO BOLIVAR ","COLOMBIA","COLOMBIA",{"$f":"+BASE_ANALISTA[[#This Row],[nombredelresponsable]]","v":"JULIO BOLIVAR "},"11001"]
[900532504,"DAVITA SAS","ANALISTA CONCILIACIONES",3214435321,"JBOLIVAR@FAMISANAR.COM.CO","JULIO BOLIVAR ","SONIA AYALA , JULIO BOLIVAR ","CUNDINAMARCA","BOGOTÁ D.C",{"$f":"+BASE_ANALISTA[[#This Row],[nombredelresponsable]]","v":"JULIO BOLIVAR "},"11001"]
[800038024,"UNIDAD CLINICA LA MAGDALENA SAS","ANALISTA CONCILIACIONES",3214435321,"JBOLIVAR@FAMISANAR.COM.CO","JULIO BOLIVAR ","SONIA AYALA , JULIO BOLIVAR ","SANTANDER","BARRANCABERMEJA",{"$f":"+BASE_ANALISTA[[#This Row],[nombredelresponsable]]","v":"JULIO BOLIVAR "},"11001"]
[800122186,"UROMEDICA LTDA","ANALISTA CONCILIACIONES",3214435321,"JBOLIVAR@FAMISANAR.COM.CO","JULIO BOLIVAR ","SONIA AYALA , JULIO BOLIVAR ","COLOMBIA","COLOMBIA",{"$f":"+BASE_ANALISTA[[#This Row],[nombredelresponsable]]","v":"JULIO BOLIVAR "},"11001"]
[830039460,"OXYMASTER S A","ANALISTA CONCILIACIONES",3214435321,"JBOLIVAR@FAMISANAR.COM.CO","JULIO BOLIVAR ","SONIA AYALA , JULIO BOLIVAR ","COLOMBIA","COLOMBIA",{"$f":"+BASE_ANALISTA[[#This Row],[nombredelresponsable]]","v":"JULIO BOLIVAR "},"11001"]
[811004956,"FUNDACION LA LUZ","ANALISTA CONCILIACIONES",3214435321,"JBOLIVAR@FAMISANAR.COM.CO","JULIO BOLIVAR ","SONIA AYALA , JULIO BOLIVAR ","COLOMBIA","COLOMBIA",{"$f":"+BASE_ANALISTA[[#This Row],[nombredelresponsable]]","v":"JULIO BOLIVAR "},"11001"]
[890212568,"FUNDACION CARDIOVASCULAR DE COLOMBIA","ANALISTA CONCILIACIONES",3214435321,"JBOLIVAR@FAMISANAR.COM.CO","JULIO BOLIVAR ","SONIA AYALA , JULIO BOLIVAR ","SANTANDER","BUCARAMANGA",{"$f":"+BASE_ANALISTA[[#This Row],[nombredelresponsable]]","v":"JULIO BOLIVAR "},"11001"]
[900188353,"INSTITUTO MEDICO OFTALMOLOGICO DE COLOMBIA LTDA IMOC","ANALISTA CONCILIACIONES",3214435321,"JBOLIVAR@FAMISANAR.COM.CO","JULIO BOLIVAR ","SONIA AYALA , JULIO BOLIVAR ","SANTANDER","BUCARAMANGA",{"$f":"+BASE_ANALISTA[[#This Row],[nombredelresponsable]]","v":"JULIO BOLIVAR "},"11001"]
[800160827,"CLINICA RETORNAR S.A.S.","ANALISTA CONCILIACIONES",3214435321,"JBOLIVAR@FAMISANAR.COM.CO","JULIO BOLIVAR ","SONIA AYALA , JULIO BOLIVAR ","COLOMBIA","COLOMBIA",{"$f":"+BASE_ANALISTA[[#This Row],[nombredelresponsable]]","v":"JULIO BOLIVAR "},"11001"]
[899999158,"ESE HOSPITAL SAN ANTONIO DE SESQUILE","ANALISTA CONCILIACIONES",3214435321,"JBOLIVAR@FAMISANAR.COM.CO","JULIO BOLIVAR ","SONIA AYALA , JULIO BOLIVAR ","CUNDINAMARCA","SESQUILE",{"$f":"+BASE_ANALISTA[[#This Row],[nombredelresponsable]]","v":"JULIO BOLIVAR "},"11001"]
[900007635,"SOS SALUD SAS","ANALISTA CONCILIACIONES",3214435321,"JBOLIVAR@FAMISANAR.COM.CO","JULIO BOLIVAR ","SONIA AYALA , JULIO BOLIVAR ","COLOMBIA","COLOMBIA",{"$f":"+BASE_ANALISTA[[#This Row],[nombredelresponsable]]","v":"JULIO BOLIVAR "},"11001"]
[900038024,"ALIANZA DIAGNOSTICA SA","ANALISTA CONCILIACIONES",3214435321,"JBOLIVAR@FAMISANAR.COM.CO","JULIO BOLIVAR ","SONIA AYALA , JULIO BOLIVAR ","SANTANDER","BUCARAMANGA",{"$f":"+BASE_ANALISTA[[#This Row],[nombredelresponsable]]","v":"JULIO BOLIVAR "},"11001"]
[900294380,"LH S.A.S.","ANALISTA CONCILIACIONES",3214435321,"JBOLIVAR@FAMISANAR.COM.CO","JULIO BOLIVAR ","SONIA AYALA , JULIO BOLIVAR ","SANTANDER","BUCARAMANGA",{"$f":"+BASE_ANALISTA[[#This Row],[nombredelresponsable]]","v":"JULIO BOLIVAR "},"11001"]
[900075669,"PHD SERVICIOS LTDA","ANALISTA CONCILIACIONES",3214435321,"JBOLIVAR@FAMISANAR.COM.CO","JULIO BOLIVAR ","SONIA AYALA , JULIO BOLIVAR ","SANTANDER","BUCARAMANGA",{"$f":"+BASE_ANALISTA[[#This Row],[nombredelresponsable]]","v":"JULIO BOLIVAR "},"11001"]
[890201578,"CAJA DE COMPENSACION FAMILIAR COMFENALCO SANTANDER","ANALISTA CONCILIACIONES",3214435321,"JBOLIVAR@FAMISANAR.COM.CO","JULIO BOLIVAR ","SONIA AYALA , JULIO BOLIVAR ","SANTANDER","BUCARAMANGA",{"$f":"+BASE_ANALISTA[[#This Row],[nombredelresponsable]]","v":"JULIO BOLIVAR "},"11001"]
[832010436,"EMPRESA  SOCIAL  DEL ESTADO MARIA  AUXILIADORA","ANALISTA CONCILIACIONES",3214435321,"JBOLIVAR@FAMISANAR.COM.CO","JULIO BOLIVAR ","SONIA AYALA , JULIO BOLIVAR ","CUNDINAMARCA","MOSQUERA",{"$f":"+BASE_ANALISTA[[#This Row],[nombredelresponsable]]","v":"JULIO BOLIVAR "},"11001"]
[800090749,"CLINICA PIEDECUESTA S.A.","ANALISTA CONCILIACIONES",3214435321,"JBOLIVAR@FAMISANAR.COM.CO","JULIO BOLIVAR ","SONIA AYALA , JULIO BOLIVAR ","SANTANDER","PIEDECUESTA",{"$f":"+BASE_ANALISTA[[#This Row],[nombredelresponsable]]","v":"JULIO BOLIVAR "},"11001"]
[900657491,"IPS BEST HOME CARE S.A.S. - SEDE BUCARAMANGA","ANALISTA CONCILIACIONES",3214435321,"JBOLIVAR@FAMISANAR.COM.CO","JULIO BOLIVAR ","SONIA AYALA , JULIO BOLIVAR ","SANTANDER","BUCARAMANGA",{"$f":"+BASE_ANALISTA[[#This Row],[nombredelresponsable]]","v":"JULIO BOLIVAR "},"11001"]
[804006248,"CENTRAL MEDICA LAS NIEVES EMPRESA UNIPERSONAL","ANALISTA CONCILIACIONES",3214435321,"JBOLIVAR@FAMISANAR.COM.CO","JULIO BOLIVAR ","SONIA AYALA , JULIO BOLIVAR ","SANTANDER","GIRON",{"$f":"+BASE_ANALISTA[[#This Row],[nombredelresponsable]]","v":"JULIO BOLIVAR "},"11001"]
[900095253,"IPS CLINICA PROSEGUIR SAS - SOACHA","ANALISTA CONCILIACIONES",3214435321,"JBOLIVAR@FAMISANAR.COM.CO","JULIO BOLIVAR ","SONIA AYALA , JULIO BOLIVAR ","COLOMBIA","COLOMBIA",{"$f":"+BASE_ANALISTA[[#This Row],[nombredelresponsable]]","v":"JULIO BOLIVAR "},"11001"]
[890208758,"CLINICA MATERNO INFANTIL SAN LUIS S.A.","ANALISTA CONCILIACIONES",3214435321,"JBOLIVAR@FAMISANAR.COM.CO","JULIO BOLIVAR ","SONIA AYALA , JULIO BOLIVAR ","SANTANDER","PIEDECUESTA",{"$f":"+BASE_ANALISTA[[#This Row],[nombredelresponsable]]","v":"JULIO BOLIVAR "},"11001"]
[900240018,"Los Comuneros Hospital Universitario de Bucaramanga S.A","ANALISTA CONCILIACIONES",3214435321,"JBOLIVAR@FAMISANAR.COM.CO","JULIO BOLIVAR ","SONIA AYALA , JULIO BOLIVAR ","SANTANDER","BUCARAMANGA",{"$f":"+BASE_ANALISTA[[#This Row],[nombredelresponsable]]","v":"JULIO BOLIVAR "},"11001"]
[800065396,"INSTITUTO DE DIAGNOSTICO MEDICO S.A. IDIME S.A.","ANALISTA CONCILIACIONES",3214435321,"JBOLIVAR@FAMISANAR.COM.CO","JULIO BOLIVAR ","SONIA AYALA , JULIO BOLIVAR ","COLOMBIA","COLOMBIA",{"$f":"+BASE_ANALISTA[[#This Row],[nombredelresponsable]]","v":"JULIO BOLIVAR "},"11001"]
[830099027,"FUNDACION AVANTE","ANALISTA CONCILIACIONES",3214435321,"JBOLIVAR@FAMISANAR.COM.CO","JULIO BOLIVAR ","SONIA AYALA , JULIO BOLIVAR ","CUNDINAMARCA","BOGOTÁ D.C",{"$f":"+BASE_ANALISTA[[#This Row],[nombredelresponsable]]","v":"JULIO BOLIVAR "},"11001"]
[900352592,"CARLOS EDUARDO RANGEL GALVIS S.A.S","ANALISTA CONCILIACIONES",3214435321,"JBOLIVAR@FAMISANAR.COM.CO","JULIO BOLIVAR ","SONIA AYALA , JULIO BOLIVAR ","COLOMBIA","COLOMBIA",{"$f":"+BASE_ANALISTA[[#This Row],[nombredelresponsable]]","v":"JULIO BOLIVAR "},"11001"]
[900282039,"SERVICIOS MEDICOS VITAL HEALTH","ANALISTA CONCILIACIONES",3214435321,"JBOLIVAR@FAMISANAR.COM.CO","JULIO BOLIVAR ","SONIA AYALA , JULIO BOLIVAR ","COLOMBIA","COLOMBIA",{"$f":"+BASE_ANALISTA[[#This Row],[nombredelresponsable]]","v":"JULIO BOLIVAR "},"11001"]
[900193493,"CENTRO INTEGRAL PSICOTERAPEUTICO JAH RAFA LTDA","ANALISTA CONCILIACIONES",3214435321,"JBOLIVAR@FAMISANAR.COM.CO","JULIO BOLIVAR ","SONIA AYALA , JULIO BOLIVAR ","COLOMBIA","COLOMBIA",{"$f":"+BASE_ANALISTA[[#This Row],[nombredelresponsable]]","v":"JULIO BOLIVAR "},"11001"]
[900536325,"PSQ SAS","ANALISTA CONCILIACIONES",3214435321,"JBOLIVAR@FAMISANAR.COM.CO","JULIO BOLIVAR ","SONIA AYALA , JULIO BOLIVAR ","CUNDINAMARCA","BOGOTÁ D.C",{"$f":"+BASE_ANALISTA[[#This Row],[nombredelresponsable]]","v":"JULIO BOLIVAR "},"11001"]
[900011191,"CLINICA DENTAL MILLENIUM SA","ANALISTA CONCILIACIONES",3214435321,"JBOLIVAR@FAMISANAR.COM.CO","JULIO BOLIVAR ","SONIA AYALA , JULIO BOLIVAR ","COLOMBIA","COLOMBIA",{"$f":"+BASE_ANALISTA[[#This Row],[nombredelresponsable]]","v":"JULIO BOLIVAR "},"11001"]
[804002599,"Centro de Atención y Diagnóstico de Enfermedades Infecciosas - CDI S.A.","ANALISTA CONCILIACIONES",3214435321,"JBOLIVAR@FAMISANAR.COM.CO","JULIO BOLIVAR ","SONIA AYALA , JULIO BOLIVAR ","SANTANDER","BUCARAMANGA",{"$f":"+BASE_ANALISTA[[#This Row],[nombredelresponsable]]","v":"JULIO BOLIVAR "},"11001"]
[900098550,"OFFIMEDICAS SA","ANALISTA CONCILIACIONES",3214435321,"JBOLIVAR@FAMISANAR.COM.CO","JULIO BOLIVAR ","SONIA AYALA , JULIO BOLIVAR ","SANTANDER","BUCARAMANGA",{"$f":"+BASE_ANALISTA[[#This Row],[nombredelresponsable]]","v":"JULIO BOLIVAR "},"11001"]
[830507291,"OBSTETRICIA Y GINECOLOGIA LTDA","ANALISTA CONCILIACIONES",3214435321,"JBOLIVAR@FAMISANAR.COM.CO","JULIO BOLIVAR ","SONIA AYALA , JULIO BOLIVAR ","CUNDINAMARCA","BOGOTÁ D.C",{"$f":"+BASE_ANALISTA[[#This Row],[nombredelresponsable]]","v":"JULIO BOLIVAR "},"11001"]
[800149453,"CENTRO POLICLINICO DEL OLAYA","ANALISTA CONCILIACIONES",3214435321,"JBOLIVAR@FAMISANAR.COM.CO","JULIO BOLIVAR ","SONIA AYALA , JULIO BOLIVAR ","CUNDINAMARCA","BOGOTÁ D.C",{"$f":"+BASE_ANALISTA[[#This Row],[nombredelresponsable]]","v":"JULIO BOLIVAR "},"11001"]
[830508610,"ALIANZA DE AMBULANCIAS MEDICA SA","ANALISTA CONCILIACIONES",3214435321,"JBOLIVAR@FAMISANAR.COM.CO","JULIO BOLIVAR ","SONIA AYALA , JULIO BOLIVAR ","CUNDINAMARCA","BOGOTÁ D.C",{"$f":"+BASE_ANALISTA[[#This Row],[nombredelresponsable]]","v":"JULIO BOLIVAR "},"11001"]
[860041333,"SISTEMAS DE TERAPIA RESPIRATORIA","ANALISTA CONCILIACIONES",3214435321,"JBOLIVAR@FAMISANAR.COM.CO","JULIO BOLIVAR ","SONIA AYALA , JULIO BOLIVAR ","COLOMBIA","COLOMBIA",{"$f":"+BASE_ANALISTA[[#This Row],[nombredelresponsable]]","v":"JULIO BOLIVAR "},"11001"]
[900101736,"IPS GESTIONARBIENESTAR HOSPITAL ZAPATOCA","ANALISTA CONCILIACIONES",3214435321,"JBOLIVAR@FAMISANAR.COM.CO","JULIO BOLIVAR ","SONIA AYALA , JULIO BOLIVAR ","SANTANDER","BUCARAMANGA",{"$f":"+BASE_ANALISTA[[#This Row],[nombredelresponsable]]","v":"JULIO BOLIVAR "},"11001"]
[830110098,"FUNDACION CENTRO DE PSICOLOGIA CLINICA Y DE FAMILIA ANITA","ANALISTA CONCILIACIONES",3214435321,"JBOLIVAR@FAMISANAR.COM.CO","JULIO BOLIVAR ","SONIA AYALA , JULIO BOLIVAR ","CUNDINAMARCA","BOGOTÁ D.C",{"$f":"+BASE_ANALISTA[[#This Row],[nombredelresponsable]]","v":"JULIO BOLIVAR "},"11001"]
[800067908,"RADIOTERAPIA ONCOLOGIA MARLY SA","ANALISTA CONCILIACIONES",3214435321,"JBOLIVAR@FAMISANAR.COM.CO","JULIO BOLIVAR ","SONIA AYALA , JULIO BOLIVAR ","COLOMBIA","COLOMBIA",{"$f":"+BASE_ANALISTA[[#This Row],[nombredelresponsable]]","v":"JULIO BOLIVAR "},"11001"]
[830063394,"HOME SALUD Y COMPAÑIA SA","ANALISTA CONCILIACIONES",3214435321,"JBOLIVAR@FAMISANAR.COM.CO","JULIO BOLIVAR ","SONIA AYALA , JULIO BOLIVAR ","COLOMBIA","COLOMBIA",{"$f":"+BASE_ANALISTA[[#This Row],[nombredelresponsable]]","v":"JULIO BOLIVAR "},"11001"]
[860066767,"Centro Integral de Rehabilitacion de Colombia","ANALISTA CONCILIACIONES",3214435321,"JBOLIVAR@FAMISANAR.COM.CO","JULIO BOLIVAR ","SONIA AYALA , JULIO BOLIVAR ","CUNDINAMARCA","BOGOTÁ D.C",{"$f":"+BASE_ANALISTA[[#This Row],[nombredelresponsable]]","v":"JULIO BOLIVAR "},"11001"]
[830007355,"Fresenius Medical Care Colombia S.A.","ANALISTA CONCILIACIONES",3214435321,"JBOLIVAR@FAMISANAR.COM.CO","JULIO BOLIVAR ","SONIA AYALA , JULIO BOLIVAR ","CUNDINAMARCA","BOGOTÁ D.C",{"$f":"+BASE_ANALISTA[[#This Row],[nombredelresponsable]]","v":"JULIO BOLIVAR "},"11001"]
[900328271,"Hemato-Oncologos Asociados S.A","ANALISTA CONCILIACIONES",3214435321,"JBOLIVAR@FAMISANAR.COM.CO","JULIO BOLIVAR ","SONIA AYALA , JULIO BOLIVAR ","CUNDINAMARCA","BOGOTÁ D.C",{"$f":"+BASE_ANALISTA[[#This Row],[nombredelresponsable]]","v":"JULIO BOLIVAR "},"11001"]
[900231793,"DIALY SER S.A.S","ANALISTA CONCILIACIONES",3214435321,"JBOLIVAR@FAMISANAR.COM.CO","JULIO BOLIVAR ","SONIA AYALA , JULIO BOLIVAR ","COLOMBIA","COLOMBIA",{"$f":"+BASE_ANALISTA[[#This Row],[nombredelresponsable]]","v":"JULIO BOLIVAR "},"11001"]
[900341157,"INSTITUTO DE GASTROENTEROLOGIA Y HEPATOLOGIA DEL ORIENTE S.A.S.","ANALISTA CONCILIACIONES",3214435321,"JBOLIVAR@FAMISANAR.COM.CO","JULIO BOLIVAR ","SONIA AYALA , JULIO BOLIVAR ","SANTANDER","BUCARAMANGA",{"$f":"+BASE_ANALISTA[[#This Row],[nombredelresponsable]]","v":"JULIO BOLIVAR "},"11001"]
[900753563,"U+MOVIL CLINICAL ATTENTION GROUP IPS S.A","ANALISTA CONCILIACIONES",3214435321,"JBOLIVAR@FAMISANAR.COM.CO","JULIO BOLIVAR ","SONIA AYALA , JULIO BOLIVAR ","COLOMBIA","COLOMBIA",{"$f":"+BASE_ANALISTA[[#This Row],[nombredelresponsable]]","v":"JULIO BOLIVAR "},"11001"]
[860007336,"COLSUBSIDIO","ANALISTA CONCILIACIONES",3004396129,"MMALAGONM@FAMISANAR.COM.CO","MAURICIO MALAGON","MAURICIO MALAGON","COLOMBIA","COLOMBIA",{"$f":"+BASE_ANALISTA[[#This Row],[nombredelresponsable]]","v":"MAURICIO MALAGON"},"11001"]
[901034213,"GRUPO EMPRESARIAL VENUS SAS - UT CLINICA JULIO SANDOVAL MEDINA","ANALISTA CONCILIACIONES",3016770300,"MMORAB@FAMISANAR.COM.CO","MAYRA MORA","MAYRA MORA","COLOMBIA","COLOMBIA",{"$f":"+BASE_ANALISTA[[#This Row],[nombredelresponsable]]","v":"MAYRA MORA"},"11001"]
[900584084,"ADOLFO ALVAREZ SAS","ANALISTA CONCILIACIONES",3016770300,"MMORAB@FAMISANAR.COM.CO","MAYRA MORA","MAYRA MORA","ATLÁNTICO","BARRANQUILLA",{"$f":"+BASE_ANALISTA[[#This Row],[nombredelresponsable]]","v":"MAYRA MORA"},"11001"]
[802000333,"SABBAG RADIOLOGOS S.A.","ANALISTA CONCILIACIONES",3016770300,"MMORAB@FAMISANAR.COM.CO","MAYRA MORA","MAYRA MORA","ATLÁNTICO","BARRANQUILLA",{"$f":"+BASE_ANALISTA[[#This Row],[nombredelresponsable]]","v":"MAYRA MORA"},"11001"]
[860035992,"Fundacion Cardioinfantil Instituto de cardiologia","ANALISTA CONCILIACIONES",3156013576,"POLIVEROS@FAMISANAR.COM.CO","PATRICIA  OLIVEROS ","JAVIER FAJARDO, PATRICIA  OLIVEROS ","COLOMBIA","COLOMBIA",{"$f":"+BASE_ANALISTA[[#This Row],[nombredelresponsable]]","v":"PATRICIA  OLIVEROS "},"11001"]
[860090566,"CLINICA DEL OCCIDENTE S .A.","ANALISTA CONCILIACIONES",3156013576,"POLIVEROS@FAMISANAR.COM.CO","PATRICIA  OLIVEROS ","JAVIER FAJARDO, PATRICIA  OLIVEROS ","COLOMBIA","COLOMBIA",{"$f":"+BASE_ANALISTA[[#This Row],[nombredelresponsable]]","v":"PATRICIA  OLIVEROS "},"11001"]
[830113849,"Clinica Juan N Corpas","ANALISTA CONCILIACIONES",3156013576,"POLIVEROS@FAMISANAR.COM.CO","PATRICIA  OLIVEROS ","JAVIER FAJARDO, PATRICIA  OLIVEROS ","COLOMBIA","COLOMBIA",{"$f":"+BASE_ANALISTA[[#This Row],[nombredelresponsable]]","v":"PATRICIA  OLIVEROS "},"11001"]
[892300979,"CLINICA DEL CESAR LTDA","ANALISTA CONCILIACIONES",3156013576,"POLIVEROS@FAMISANAR.COM.CO","PATRICIA  OLIVEROS ","JAVIER FAJARDO, PATRICIA  OLIVEROS ","CESAR","VALLEDUPAR",{"$f":"+BASE_ANALISTA[[#This Row],[nombredelresponsable]]","v":"PATRICIA  OLIVEROS "},"11001"]
[900016598,"INSTITUTO CARDIOVASCULAR DEL CESAR S.A.","ANALISTA CONCILIACIONES",3156013576,"POLIVEROS@FAMISANAR.COM.CO","PATRICIA  OLIVEROS ","JAVIER FAJARDO, PATRICIA  OLIVEROS ","CESAR","VALLEDUPAR",{"$f":"+BASE_ANALISTA[[#This Row],[nombredelresponsable]]","v":"PATRICIA  OLIVEROS "},"11001"]
[800227072,"EUSALUD S.A.","ANALISTA CONCILIACIONES",3156013576,"POLIVEROS@FAMISANAR.COM.CO","PATRICIA  OLIVEROS ","JAVIER FAJARDO, PATRICIA  OLIVEROS ","COLOMBIA","COLOMBIA",{"$f":"+BASE_ANALISTA[[#This Row],[nombredelresponsable]]","v":"PATRICIA  OLIVEROS "},"11001"]
[830507718,"MEDICAL PROINFO S.A.S.","ANALISTA CONCILIACIONES",3156013576,"POLIVEROS@FAMISANAR.COM.CO","PATRICIA  OLIVEROS ","JAVIER FAJARDO, PATRICIA  OLIVEROS ","COLOMBIA","COLOMBIA",{"$f":"+BASE_ANALISTA[[#This Row],[nombredelresponsable]]","v":"PATRICIA  OLIVEROS "},"11001"]
[900345765,"EMPRESA MULTIACTIVA DE SALUD S.A.S.","ANALISTA CONCILIACIONES",3156013576,"POLIVEROS@FAMISANAR.COM.CO","PATRICIA  OLIVEROS ","JAVIER FAJARDO, PATRICIA  OLIVEROS ","CESAR","VALLEDUPAR",{"$f":"+BASE_ANALISTA[[#This Row],[nombredelresponsable]]","v":"PATRICIA  OLIVEROS "},"11001"]
[824001041,"CLINICA MEDICOS SA","ANALISTA CONCILIACIONES",3156013576,"POLIVEROS@FAMISANAR.COM.CO","PATRICIA  OLIVEROS ","JAVIER FAJARDO, PATRICIA  OLIVEROS ","CESAR","VALLEDUPAR",{"$f":"+BASE_ANALISTA[[#This Row],[nombredelresponsable]]","v":"PATRICIA  OLIVEROS "},"11001"]
[900613550,"CLINICA SAN FRANCISCO DE ASIS","ANALISTA CONCILIACIONES",3156013576,"POLIVEROS@FAMISANAR.COM.CO","PATRICIA  OLIVEROS ","JAVIER FAJARDO, PATRICIA  OLIVEROS ","COLOMBIA","COLOMBIA",{"$f":"+BASE_ANALISTA[[#This Row],[nombredelresponsable]]","v":"PATRICIA  OLIVEROS "},"11001"]
[800067515,"CLINICA LA MILAGROSA S.A.","ANALISTA CONCILIACIONES",3156013576,"POLIVEROS@FAMISANAR.COM.CO","PATRICIA  OLIVEROS ","JAVIER FAJARDO, PATRICIA  OLIVEROS ","MAGDALENA","SANTA MARTA",{"$f":"+BASE_ANALISTA[[#This Row],[nombredelresponsable]]","v":"PATRICIA  OLIVEROS "},"11001"]
[892300708,"Sociedad Clínica Valledupar Ltda.","ANALISTA CONCILIACIONES",3156013576,"POLIVEROS@FAMISANAR.COM.CO","PATRICIA  OLIVEROS ","JAVIER FAJARDO, PATRICIA  OLIVEROS ","CESAR","VALLEDUPAR",{"$f":"+BASE_ANALISTA[[#This Row],[nombredelresponsable]]","v":"PATRICIA  OLIVEROS "},"11001"]
[899999147,"ESE HOSPITAL EL SALVADOR DE UBATE","ANALISTA CONCILIACIONES",3156013576,"POLIVEROS@FAMISANAR.COM.CO","PATRICIA  OLIVEROS ","JAVIER FAJARDO, PATRICIA  OLIVEROS ","CUNDINAMARCA","VILLA DE SAN DIEGO DE UBATE",{"$f":"+BASE_ANALISTA[[#This Row],[nombredelresponsable]]","v":"PATRICIA  OLIVEROS "},"11001"]
[860024766,"E.S.E HOSPITAL SAN MARTIN DE PORRES","ANALISTA CONCILIACIONES",3156013576,"POLIVEROS@FAMISANAR.COM.CO","PATRICIA  OLIVEROS ","JAVIER FAJARDO, PATRICIA  OLIVEROS ","CUNDINAMARCA","CHOCONTA",{"$f":"+BASE_ANALISTA[[#This Row],[nombredelresponsable]]","v":"PATRICIA  OLIVEROS "},"11001"]
[800231038,"GARCIA PEREZ  MEDICA Y COMPAÑIA SAS","ANALISTA CONCILIACIONES",3156013576,"POLIVEROS@FAMISANAR.COM.CO","PATRICIA  OLIVEROS ","JAVIER FAJARDO, PATRICIA  OLIVEROS ","CUNDINAMARCA","BOGOTÁ D.C",{"$f":"+BASE_ANALISTA[[#This Row],[nombredelresponsable]]","v":"PATRICIA  OLIVEROS "},"11001"]
[800119574,"SOCIEDAD DE SERVICIOS OCULARES SAS OPTISALUD","ANALISTA CONCILIACIONES",3156013576,"POLIVEROS@FAMISANAR.COM.CO","PATRICIA  OLIVEROS ","JAVIER FAJARDO, PATRICIA  OLIVEROS ","CASANARE","YOPAL",{"$f":"+BASE_ANALISTA[[#This Row],[nombredelresponsable]]","v":"PATRICIA  OLIVEROS "},"11001"]
[824001252,"CLINICA ERASMO LTDA","ANALISTA CONCILIACIONES",3156013576,"POLIVEROS@FAMISANAR.COM.CO","PATRICIA  OLIVEROS ","JAVIER FAJARDO, PATRICIA  OLIVEROS ","CESAR","VALLEDUPAR",{"$f":"+BASE_ANALISTA[[#This Row],[nombredelresponsable]]","v":"PATRICIA  OLIVEROS "},"11001"]
[860024026,"ESE HOSPITAL SAN VICENTE DE PAUL NEMOCON","ANALISTA CONCILIACIONES",3156013576,"POLIVEROS@FAMISANAR.COM.CO","PATRICIA  OLIVEROS ","JAVIER FAJARDO, PATRICIA  OLIVEROS ","CUNDINAMARCA","NEMOCON",{"$f":"+BASE_ANALISTA[[#This Row],[nombredelresponsable]]","v":"PATRICIA  OLIVEROS "},"11001"]
[900267940,"JEMARZ SAS","ANALISTA CONCILIACIONES",3156013576,"POLIVEROS@FAMISANAR.COM.CO","PATRICIA  OLIVEROS ","JAVIER FAJARDO, PATRICIA  OLIVEROS ","CUNDINAMARCA","BOGOTÁ D.C",{"$f":"+BASE_ANALISTA[[#This Row],[nombredelresponsable]]","v":"PATRICIA  OLIVEROS "},"11001"]
[899999164,"E.S.E. HOSPITAL NUESTRA SEÑORA DEL CARMEN","ANALISTA CONCILIACIONES",3156013576,"POLIVEROS@FAMISANAR.COM.CO","PATRICIA  OLIVEROS ","JAVIER FAJARDO, PATRICIA  OLIVEROS ","CUNDINAMARCA","TABIO",{"$f":"+BASE_ANALISTA[[#This Row],[nombredelresponsable]]","v":"PATRICIA  OLIVEROS "},"11001"]
[900171211,"GLOBAL LIFE AMBULANCIAS SAS","ANALISTA CONCILIACIONES",3156013576,"POLIVEROS@FAMISANAR.COM.CO","PATRICIA  OLIVEROS ","JAVIER FAJARDO, PATRICIA  OLIVEROS ","COLOMBIA","COLOMBIA",{"$f":"+BASE_ANALISTA[[#This Row],[nombredelresponsable]]","v":"PATRICIA  OLIVEROS "},"11001"]
[824000687,"SOCIEDAD DE ONCOLOGIA Y HEMATOLOGIA DEL CESAR","ANALISTA CONCILIACIONES",3156013576,"POLIVEROS@FAMISANAR.COM.CO","PATRICIA  OLIVEROS ","JAVIER FAJARDO, PATRICIA  OLIVEROS ","CESAR","VALLEDUPAR",{"$f":"+BASE_ANALISTA[[#This Row],[nombredelresponsable]]","v":"PATRICIA  OLIVEROS "},"11001"]
[891701664,"Sociedad Medica de Santa Marta SA","ANALISTA CONCILIACIONES",3156013576,"POLIVEROS@FAMISANAR.COM.CO","PATRICIA  OLIVEROS ","JAVIER FAJARDO, PATRICIA  OLIVEROS ","MAGDALENA","SANTA MARTA",{"$f":"+BASE_ANALISTA[[#This Row],[nombredelresponsable]]","v":"PATRICIA  OLIVEROS "},"11001"]
[890680014,"Sanatorio de Agua de Dios","ANALISTA CONCILIACIONES",3156013576,"POLIVEROS@FAMISANAR.COM.CO","PATRICIA  OLIVEROS ","JAVIER FAJARDO, PATRICIA  OLIVEROS ","CUNDINAMARCA","AGUA DE DIOS",{"$f":"+BASE_ANALISTA[[#This Row],[nombredelresponsable]]","v":"PATRICIA  OLIVEROS "},"11001"]
[860013874,"Instituto de Ortopedia Infantil Roosevelt","ANALISTA CONCILIACIONES",3156013576,"POLIVEROS@FAMISANAR.COM.CO","PATRICIA  OLIVEROS ","JAVIER FAJARDO, PATRICIA  OLIVEROS ","COLOMBIA","COLOMBIA",{"$f":"+BASE_ANALISTA[[#This Row],[nombredelresponsable]]","v":"PATRICIA  OLIVEROS "},"11001"]
[890680027,"ESE HOSPITAL PEDRO LEON ALVAREZ DIAZ DE LA MESA","ANALISTA CONCILIACIONES",3156013576,"POLIVEROS@FAMISANAR.COM.CO","PATRICIA  OLIVEROS ","JAVIER FAJARDO, PATRICIA  OLIVEROS ","CUNDINAMARCA","LA MESA",{"$f":"+BASE_ANALISTA[[#This Row],[nombredelresponsable]]","v":"PATRICIA  OLIVEROS "},"11001"]
[900025621,"RADIOLOGIA E IMAGENES S.A.S.","ANALISTA CONCILIACIONES",3156013576,"POLIVEROS@FAMISANAR.COM.CO","PATRICIA  OLIVEROS ","JAVIER FAJARDO, PATRICIA  OLIVEROS ","CESAR","VALLEDUPAR",{"$f":"+BASE_ANALISTA[[#This Row],[nombredelresponsable]]","v":"PATRICIA  OLIVEROS "},"11001"]
[900210981,"CORPORACION HOSPITALARIA JUAN CIUDAD- MEDERI","ANALISTA CONCILIACIONES",3156013576,"POLIVEROS@FAMISANAR.COM.CO","PATRICIA  OLIVEROS ","JAVIER FAJARDO, PATRICIA  OLIVEROS ","COLOMBIA","COLOMBIA",{"$f":"+BASE_ANALISTA[[#This Row],[nombredelresponsable]]","v":"PATRICIA  OLIVEROS "},"11001"]
[900033752,"UNIVER PLUS S.A","ANALISTA CONCILIACIONES",3156013576,"POLIVEROS@FAMISANAR.COM.CO","PATRICIA  OLIVEROS ","JAVIER FAJARDO, PATRICIA  OLIVEROS ","SANTANDER","BUCARAMANGA",{"$f":"+BASE_ANALISTA[[#This Row],[nombredelresponsable]]","v":"PATRICIA  OLIVEROS "},"11001"]
[900244203,"CLINICA NEUROREHABILITAR LTDA","ANALISTA CONCILIACIONES",3156013576,"POLIVEROS@FAMISANAR.COM.CO","PATRICIA  OLIVEROS ","JAVIER FAJARDO, PATRICIA  OLIVEROS ","COLOMBIA","COLOMBIA",{"$f":"+BASE_ANALISTA[[#This Row],[nombredelresponsable]]","v":"PATRICIA  OLIVEROS "},"11001"]
[800149384,"CLINICA COLSANITAS S.A","ANALISTA CONCILIACIONES",3156013576,"POLIVEROS@FAMISANAR.COM.CO","PATRICIA  OLIVEROS ","JAVIER FAJARDO, PATRICIA  OLIVEROS ","COLOMBIA","COLOMBIA",{"$f":"+BASE_ANALISTA[[#This Row],[nombredelresponsable]]","v":"PATRICIA  OLIVEROS "},"11001"]
[832011441,"ESE HOSPITAL NUESTRA SEÑORA DEL ROSARIO DE SUESCA","ANALISTA CONCILIACIONES",3156013576,"POLIVEROS@FAMISANAR.COM.CO","PATRICIA  OLIVEROS ","JAVIER FAJARDO, PATRICIA  OLIVEROS ","CUNDINAMARCA","SUESCA",{"$f":"+BASE_ANALISTA[[#This Row],[nombredelresponsable]]","v":"PATRICIA  OLIVEROS "},"11001"]
[890900518,"Fundación Hospitalaria San Vicente de Paúl","ANALISTA CONCILIACIONES",3156013576,"POLIVEROS@FAMISANAR.COM.CO","PATRICIA  OLIVEROS ","JAVIER FAJARDO, PATRICIA  OLIVEROS ","COLOMBIA","COLOMBIA",{"$f":"+BASE_ANALISTA[[#This Row],[nombredelresponsable]]","v":"PATRICIA  OLIVEROS "},"11001"]
[891855029,"EMPRESA SOCIAL DEL ESTADO HOSPITAL DE YOPAL","ANALISTA CONCILIACIONES",3156013576,"POLIVEROS@FAMISANAR.COM.CO","PATRICIA  OLIVEROS ","JAVIER FAJARDO, PATRICIA  OLIVEROS ","CASANARE","YOPAL",{"$f":"+BASE_ANALISTA[[#This Row],[nombredelresponsable]]","v":"PATRICIA  OLIVEROS "},"11001"]
[816001182,"AUDIFARMA SA","ANALISTA CONCILIACIONES",3156013576,"POLIVEROS@FAMISANAR.COM.CO","PATRICIA  OLIVEROS ","JAVIER FAJARDO, PATRICIA  OLIVEROS ","COLOMBIA","COLOMBIA",{"$f":"+BASE_ANALISTA[[#This Row],[nombredelresponsable]]","v":"PATRICIA  OLIVEROS "},"11001"]
[860037592,"E.S.E HOSPITAL SANTA ROSA DE TENJO","ANALISTA CONCILIACIONES",3156013576,"POLIVEROS@FAMISANAR.COM.CO","PATRICIA  OLIVEROS ","JAVIER FAJARDO, PATRICIA  OLIVEROS ","CUNDINAMARCA","TENJO",{"$f":"+BASE_ANALISTA[[#This Row],[nombredelresponsable]]","v":"PATRICIA  OLIVEROS "},"11001"]
[860007760,"Hermanas Hospitalarias del Sagrado Corazon de Jesus","ANALISTA CONCILIACIONES",3156013576,"POLIVEROS@FAMISANAR.COM.CO","PATRICIA  OLIVEROS ","JAVIER FAJARDO, PATRICIA  OLIVEROS ","COLOMBIA","COLOMBIA",{"$f":"+BASE_ANALISTA[[#This Row],[nombredelresponsable]]","v":"PATRICIA  OLIVEROS "},"11001"]
[900359092,"INSTITUTO NACIONAL DE DEMENCIAS EMANUEL SAS","ANALISTA CONCILIACIONES",3156013576,"POLIVEROS@FAMISANAR.COM.CO","PATRICIA  OLIVEROS ","JAVIER FAJARDO, PATRICIA  OLIVEROS ","COLOMBIA","COLOMBIA",{"$f":"+BASE_ANALISTA[[#This Row],[nombredelresponsable]]","v":"PATRICIA  OLIVEROS "},"11001"]
[800201726,"FUNDACION POLICLINICA CIENAGA","ANALISTA CONCILIACIONES",3156013576,"POLIVEROS@FAMISANAR.COM.CO","PATRICIA  OLIVEROS ","JAVIER FAJARDO, PATRICIA  OLIVEROS ","MAGDALENA","CIENAGA",{"$f":"+BASE_ANALISTA[[#This Row],[nombredelresponsable]]","v":"PATRICIA  OLIVEROS "},"11001"]
[860001475,"CLINICA SANTO TOMAS S.A.","ANALISTA CONCILIACIONES",3156013576,"POLIVEROS@FAMISANAR.COM.CO","PATRICIA  OLIVEROS ","JAVIER FAJARDO, PATRICIA  OLIVEROS ","COLOMBIA","COLOMBIA",{"$f":"+BASE_ANALISTA[[#This Row],[nombredelresponsable]]","v":"PATRICIA  OLIVEROS "},"11001"]
[830013594,"DEXA DIAB SERVICIOS MEDICOS LTDA","ANALISTA CONCILIACIONES",3156013576,"POLIVEROS@FAMISANAR.COM.CO","PATRICIA  OLIVEROS ","JAVIER FAJARDO, PATRICIA  OLIVEROS ","COLOMBIA","COLOMBIA",{"$f":"+BASE_ANALISTA[[#This Row],[nombredelresponsable]]","v":"PATRICIA  OLIVEROS "},"11001"]
[819000364,"CLINICA DE LA MUJER S.A.- SANTA MARTA","ANALISTA CONCILIACIONES",3156013576,"POLIVEROS@FAMISANAR.COM.CO","PATRICIA  OLIVEROS ","JAVIER FAJARDO, PATRICIA  OLIVEROS ","MAGDALENA","SANTA MARTA",{"$f":"+BASE_ANALISTA[[#This Row],[nombredelresponsable]]","v":"PATRICIA  OLIVEROS "},"11001"]
[900425336,"SOMNOMEDICA SAS","ANALISTA CONCILIACIONES",3156013576,"POLIVEROS@FAMISANAR.COM.CO","PATRICIA  OLIVEROS ","JAVIER FAJARDO, PATRICIA  OLIVEROS ","COLOMBIA","COLOMBIA",{"$f":"+BASE_ANALISTA[[#This Row],[nombredelresponsable]]","v":"PATRICIA  OLIVEROS "},"11001"]
[800017308,"CLINICA LA SABANA S.A.","ANALISTA CONCILIACIONES",3156013576,"POLIVEROS@FAMISANAR.COM.CO","PATRICIA  OLIVEROS ","JAVIER FAJARDO, PATRICIA  OLIVEROS ","COLOMBIA","COLOMBIA",{"$f":"+BASE_ANALISTA[[#This Row],[nombredelresponsable]]","v":"PATRICIA  OLIVEROS "},"11001"]
[830007382,"UNIDAD DE ESPECIALISTAS OFTALMOLOGICOS SA","ANALISTA CONCILIACIONES",3156013576,"POLIVEROS@FAMISANAR.COM.CO","PATRICIA  OLIVEROS ","JAVIER FAJARDO, PATRICIA  OLIVEROS ","COLOMBIA","COLOMBIA",{"$f":"+BASE_ANALISTA[[#This Row],[nombredelresponsable]]","v":"PATRICIA  OLIVEROS "},"11001"]
[800037619,"CORPORACION SINDROME DE DOWN","ANALISTA CONCILIACIONES",3156013576,"POLIVEROS@FAMISANAR.COM.CO","PATRICIA  OLIVEROS ","JAVIER FAJARDO, PATRICIA  OLIVEROS ","CUNDINAMARCA","BOGOTÁ D.C",{"$f":"+BASE_ANALISTA[[#This Row],[nombredelresponsable]]","v":"PATRICIA  OLIVEROS "},"11001"]
[892399994,"ESE HOSPITAL ROSARIO PUMAREJO DE LOPEZ","ANALISTA CONCILIACIONES",3156013576,"POLIVEROS@FAMISANAR.COM.CO","PATRICIA  OLIVEROS ","JAVIER FAJARDO, PATRICIA  OLIVEROS ","CESAR","VALLEDUPAR",{"$f":"+BASE_ANALISTA[[#This Row],[nombredelresponsable]]","v":"PATRICIA  OLIVEROS "},"11001"]
[800189531,"CLINICA ODONTOLOGICA PROTECCION ORAL","ANALISTA CONCILIACIONES",3156013576,"POLIVEROS@FAMISANAR.COM.CO","PATRICIA  OLIVEROS ","JAVIER FAJARDO, PATRICIA  OLIVEROS ","COLOMBIA","COLOMBIA",{"$f":"+BASE_ANALISTA[[#This Row],[nombredelresponsable]]","v":"PATRICIA  OLIVEROS "},"11001"]
[830143946,"Fundacion Unidad Integral de Toxicologia UNITOX","ANALISTA CONCILIACIONES",3156013576,"POLIVEROS@FAMISANAR.COM.CO","PATRICIA  OLIVEROS ","JAVIER FAJARDO, PATRICIA  OLIVEROS ","COLOMBIA","COLOMBIA",{"$f":"+BASE_ANALISTA[[#This Row],[nombredelresponsable]]","v":"PATRICIA  OLIVEROS "},"11001"]
[800236964,"FOTOTERAPIA BOJANINI Y LOPEZ SAS","ANALISTA CONCILIACIONES",3156013576,"POLIVEROS@FAMISANAR.COM.CO","PATRICIA  OLIVEROS ","JAVIER FAJARDO, PATRICIA  OLIVEROS ","CUNDINAMARCA","BOGOTÁ D.C",{"$f":"+BASE_ANALISTA[[#This Row],[nombredelresponsable]]","v":"PATRICIA  OLIVEROS "},"11001"]
[900008328,"CLINICA LAURA DANIELA S.A.","ANALISTA CONCILIACIONES",3156013576,"POLIVEROS@FAMISANAR.COM.CO","PATRICIA  OLIVEROS ","JAVIER FAJARDO, PATRICIA  OLIVEROS ","CESAR","VALLEDUPAR",{"$f":"+BASE_ANALISTA[[#This Row],[nombredelresponsable]]","v":"PATRICIA  OLIVEROS "},"11001"]
[900242221,"Cooperativa de Trabajo Asociado Coonsocial","ANALISTA CONCILIACIONES",3156013576,"POLIVEROS@FAMISANAR.COM.CO","PATRICIA  OLIVEROS ","JAVIER FAJARDO, PATRICIA  OLIVEROS ","CESAR","VALLEDUPAR",{"$f":"+BASE_ANALISTA[[#This Row],[nombredelresponsable]]","v":"PATRICIA  OLIVEROS "},"11001"]
[860013779,"ASOCIACION PROBIENESTAR DE LA FAMILIA PROFAMILIA","ANALISTA CONCILIACIONES",3156013576,"POLIVEROS@FAMISANAR.COM.CO","PATRICIA  OLIVEROS ","JAVIER FAJARDO, PATRICIA  OLIVEROS ","COLOMBIA","COLOMBIA",{"$f":"+BASE_ANALISTA[[#This Row],[nombredelresponsable]]","v":"PATRICIA  OLIVEROS "},"11001"]
[800222660,"INSTITUTO DE REFERENCIA ANDINO S.A.S","ANALISTA CONCILIACIONES",3156013576,"POLIVEROS@FAMISANAR.COM.CO","PATRICIA  OLIVEROS ","JAVIER FAJARDO, PATRICIA  OLIVEROS ","COLOMBIA","COLOMBIA",{"$f":"+BASE_ANALISTA[[#This Row],[nombredelresponsable]]","v":"PATRICIA  OLIVEROS "},"11001"]
[900159763,"SERVICIOS OFTALMOLOGICOS OFTALMOCENTER LTDA.","ANALISTA CONCILIACIONES",3156013576,"POLIVEROS@FAMISANAR.COM.CO","PATRICIA  OLIVEROS ","JAVIER FAJARDO, PATRICIA  OLIVEROS ","COLOMBIA","COLOMBIA",{"$f":"+BASE_ANALISTA[[#This Row],[nombredelresponsable]]","v":"PATRICIA  OLIVEROS "},"11001"]
[832002471,"OSDOKSALUD SERVICIOS INTEGRALES EN SALUD E.U.","ANALISTA CONCILIACIONES",3156013576,"POLIVEROS@FAMISANAR.COM.CO","PATRICIA  OLIVEROS ","JAVIER FAJARDO, PATRICIA  OLIVEROS ","CUNDINAMARCA","CHOCONTA",{"$f":"+BASE_ANALISTA[[#This Row],[nombredelresponsable]]","v":"PATRICIA  OLIVEROS "},"11001"]
[800050068,"FUNDACION MEDICO PREVENTIVA PARA EL BIENESTAR SOCIAL S.A.","ANALISTA CONCILIACIONES",3156013576,"POLIVEROS@FAMISANAR.COM.CO","PATRICIA  OLIVEROS ","JAVIER FAJARDO, PATRICIA  OLIVEROS ","ATLÁNTICO","BARRANQUILLA",{"$f":"+BASE_ANALISTA[[#This Row],[nombredelresponsable]]","v":"PATRICIA  OLIVEROS "},"11001"]
[860006560,"LIGA COLOMBIANA CONTRA EL CANCER","ANALISTA CONCILIACIONES",3156013576,"POLIVEROS@FAMISANAR.COM.CO","PATRICIA  OLIVEROS ","JAVIER FAJARDO, PATRICIA  OLIVEROS ","CUNDINAMARCA","BOGOTÁ D.C",{"$f":"+BASE_ANALISTA[[#This Row],[nombredelresponsable]]","v":"PATRICIA  OLIVEROS "},"11001"]
[890901826,"Hospital Pablo Tobon Uribe","ANALISTA CONCILIACIONES",3156013576,"POLIVEROS@FAMISANAR.COM.CO","PATRICIA  OLIVEROS ","JAVIER FAJARDO, PATRICIA  OLIVEROS ","COLOMBIA","COLOMBIA",{"$f":"+BASE_ANALISTA[[#This Row],[nombredelresponsable]]","v":"PATRICIA  OLIVEROS "},"11001"]
[900152983,"SABER VIVIR SABANA  SAS","ANALISTA CONCILIACIONES",3156013576,"POLIVEROS@FAMISANAR.COM.CO","PATRICIA  OLIVEROS ","JAVIER FAJARDO, PATRICIA  OLIVEROS ","CUNDINAMARCA","CHIA",{"$f":"+BASE_ANALISTA[[#This Row],[nombredelresponsable]]","v":"PATRICIA  OLIVEROS "},"11001"]
[811016192,"I.P.S. UNIVERSITARIA SERVICIOS DE SALUD UNIVERSIDAD DE ANTIOQUIA","ANALISTA CONCILIACIONES",3156013576,"POLIVEROS@FAMISANAR.COM.CO","PATRICIA  OLIVEROS ","JAVIER FAJARDO, PATRICIA  OLIVEROS ","COLOMBIA","COLOMBIA",{"$f":"+BASE_ANALISTA[[#This Row],[nombredelresponsable]]","v":"PATRICIA  OLIVEROS "},"11001"]
[900219866,"MEDICARTE S.A.","ANALISTA CONCILIACIONES",3156013576,"POLIVEROS@FAMISANAR.COM.CO","PATRICIA  OLIVEROS ","JAVIER FAJARDO, PATRICIA  OLIVEROS ","COLOMBIA","COLOMBIA",{"$f":"+BASE_ANALISTA[[#This Row],[nombredelresponsable]]","v":"PATRICIA  OLIVEROS "},"11001"]
[830123731,"FUNDACION RENAL DE COLOMBIA","ANALISTA CONCILIACIONES",3156013576,"POLIVEROS@FAMISANAR.COM.CO","PATRICIA  OLIVEROS ","JAVIER FAJARDO, PATRICIA  OLIVEROS ","ANTIOQUIA","MEDELLÍN",{"$f":"+BASE_ANALISTA[[#This Row],[nombredelresponsable]]","v":"PATRICIA  OLIVEROS "},"11001"]
[800085883,"LABORATORIO DE ORTESIS Y PROTESIS GILETE","ANALISTA CONCILIACIONES",3156013576,"POLIVEROS@FAMISANAR.COM.CO","PATRICIA  OLIVEROS ","JAVIER FAJARDO, PATRICIA  OLIVEROS ","CUNDINAMARCA","BOGOTÁ D.C",{"$f":"+BASE_ANALISTA[[#This Row],[nombredelresponsable]]","v":"PATRICIA  OLIVEROS "},"11001"]
[900123436,"SIES SALUD S.A.","ANALISTA CONCILIACIONES",3156013576,"POLIVEROS@FAMISANAR.COM.CO","PATRICIA  OLIVEROS ","JAVIER FAJARDO, PATRICIA  OLIVEROS ","ANTIOQUIA","MEDELLIN",{"$f":"+BASE_ANALISTA[[#This Row],[nombredelresponsable]]","v":"PATRICIA  OLIVEROS "},"11001"]